{"text_format":"1","workbook":"xlsx","n_sheets":14,"sheets":["Instructions","Supplement to Seed Plan","Calculator","SeedingPlan","327ConservationCoverCheckSheet","Grasses","ForbsLegumes","Woody","Counties","NameLookup","CommonNameUpdates","Plant Name Synonyms","643Rst&ManR&DeclHab Check Sheet","Revisions"],"not_rendered":{"charts":0,"images":10,"macros":1,"external_links":2,"defined_names":62,"comments":2,"pivot_tables":0},"unopened":[],"bounds":{"document_bytes":16777216,"sheet_cells":100000,"rows_first":2000,"rows_last":500,"rows_between":2000,"halvings":0,"cell_chars":16384,"cell_head_chars":4096},"cells_cut":0,"cells_raw":0,"read":"whole","date_system":"1900"}

{"sheet":"Instructions","index":0,"n_rows":33,"n_cols":2,"rows_kept":33,"cut":false,"hidden":false,"merged":[[21,0,21,8],[17,0,17,8],[23,0,23,8],[32,1,33,7],[31,1,31,7],[26,1,26,8],[27,1,27,8],[13,0,13,8],[15,0,15,8],[19,0,19,8],[0,0,0,8],[5,0,5,8],[7,1,7,8],[9,1,9,8],[11,1,11,8],[3,0,3,8]]}
["Iowa NRCS Native Seed Calculator Instructions"]
["Current Version 09/09/22"]
[]
["1. Conservation Planners are required to complete Supplement to Seed Plan form and attach it to the IA CPA 4 Seeding Plan. Begin by selecting the Supplement to Seed Plan worksheet.  Instructions for completing this worksheet are located there.  "]
[]
["2. Select  site conditions appropriate for the seed mix being developed:"]
[]
["A.","Select a county to filter the list to species native to that region of the state.1,5,6,7  (see state region map below)"]
[]
["B.","Select a soil moisture category for the area to be seeded.  Soil moisture choices are Xeric (Dry), Mesic (Medium), or Hydric (Wet).  This process will filter the list of species to those adapted to the selected soil moisture regime.1,2,3,4,5,6 "]
[]
["C.","Select the habitat type being restored.  This will filter the species list to only those species adapted to the chosen habitat type.1,2,3,4,5,6"]
[]
["3. Choose a seeding rate option (lbs/acre PLS or seeds/ft2 PLS).  The calculator will determine the equivalent rates and place them in the appropriate column."]
[]
["4. Select species based on the requirements of the appropriate standards and guidance.  Species can be selected by clicking on the drop down menu under the \"Common Name:\" header.  All species in the calculator have been reported as commercially available by vendors in Iowa or adjacent states at some point in time. Species availability may vary and can only be confirmed through a seed vendor(s)."]
[]
["5. In the Forb/Legumes section, high-value forb species (Common Name) for Monarchs will show highlighted in yellow after they are selected."]
[]
["6. As the seed mix is developed, the data is automatically transferred to a IA CPA 4 Seeding Plan.  Click on the Seeding Plan tab at the bottom of the page to view the IA CPA 4.  Complete the appropriate site description, acres to be seeded, fertilizer requirements, seeding dates, and additional seeding information.  To hide blank rows in the seeding plan, click the hide extra rows button.  To hide estimated costs, click the hide cost information button."]
[]
["7.  The 327 Conservation Cover Check Sheet will aid the user in ensuring that mixes meet applicable NRCS Standards and program requirements."]
[]
["8.  The Revisons tab contains detailed information on updates made to the Native Seeding Calculator.  They are listed in chronological order. "]
[]
["References used in the development of site selection criteria:"]
[1,"Eilers and Roosa. 2004. The Vascular Plants of Iowa. University of Iowa Press, Iowa City. 304 pp."]
[2,"The University of Texas at Austin Native Plant Database http://www.wildflower.org/plants/"]
[3,"Flora of North America: http://www.efloras.org/flora_page.aspx?flora_id=1"]
[4,"Illinois Wildflowers: http://www.illinoiswildflowers.info/index.htm"]
[5,"Pohl, Richard.  1966.  The Grasses (Gramineae) of Iowa. Iowa State Journal of Science 40: 341-566."]
[6,"Pammel, L. H., C.R. Ball, F. Lamson-Scribner. 1903.  The Grasses of Iowa       Part II. Iowa Geologic Survey Supplementary Report 436 pp. "]
[7,"Rosburg, T. R.  2002.  Development of a floristic database for Iowa’s State Preserves and Parks.  Final Report to the Iowa State Preserves Board.  Iowa Department of Natural Resources, Des Moines, IA."]

{"sheet":"Supplement to Seed Plan","index":1,"n_rows":169,"n_cols":35,"rows_kept":169,"cut":false,"hidden":false,"merged":[[82,1,82,21],[61,1,61,9],[85,19,85,20],[85,7,85,18],[70,1,70,9],[149,0,149,24],[153,2,153,24],[154,2,154,24],[88,4,88,13],[88,15,88,21],[147,16,147,19],[156,2,156,24],[162,2,162,24],[166,2,166,24],[168,2,168,24],[151,2,151,21],[158,2,158,21],[160,2,160,21],[164,2,164,21],[1,0,1,21],[2,0,2,21],[3,0,3,21],[25,9,25,12],[12,1,12,21],[6,16,6,21],[14,1,14,21],[21,10,21,21],[23,6,23,14],[23,16,23,21],[25,18,25,21],[9,5,9,12],[6,3,6,12],[9,19,9,20],[9,15,9,18],[18,12,18,21],[38,30,38,31],[38,32,38,37],[36,30,36,31],[36,32,36,37],[37,30,37,31],[37,32,37,37],[15,2,15,13],[15,15,15,19],[33,17,33,21],[52,1,52,9],[27,20,27,21],[33,11,33,12],[31,19,31,21],[27,7,27,12],[29,10,29,12],[31,11,31,12],[36,8,36,14],[19,12,19,14],[36,17,36,21],[37,17,37,21],[38,17,38,21]]}
[]
["Iowa NRCS"]
["Supplement to Seeding Plan (IA-CPA-4)"]
["Conservation Cover (327) Native Plant Seeding"]
[]
[]
[null,"Name:",null,null,null,null,null,null,null,null,null,null,null,null,"County:"]
[]
[]
[null,"Field Number(s):",null,null,null,null,null,null,null,null,null,null,null,null,"Acres:",null,null,null,null,"Tract:"]
[]
[]
[null,"The client is responsible to ensure the seeding mix meets the conservation practice standard and conservation program requirements (if applicable). If the seeding mix is changed in any way, the client is responsible to ensure the updated seeding mix is approved by an NRCS Planner. Seeding mixes can be emailed to the conservation planner listed below. Clients are encouraged to work with their seed dealer to use the Iowa Native Seeding Calculator to make the approval process more efficient. The Iowa Native Seeding Calculator can be found at https://bit.ly/IANRCSNativeSeedingCalculator. Seeding a mixture that is not approved and does not meet conservation and/or program requirements could be denied financial assistance (cost share) and may result in a conservation program violation."]
[]
[null,"By signing, you are acknowledging:\na.  I received a seeding plan from NRCS.\nb.  I understand if changes to the plan are made, the changes need to be approved by an NRCS planner\n     prior to purchase.\nc.  Updated seeding mixes can be sent by you or your seed dealer to the NRCS planner below.\nd.  If an unapproved seeding mix is planted, eligible cost share assistance may be denied."]
[]
[null,null,"Client Signature",null,null,null,null,null,null,null,null,null,null,null,null,"Date"]
[]
[null,"Conservation Program (if applicable):"]
[null,null,null,null,null,null,null,null,null,null,"Contract # (if applicable):"]
[]
[null,"CRP Practice (if applicable):"]
[]
[null,"Seeding Purpose(s):"]
[]
[null,"Moisture Regime:",null,null,null,null,null,null,null,null,null,null,null,null,"Local Ecotype Required*:"]
[null,null,null,null,null,null,null,null,null,null,null,null,null,null,"*As defined by Iowa Agronomy Technical Note #28"]
[null,"Nurse Crop Required:",null,null,null,null,null,null,null,null,null,null,null,null,"Full Seeding or Interseeding:"]
[]
[null,"Seeding Rate (seeds/sq. ft.):",null,null,null,null,null,null,null,null,null,null,null,null,"Grass to Forb Ratio (seeds/sq. ft.):"]
[]
[null,"Minimum Number of Forb Species:",null,null,null,null,null,null,null,null,null,null,null,null,"Non-Native Forbs Allowed:"]
[]
[null,"Minimum Number of Grass Species:",null,null,null,null,null,null,null,null,null,null,null,null,"Preferred Growth Form:"]
[]
[null,null,null,null,null,null,null,null,null,null,null,null,null,null,null,null,"Seeding Dates for Native Species"]
[null,"Planned Seeding Date:",null,null,null,null,null,null,null,null,null,null,null,null,null,null,"Spring","April 1 - July 1",null,null,null,null,null,null,"Spring  (April 1 - July 1)"]
[null,null,null,null,null,null,null,null,null,null,null,null,null,null,null,null,"Dormant","November 15 - March 31",null,null,null,null,null,null,"Dormant  (November 15 - March 31)"]
[null,null,null,null,null,null,null,null,null,null,null,null,null,null,null,null,"Frost*","February 1 - March 31",null,null,null,null,null,null,"Frost*  (February 1 - March 31)"]
[null,null,null,null,null,null,null,null,null,null,null,null,null,null,null,null,"   *Debearded or smooth seed required for frost seeding.",null,null,null,null,null,null,null,"Other:"]
[]
[null,null,null,null,null,null,null,null,null,null,null,null,null,null,null,null,null,null,null,null,null,null,null,null,null,"Diverse Prairie Restoration"]
[null,"Requirements for all seedings:",null,null,null,null,null,null,null,null,null,null,null,null,null,null,null,null,null,null,null,null,null,null,null,"Pollinator Seedings"]
[null,"l","Minimum full seeding rate for native plants is 40 seeds/sq. ft.",null,null,null,null,null,null,null,null,null,null,null,null,null,null,null,null,null,null,null,null,null,null,"Prairie Strips"]
[null,"l","Minimum of 10 seeds/sq. ft. of the mixture must be grass.",null,null,null,null,null,null,null,null,null,null,null,null,null,null,null,null,null,null,null,null,null,null,"Monarch Habitat"]
[null,"l","Maximum of 4 switchgrass and 8 canada wildrye seeds/sq. ft. unless otherwise specified."]
[null,"l","When allowed, mixtures may include up to 20% introduced forbs, which no one species",null,null,null,null,null,null,null,null,null,null,null,null,null,null,null,null,null,null,null,null,null,null,"Requirements for Prairie Strips:"]
[null,null,"  will comprise more that 10% of the total mix.",null,null,null,null,null,null,null,null,null,null,null,null,null,null,null,null,null,null,null,null,null,null," -Must have 20 seeds/sq. ft. of grass and 20 seeds/sq. ft. of forbs."]
[null,"l","Introduced forbs are not recommended for prairie restoration efforts.",null,null,null,null,null,null,null,null,null,null,null,null,null,null,null,null,null,null,null,null,null,null," -Native forb and grass species only (no introduced species allowed)."]
[null,"l","Maximum of 20% of the forb component may be annual/biennial forbs.",null,null,null,null,null,null,null,null,null,null,null,null,null,null,null,null,null,null,null,null,null,null," -A minimum of 2 forb species will be included for each blooming period (Spring, Summer, Fall)."]
[null,null,null,null,null,null,null,null,null,null,null,null,null,null,null,null,null,null,null,null,null,null,null,null,null," -A minimum of 10 flowering forb species."]
["Select Additional Requirement(s) (if applicable):"]
[]
[null,{"$f":"IF(B53=\"Diverse Prairie Restoration\",$Z$55,IF(B53=\"Pollinator Seedings\",$Z$63,IF(B53=\"Prairie Strips\",$Z$47,IF(B53=\"Monarch Habitat\",$Z$71,\"\"))))","v":""}]
[null,null,{"$f":"IF(B53=\"Diverse Prairie Restoration\",$Z$56,IF(B53=\"Pollinator Seedings\",$Z$64,IF(B53=\"Prairie Strips\",$Z$48,IF(B53=\"Monarch Habitat\",$Z$72,\"\"))))","v":""},null,null,null,null,null,null,null,null,null,null,null,null,null,null,null,null,null,null,null,null,null,null,"Requirements for mixtures that include 10 or more species (diverse prairie restoration):"]
[null,null,{"$f":"IF(B53=\"Diverse Prairie Restoration\",$Z$57,IF(B53=\"Pollinator Seedings\",$Z$65,IF(B53=\"Prairie Strips\",$Z$49,IF(B53=\"Monarch Habitat\",$Z$73,\"\"))))","v":""},null,null,null,null,null,null,null,null,null,null,null,null,null,null,null,null,null,null,null,null,null,null," -Individual species of grass may not exceed 20%, and individual species of forb 10% of the total mix."]
[null,null,{"$f":"IF(B53=\"Diverse Prairie Restoration\",$Z$58,IF(B53=\"Pollinator Seedings\",$Z$66,IF(B53=\"Prairie Strips\",$Z$50,IF(B53=\"Monarch Habitat\",$Z$74,\"\"))))","v":""},null,null,null,null,null,null,null,null,null,null,null,null,null,null,null,null,null,null,null,null,null,null," -Maximum of 33% of the mix may include species with a coefficient of conservatism <=3."]
[null,null,{"$f":"IF(B53=\"Diverse Prairie Restoration\",$Z$59,IF(B53=\"Pollinator Seedings\",$Z$67,IF(B53=\"Prairie Strips\",$Z$51,IF(B53=\"Monarch Habitat\",$Z$75,\"\"))))","v":""},null,null,null,null,null,null,null,null,null,null,null,null,null,null,null,null,null,null,null,null,null,null," "]
[null,null,{"$f":"IF(B53=\"Diverse Prairie Restoration\",$Z$60,IF(B53=\"Pollinator Seedings\",$Z$68,IF(B53=\"Prairie Strips\",$Z$52,IF(B53=\"Monarch Habitat\",$Z$76,\"\"))))","v":""}]
[null,null,{"$f":"IF(B53=\"Diverse Prairie Restoration\",$Z$61,IF(B53=\"Pollinator Seedings\",$Z$69,IF(B53=\"Prairie Strips\",$Z$53,IF(B53=\"Monarch Habitat\",$Z$77,\"\"))))","v":""}]
[]
[]
[null,{"$f":"IF(B62=\"Diverse Prairie Restoration\",$Z$55,IF(B62=\"Pollinator Seedings\",$Z$63,IF(B62=\"Prairie Strips\",$Z$47,IF(B62=\"Monarch Habitat\",$Z$71,\"\"))))","v":""},null,null,null,null,null,null,null,null,null,null,null,null,null,null,null,null,null,null,null,null,null,null,null,"Requirements for Pollinator Seedings:"]
[null,null,{"$f":"IF(B62=\"Diverse Prairie Restoration\",$Z$56,IF(B62=\"Pollinator Seedings\",$Z$64,IF(B62=\"Prairie Strips\",$Z$48,IF(B62=\"Monarch Habitat\",$Z$72,\"\"))))","v":""},null,null,null,null,null,null,null,null,null,null,null,null,null,null,null,null,null,null,null,null,null,null," -Minimum of 10 species in the mix (diverse prairie restoration requirements apply)."]
[null,null,{"$f":"IF(B62=\"Diverse Prairie Restoration\",$Z$57,IF(B62=\"Pollinator Seedings\",$Z$65,IF(B62=\"Prairie Strips\",$Z$49,IF(B62=\"Monarch Habitat\",$Z$73,\"\"))))","v":""},null,null,null,null,null,null,null,null,null,null,null,null,null,null,null,null,null,null,null,null,null,null," -Maximum of 20 grass seeds/sq. ft."]
[null,null,{"$f":"IF(B62=\"Diverse Prairie Restoration\",$Z$58,IF(B62=\"Pollinator Seedings\",$Z$66,IF(B62=\"Prairie Strips\",$Z$50,IF(B62=\"Monarch Habitat\",$Z$74,\"\"))))","v":""},null,null,null,null,null,null,null,null,null,null,null,null,null,null,null,null,null,null,null,null,null,null," -Minimum of 1 bunch grass or 1 clump forming sedge and 1 legume will be included."]
[null,null,{"$f":"IF(B62=\"Diverse Prairie Restoration\",$Z$59,IF(B62=\"Pollinator Seedings\",$Z$67,IF(B62=\"Prairie Strips\",$Z$51,IF(B62=\"Monarch Habitat\",$Z$75,\"\"))))","v":""},null,null,null,null,null,null,null,null,null,null,null,null,null,null,null,null,null,null,null,null,null,null," -A minimum of 3 forb species will be included for each blooming period (Spring, Summer, Fall)."]
[null,null,{"$f":"IF(B62=\"Diverse Prairie Restoration\",$Z$60,IF(B62=\"Pollinator Seedings\",$Z$68,IF(B62=\"Prairie Strips\",$Z$52,IF(B62=\"Monarch Habitat\",$Z$76,\"\"))))","v":""}]
[null,null,{"$f":"IF(B62=\"Diverse Prairie Restoration\",$Z$61,IF(B62=\"Pollinator Seedings\",$Z$69,IF(B62=\"Prairie Strips\",$Z$53,IF(B62=\"Monarch Habitat\",$Z$77,\"\"))))","v":""}]
[]
[null,null,null,null,null,null,null,null,null,null,null,null,null,null,null,null,null,null,null,null,null,null,null,null,null,"Requirements for Monarch Habitat:"]
[null,{"$f":"IF(B71=\"Diverse Prairie Restoration\",$Z$55,IF(B71=\"Pollinator Seedings\",$Z$63,IF(B71=\"Prairie Strips\",$Z$47,IF(B71=\"Monarch Habitat\",$Z$71,\"\"))))","v":""},null,null,null,null,null,null,null,null,null,null,null,null,null,null,null,null,null,null,null,null,null,null,null," -Follow the pollinator seeding requirements."]
[null,null,{"$f":"IF(B71=\"Diverse Prairie Restoration\",$Z$56,IF(B71=\"Pollinator Seedings\",$Z$64,IF(B71=\"Prairie Strips\",$Z$48,IF(B71=\"Monarch Habitat\",$Z$72,\"\"))))","v":""},null,null,null,null,null,null,null,null,null,null,null,null,null,null,null,null,null,null,null,null,null,null," -A minimum of 1.5% of the mix shall be priority milkweed species."]
[null,null,{"$f":"IF(B71=\"Diverse Prairie Restoration\",$Z$57,IF(B71=\"Pollinator Seedings\",$Z$65,IF(B71=\"Prairie Strips\",$Z$49,IF(B71=\"Monarch Habitat\",$Z$73,\"\"))))","v":""},null,null,null,null,null,null,null,null,null,null,null,null,null,null,null,null,null,null,null,null,null,null," -60% of the forbs shall be high value forbs (including priority milkweed species)."]
[null,null,{"$f":"IF(B71=\"Diverse Prairie Restoration\",$Z$58,IF(B71=\"Pollinator Seedings\",$Z$66,IF(B71=\"Prairie Strips\",$Z$50,IF(B71=\"Monarch Habitat\",$Z$74,\"\"))))","v":""},null,null,null,null,null,null,null,null,null,null,null,null,null,null,null,null,null,null,null,null,null,null," -Introduced forbs are not allowed."]
[null,null,{"$f":"IF(B71=\"Diverse Prairie Restoration\",$Z$59,IF(B71=\"Pollinator Seedings\",$Z$67,IF(B71=\"Prairie Strips\",$Z$51,IF(B71=\"Monarch Habitat\",$Z$75,\"\"))))","v":""},null,null,null,null,null,null,null,null,null,null,null,null,null,null,null,null,null,null,null,null,null,null," -Maximum of 1 seed/sq. ft. for big bluestem and switchgrass."]
[null,null,{"$f":"IF(B71=\"Diverse Prairie Restoration\",$Z$60,IF(B71=\"Pollinator Seedings\",$Z$68,IF(B71=\"Prairie Strips\",$Z$52,IF(B71=\"Monarch Habitat\",$Z$76,\"\"))))","v":""},null,null,null,null,null,null,null,null,null,null,null,null,null,null,null,null,null,null,null,null,null,null," -Maximum of 1.3 seeds/sq. ft. for Indiangrass."]
[null,null,{"$f":"IF(B71=\"Diverse Prairie Restoration\",$Z$61,IF(B71=\"Pollinator Seedings\",$Z$69,IF(B71=\"Prairie Strips\",$Z$53,IF(B71=\"Monarch Habitat\",$Z$77,\"\"))))","v":""}]
[]
[]
[]
[null,"Additional Seeding Plan Information:"]
[]
[]
[]
[null,"Conservation Planner:",null,null,null,null,null,null,null,null,null,null,null,null,null,null,null,null,null,"Date:",null,{"$f":"TODAY()","v":"2022-09-26"}]
[]
[]
[null,"Phone Number:",null,null,null,null,null,null,null,null,null,null,null,null,"email:"]
[]
[]
[]
[]
[null,null,null,null,null,null,null,null,null,null,null,null,null,null,null,null,null,null,null,null,null,null,null,null,null,null,null,null,null,null,null,null,null,"Seeding Purpose"]
[null,null,null,null,null,null,null,null,null,null,null,null,null,null,null,null,null,null,null,null,null,null,null,null,"Program"]
[null,null,null,null,null,null,null,null,null,null,null,null,null,null,null,null,null,null,null,null,null,null,null,null,null,null,null,null,null,null,null,null,null,"Air Quality"]
[null,null,null,null,null,null,null,null,null,null,null,null,null,null,null,null,null,null,null,null,null,null,null,null,"Agricultural Conservation Easement Program",null,null,null,null,null,null,null,null,"Beneficial Insect Habitat"]
[null,null,null,null,null,null,null,null,null,null,null,null,null,null,null,null,null,null,null,null,null,null,null,null,"Conservation Reserve Program",null,null,null,null,null,null,null,null,"Brood Rearing Cover"]
[null,null,null,null,null,null,null,null,null,null,null,null,null,null,null,null,null,null,null,null,null,null,null,null,"Conservation Stewardship Program",null,null,null,null,null,null,null,null,"Deer Habitat"]
[null,null,null,null,null,null,null,null,null,null,null,null,null,null,null,null,null,null,null,null,null,null,null,null,"Environmental Quality Incentives Program",null,null,null,null,null,null,null,null,"Diverse Prairie Restoration"]
[null,null,null,null,null,null,null,null,null,null,null,null,null,null,null,null,null,null,null,null,null,null,null,null,"Iowa Financial Incentive Program",null,null,null,null,null,null,null,null,"Filtering"]
[null,null,null,null,null,null,null,null,null,null,null,null,null,null,null,null,null,null,null,null,null,null,null,null,"Iowa Water Quality Initiative",null,null,null,null,null,null,null,null,"Greater Prairie Chicken Habitat"]
[null,null,null,null,null,null,null,null,null,null,null,null,null,null,null,null,null,null,null,null,null,null,null,null,"Regional Conservation Partnership Program",null,null,null,null,null,null,null,null,"Monarch Habitat"]
[null,null,null,null,null,null,null,null,null,null,null,null,null,null,null,null,null,null,null,null,null,null,null,null,"Resource Enhancement and Protection Program",null,null,null,null,null,null,null,null,"Nesting Cover"]
[null,null,null,null,null,null,null,null,null,null,null,null,null,null,null,null,null,null,null,null,null,null,null,null,null,null,null,null,null,null,null,null,null,"Pollinator Habitat"]
[null,null,null,null,null,null,null,null,null,null,null,null,null,null,null,null,null,null,null,null,null,null,null,null,null,"CRP Practice",null,null,null,null,null,null,null,"Savanna Restoration"]
[null,null,null,null,null,null,null,null,null,null,null,null,null,null,null,null,null,null,null,null,null,null,null,null,null,null,null,null,null,null,null,null,null,"Soil Erosion Control"]
[null,null,null,null,null,null,null,null,null,null,null,null,null,null,null,null,null,null,null,null,null,null,null,null,null,"CP2 Establishment of Native Grasses",null,null,null,null,null,null,null,"Soil Health"]
[null,null,null,null,null,null,null,null,null,null,null,null,null,null,null,null,null,null,null,null,null,null,null,null,null,"CP4B Wildlife Habitat Corridors",null,null,null,null,null,null,null,"Upland Bird Habitat"]
[null,null,null,null,null,null,null,null,null,null,null,null,null,null,null,null,null,null,null,null,null,null,null,null,null,"CP4D Wildlife Habitat",null,null,null,null,null,null,null,"Water Quality Protection"]
[null,null,null,null,null,null,null,null,null,null,null,null,null,null,null,null,null,null,null,null,null,null,null,null,null,"CP9 Shallow Water Area for Wildlife",null,null,null,null,null,null,null,"Wetland Restoration"]
[null,null,null,null,null,null,null,null,null,null,null,null,null,null,null,null,null,null,null,null,null,null,null,null,null,"CP15A Contour Grass Strip",null,null,null,null,null,null,null,"Wildlife Habitat"]
[null,null,null,null,null,null,null,null,null,null,null,null,null,null,null,null,null,null,null,null,null,null,null,null,null,"CP15B Establishment of Vegetative Cover on Terraces",null,null,null,null,null,null,null,"Winter Cover"]
[null,null,null,null,null,null,null,null,null,null,null,null,null,null,null,null,null,null,null,null,null,null,null,null,null,"CP17A Living Snow Fence"]
[null,null,null,null,null,null,null,null,null,null,null,null,null,null,null,null,null,null,null,null,null,null,null,null,null,"CP21 Filter Strips",null,null,null,null,null,null,null,null,"Site Hydrology Condition"]
[null,null,null,null,null,null,null,null,null,null,null,null,null,null,null,null,null,null,null,null,null,null,null,null,null,"CP21B Denitrifying Bioreactor on Filter Strips"]
[null,null,null,null,null,null,null,null,null,null,null,null,null,null,null,null,null,null,null,null,null,null,null,null,null,"CP21S Saturated Filter Strips",null,null,null,null,null,null,null,null,"Dry"]
[null,null,null,null,null,null,null,null,null,null,null,null,null,null,null,null,null,null,null,null,null,null,null,null,null,"CP23 Wetland Restoration",null,null,null,null,null,null,null,null,"Mesic"]
[null,null,null,null,null,null,null,null,null,null,null,null,null,null,null,null,null,null,null,null,null,null,null,null,null,"CP23A Wetland Restoration, Non-Floodplain",null,null,null,null,null,null,null,null,"Wet"]
[null,null,null,null,null,null,null,null,null,null,null,null,null,null,null,null,null,null,null,null,null,null,null,null,null,"CP25 Rare and Declining Habitat",null,null,null,null,null,null,null,null,"Dry/Mesic"]
[null,null,null,null,null,null,null,null,null,null,null,null,null,null,null,null,null,null,null,null,null,null,null,null,null,"CP27 Farmable Wetlands",null,null,null,null,null,null,null,null,"Wet/Mesic"]
[null,null,null,null,null,null,null,null,null,null,null,null,null,null,null,null,null,null,null,null,null,null,null,null,null,"CP28 Farmable Wetland Buffer"]
[null,null,null,null,null,null,null,null,null,null,null,null,null,null,null,null,null,null,null,null,null,null,null,null,null,"CP29 Marginal Pastureland Wildlife Habitat Buffer",null,null,null,null,null,null,null,null,"Nurse Crop Required or"]
[null,null,null,null,null,null,null,null,null,null,null,null,null,null,null,null,null,null,null,null,null,null,null,null,null,"CP30 Marginal Pastureland Wetland Buffer",null,null,null,null,null,null,null,null,"Local Ecotype Required or Non-Native Forbs Allowed"]
[null,null,null,null,null,null,null,null,null,null,null,null,null,null,null,null,null,null,null,null,null,null,null,null,null,"CP33 Habitat Buffers for Upland Birds"]
[null,null,null,null,null,null,null,null,null,null,null,null,null,null,null,null,null,null,null,null,null,null,null,null,null,"CP37 Duck Nesting Habitat",null,null,null,null,null,null,null,null,"Yes"]
[null,null,null,null,null,null,null,null,null,null,null,null,null,null,null,null,null,null,null,null,null,null,null,null,null,"CP38B (CP9) SAFE Gaining Ground for Wildlife - Shallow Water Areas for Wildlife",null,null,null,null,null,null,null,null,"No"]
[null,null,null,null,null,null,null,null,null,null,null,null,null,null,null,null,null,null,null,null,null,null,null,null,null,"CP38B (CP23/CP23A) SAFE Gaining Ground for Wildlife - Wetland Restoration"]
[null,null,null,null,null,null,null,null,null,null,null,null,null,null,null,null,null,null,null,null,null,null,null,null,null,"CP38B (CP37) SAFE Gaining Ground for Wildlife - Duck Nesting Habitat",null,null,null,null,null,null,null,null,"Full Seeding"]
[null,null,null,null,null,null,null,null,null,null,null,null,null,null,null,null,null,null,null,null,null,null,null,null,null,"CP38E (CP2) SAFE Gaining Ground for Wildlife - Permanent Native Grasses",null,null,null,null,null,null,null,null,"Interseeding"]
[null,null,null,null,null,null,null,null,null,null,null,null,null,null,null,null,null,null,null,null,null,null,null,null,null,"CP38E (CP2) SAFE Grand River Grassland - Permanent Native Grasses"]
[null,null,null,null,null,null,null,null,null,null,null,null,null,null,null,null,null,null,null,null,null,null,null,null,null,"CP38E (CP4B/CP4D) SAFE Gaining Ground for Wildlife - Permanent Wildlife Habitat",null,null,null,null,null,null,null,null,"Grass to Forb Ratio"]
[null,null,null,null,null,null,null,null,null,null,null,null,null,null,null,null,null,null,null,null,null,null,null,null,null,"CP38E (CP4D) SAFE Iowa Pheasant Recovery - Permanent Wildlife Habitat"]
[null,null,null,null,null,null,null,null,null,null,null,null,null,null,null,null,null,null,null,null,null,null,null,null,null,"CP38E (CP4D) SAFE Early Successional Quail Habitat - Permanent Wildlife Habitat",null,null,null,null,null,null,null,null,"10:30"]
[null,null,null,null,null,null,null,null,null,null,null,null,null,null,null,null,null,null,null,null,null,null,null,null,null,"CP38E (CP25) SAFE Grand River Grassland  - Rare and Declining Habitat",null,null,null,null,null,null,null,null,"20:20"]
[null,null,null,null,null,null,null,null,null,null,null,null,null,null,null,null,null,null,null,null,null,null,null,null,null,"CP38E (CP25) SAFE SAFE Gaining Ground for Wildlife - Rare and Declining Habitat",null,null,null,null,null,null,null,null,"30:10"]
[null,null,null,null,null,null,null,null,null,null,null,null,null,null,null,null,null,null,null,null,null,null,null,null,null,"CP38E (CP33) SAFE Gaining Ground for Wildlife - Habitat Buffers for Upland Birds",null,null,null,null,null,null,null,null,"40:0"]
[null,null,null,null,null,null,null,null,null,null,null,null,null,null,null,null,null,null,null,null,null,null,null,null,null,"CP38E-4D Habitat for Neotropical Forest Birds"]
[null,null,null,null,null,null,null,null,null,null,null,null,null,null,null,null,null,null,null,null,null,null,null,null,null,"CP39 Constructed Wetland"]
[null,null,null,null,null,null,null,null,null,null,null,null,null,null,null,null,null,null,null,null,null,null,null,null,null,"CP41 Flooded Prairie Wetland",null,null,null,null,null,null,null,"Preferred Growth Form"]
[null,null,null,null,null,null,null,null,null,null,null,null,null,null,null,null,null,null,null,null,null,null,null,null,null,"CP42 Pollinator Habitat"]
[null,null,null,null,null,null,null,null,null,null,null,null,null,null,null,null,null,null,null,null,null,null,null,null,null,"CP43 Prairie Strips",null,null,null,null,null,null,null,"Tall"]
[null,null,null,null,null,null,null,null,null,null,null,null,null,null,null,null,null,null,null,null,null,null,null,null,null,"CP88 Permanent Native Grasses and Legumes",null,null,null,null,null,null,null,"Short"]
[null,null,null,null,null,null,null,null,null,null,null,null,null,null,null,null,null,null,null,null,null,null,null,null,null,null,null,null,null,null,null,null,null,"Mix (Tall and Short)"]
[]
[]
[]
["Instructions - Supplement to Seeding Plan (IA-CPA-4)",null,null,null,null,null,null,null,null,null,null,null,null,null,null,null,"Return to Form"]
[]
["The Iowa NRCS Seeding Plan Supplement (supplement) is used by a conservation planner to communicate the details of a native plant seeding to the client and seed dealer.  Conservation Cover (327) is the NRCS practice standard that the supplement supports. A client and seed dealer will use the supplement to ensure the native seed mix purchased will meet the objective and requirements of the seeding.  The supplement is part of the Iowa NRCS Native Prairie Seeding Calculator.  \nFollow the steps below to complete the Seeding Plan Supplement:"]
[]
[null,"1.","Fill in the name and location information at the top of the supplement."]
[]
[null,"2.","Enter details about the seeding in all portions of the supplement that apply.  (Either type information into the cells or use the drop-down menus.) "]
[null,null,"Note:  Use the “Seeding Purpose” section to describe the seeding purpose and goals (up to 2 purposes can be selected).  Examples are included in the drop-down menu.  This section is designed to assist the seed dealer by communicating the conservation program purpose (if applicable) and goal of the client. For example, a client participating in CRP CP21 filter strip would also like to include forbs that provide habitat for pollinators in their seed.  This section allows the conservation planner to communicate that specific goal to the seed dealer."]
[]
[null,"3.","Portions from the Conservation Cover (327) practice standard are included in the supplement.  Choose additional seeding requirements, diverse prairie restoration, pollinator or monarch if they apply.  Only seeding requirements selected will be displayed in the printed document. "]
[]
[null,"4.","If necessary, include further details in the “Additional Seeding Plan Information” section."]
[]
[null,"5.","The conservation planner will include their name, date and contact information at the end of the document."]
[]
[null,"6.","Use the Iowa NRCS Native Prairie Seeding Calculator to develop a list of species and rates that comply with conservation program requirements and the conservation cover practice standard."]
[]
[null,"7.","The conservation planner will provide the client the Conservation Cover (327) job sheet, seeding plan (IA-CPA-4) and supplement."]
[]
[null,"8.","The client and seed dealer will use the seeding plan and supplement as a guide when purchasing the seed mix.  If a seed mix is selected that is different from the seeding plan, then the client and/or seed dealer will contact the conservation planner listed on the supplement.  Preferably, a copy of the Iowa NRCS Native Prairie Seeding Calculator will be emailed to the conservation planner containing information about the proposed seed mix.  The conservation planner will review information provided and reply to let the client and/or seed dealer know if requirements and goals of the seeding are met with the proposed mix."]
[]
[null,"9.","After the conservation planner reviews and approves the proposed seed mix, they will replace the original seeding plan with a seeding plan that accurately reflects the species and rates that will be seeded."]

{"sheet":"Calculator","index":2,"n_rows":285,"n_cols":26,"rows_kept":285,"cut":false,"hidden":false,"merged":[[269,3,269,5],[262,4,263,4],[262,5,263,5],[262,6,263,6],[268,6,269,6],[3,7,9,7],[268,10,269,10],[268,9,269,9],[12,9,13,9],[12,10,13,10],[80,10,81,10],[80,9,81,9],[74,2,75,2],[262,2,263,2],[12,6,13,6],[13,3,13,5],[81,3,81,5],[74,6,75,6],[74,4,75,4],[74,5,75,5],[80,6,81,6],[12,11,13,11],[12,7,13,7],[80,7,81,7],[80,11,81,11],[268,7,269,7],[268,11,269,11]]}
[null,"Customize Options to Suit Site Conditions",null,null,"lbs / acre PLS"]
[1,"  ",{"$f":"VLOOKUP(A2,County_Lookup,3,FALSE)","v":0},null,"seeds / ft2 PLS",null,null,null,null,null,null,null,null,null,null,"WARNING: Only use this Import button"]
[]
[0,null,null,null,null,null,null,"To override default cost, enter your cost in the applicable cell. ",null,null,null,null,null,null,null,"for seed mixes developed with"]
[]
[0,null,null,null,null,null,null,null,null,null,null,null,null,null,null,"previous 90 Forb calculator versions."]
[]
[0,null,null,null,"CHOOSE A RATE SPECIFICATION:"]
[]
[null,{"$f":"Instructions!A2","v":"Current Version 09/09/22"},null,1]
[]
[null,"CHOOSE YOUR GRASSES",null,1]
[null,"Common Name","Scientific Name",null,"Lbs / acre PLS","Seeds / ft2 PLS","Coefficient of Conservatism","Esimated Cost ($/lb)","# Seeds / ft2","Pure Stand PLS Rate       lbs / ac","% of Mix","Esimated Cost ($/ac)",null,null,null,null,null,null,null,null,null,null,null,null,null,"DATE REVISED 11/08"]
[null,null,"Growth Form","Equivalent rate below",null,null,null,null,"@ 1 lb. / ac",null,null,null,"Functional Group"]
[1,null,{"$f":"IF(ISERROR(VLOOKUP(B15,Grass_Table,2,FALSE)),\"\",VLOOKUP(B15,Grass_Table,2,FALSE))","v":""},null,null,null,{"$f":"IF(ISNA(VLOOKUP(B15,Grass_Table,31,FALSE)),\"\",VLOOKUP(B15,Grass_Table,31,FALSE))","v":""},{"$f":"IF(ISNA(VLOOKUP(B15,Grass_Table,25,FALSE)),\"\",VLOOKUP(B15,Grass_Table,25,FALSE))","v":""},{"$f":"IF(ISNA(VLOOKUP(B15,Grass_Table,28,FALSE)),\"\",VLOOKUP(B15,Grass_Table,28,FALSE))","v":""},{"$f":"IF(ISNA(VLOOKUP(B15,Grass_Table,21,FALSE)),\"\",VLOOKUP(B15,Grass_Table,21,FALSE))","v":""},{"$f":"IF(D16>0,D16,0)","v":""},{"$f":"IF(D15=\"\",IF(E15=\"\",IF(F15=\"\",0,F15/I15*H15),E15*H15),E16*H15)","v":0},{"$f":"IF(ISERROR(VLOOKUP(B15,Grass_Table,32,FALSE)),\"\",VLOOKUP(B15,Grass_Table,32,FALSE))","v":""},null,null,null,null,null,null,null,null,null,null,"1",null,"American Beakgrain"]
[null,{"$f":"B15","v":0},{"$f":"IF(ISNA(VLOOKUP(B15,Grass_Table,30,FALSE)),\"\",VLOOKUP(B15,Grass_Table,30,FALSE))","v":""},{"$f":"IF(E15=\"\",IF(F15=\"\",\"\",F15/$F$285),F16/$F$285)","v":""},{"$f":"IF(D15=\"\",IF(F15=\"\",\"\",F15/I15),J15*D15)","v":""},{"$f":"IF(D15=\"\",IF(E15=\"\",\"\",E15*I15),E16*I15)","v":""},{"$f":"G15","v":""},null,{"$f":"IF(J15=\"Plugs Only\",\"CANNOT USE CALCULATOR FOR SEEDING RATE -- USE PLUGS ONLY\",\"\")","v":""},null,null,null,{"$f":"M15","v":""}]
[2,null,{"$f":"IF(ISERROR(VLOOKUP(B17,Grass_Table,2,FALSE)),\"\",VLOOKUP(B17,Grass_Table,2,FALSE))","v":""},null,null,null,{"$f":"IF(ISNA(VLOOKUP(B17,Grass_Table,31,FALSE)),\"\",VLOOKUP(B17,Grass_Table,31,FALSE))","v":""},{"$f":"IF(ISNA(VLOOKUP(B17,Grass_Table,25,FALSE)),\"\",VLOOKUP(B17,Grass_Table,25,FALSE))","v":""},{"$f":"IF(ISNA(VLOOKUP(B17,Grass_Table,28,FALSE)),\"\",VLOOKUP(B17,Grass_Table,28,FALSE))","v":""},{"$f":"IF(ISNA(VLOOKUP(B17,Grass_Table,21,FALSE)),\"\",VLOOKUP(B17,Grass_Table,21,FALSE))","v":""},{"$f":"IF(D18>0,D18,0)","v":""},{"$f":"IF(D17=\"\",IF(E17=\"\",IF(F17=\"\",0,F17/I17*H17),E17*H17),E18*H17)","v":0},{"$f":"IF(ISERROR(VLOOKUP(B17,Grass_Table,32,FALSE)),\"\",VLOOKUP(B17,Grass_Table,32,FALSE))","v":""},null,null,null,null,null,null,null,null,null,null,"1",null,"Blue Grama"]
[null,{"$f":"B17","v":0},{"$f":"IF(ISERROR(VLOOKUP(B17,Grass_Table,30,FALSE)),\"\",VLOOKUP(B17,Grass_Table,30,FALSE))","v":""},{"$f":"IF(E17=\"\",IF(F17=\"\",\"\",F17/$F$285),F18/$F$285)","v":""},{"$f":"IF(D17=\"\",IF(F17=\"\",\"\",F17/I17),J17*D17)","v":""},{"$f":"IF(D17=\"\",IF(E17=\"\",\"\",E17*I17),E18*I17)","v":""},{"$f":"G17","v":""},null,{"$f":"IF(J17=\"Plugs Only\",\"CANNOT USE CALCULATOR FOR SEEDING RATE -- USE PLUGS ONLY\",\"\")","v":""},null,null,null,{"$f":"M17","v":""}]
[3,null,{"$f":"IF(ISERROR(VLOOKUP(B19,Grass_Table,2,FALSE)),\"\",VLOOKUP(B19,Grass_Table,2,FALSE))","v":""},null,null,null,{"$f":"IF(ISNA(VLOOKUP(B19,Grass_Table,31,FALSE)),\"\",VLOOKUP(B19,Grass_Table,31,FALSE))","v":""},{"$f":"IF(ISNA(VLOOKUP(B19,Grass_Table,25,FALSE)),\"\",VLOOKUP(B19,Grass_Table,25,FALSE))","v":""},{"$f":"IF(ISNA(VLOOKUP(B19,Grass_Table,28,FALSE)),\"\",VLOOKUP(B19,Grass_Table,28,FALSE))","v":""},{"$f":"IF(ISNA(VLOOKUP(B19,Grass_Table,21,FALSE)),\"\",VLOOKUP(B19,Grass_Table,21,FALSE))","v":""},{"$f":"IF(D20>0,D20,0)","v":""},{"$f":"IF(D19=\"\",IF(E19=\"\",IF(F19=\"\",0,F19/I19*H19),E19*H19),E20*H19)","v":0},{"$f":"IF(ISERROR(VLOOKUP(B19,Grass_Table,32,FALSE)),\"\",VLOOKUP(B19,Grass_Table,32,FALSE))","v":""},null,null,null,null,null,null,null,null,null,null,"1"]
[null,{"$f":"B19","v":0},{"$f":"IF(ISERROR(VLOOKUP(B19,Grass_Table,30,FALSE)),\"\",VLOOKUP(B19,Grass_Table,30,FALSE))","v":""},{"$f":"IF(E19=\"\",IF(F19=\"\",\"\",F19/$F$285),F20/$F$285)","v":""},{"$f":"IF(D19=\"\",IF(F19=\"\",\"\",F19/I19),J19*D19)","v":""},{"$f":"IF(D19=\"\",IF(E19=\"\",\"\",E19*I19),E20*I19)","v":""},{"$f":"G19","v":""},null,{"$f":"IF(J19=\"Plugs Only\",\"CANNOT USE CALCULATOR FOR SEEDING RATE -- USE PLUGS ONLY\",\"\")","v":""},null,null,null,{"$f":"M19","v":""}]
[4,null,{"$f":"IF(ISERROR(VLOOKUP(B21,Grass_Table,2,FALSE)),\"\",VLOOKUP(B21,Grass_Table,2,FALSE))","v":""},null,null,null,{"$f":"IF(ISNA(VLOOKUP(B21,Grass_Table,31,FALSE)),\"\",VLOOKUP(B21,Grass_Table,31,FALSE))","v":""},{"$f":"IF(ISNA(VLOOKUP(B21,Grass_Table,25,FALSE)),\"\",VLOOKUP(B21,Grass_Table,25,FALSE))","v":""},{"$f":"IF(ISNA(VLOOKUP(B21,Grass_Table,28,FALSE)),\"\",VLOOKUP(B21,Grass_Table,28,FALSE))","v":""},{"$f":"IF(ISNA(VLOOKUP(B21,Grass_Table,21,FALSE)),\"\",VLOOKUP(B21,Grass_Table,21,FALSE))","v":""},{"$f":"IF(D22>0,D22,0)","v":""},{"$f":"IF(D21=\"\",IF(E21=\"\",IF(F21=\"\",0,F21/I21*H21),E21*H21),E22*H21)","v":0},{"$f":"IF(ISERROR(VLOOKUP(B21,Grass_Table,32,FALSE)),\"\",VLOOKUP(B21,Grass_Table,32,FALSE))","v":""},null,null,null,null,null,null,null,null,null,null,"1"]
[null,{"$f":"B21","v":0},{"$f":"IF(ISERROR(VLOOKUP(B21,Grass_Table,30,FALSE)),\"\",VLOOKUP(B21,Grass_Table,30,FALSE))","v":""},{"$f":"IF(E21=\"\",IF(F21=\"\",\"\",F21/$F$285),F22/$F$285)","v":""},{"$f":"IF(D21=\"\",IF(F21=\"\",\"\",F21/I21),J21*D21)","v":""},{"$f":"IF(D21=\"\",IF(E21=\"\",\"\",E21*I21),E22*I21)","v":""},{"$f":"G21","v":""},null,{"$f":"IF(J21=\"Plugs Only\",\"CANNOT USE CALCULATOR FOR SEEDING RATE -- USE PLUGS ONLY\",\"\")","v":""},null,null,null,{"$f":"M21","v":""}]
[5,null,{"$f":"IF(ISERROR(VLOOKUP(B23,Grass_Table,2,FALSE)),\"\",VLOOKUP(B23,Grass_Table,2,FALSE))","v":""},null,null,null,{"$f":"IF(ISNA(VLOOKUP(B23,Grass_Table,31,FALSE)),\"\",VLOOKUP(B23,Grass_Table,31,FALSE))","v":""},{"$f":"IF(ISNA(VLOOKUP(B23,Grass_Table,25,FALSE)),\"\",VLOOKUP(B23,Grass_Table,25,FALSE))","v":""},{"$f":"IF(ISNA(VLOOKUP(B23,Grass_Table,28,FALSE)),\"\",VLOOKUP(B23,Grass_Table,28,FALSE))","v":""},{"$f":"IF(ISNA(VLOOKUP(B23,Grass_Table,21,FALSE)),\"\",VLOOKUP(B23,Grass_Table,21,FALSE))","v":""},{"$f":"IF(D24>0,D24,0)","v":""},{"$f":"IF(D23=\"\",IF(E23=\"\",IF(F23=\"\",0,F23/I23*H23),E23*H23),E24*H23)","v":0},{"$f":"IF(ISERROR(VLOOKUP(B23,Grass_Table,32,FALSE)),\"\",VLOOKUP(B23,Grass_Table,32,FALSE))","v":""},null,null,null,null,null,null,null,null,null,null,"1"]
[null,{"$f":"B23","v":0},{"$f":"IF(ISERROR(VLOOKUP(B23,Grass_Table,30,FALSE)),\"\",VLOOKUP(B23,Grass_Table,30,FALSE))","v":""},{"$f":"IF(E23=\"\",IF(F23=\"\",\"\",F23/$F$285),F24/$F$285)","v":""},{"$f":"IF(D23=\"\",IF(F23=\"\",\"\",F23/I23),J23*D23)","v":""},{"$f":"IF(D23=\"\",IF(E23=\"\",\"\",E23*I23),E24*I23)","v":""},{"$f":"G23","v":""},null,{"$f":"IF(J23=\"Plugs Only\",\"CANNOT USE CALCULATOR FOR SEEDING RATE -- USE PLUGS ONLY\",\"\")","v":""},null,null,null,{"$f":"M23","v":""}]
[6,null,{"$f":"IF(ISERROR(VLOOKUP(B25,Grass_Table,2,FALSE)),\"\",VLOOKUP(B25,Grass_Table,2,FALSE))","v":""},null,null,null,{"$f":"IF(ISNA(VLOOKUP(B25,Grass_Table,31,FALSE)),\"\",VLOOKUP(B25,Grass_Table,31,FALSE))","v":""},{"$f":"IF(ISNA(VLOOKUP(B25,Grass_Table,25,FALSE)),\"\",VLOOKUP(B25,Grass_Table,25,FALSE))","v":""},{"$f":"IF(ISNA(VLOOKUP(B25,Grass_Table,28,FALSE)),\"\",VLOOKUP(B25,Grass_Table,28,FALSE))","v":""},{"$f":"IF(ISNA(VLOOKUP(B25,Grass_Table,21,FALSE)),\"\",VLOOKUP(B25,Grass_Table,21,FALSE))","v":""},{"$f":"IF(D26>0,D26,0)","v":""},{"$f":"IF(D25=\"\",IF(E25=\"\",IF(F25=\"\",0,F25/I25*H25),E25*H25),E26*H25)","v":0},{"$f":"IF(ISERROR(VLOOKUP(B25,Grass_Table,32,FALSE)),\"\",VLOOKUP(B25,Grass_Table,32,FALSE))","v":""},null,null,null,null,null,null,null,null,null,null,"1"]
[null,{"$f":"B25","v":0},{"$f":"IF(ISERROR(VLOOKUP(B25,Grass_Table,30,FALSE)),\"\",VLOOKUP(B25,Grass_Table,30,FALSE))","v":""},{"$f":"IF(E25=\"\",IF(F25=\"\",\"\",F25/$F$285),F26/$F$285)","v":""},{"$f":"IF(D25=\"\",IF(F25=\"\",\"\",F25/I25),J25*D25)","v":""},{"$f":"IF(D25=\"\",IF(E25=\"\",\"\",E25*I25),E26*I25)","v":""},{"$f":"G25","v":""},null,{"$f":"IF(J25=\"Plugs Only\",\"CANNOT USE CALCULATOR FOR SEEDING RATE -- USE PLUGS ONLY\",\"\")","v":""},null,null,null,{"$f":"M25","v":""}]
[7,null,{"$f":"IF(ISERROR(VLOOKUP(B27,Grass_Table,2,FALSE)),\"\",VLOOKUP(B27,Grass_Table,2,FALSE))","v":""},null,null,null,{"$f":"IF(ISNA(VLOOKUP(B27,Grass_Table,31,FALSE)),\"\",VLOOKUP(B27,Grass_Table,31,FALSE))","v":""},{"$f":"IF(ISNA(VLOOKUP(B27,Grass_Table,25,FALSE)),\"\",VLOOKUP(B27,Grass_Table,25,FALSE))","v":""},{"$f":"IF(ISNA(VLOOKUP(B27,Grass_Table,28,FALSE)),\"\",VLOOKUP(B27,Grass_Table,28,FALSE))","v":""},{"$f":"IF(ISNA(VLOOKUP(B27,Grass_Table,21,FALSE)),\"\",VLOOKUP(B27,Grass_Table,21,FALSE))","v":""},{"$f":"IF(D28>0,D28,0)","v":""},{"$f":"IF(D27=\"\",IF(E27=\"\",IF(F27=\"\",0,F27/I27*H27),E27*H27),E28*H27)","v":0},{"$f":"IF(ISERROR(VLOOKUP(B27,Grass_Table,32,FALSE)),\"\",VLOOKUP(B27,Grass_Table,32,FALSE))","v":""},null,null,null,null,null,null,null,null,null,null,"1"]
[null,{"$f":"B27","v":0},{"$f":"IF(ISERROR(VLOOKUP(B27,Grass_Table,30,FALSE)),\"\",VLOOKUP(B27,Grass_Table,30,FALSE))","v":""},{"$f":"IF(E27=\"\",IF(F27=\"\",\"\",F27/$F$285),F28/$F$285)","v":""},{"$f":"IF(D27=\"\",IF(F27=\"\",\"\",F27/I27),J27*D27)","v":""},{"$f":"IF(D27=\"\",IF(E27=\"\",\"\",E27*I27),E28*I27)","v":""},{"$f":"G27","v":""},null,{"$f":"IF(J27=\"Plugs Only\",\"CANNOT USE CALCULATOR FOR SEEDING RATE -- USE PLUGS ONLY\",\"\")","v":""},null,null,null,{"$f":"M27","v":""}]
[8,null,{"$f":"IF(ISERROR(VLOOKUP(B29,Grass_Table,2,FALSE)),\"\",VLOOKUP(B29,Grass_Table,2,FALSE))","v":""},null,null,null,{"$f":"IF(ISNA(VLOOKUP(B29,Grass_Table,31,FALSE)),\"\",VLOOKUP(B29,Grass_Table,31,FALSE))","v":""},{"$f":"IF(ISNA(VLOOKUP(B29,Grass_Table,25,FALSE)),\"\",VLOOKUP(B29,Grass_Table,25,FALSE))","v":""},{"$f":"IF(ISNA(VLOOKUP(B29,Grass_Table,28,FALSE)),\"\",VLOOKUP(B29,Grass_Table,28,FALSE))","v":""},{"$f":"IF(ISNA(VLOOKUP(B29,Grass_Table,21,FALSE)),\"\",VLOOKUP(B29,Grass_Table,21,FALSE))","v":""},{"$f":"IF(D30>0,D30,0)","v":""},{"$f":"IF(D29=\"\",IF(E29=\"\",IF(F29=\"\",0,F29/I29*H29),E29*H29),E30*H29)","v":0},{"$f":"IF(ISERROR(VLOOKUP(B29,Grass_Table,32,FALSE)),\"\",VLOOKUP(B29,Grass_Table,32,FALSE))","v":""},null,null,null,null,null,null,null,null,null,null,"1"]
[null,{"$f":"B29","v":0},{"$f":"IF(ISERROR(VLOOKUP(B29,Grass_Table,30,FALSE)),\"\",VLOOKUP(B29,Grass_Table,30,FALSE))","v":""},{"$f":"IF(E29=\"\",IF(F29=\"\",\"\",F29/$F$285),F30/$F$285)","v":""},{"$f":"IF(D29=\"\",IF(F29=\"\",\"\",F29/I29),J29*D29)","v":""},{"$f":"IF(D29=\"\",IF(E29=\"\",\"\",E29*I29),E30*I29)","v":""},{"$f":"G29","v":""},null,{"$f":"IF(J29=\"Plugs Only\",\"CANNOT USE CALCULATOR FOR SEEDING RATE -- USE PLUGS ONLY\",\"\")","v":""},null,null,null,{"$f":"M29","v":""}]
[9,null,{"$f":"IF(ISERROR(VLOOKUP(B31,Grass_Table,2,FALSE)),\"\",VLOOKUP(B31,Grass_Table,2,FALSE))","v":""},null,null,null,{"$f":"IF(ISNA(VLOOKUP(B31,Grass_Table,31,FALSE)),\"\",VLOOKUP(B31,Grass_Table,31,FALSE))","v":""},{"$f":"IF(ISNA(VLOOKUP(B31,Grass_Table,25,FALSE)),\"\",VLOOKUP(B31,Grass_Table,25,FALSE))","v":""},{"$f":"IF(ISNA(VLOOKUP(B31,Grass_Table,28,FALSE)),\"\",VLOOKUP(B31,Grass_Table,28,FALSE))","v":""},{"$f":"IF(ISNA(VLOOKUP(B31,Grass_Table,21,FALSE)),\"\",VLOOKUP(B31,Grass_Table,21,FALSE))","v":""},{"$f":"IF(D32>0,D32,0)","v":""},{"$f":"IF(D31=\"\",IF(E31=\"\",IF(F31=\"\",0,F31/I31*H31),E31*H31),E32*H31)","v":0},{"$f":"IF(ISERROR(VLOOKUP(B31,Grass_Table,32,FALSE)),\"\",VLOOKUP(B31,Grass_Table,32,FALSE))","v":""},null,null,null,null,null,null,null,null,null,null,"1"]
[null,{"$f":"B31","v":0},{"$f":"IF(ISERROR(VLOOKUP(B31,Grass_Table,30,FALSE)),\"\",VLOOKUP(B31,Grass_Table,30,FALSE))","v":""},{"$f":"IF(E31=\"\",IF(F31=\"\",\"\",F31/$F$285),F32/$F$285)","v":""},{"$f":"IF(D31=\"\",IF(F31=\"\",\"\",F31/I31),J31*D31)","v":""},{"$f":"IF(D31=\"\",IF(E31=\"\",\"\",E31*I31),E32*I31)","v":""},{"$f":"G31","v":""},null,{"$f":"IF(J31=\"Plugs Only\",\"CANNOT USE CALCULATOR FOR SEEDING RATE -- USE PLUGS ONLY\",\"\")","v":""},null,null,null,{"$f":"M31","v":""}]
[10,null,{"$f":"IF(ISERROR(VLOOKUP(B33,Grass_Table,2,FALSE)),\"\",VLOOKUP(B33,Grass_Table,2,FALSE))","v":""},null,null,null,{"$f":"IF(ISNA(VLOOKUP(B33,Grass_Table,31,FALSE)),\"\",VLOOKUP(B33,Grass_Table,31,FALSE))","v":""},{"$f":"IF(ISNA(VLOOKUP(B33,Grass_Table,25,FALSE)),\"\",VLOOKUP(B33,Grass_Table,25,FALSE))","v":""},{"$f":"IF(ISNA(VLOOKUP(B33,Grass_Table,28,FALSE)),\"\",VLOOKUP(B33,Grass_Table,28,FALSE))","v":""},{"$f":"IF(ISNA(VLOOKUP(B33,Grass_Table,21,FALSE)),\"\",VLOOKUP(B33,Grass_Table,21,FALSE))","v":""},{"$f":"IF(D34>0,D34,0)","v":""},{"$f":"IF(D33=\"\",IF(E33=\"\",IF(F33=\"\",0,F33/I33*H33),E33*H33),E34*H33)","v":0},{"$f":"IF(ISERROR(VLOOKUP(B33,Grass_Table,32,FALSE)),\"\",VLOOKUP(B33,Grass_Table,32,FALSE))","v":""},null,null,null,null,null,null,null,null,null,null,"1"]
[null,{"$f":"B33","v":0},{"$f":"IF(ISERROR(VLOOKUP(B33,Grass_Table,30,FALSE)),\"\",VLOOKUP(B33,Grass_Table,30,FALSE))","v":""},{"$f":"IF(E33=\"\",IF(F33=\"\",\"\",F33/$F$285),F34/$F$285)","v":""},{"$f":"IF(D33=\"\",IF(F33=\"\",\"\",F33/I33),J33*D33)","v":""},{"$f":"IF(D33=\"\",IF(E33=\"\",\"\",E33*I33),E34*I33)","v":""},{"$f":"G33","v":""},null,{"$f":"IF(J33=\"Plugs Only\",\"CANNOT USE CALCULATOR FOR SEEDING RATE -- USE PLUGS ONLY\",\"\")","v":""},null,null,null,{"$f":"M33","v":""}]
[11,null,{"$f":"IF(ISERROR(VLOOKUP(B35,Grass_Table,2,FALSE)),\"\",VLOOKUP(B35,Grass_Table,2,FALSE))","v":""},null,null,null,{"$f":"IF(ISNA(VLOOKUP(B35,Grass_Table,31,FALSE)),\"\",VLOOKUP(B35,Grass_Table,31,FALSE))","v":""},{"$f":"IF(ISNA(VLOOKUP(B35,Grass_Table,25,FALSE)),\"\",VLOOKUP(B35,Grass_Table,25,FALSE))","v":""},{"$f":"IF(ISNA(VLOOKUP(B35,Grass_Table,28,FALSE)),\"\",VLOOKUP(B35,Grass_Table,28,FALSE))","v":""},{"$f":"IF(ISNA(VLOOKUP(B35,Grass_Table,21,FALSE)),\"\",VLOOKUP(B35,Grass_Table,21,FALSE))","v":""},{"$f":"IF(D36>0,D36,0)","v":""},{"$f":"IF(D35=\"\",IF(E35=\"\",IF(F35=\"\",0,F35/I35*H35),E35*H35),E36*H35)","v":0},{"$f":"IF(ISERROR(VLOOKUP(B35,Grass_Table,32,FALSE)),\"\",VLOOKUP(B35,Grass_Table,32,FALSE))","v":""},null,null,null,null,null,null,null,null,null,null,"1"]
[null,{"$f":"B35","v":0},{"$f":"IF(ISERROR(VLOOKUP(B35,Grass_Table,30,FALSE)),\"\",VLOOKUP(B35,Grass_Table,30,FALSE))","v":""},{"$f":"IF(E35=\"\",IF(F35=\"\",\"\",F35/$F$285),F36/$F$285)","v":""},{"$f":"IF(D35=\"\",IF(F35=\"\",\"\",F35/I35),J35*D35)","v":""},{"$f":"IF(D35=\"\",IF(E35=\"\",\"\",E35*I35),E36*I35)","v":""},{"$f":"G35","v":""},null,{"$f":"IF(J35=\"Plugs Only\",\"CANNOT USE CALCULATOR FOR SEEDING RATE -- USE PLUGS ONLY\",\"\")","v":""},null,null,null,{"$f":"M35","v":""}]
[12,null,{"$f":"IF(ISERROR(VLOOKUP(B37,Grass_Table,2,FALSE)),\"\",VLOOKUP(B37,Grass_Table,2,FALSE))","v":""},null,null,null,{"$f":"IF(ISNA(VLOOKUP(B37,Grass_Table,31,FALSE)),\"\",VLOOKUP(B37,Grass_Table,31,FALSE))","v":""},{"$f":"IF(ISNA(VLOOKUP(B37,Grass_Table,25,FALSE)),\"\",VLOOKUP(B37,Grass_Table,25,FALSE))","v":""},{"$f":"IF(ISNA(VLOOKUP(B37,Grass_Table,28,FALSE)),\"\",VLOOKUP(B37,Grass_Table,28,FALSE))","v":""},{"$f":"IF(ISNA(VLOOKUP(B37,Grass_Table,21,FALSE)),\"\",VLOOKUP(B37,Grass_Table,21,FALSE))","v":""},{"$f":"IF(D38>0,D38,0)","v":""},{"$f":"IF(D37=\"\",IF(E37=\"\",IF(F37=\"\",0,F37/I37*H37),E37*H37),E38*H37)","v":0},{"$f":"IF(ISERROR(VLOOKUP(B37,Grass_Table,32,FALSE)),\"\",VLOOKUP(B37,Grass_Table,32,FALSE))","v":""},null,null,null,null,null,null,null,null,null,null,"1"]
[null,{"$f":"B37","v":0},{"$f":"IF(ISERROR(VLOOKUP(B37,Grass_Table,30,FALSE)),\"\",VLOOKUP(B37,Grass_Table,30,FALSE))","v":""},{"$f":"IF(E37=\"\",IF(F37=\"\",\"\",F37/$F$285),F38/$F$285)","v":""},{"$f":"IF(D37=\"\",IF(F37=\"\",\"\",F37/I37),J37*D37)","v":""},{"$f":"IF(D37=\"\",IF(E37=\"\",\"\",E37*I37),E38*I37)","v":""},{"$f":"G37","v":""},null,{"$f":"IF(J37=\"Plugs Only\",\"CANNOT USE CALCULATOR FOR SEEDING RATE -- USE PLUGS ONLY\",\"\")","v":""},null,null,null,{"$f":"M37","v":""}]
[13,null,{"$f":"IF(ISERROR(VLOOKUP(B39,Grass_Table,2,FALSE)),\"\",VLOOKUP(B39,Grass_Table,2,FALSE))","v":""},null,null,null,{"$f":"IF(ISNA(VLOOKUP(B39,Grass_Table,31,FALSE)),\"\",VLOOKUP(B39,Grass_Table,31,FALSE))","v":""},{"$f":"IF(ISNA(VLOOKUP(B39,Grass_Table,25,FALSE)),\"\",VLOOKUP(B39,Grass_Table,25,FALSE))","v":""},{"$f":"IF(ISNA(VLOOKUP(B39,Grass_Table,28,FALSE)),\"\",VLOOKUP(B39,Grass_Table,28,FALSE))","v":""},{"$f":"IF(ISNA(VLOOKUP(B39,Grass_Table,21,FALSE)),\"\",VLOOKUP(B39,Grass_Table,21,FALSE))","v":""},{"$f":"IF(D40>0,D40,0)","v":""},{"$f":"IF(D39=\"\",IF(E39=\"\",IF(F39=\"\",0,F39/I39*H39),E39*H39),E40*H39)","v":0},{"$f":"IF(ISERROR(VLOOKUP(B39,Grass_Table,32,FALSE)),\"\",VLOOKUP(B39,Grass_Table,32,FALSE))","v":""},null,null,null,null,null,null,null,null,null,null,"1"]
[null,{"$f":"B39","v":0},{"$f":"IF(ISERROR(VLOOKUP(B39,Grass_Table,30,FALSE)),\"\",VLOOKUP(B39,Grass_Table,30,FALSE))","v":""},{"$f":"IF(E39=\"\",IF(F39=\"\",\"\",F39/$F$285),F40/$F$285)","v":""},{"$f":"IF(D39=\"\",IF(F39=\"\",\"\",F39/I39),J39*D39)","v":""},{"$f":"IF(D39=\"\",IF(E39=\"\",\"\",E39*I39),E40*I39)","v":""},{"$f":"G39","v":""},null,{"$f":"IF(J39=\"Plugs Only\",\"CANNOT USE CALCULATOR FOR SEEDING RATE -- USE PLUGS ONLY\",\"\")","v":""},null,null,null,{"$f":"M39","v":""}]
[14,null,{"$f":"IF(ISERROR(VLOOKUP(B41,Grass_Table,2,FALSE)),\"\",VLOOKUP(B41,Grass_Table,2,FALSE))","v":""},null,null,null,{"$f":"IF(ISNA(VLOOKUP(B41,Grass_Table,31,FALSE)),\"\",VLOOKUP(B41,Grass_Table,31,FALSE))","v":""},{"$f":"IF(ISNA(VLOOKUP(B41,Grass_Table,25,FALSE)),\"\",VLOOKUP(B41,Grass_Table,25,FALSE))","v":""},{"$f":"IF(ISNA(VLOOKUP(B41,Grass_Table,28,FALSE)),\"\",VLOOKUP(B41,Grass_Table,28,FALSE))","v":""},{"$f":"IF(ISNA(VLOOKUP(B41,Grass_Table,21,FALSE)),\"\",VLOOKUP(B41,Grass_Table,21,FALSE))","v":""},{"$f":"IF(D42>0,D42,0)","v":""},{"$f":"IF(D41=\"\",IF(E41=\"\",IF(F41=\"\",0,F41/I41*H41),E41*H41),E42*H41)","v":0},{"$f":"IF(ISERROR(VLOOKUP(B41,Grass_Table,32,FALSE)),\"\",VLOOKUP(B41,Grass_Table,32,FALSE))","v":""},null,null,null,null,null,null,null,null,null,null,"1"]
[null,{"$f":"B41","v":0},{"$f":"IF(ISERROR(VLOOKUP(B41,Grass_Table,30,FALSE)),\"\",VLOOKUP(B41,Grass_Table,30,FALSE))","v":""},{"$f":"IF(E41=\"\",IF(F41=\"\",\"\",F41/$F$285),F42/$F$285)","v":""},{"$f":"IF(D41=\"\",IF(F41=\"\",\"\",F41/I41),J41*D41)","v":""},{"$f":"IF(D41=\"\",IF(E41=\"\",\"\",E41*I41),E42*I41)","v":""},{"$f":"G41","v":""},null,{"$f":"IF(J41=\"Plugs Only\",\"CANNOT USE CALCULATOR FOR SEEDING RATE -- USE PLUGS ONLY\",\"\")","v":""},null,null,null,{"$f":"M41","v":""}]
[15,null,{"$f":"IF(ISERROR(VLOOKUP(B43,Grass_Table,2,FALSE)),\"\",VLOOKUP(B43,Grass_Table,2,FALSE))","v":""},null,null,null,{"$f":"IF(ISNA(VLOOKUP(B43,Grass_Table,31,FALSE)),\"\",VLOOKUP(B43,Grass_Table,31,FALSE))","v":""},{"$f":"IF(ISNA(VLOOKUP(B43,Grass_Table,25,FALSE)),\"\",VLOOKUP(B43,Grass_Table,25,FALSE))","v":""},{"$f":"IF(ISNA(VLOOKUP(B43,Grass_Table,28,FALSE)),\"\",VLOOKUP(B43,Grass_Table,28,FALSE))","v":""},{"$f":"IF(ISNA(VLOOKUP(B43,Grass_Table,21,FALSE)),\"\",VLOOKUP(B43,Grass_Table,21,FALSE))","v":""},{"$f":"IF(D44>0,D44,0)","v":""},{"$f":"IF(D43=\"\",IF(E43=\"\",IF(F43=\"\",0,F43/I43*H43),E43*H43),E44*H43)","v":0},{"$f":"IF(ISERROR(VLOOKUP(B43,Grass_Table,32,FALSE)),\"\",VLOOKUP(B43,Grass_Table,32,FALSE))","v":""},null,null,null,null,null,null,null,null,null,null,"1"]
[null,{"$f":"B43","v":0},{"$f":"IF(ISERROR(VLOOKUP(B43,Grass_Table,30,FALSE)),\"\",VLOOKUP(B43,Grass_Table,30,FALSE))","v":""},{"$f":"IF(E43=\"\",IF(F43=\"\",\"\",F43/$F$285),F44/$F$285)","v":""},{"$f":"IF(D43=\"\",IF(F43=\"\",\"\",F43/I43),J43*D43)","v":""},{"$f":"IF(D43=\"\",IF(E43=\"\",\"\",E43*I43),E44*I43)","v":""},{"$f":"G43","v":""},null,{"$f":"IF(J43=\"Plugs Only\",\"CANNOT USE CALCULATOR FOR SEEDING RATE -- USE PLUGS ONLY\",\"\")","v":""},null,null,null,{"$f":"M43","v":""}]
[16,null,{"$f":"IF(ISERROR(VLOOKUP(B45,Grass_Table,2,FALSE)),\"\",VLOOKUP(B45,Grass_Table,2,FALSE))","v":""},null,null,null,{"$f":"IF(ISNA(VLOOKUP(B45,Grass_Table,31,FALSE)),\"\",VLOOKUP(B45,Grass_Table,31,FALSE))","v":""},{"$f":"IF(ISNA(VLOOKUP(B45,Grass_Table,25,FALSE)),\"\",VLOOKUP(B45,Grass_Table,25,FALSE))","v":""},{"$f":"IF(ISNA(VLOOKUP(B45,Grass_Table,28,FALSE)),\"\",VLOOKUP(B45,Grass_Table,28,FALSE))","v":""},{"$f":"IF(ISNA(VLOOKUP(B45,Grass_Table,21,FALSE)),\"\",VLOOKUP(B45,Grass_Table,21,FALSE))","v":""},{"$f":"IF(D46>0,D46,0)","v":""},{"$f":"IF(D45=\"\",IF(E45=\"\",IF(F45=\"\",0,F45/I45*H45),E45*H45),E46*H45)","v":0},{"$f":"IF(ISERROR(VLOOKUP(B45,Grass_Table,32,FALSE)),\"\",VLOOKUP(B45,Grass_Table,32,FALSE))","v":""},null,null,null,null,null,null,null,null,null,null,"1"]
[null,{"$f":"B45","v":0},{"$f":"IF(ISERROR(VLOOKUP(B45,Grass_Table,30,FALSE)),\"\",VLOOKUP(B45,Grass_Table,30,FALSE))","v":""},{"$f":"IF(E45=\"\",IF(F45=\"\",\"\",F45/$F$285),F46/$F$285)","v":""},{"$f":"IF(D45=\"\",IF(F45=\"\",\"\",F45/I45),J45*D45)","v":""},{"$f":"IF(D45=\"\",IF(E45=\"\",\"\",E45*I45),E46*I45)","v":""},{"$f":"G45","v":""},null,{"$f":"IF(J45=\"Plugs Only\",\"CANNOT USE CALCULATOR FOR SEEDING RATE -- USE PLUGS ONLY\",\"\")","v":""},null,null,null,{"$f":"M45","v":""}]
[17,null,{"$f":"IF(ISERROR(VLOOKUP(B47,Grass_Table,2,FALSE)),\"\",VLOOKUP(B47,Grass_Table,2,FALSE))","v":""},null,null,null,{"$f":"IF(ISNA(VLOOKUP(B47,Grass_Table,31,FALSE)),\"\",VLOOKUP(B47,Grass_Table,31,FALSE))","v":""},{"$f":"IF(ISNA(VLOOKUP(B47,Grass_Table,25,FALSE)),\"\",VLOOKUP(B47,Grass_Table,25,FALSE))","v":""},{"$f":"IF(ISNA(VLOOKUP(B47,Grass_Table,28,FALSE)),\"\",VLOOKUP(B47,Grass_Table,28,FALSE))","v":""},{"$f":"IF(ISNA(VLOOKUP(B47,Grass_Table,21,FALSE)),\"\",VLOOKUP(B47,Grass_Table,21,FALSE))","v":""},{"$f":"IF(D48>0,D48,0)","v":""},{"$f":"IF(D47=\"\",IF(E47=\"\",IF(F47=\"\",0,F47/I47*H47),E47*H47),E48*H47)","v":0},{"$f":"IF(ISERROR(VLOOKUP(B47,Grass_Table,32,FALSE)),\"\",VLOOKUP(B47,Grass_Table,32,FALSE))","v":""},null,null,null,null,null,null,null,null,null,null,"1"]
[null,{"$f":"B47","v":0},{"$f":"IF(ISERROR(VLOOKUP(B47,Grass_Table,30,FALSE)),\"\",VLOOKUP(B47,Grass_Table,30,FALSE))","v":""},{"$f":"IF(E47=\"\",IF(F47=\"\",\"\",F47/$F$285),F48/$F$285)","v":""},{"$f":"IF(D47=\"\",IF(F47=\"\",\"\",F47/I47),J47*D47)","v":""},{"$f":"IF(D47=\"\",IF(E47=\"\",\"\",E47*I47),E48*I47)","v":""},{"$f":"G47","v":""},null,{"$f":"IF(J47=\"Plugs Only\",\"CANNOT USE CALCULATOR FOR SEEDING RATE -- USE PLUGS ONLY\",\"\")","v":""},null,null,null,{"$f":"M47","v":""}]
[18,null,{"$f":"IF(ISERROR(VLOOKUP(B49,Grass_Table,2,FALSE)),\"\",VLOOKUP(B49,Grass_Table,2,FALSE))","v":""},null,null,null,{"$f":"IF(ISNA(VLOOKUP(B49,Grass_Table,31,FALSE)),\"\",VLOOKUP(B49,Grass_Table,31,FALSE))","v":""},{"$f":"IF(ISNA(VLOOKUP(B49,Grass_Table,25,FALSE)),\"\",VLOOKUP(B49,Grass_Table,25,FALSE))","v":""},{"$f":"IF(ISNA(VLOOKUP(B49,Grass_Table,28,FALSE)),\"\",VLOOKUP(B49,Grass_Table,28,FALSE))","v":""},{"$f":"IF(ISNA(VLOOKUP(B49,Grass_Table,21,FALSE)),\"\",VLOOKUP(B49,Grass_Table,21,FALSE))","v":""},{"$f":"IF(D50>0,D50,0)","v":""},{"$f":"IF(D49=\"\",IF(E49=\"\",IF(F49=\"\",0,F49/I49*H49),E49*H49),E50*H49)","v":0},{"$f":"IF(ISERROR(VLOOKUP(B49,Grass_Table,32,FALSE)),\"\",VLOOKUP(B49,Grass_Table,32,FALSE))","v":""},null,null,null,null,null,null,null,null,null,null,"1"]
[null,{"$f":"B49","v":0},{"$f":"IF(ISERROR(VLOOKUP(B49,Grass_Table,30,FALSE)),\"\",VLOOKUP(B49,Grass_Table,30,FALSE))","v":""},{"$f":"IF(E49=\"\",IF(F49=\"\",\"\",F49/$F$285),F50/$F$285)","v":""},{"$f":"IF(D49=\"\",IF(F49=\"\",\"\",F49/I49),J49*D49)","v":""},{"$f":"IF(D49=\"\",IF(E49=\"\",\"\",E49*I49),E50*I49)","v":""},{"$f":"G49","v":""},null,{"$f":"IF(J49=\"Plugs Only\",\"CANNOT USE CALCULATOR FOR SEEDING RATE -- USE PLUGS ONLY\",\"\")","v":""},null,null,null,{"$f":"M49","v":""}]
[19,null,{"$f":"IF(ISERROR(VLOOKUP(B51,Grass_Table,2,FALSE)),\"\",VLOOKUP(B51,Grass_Table,2,FALSE))","v":""},null,null,null,{"$f":"IF(ISNA(VLOOKUP(B51,Grass_Table,31,FALSE)),\"\",VLOOKUP(B51,Grass_Table,31,FALSE))","v":""},{"$f":"IF(ISNA(VLOOKUP(B51,Grass_Table,25,FALSE)),\"\",VLOOKUP(B51,Grass_Table,25,FALSE))","v":""},{"$f":"IF(ISNA(VLOOKUP(B51,Grass_Table,28,FALSE)),\"\",VLOOKUP(B51,Grass_Table,28,FALSE))","v":""},{"$f":"IF(ISNA(VLOOKUP(B51,Grass_Table,21,FALSE)),\"\",VLOOKUP(B51,Grass_Table,21,FALSE))","v":""},{"$f":"IF(D52>0,D52,0)","v":""},{"$f":"IF(D51=\"\",IF(E51=\"\",IF(F51=\"\",0,F51/I51*H51),E51*H51),E52*H51)","v":0},{"$f":"IF(ISERROR(VLOOKUP(B51,Grass_Table,32,FALSE)),\"\",VLOOKUP(B51,Grass_Table,32,FALSE))","v":""},null,null,null,null,null,null,null,null,null,null,"1"]
[null,{"$f":"B51","v":0},{"$f":"IF(ISERROR(VLOOKUP(B51,Grass_Table,30,FALSE)),\"\",VLOOKUP(B51,Grass_Table,30,FALSE))","v":""},{"$f":"IF(E51=\"\",IF(F51=\"\",\"\",F51/$F$285),F52/$F$285)","v":""},{"$f":"IF(D51=\"\",IF(F51=\"\",\"\",F51/I51),J51*D51)","v":""},{"$f":"IF(D51=\"\",IF(E51=\"\",\"\",E51*I51),E52*I51)","v":""},{"$f":"G51","v":""},null,{"$f":"IF(J51=\"Plugs Only\",\"CANNOT USE CALCULATOR FOR SEEDING RATE -- USE PLUGS ONLY\",\"\")","v":""},null,null,null,{"$f":"M51","v":""}]
[20,null,{"$f":"IF(ISERROR(VLOOKUP(B53,Grass_Table,2,FALSE)),\"\",VLOOKUP(B53,Grass_Table,2,FALSE))","v":""},null,null,null,{"$f":"IF(ISNA(VLOOKUP(B53,Grass_Table,31,FALSE)),\"\",VLOOKUP(B53,Grass_Table,31,FALSE))","v":""},{"$f":"IF(ISNA(VLOOKUP(B53,Grass_Table,25,FALSE)),\"\",VLOOKUP(B53,Grass_Table,25,FALSE))","v":""},{"$f":"IF(ISNA(VLOOKUP(B53,Grass_Table,28,FALSE)),\"\",VLOOKUP(B53,Grass_Table,28,FALSE))","v":""},{"$f":"IF(ISNA(VLOOKUP(B53,Grass_Table,21,FALSE)),\"\",VLOOKUP(B53,Grass_Table,21,FALSE))","v":""},{"$f":"IF(D54>0,D54,0)","v":""},{"$f":"IF(D53=\"\",IF(E53=\"\",IF(F53=\"\",0,F53/I53*H53),E53*H53),E54*H53)","v":0},{"$f":"IF(ISERROR(VLOOKUP(B53,Grass_Table,32,FALSE)),\"\",VLOOKUP(B53,Grass_Table,32,FALSE))","v":""},null,null,null,null,null,null,null,null,null,null,"1"]
[null,{"$f":"B53","v":0},{"$f":"IF(ISERROR(VLOOKUP(B53,Grass_Table,30,FALSE)),\"\",VLOOKUP(B53,Grass_Table,30,FALSE))","v":""},{"$f":"IF(E53=\"\",IF(F53=\"\",\"\",F53/$F$285),F54/$F$285)","v":""},{"$f":"IF(D53=\"\",IF(F53=\"\",\"\",F53/I53),J53*D53)","v":""},{"$f":"IF(D53=\"\",IF(E53=\"\",\"\",E53*I53),E54*I53)","v":""},{"$f":"G53","v":""},null,{"$f":"IF(J53=\"Plugs Only\",\"CANNOT USE CALCULATOR FOR SEEDING RATE -- USE PLUGS ONLY\",\"\")","v":""},null,null,null,{"$f":"M53","v":""}]
[21,null,{"$f":"IF(ISERROR(VLOOKUP(B55,Grass_Table,2,FALSE)),\"\",VLOOKUP(B55,Grass_Table,2,FALSE))","v":""},null,null,null,{"$f":"IF(ISNA(VLOOKUP(B55,Grass_Table,31,FALSE)),\"\",VLOOKUP(B55,Grass_Table,31,FALSE))","v":""},{"$f":"IF(ISNA(VLOOKUP(B55,Grass_Table,25,FALSE)),\"\",VLOOKUP(B55,Grass_Table,25,FALSE))","v":""},{"$f":"IF(ISNA(VLOOKUP(B55,Grass_Table,28,FALSE)),\"\",VLOOKUP(B55,Grass_Table,28,FALSE))","v":""},{"$f":"IF(ISNA(VLOOKUP(B55,Grass_Table,21,FALSE)),\"\",VLOOKUP(B55,Grass_Table,21,FALSE))","v":""},{"$f":"IF(D56>0,D56,0)","v":""},{"$f":"IF(D55=\"\",IF(E55=\"\",IF(F55=\"\",0,F55/I55*H55),E55*H55),E56*H55)","v":0},{"$f":"IF(ISERROR(VLOOKUP(B55,Grass_Table,32,FALSE)),\"\",VLOOKUP(B55,Grass_Table,32,FALSE))","v":""}]
[null,{"$f":"B55","v":0},{"$f":"IF(ISERROR(VLOOKUP(B55,Grass_Table,30,FALSE)),\"\",VLOOKUP(B55,Grass_Table,30,FALSE))","v":""},{"$f":"IF(E55=\"\",IF(F55=\"\",\"\",F55/$F$285),F56/$F$285)","v":""},{"$f":"IF(D55=\"\",IF(F55=\"\",\"\",F55/I55),J55*D55)","v":""},{"$f":"IF(D55=\"\",IF(E55=\"\",\"\",E55*I55),E56*I55)","v":""},{"$f":"G55","v":""},null,{"$f":"IF(J55=\"Plugs Only\",\"CANNOT USE CALCULATOR FOR SEEDING RATE -- USE PLUGS ONLY\",\"\")","v":""},null,null,null,{"$f":"M55","v":""}]
[22,null,{"$f":"IF(ISERROR(VLOOKUP(B57,Grass_Table,2,FALSE)),\"\",VLOOKUP(B57,Grass_Table,2,FALSE))","v":""},null,null,null,{"$f":"IF(ISNA(VLOOKUP(B57,Grass_Table,31,FALSE)),\"\",VLOOKUP(B57,Grass_Table,31,FALSE))","v":""},{"$f":"IF(ISNA(VLOOKUP(B57,Grass_Table,25,FALSE)),\"\",VLOOKUP(B57,Grass_Table,25,FALSE))","v":""},{"$f":"IF(ISNA(VLOOKUP(B57,Grass_Table,28,FALSE)),\"\",VLOOKUP(B57,Grass_Table,28,FALSE))","v":""},{"$f":"IF(ISNA(VLOOKUP(B57,Grass_Table,21,FALSE)),\"\",VLOOKUP(B57,Grass_Table,21,FALSE))","v":""},{"$f":"IF(D58>0,D58,0)","v":""},{"$f":"IF(D57=\"\",IF(E57=\"\",IF(F57=\"\",0,F57/I57*H57),E57*H57),E58*H57)","v":0},{"$f":"IF(ISERROR(VLOOKUP(B57,Grass_Table,32,FALSE)),\"\",VLOOKUP(B57,Grass_Table,32,FALSE))","v":""}]
[null,{"$f":"B57","v":0},{"$f":"IF(ISERROR(VLOOKUP(B57,Grass_Table,30,FALSE)),\"\",VLOOKUP(B57,Grass_Table,30,FALSE))","v":""},{"$f":"IF(E57=\"\",IF(F57=\"\",\"\",F57/$F$285),F58/$F$285)","v":""},{"$f":"IF(D57=\"\",IF(F57=\"\",\"\",F57/I57),J57*D57)","v":""},{"$f":"IF(D57=\"\",IF(E57=\"\",\"\",E57*I57),E58*I57)","v":""},{"$f":"G57","v":""},null,{"$f":"IF(J57=\"Plugs Only\",\"CANNOT USE CALCULATOR FOR SEEDING RATE -- USE PLUGS ONLY\",\"\")","v":""},null,null,null,{"$f":"M57","v":""}]
[23,null,{"$f":"IF(ISERROR(VLOOKUP(B59,Grass_Table,2,FALSE)),\"\",VLOOKUP(B59,Grass_Table,2,FALSE))","v":""},null,null,null,{"$f":"IF(ISNA(VLOOKUP(B59,Grass_Table,31,FALSE)),\"\",VLOOKUP(B59,Grass_Table,31,FALSE))","v":""},{"$f":"IF(ISNA(VLOOKUP(B59,Grass_Table,25,FALSE)),\"\",VLOOKUP(B59,Grass_Table,25,FALSE))","v":""},{"$f":"IF(ISNA(VLOOKUP(B59,Grass_Table,28,FALSE)),\"\",VLOOKUP(B59,Grass_Table,28,FALSE))","v":""},{"$f":"IF(ISNA(VLOOKUP(B59,Grass_Table,21,FALSE)),\"\",VLOOKUP(B59,Grass_Table,21,FALSE))","v":""},{"$f":"IF(D60>0,D60,0)","v":""},{"$f":"IF(D59=\"\",IF(E59=\"\",IF(F59=\"\",0,F59/I59*H59),E59*H59),E60*H59)","v":0},{"$f":"IF(ISERROR(VLOOKUP(B59,Grass_Table,32,FALSE)),\"\",VLOOKUP(B59,Grass_Table,32,FALSE))","v":""}]
[null,{"$f":"B59","v":0},{"$f":"IF(ISERROR(VLOOKUP(B59,Grass_Table,30,FALSE)),\"\",VLOOKUP(B59,Grass_Table,30,FALSE))","v":""},{"$f":"IF(E59=\"\",IF(F59=\"\",\"\",F59/$F$285),F60/$F$285)","v":""},{"$f":"IF(D59=\"\",IF(F59=\"\",\"\",F59/I59),J59*D59)","v":""},{"$f":"IF(D59=\"\",IF(E59=\"\",\"\",E59*I59),E60*I59)","v":""},{"$f":"G59","v":""},null,{"$f":"IF(J59=\"Plugs Only\",\"CANNOT USE CALCULATOR FOR SEEDING RATE -- USE PLUGS ONLY\",\"\")","v":""},null,null,null,{"$f":"M59","v":""}]
[24,null,{"$f":"IF(ISERROR(VLOOKUP(B61,Grass_Table,2,FALSE)),\"\",VLOOKUP(B61,Grass_Table,2,FALSE))","v":""},null,null,null,{"$f":"IF(ISNA(VLOOKUP(B61,Grass_Table,31,FALSE)),\"\",VLOOKUP(B61,Grass_Table,31,FALSE))","v":""},{"$f":"IF(ISNA(VLOOKUP(B61,Grass_Table,25,FALSE)),\"\",VLOOKUP(B61,Grass_Table,25,FALSE))","v":""},{"$f":"IF(ISNA(VLOOKUP(B61,Grass_Table,28,FALSE)),\"\",VLOOKUP(B61,Grass_Table,28,FALSE))","v":""},{"$f":"IF(ISNA(VLOOKUP(B61,Grass_Table,21,FALSE)),\"\",VLOOKUP(B61,Grass_Table,21,FALSE))","v":""},{"$f":"IF(D62>0,D62,0)","v":""},{"$f":"IF(D61=\"\",IF(E61=\"\",IF(F61=\"\",0,F61/I61*H61),E61*H61),E62*H61)","v":0},{"$f":"IF(ISERROR(VLOOKUP(B61,Grass_Table,32,FALSE)),\"\",VLOOKUP(B61,Grass_Table,32,FALSE))","v":""}]
[null,{"$f":"B61","v":0},{"$f":"IF(ISERROR(VLOOKUP(B61,Grass_Table,30,FALSE)),\"\",VLOOKUP(B61,Grass_Table,30,FALSE))","v":""},{"$f":"IF(E61=\"\",IF(F61=\"\",\"\",F61/$F$285),F62/$F$285)","v":""},{"$f":"IF(D61=\"\",IF(F61=\"\",\"\",F61/I61),J61*D61)","v":""},{"$f":"IF(D61=\"\",IF(E61=\"\",\"\",E61*I61),E62*I61)","v":""},{"$f":"G61","v":""},null,{"$f":"IF(J61=\"Plugs Only\",\"CANNOT USE CALCULATOR FOR SEEDING RATE -- USE PLUGS ONLY\",\"\")","v":""},null,null,null,{"$f":"M61","v":""}]
[25,null,{"$f":"IF(ISERROR(VLOOKUP(B63,Grass_Table,2,FALSE)),\"\",VLOOKUP(B63,Grass_Table,2,FALSE))","v":""},null,null,null,{"$f":"IF(ISNA(VLOOKUP(B63,Grass_Table,31,FALSE)),\"\",VLOOKUP(B63,Grass_Table,31,FALSE))","v":""},{"$f":"IF(ISNA(VLOOKUP(B63,Grass_Table,25,FALSE)),\"\",VLOOKUP(B63,Grass_Table,25,FALSE))","v":""},{"$f":"IF(ISNA(VLOOKUP(B63,Grass_Table,28,FALSE)),\"\",VLOOKUP(B63,Grass_Table,28,FALSE))","v":""},{"$f":"IF(ISNA(VLOOKUP(B63,Grass_Table,21,FALSE)),\"\",VLOOKUP(B63,Grass_Table,21,FALSE))","v":""},{"$f":"IF(D64>0,D64,0)","v":""},{"$f":"IF(D63=\"\",IF(E63=\"\",IF(F63=\"\",0,F63/I63*H63),E63*H63),E64*H63)","v":0},{"$f":"IF(ISERROR(VLOOKUP(B63,Grass_Table,32,FALSE)),\"\",VLOOKUP(B63,Grass_Table,32,FALSE))","v":""}]
[null,{"$f":"B63","v":0},{"$f":"IF(ISERROR(VLOOKUP(B63,Grass_Table,30,FALSE)),\"\",VLOOKUP(B63,Grass_Table,30,FALSE))","v":""},{"$f":"IF(E63=\"\",IF(F63=\"\",\"\",F63/$F$285),F64/$F$285)","v":""},{"$f":"IF(D63=\"\",IF(F63=\"\",\"\",F63/I63),J63*D63)","v":""},{"$f":"IF(D63=\"\",IF(E63=\"\",\"\",E63*I63),E64*I63)","v":""},{"$f":"G63","v":""},null,{"$f":"IF(J63=\"Plugs Only\",\"CANNOT USE CALCULATOR FOR SEEDING RATE -- USE PLUGS ONLY\",\"\")","v":""},null,null,null,{"$f":"M63","v":""}]
[26,null,{"$f":"IF(ISERROR(VLOOKUP(B65,Grass_Table,2,FALSE)),\"\",VLOOKUP(B65,Grass_Table,2,FALSE))","v":""},null,null,null,{"$f":"IF(ISNA(VLOOKUP(B65,Grass_Table,31,FALSE)),\"\",VLOOKUP(B65,Grass_Table,31,FALSE))","v":""},{"$f":"IF(ISNA(VLOOKUP(B65,Grass_Table,25,FALSE)),\"\",VLOOKUP(B65,Grass_Table,25,FALSE))","v":""},{"$f":"IF(ISNA(VLOOKUP(B65,Grass_Table,28,FALSE)),\"\",VLOOKUP(B65,Grass_Table,28,FALSE))","v":""},{"$f":"IF(ISNA(VLOOKUP(B65,Grass_Table,21,FALSE)),\"\",VLOOKUP(B65,Grass_Table,21,FALSE))","v":""},{"$f":"IF(D66>0,D66,0)","v":""},{"$f":"IF(D65=\"\",IF(E65=\"\",IF(F65=\"\",0,F65/I65*H65),E65*H65),E66*H65)","v":0},{"$f":"IF(ISERROR(VLOOKUP(B65,Grass_Table,32,FALSE)),\"\",VLOOKUP(B65,Grass_Table,32,FALSE))","v":""}]
[null,{"$f":"B65","v":0},{"$f":"IF(ISERROR(VLOOKUP(B65,Grass_Table,30,FALSE)),\"\",VLOOKUP(B65,Grass_Table,30,FALSE))","v":""},{"$f":"IF(E65=\"\",IF(F65=\"\",\"\",F65/$F$285),F66/$F$285)","v":""},{"$f":"IF(D65=\"\",IF(F65=\"\",\"\",F65/I65),J65*D65)","v":""},{"$f":"IF(D65=\"\",IF(E65=\"\",\"\",E65*I65),E66*I65)","v":""},{"$f":"G65","v":""},null,{"$f":"IF(J65=\"Plugs Only\",\"CANNOT USE CALCULATOR FOR SEEDING RATE -- USE PLUGS ONLY\",\"\")","v":""},null,null,null,{"$f":"M65","v":""}]
[27,null,{"$f":"IF(ISERROR(VLOOKUP(B67,Grass_Table,2,FALSE)),\"\",VLOOKUP(B67,Grass_Table,2,FALSE))","v":""},null,null,null,{"$f":"IF(ISNA(VLOOKUP(B67,Grass_Table,31,FALSE)),\"\",VLOOKUP(B67,Grass_Table,31,FALSE))","v":""},{"$f":"IF(ISNA(VLOOKUP(B67,Grass_Table,25,FALSE)),\"\",VLOOKUP(B67,Grass_Table,25,FALSE))","v":""},{"$f":"IF(ISNA(VLOOKUP(B67,Grass_Table,28,FALSE)),\"\",VLOOKUP(B67,Grass_Table,28,FALSE))","v":""},{"$f":"IF(ISNA(VLOOKUP(B67,Grass_Table,21,FALSE)),\"\",VLOOKUP(B67,Grass_Table,21,FALSE))","v":""},{"$f":"IF(D68>0,D68,0)","v":""},{"$f":"IF(D67=\"\",IF(E67=\"\",IF(F67=\"\",0,F67/I67*H67),E67*H67),E68*H67)","v":0},{"$f":"IF(ISERROR(VLOOKUP(B67,Grass_Table,32,FALSE)),\"\",VLOOKUP(B67,Grass_Table,32,FALSE))","v":""}]
[null,{"$f":"B67","v":0},{"$f":"IF(ISERROR(VLOOKUP(B67,Grass_Table,30,FALSE)),\"\",VLOOKUP(B67,Grass_Table,30,FALSE))","v":""},{"$f":"IF(E67=\"\",IF(F67=\"\",\"\",F67/$F$285),F68/$F$285)","v":""},{"$f":"IF(D67=\"\",IF(F67=\"\",\"\",F67/I67),J67*D67)","v":""},{"$f":"IF(D67=\"\",IF(E67=\"\",\"\",E67*I67),E68*I67)","v":""},{"$f":"G67","v":""},null,{"$f":"IF(J67=\"Plugs Only\",\"CANNOT USE CALCULATOR FOR SEEDING RATE -- USE PLUGS ONLY\",\"\")","v":""},null,null,null,{"$f":"M67","v":""}]
[28,null,{"$f":"IF(ISERROR(VLOOKUP(B69,Grass_Table,2,FALSE)),\"\",VLOOKUP(B69,Grass_Table,2,FALSE))","v":""},null,null,null,{"$f":"IF(ISNA(VLOOKUP(B69,Grass_Table,31,FALSE)),\"\",VLOOKUP(B69,Grass_Table,31,FALSE))","v":""},{"$f":"IF(ISNA(VLOOKUP(B69,Grass_Table,25,FALSE)),\"\",VLOOKUP(B69,Grass_Table,25,FALSE))","v":""},{"$f":"IF(ISNA(VLOOKUP(B69,Grass_Table,28,FALSE)),\"\",VLOOKUP(B69,Grass_Table,28,FALSE))","v":""},{"$f":"IF(ISNA(VLOOKUP(B69,Grass_Table,21,FALSE)),\"\",VLOOKUP(B69,Grass_Table,21,FALSE))","v":""},{"$f":"IF(D70>0,D70,0)","v":""},{"$f":"IF(D69=\"\",IF(E69=\"\",IF(F69=\"\",0,F69/I69*H69),E69*H69),E70*H69)","v":0},{"$f":"IF(ISERROR(VLOOKUP(B69,Grass_Table,32,FALSE)),\"\",VLOOKUP(B69,Grass_Table,32,FALSE))","v":""}]
[null,{"$f":"B69","v":0},{"$f":"IF(ISERROR(VLOOKUP(B69,Grass_Table,30,FALSE)),\"\",VLOOKUP(B69,Grass_Table,30,FALSE))","v":""},{"$f":"IF(E69=\"\",IF(F69=\"\",\"\",F69/$F$285),F70/$F$285)","v":""},{"$f":"IF(D69=\"\",IF(F69=\"\",\"\",F69/I69),J69*D69)","v":""},{"$f":"IF(D69=\"\",IF(E69=\"\",\"\",E69*I69),E70*I69)","v":""},{"$f":"G69","v":""},null,{"$f":"IF(J69=\"Plugs Only\",\"CANNOT USE CALCULATOR FOR SEEDING RATE -- USE PLUGS ONLY\",\"\")","v":""},null,null,null,{"$f":"M69","v":""}]
[29,null,{"$f":"IF(ISERROR(VLOOKUP(B71,Grass_Table,2,FALSE)),\"\",VLOOKUP(B71,Grass_Table,2,FALSE))","v":""},null,null,null,{"$f":"IF(ISNA(VLOOKUP(B71,Grass_Table,31,FALSE)),\"\",VLOOKUP(B71,Grass_Table,31,FALSE))","v":""},{"$f":"IF(ISNA(VLOOKUP(B71,Grass_Table,25,FALSE)),\"\",VLOOKUP(B71,Grass_Table,25,FALSE))","v":""},{"$f":"IF(ISNA(VLOOKUP(B71,Grass_Table,28,FALSE)),\"\",VLOOKUP(B71,Grass_Table,28,FALSE))","v":""},{"$f":"IF(ISNA(VLOOKUP(B71,Grass_Table,21,FALSE)),\"\",VLOOKUP(B71,Grass_Table,21,FALSE))","v":""},{"$f":"IF(D72>0,D72,0)","v":""},{"$f":"IF(D71=\"\",IF(E71=\"\",IF(F71=\"\",0,F71/I71*H71),E71*H71),E72*H71)","v":0},{"$f":"IF(ISERROR(VLOOKUP(B71,Grass_Table,32,FALSE)),\"\",VLOOKUP(B71,Grass_Table,32,FALSE))","v":""}]
[null,{"$f":"B71","v":0},{"$f":"IF(ISERROR(VLOOKUP(B71,Grass_Table,30,FALSE)),\"\",VLOOKUP(B71,Grass_Table,30,FALSE))","v":""},{"$f":"IF(E71=\"\",IF(F71=\"\",\"\",F71/$F$285),F72/$F$285)","v":""},{"$f":"IF(D71=\"\",IF(F71=\"\",\"\",F71/I71),J71*D71)","v":""},{"$f":"IF(D71=\"\",IF(E71=\"\",\"\",E71*I71),E72*I71)","v":""},{"$f":"G71","v":""},null,{"$f":"IF(J71=\"Plugs Only\",\"CANNOT USE CALCULATOR FOR SEEDING RATE -- USE PLUGS ONLY\",\"\")","v":""},null,null,null,{"$f":"M71","v":""}]
[30,null,{"$f":"IF(ISERROR(VLOOKUP(B73,Grass_Table,2,FALSE)),\"\",VLOOKUP(B73,Grass_Table,2,FALSE))","v":""},null,null,null,{"$f":"IF(ISNA(VLOOKUP(B73,Grass_Table,31,FALSE)),\"\",VLOOKUP(B73,Grass_Table,31,FALSE))","v":""},{"$f":"IF(ISNA(VLOOKUP(B73,Grass_Table,25,FALSE)),\"\",VLOOKUP(B73,Grass_Table,25,FALSE))","v":""},{"$f":"IF(ISNA(VLOOKUP(B73,Grass_Table,28,FALSE)),\"\",VLOOKUP(B73,Grass_Table,28,FALSE))","v":""},{"$f":"IF(ISNA(VLOOKUP(B73,Grass_Table,21,FALSE)),\"\",VLOOKUP(B73,Grass_Table,21,FALSE))","v":""},{"$f":"IF(D74>0,D74,0)","v":""},{"$f":"IF(D73=\"\",IF(E73=\"\",IF(F73=\"\",0,F73/I73*H73),E73*H73),E74*H73)","v":0},{"$f":"IF(ISERROR(VLOOKUP(B73,Grass_Table,32,FALSE)),\"\",VLOOKUP(B73,Grass_Table,32,FALSE))","v":""}]
[null,{"$f":"B73","v":0},{"$f":"IF(ISERROR(VLOOKUP(B73,Grass_Table,30,FALSE)),\"\",VLOOKUP(B73,Grass_Table,30,FALSE))","v":""},{"$f":"IF(E73=\"\",IF(F73=\"\",\"\",F73/$F$285),F74/$F$285)","v":""},{"$f":"IF(D73=\"\",IF(F73=\"\",\"\",F73/I73),J73*D73)","v":""},{"$f":"IF(D73=\"\",IF(E73=\"\",\"\",E73*I73),E74*I73)","v":""},{"$f":"G73","v":""},null,{"$f":"IF(J73=\"Plugs Only\",\"CANNOT USE CALCULATOR FOR SEEDING RATE -- USE PLUGS ONLY\",\"\")","v":""},null,null,null,{"$f":"M73","v":""}]
[null,null,"Species Richness",null,"lbs / acre PLS","seeds / ft2 PLS","Average CC"]
[null,null,null,"% of mix"]
[null,"GRAMINOID TOTAL  ",{"$f":"COUNT(F15:F74)","v":0},{"$f":"IF(SUM(D15:D74)>1,\"> 100%\",SUM(D15:D74))","v":0},{"$f":"SUM(E15:E74)","v":0},{"$f":"SUM(F15:F74)","v":0},{"$f":"IF(ISERROR(AVERAGE(G15:G74)),0,AVERAGE(G15:G74))","v":0},null,null,null,null,null,null,null,null,null,null,null,null,null,null,null,null,"Mesic (medium)"]
[]
[]
[null,"CHOOSE YOUR FORBS/LEGUMES"]
[null,"Common Name","Scientific Name",null,"Lbs / acre PLS","Seeds / ft2 PLS","Coefficient of Conservatism","Estimated Cost ($/lb)","# Seeds / ft2","Pure Stand PLS Rate       lbs / ac","% of Mix","Estimated Cost ($/ac)"]
[null,null,"Flowering Period","Equivalent rate below",null,null,null,null,"@ 1 lb. / ac",null,null,null,"Functional Group"]
[1,null,{"$f":"IF(ISERROR(VLOOKUP(B83,Forb_Table,2,FALSE)),\"\",VLOOKUP(B83,Forb_Table,2,FALSE))","v":""},null,null,null,{"$f":"IF(ISNA(VLOOKUP(B83,Forb_Table,31,FALSE)),\"\",VLOOKUP(B83,Forb_Table,31,FALSE))","v":""},{"$f":"IF(ISNA(VLOOKUP(B83,Forb_Table,25,FALSE)),\"\",VLOOKUP(B83,Forb_Table,25,FALSE))","v":""},{"$f":"IF(ISNA(VLOOKUP(B83,Forb_Table,28,FALSE)),\"\",VLOOKUP(B83,Forb_Table,28,FALSE))","v":""},{"$f":"IF(ISNA(VLOOKUP(B83,Forb_Table,21,FALSE)),\"\",VLOOKUP(B83,Forb_Table,21,FALSE))","v":""},{"$f":"IF(D84>0,D84,0)","v":""},{"$f":"IF(D83=\"\",IF(E83=\"\",IF(F83=\"\",0,F83/I83*H83),E83*H83),E84*H83)","v":0},{"$f":"IF(ISNA(VLOOKUP(B83,Forb_Table,32,FALSE)),\"\",VLOOKUP(B83,Forb_Table,32,FALSE))","v":""},{"$f":"IFERROR(VLOOKUP(B83,Monarch_ForbTable,34,FALSE),\"\")","v":""},null,null,null,null,null,null,null,null,null,"1",null,"Alumroot"]
[null,{"$f":"C83","v":""},{"$f":"IF(ISERROR(VLOOKUP(B83,Forb_Table,30,FALSE)),\"\",VLOOKUP(B83,Forb_Table,30,FALSE))","v":""},{"$f":"IF(E83=\"\",IF(F83=\"\",\"\",F83/$F$285),F84/$F$285)","v":""},{"$f":"IF(D83=\"\",IF(F83=\"\",\"\",F83/I83),J83*D83)","v":""},{"$f":"IF(D83=\"\",IF(E83=\"\",\"\",E83*I83),E84*I83)","v":""},{"$f":"G83","v":""},null,null,null,null,null,{"$f":"M83","v":""},{"$f":"IFERROR(VLOOKUP(B84,Monarch_ForbSciNameTable,33,FALSE),\"\")","v":""}]
[2,null,{"$f":"IF(ISERROR(VLOOKUP(B85,Forb_Table,2,FALSE)),\"\",VLOOKUP(B85,Forb_Table,2,FALSE))","v":""},null,null,null,{"$f":"IF(ISNA(VLOOKUP(B85,Forb_Table,31,FALSE)),\"\",VLOOKUP(B85,Forb_Table,31,FALSE))","v":""},{"$f":"IF(ISNA(VLOOKUP(B85,Forb_Table,25,FALSE)),\"\",VLOOKUP(B85,Forb_Table,25,FALSE))","v":""},{"$f":"IF(ISNA(VLOOKUP(B85,Forb_Table,28,FALSE)),\"\",VLOOKUP(B85,Forb_Table,28,FALSE))","v":""},{"$f":"IF(ISNA(VLOOKUP(B85,Forb_Table,21,FALSE)),\"\",VLOOKUP(B85,Forb_Table,21,FALSE))","v":""},{"$f":"IF(D86>0,D86,0)","v":""},{"$f":"IF(D85=\"\",IF(E85=\"\",IF(F85=\"\",0,F85/I85*H85),E85*H85),E86*H85)","v":0},{"$f":"IF(ISNA(VLOOKUP(B85,Forb_Table,32,FALSE)),\"\",VLOOKUP(B85,Forb_Table,32,FALSE))","v":""},{"$f":"IFERROR(VLOOKUP(B85,Monarch_ForbTable,34,FALSE),\"\")","v":""},null,null,null,null,null,null,null,null,null,"1"]
[null,{"$f":"C85","v":""},{"$f":"IF(ISERROR(VLOOKUP(B85,Forb_Table,30,FALSE)),\"\",VLOOKUP(B85,Forb_Table,30,FALSE))","v":""},{"$f":"IF(E85=\"\",IF(F85=\"\",\"\",F85/$F$285),F86/$F$285)","v":""},{"$f":"IF(D85=\"\",IF(F85=\"\",\"\",F85/I85),J85*D85)","v":""},{"$f":"IF(D85=\"\",IF(E85=\"\",\"\",E85*I85),E86*I85)","v":""},{"$f":"G85","v":""},null,null,null,null,null,{"$f":"M85","v":""},{"$f":"IFERROR(VLOOKUP(B86,Monarch_ForbSciNameTable,33,FALSE),\"\")","v":""}]
[3,null,{"$f":"IF(ISERROR(VLOOKUP(B87,Forb_Table,2,FALSE)),\"\",VLOOKUP(B87,Forb_Table,2,FALSE))","v":""},null,null,null,{"$f":"IF(ISNA(VLOOKUP(B87,Forb_Table,31,FALSE)),\"\",VLOOKUP(B87,Forb_Table,31,FALSE))","v":""},{"$f":"IF(ISNA(VLOOKUP(B87,Forb_Table,25,FALSE)),\"\",VLOOKUP(B87,Forb_Table,25,FALSE))","v":""},{"$f":"IF(ISNA(VLOOKUP(B87,Forb_Table,28,FALSE)),\"\",VLOOKUP(B87,Forb_Table,28,FALSE))","v":""},{"$f":"IF(ISNA(VLOOKUP(B87,Forb_Table,21,FALSE)),\"\",VLOOKUP(B87,Forb_Table,21,FALSE))","v":""},{"$f":"IF(D88>0,D88,0)","v":""},{"$f":"IF(D87=\"\",IF(E87=\"\",IF(F87=\"\",0,F87/I87*H87),E87*H87),E88*H87)","v":0},{"$f":"IF(ISNA(VLOOKUP(B87,Forb_Table,32,FALSE)),\"\",VLOOKUP(B87,Forb_Table,32,FALSE))","v":""},{"$f":"IFERROR(VLOOKUP(B87,Monarch_ForbTable,34,FALSE),\"\")","v":""},null,null,null,null,null,null,null,null,null,"1"]
[null,{"$f":"C87","v":""},{"$f":"IF(ISERROR(VLOOKUP(B87,Forb_Table,30,FALSE)),\"\",VLOOKUP(B87,Forb_Table,30,FALSE))","v":""},{"$f":"IF(E87=\"\",IF(F87=\"\",\"\",F87/$F$285),F88/$F$285)","v":""},{"$f":"IF(D87=\"\",IF(F87=\"\",\"\",F87/I87),J87*D87)","v":""},{"$f":"IF(D87=\"\",IF(E87=\"\",\"\",E87*I87),E88*I87)","v":""},{"$f":"G87","v":""},null,null,null,null,null,{"$f":"M87","v":""},{"$f":"IFERROR(VLOOKUP(B88,Monarch_ForbSciNameTable,33,FALSE),\"\")","v":""}]
[4,null,{"$f":"IF(ISERROR(VLOOKUP(B89,Forb_Table,2,FALSE)),\"\",VLOOKUP(B89,Forb_Table,2,FALSE))","v":""},null,null,null,{"$f":"IF(ISNA(VLOOKUP(B89,Forb_Table,31,FALSE)),\"\",VLOOKUP(B89,Forb_Table,31,FALSE))","v":""},{"$f":"IF(ISNA(VLOOKUP(B89,Forb_Table,25,FALSE)),\"\",VLOOKUP(B89,Forb_Table,25,FALSE))","v":""},{"$f":"IF(ISNA(VLOOKUP(B89,Forb_Table,28,FALSE)),\"\",VLOOKUP(B89,Forb_Table,28,FALSE))","v":""},{"$f":"IF(ISNA(VLOOKUP(B89,Forb_Table,21,FALSE)),\"\",VLOOKUP(B89,Forb_Table,21,FALSE))","v":""},{"$f":"IF(D90>0,D90,0)","v":""},{"$f":"IF(D89=\"\",IF(E89=\"\",IF(F89=\"\",0,F89/I89*H89),E89*H89),E90*H89)","v":0},{"$f":"IF(ISNA(VLOOKUP(B89,Forb_Table,32,FALSE)),\"\",VLOOKUP(B89,Forb_Table,32,FALSE))","v":""},{"$f":"IFERROR(VLOOKUP(B89,Monarch_ForbTable,34,FALSE),\"\")","v":""},null,null,null,null,null,null,null,null,null,"1"]
[null,{"$f":"C89","v":""},{"$f":"IF(ISERROR(VLOOKUP(B89,Forb_Table,30,FALSE)),\"\",VLOOKUP(B89,Forb_Table,30,FALSE))","v":""},{"$f":"IF(E89=\"\",IF(F89=\"\",\"\",F89/$F$285),F90/$F$285)","v":""},{"$f":"IF(D89=\"\",IF(F89=\"\",\"\",F89/I89),J89*D89)","v":""},{"$f":"IF(D89=\"\",IF(E89=\"\",\"\",E89*I89),E90*I89)","v":""},{"$f":"G89","v":""},null,null,null,null,null,{"$f":"M89","v":""},{"$f":"IFERROR(VLOOKUP(B90,Monarch_ForbSciNameTable,33,FALSE),\"\")","v":""}]
[5,null,{"$f":"IF(ISERROR(VLOOKUP(B91,Forb_Table,2,FALSE)),\"\",VLOOKUP(B91,Forb_Table,2,FALSE))","v":""},null,null,null,{"$f":"IF(ISNA(VLOOKUP(B91,Forb_Table,31,FALSE)),\"\",VLOOKUP(B91,Forb_Table,31,FALSE))","v":""},{"$f":"IF(ISNA(VLOOKUP(B91,Forb_Table,25,FALSE)),\"\",VLOOKUP(B91,Forb_Table,25,FALSE))","v":""},{"$f":"IF(ISNA(VLOOKUP(B91,Forb_Table,28,FALSE)),\"\",VLOOKUP(B91,Forb_Table,28,FALSE))","v":""},{"$f":"IF(ISNA(VLOOKUP(B91,Forb_Table,21,FALSE)),\"\",VLOOKUP(B91,Forb_Table,21,FALSE))","v":""},{"$f":"IF(D92>0,D92,0)","v":""},{"$f":"IF(D91=\"\",IF(E91=\"\",IF(F91=\"\",0,F91/I91*H91),E91*H91),E92*H91)","v":0},{"$f":"IF(ISNA(VLOOKUP(B91,Forb_Table,32,FALSE)),\"\",VLOOKUP(B91,Forb_Table,32,FALSE))","v":""},{"$f":"IFERROR(VLOOKUP(B91,Monarch_ForbTable,34,FALSE),\"\")","v":""},null,null,null,null,null,null,null,null,null,"1"]
[null,{"$f":"C91","v":""},{"$f":"IF(ISERROR(VLOOKUP(B91,Forb_Table,30,FALSE)),\"\",VLOOKUP(B91,Forb_Table,30,FALSE))","v":""},{"$f":"IF(E91=\"\",IF(F91=\"\",\"\",F91/$F$285),F92/$F$285)","v":""},{"$f":"IF(D91=\"\",IF(F91=\"\",\"\",F91/I91),J91*D91)","v":""},{"$f":"IF(D91=\"\",IF(E91=\"\",\"\",E91*I91),E92*I91)","v":""},{"$f":"G91","v":""},null,null,null,null,null,{"$f":"M91","v":""},{"$f":"IFERROR(VLOOKUP(B92,Monarch_ForbSciNameTable,33,FALSE),\"\")","v":""}]
[6,null,{"$f":"IF(ISERROR(VLOOKUP(B93,Forb_Table,2,FALSE)),\"\",VLOOKUP(B93,Forb_Table,2,FALSE))","v":""},null,null,null,{"$f":"IF(ISNA(VLOOKUP(B93,Forb_Table,31,FALSE)),\"\",VLOOKUP(B93,Forb_Table,31,FALSE))","v":""},{"$f":"IF(ISNA(VLOOKUP(B93,Forb_Table,25,FALSE)),\"\",VLOOKUP(B93,Forb_Table,25,FALSE))","v":""},{"$f":"IF(ISNA(VLOOKUP(B93,Forb_Table,28,FALSE)),\"\",VLOOKUP(B93,Forb_Table,28,FALSE))","v":""},{"$f":"IF(ISNA(VLOOKUP(B93,Forb_Table,21,FALSE)),\"\",VLOOKUP(B93,Forb_Table,21,FALSE))","v":""},{"$f":"IF(D94>0,D94,0)","v":""},{"$f":"IF(D93=\"\",IF(E93=\"\",IF(F93=\"\",0,F93/I93*H93),E93*H93),E94*H93)","v":0},{"$f":"IF(ISNA(VLOOKUP(B93,Forb_Table,32,FALSE)),\"\",VLOOKUP(B93,Forb_Table,32,FALSE))","v":""},{"$f":"IFERROR(VLOOKUP(B93,Monarch_ForbTable,34,FALSE),\"\")","v":""},null,null,null,null,null,null,null,null,null,"1"]
[null,{"$f":"C93","v":""},{"$f":"IF(ISERROR(VLOOKUP(B93,Forb_Table,30,FALSE)),\"\",VLOOKUP(B93,Forb_Table,30,FALSE))","v":""},{"$f":"IF(E93=\"\",IF(F93=\"\",\"\",F93/$F$285),F94/$F$285)","v":""},{"$f":"IF(D93=\"\",IF(F93=\"\",\"\",F93/I93),J93*D93)","v":""},{"$f":"IF(D93=\"\",IF(E93=\"\",\"\",E93*I93),E94*I93)","v":""},{"$f":"G93","v":""},null,null,null,null,null,{"$f":"M93","v":""},{"$f":"IFERROR(VLOOKUP(B94,Monarch_ForbSciNameTable,33,FALSE),\"\")","v":""}]
[7,null,{"$f":"IF(ISERROR(VLOOKUP(B95,Forb_Table,2,FALSE)),\"\",VLOOKUP(B95,Forb_Table,2,FALSE))","v":""},null,null,null,{"$f":"IF(ISNA(VLOOKUP(B95,Forb_Table,31,FALSE)),\"\",VLOOKUP(B95,Forb_Table,31,FALSE))","v":""},{"$f":"IF(ISNA(VLOOKUP(B95,Forb_Table,25,FALSE)),\"\",VLOOKUP(B95,Forb_Table,25,FALSE))","v":""},{"$f":"IF(ISNA(VLOOKUP(B95,Forb_Table,28,FALSE)),\"\",VLOOKUP(B95,Forb_Table,28,FALSE))","v":""},{"$f":"IF(ISNA(VLOOKUP(B95,Forb_Table,21,FALSE)),\"\",VLOOKUP(B95,Forb_Table,21,FALSE))","v":""},{"$f":"IF(D96>0,D96,0)","v":""},{"$f":"IF(D95=\"\",IF(E95=\"\",IF(F95=\"\",0,F95/I95*H95),E95*H95),E96*H95)","v":0},{"$f":"IF(ISNA(VLOOKUP(B95,Forb_Table,32,FALSE)),\"\",VLOOKUP(B95,Forb_Table,32,FALSE))","v":""},{"$f":"IFERROR(VLOOKUP(B95,Monarch_ForbTable,34,FALSE),\"\")","v":""},null,null,null,null,null,null,null,null,null,"1"]
[null,{"$f":"C95","v":""},{"$f":"IF(ISERROR(VLOOKUP(B95,Forb_Table,30,FALSE)),\"\",VLOOKUP(B95,Forb_Table,30,FALSE))","v":""},{"$f":"IF(E95=\"\",IF(F95=\"\",\"\",F95/$F$285),F96/$F$285)","v":""},{"$f":"IF(D95=\"\",IF(F95=\"\",\"\",F95/I95),J95*D95)","v":""},{"$f":"IF(D95=\"\",IF(E95=\"\",\"\",E95*I95),E96*I95)","v":""},{"$f":"G95","v":""},null,null,null,null,null,{"$f":"M95","v":""},{"$f":"IFERROR(VLOOKUP(B96,Monarch_ForbSciNameTable,33,FALSE),\"\")","v":""}]
[8,null,{"$f":"IF(ISERROR(VLOOKUP(B97,Forb_Table,2,FALSE)),\"\",VLOOKUP(B97,Forb_Table,2,FALSE))","v":""},null,null,null,{"$f":"IF(ISNA(VLOOKUP(B97,Forb_Table,31,FALSE)),\"\",VLOOKUP(B97,Forb_Table,31,FALSE))","v":""},{"$f":"IF(ISNA(VLOOKUP(B97,Forb_Table,25,FALSE)),\"\",VLOOKUP(B97,Forb_Table,25,FALSE))","v":""},{"$f":"IF(ISNA(VLOOKUP(B97,Forb_Table,28,FALSE)),\"\",VLOOKUP(B97,Forb_Table,28,FALSE))","v":""},{"$f":"IF(ISNA(VLOOKUP(B97,Forb_Table,21,FALSE)),\"\",VLOOKUP(B97,Forb_Table,21,FALSE))","v":""},{"$f":"IF(D98>0,D98,0)","v":""},{"$f":"IF(D97=\"\",IF(E97=\"\",IF(F97=\"\",0,F97/I97*H97),E97*H97),E98*H97)","v":0},{"$f":"IF(ISNA(VLOOKUP(B97,Forb_Table,32,FALSE)),\"\",VLOOKUP(B97,Forb_Table,32,FALSE))","v":""},{"$f":"IFERROR(VLOOKUP(B97,Monarch_ForbTable,34,FALSE),\"\")","v":""},null,null,null,null,null,null,null,null,null,"1"]
[null,{"$f":"C97","v":""},{"$f":"IF(ISERROR(VLOOKUP(B97,Forb_Table,30,FALSE)),\"\",VLOOKUP(B97,Forb_Table,30,FALSE))","v":""},{"$f":"IF(E97=\"\",IF(F97=\"\",\"\",F97/$F$285),F98/$F$285)","v":""},{"$f":"IF(D97=\"\",IF(F97=\"\",\"\",F97/I97),J97*D97)","v":""},{"$f":"IF(D97=\"\",IF(E97=\"\",\"\",E97*I97),E98*I97)","v":""},{"$f":"G97","v":""},null,null,null,null,null,{"$f":"M97","v":""},{"$f":"IFERROR(VLOOKUP(B98,Monarch_ForbSciNameTable,33,FALSE),\"\")","v":""}]
[9,null,{"$f":"IF(ISERROR(VLOOKUP(B99,Forb_Table,2,FALSE)),\"\",VLOOKUP(B99,Forb_Table,2,FALSE))","v":""},null,null,null,{"$f":"IF(ISNA(VLOOKUP(B99,Forb_Table,31,FALSE)),\"\",VLOOKUP(B99,Forb_Table,31,FALSE))","v":""},{"$f":"IF(ISNA(VLOOKUP(B99,Forb_Table,25,FALSE)),\"\",VLOOKUP(B99,Forb_Table,25,FALSE))","v":""},{"$f":"IF(ISNA(VLOOKUP(B99,Forb_Table,28,FALSE)),\"\",VLOOKUP(B99,Forb_Table,28,FALSE))","v":""},{"$f":"IF(ISNA(VLOOKUP(B99,Forb_Table,21,FALSE)),\"\",VLOOKUP(B99,Forb_Table,21,FALSE))","v":""},{"$f":"IF(D100>0,D100,0)","v":""},{"$f":"IF(D99=\"\",IF(E99=\"\",IF(F99=\"\",0,F99/I99*H99),E99*H99),E100*H99)","v":0},{"$f":"IF(ISNA(VLOOKUP(B99,Forb_Table,32,FALSE)),\"\",VLOOKUP(B99,Forb_Table,32,FALSE))","v":""},{"$f":"IFERROR(VLOOKUP(B99,Monarch_ForbTable,34,FALSE),\"\")","v":""},null,null,null,null,null,null,null,null,null,"1"]
[null,{"$f":"C99","v":""},{"$f":"IF(ISERROR(VLOOKUP(B99,Forb_Table,30,FALSE)),\"\",VLOOKUP(B99,Forb_Table,30,FALSE))","v":""},{"$f":"IF(E99=\"\",IF(F99=\"\",\"\",F99/$F$285),F100/$F$285)","v":""},{"$f":"IF(D99=\"\",IF(F99=\"\",\"\",F99/I99),J99*D99)","v":""},{"$f":"IF(D99=\"\",IF(E99=\"\",\"\",E99*I99),E100*I99)","v":""},{"$f":"G99","v":""},null,null,null,null,null,{"$f":"M99","v":""},{"$f":"IFERROR(VLOOKUP(B100,Monarch_ForbSciNameTable,33,FALSE),\"\")","v":""}]
[10,null,{"$f":"IF(ISERROR(VLOOKUP(B101,Forb_Table,2,FALSE)),\"\",VLOOKUP(B101,Forb_Table,2,FALSE))","v":""},null,null,null,{"$f":"IF(ISNA(VLOOKUP(B101,Forb_Table,31,FALSE)),\"\",VLOOKUP(B101,Forb_Table,31,FALSE))","v":""},{"$f":"IF(ISNA(VLOOKUP(B101,Forb_Table,25,FALSE)),\"\",VLOOKUP(B101,Forb_Table,25,FALSE))","v":""},{"$f":"IF(ISNA(VLOOKUP(B101,Forb_Table,28,FALSE)),\"\",VLOOKUP(B101,Forb_Table,28,FALSE))","v":""},{"$f":"IF(ISNA(VLOOKUP(B101,Forb_Table,21,FALSE)),\"\",VLOOKUP(B101,Forb_Table,21,FALSE))","v":""},{"$f":"IF(D102>0,D102,0)","v":""},{"$f":"IF(D101=\"\",IF(E101=\"\",IF(F101=\"\",0,F101/I101*H101),E101*H101),E102*H101)","v":0},{"$f":"IF(ISNA(VLOOKUP(B101,Forb_Table,32,FALSE)),\"\",VLOOKUP(B101,Forb_Table,32,FALSE))","v":""},{"$f":"IFERROR(VLOOKUP(B101,Monarch_ForbTable,34,FALSE),\"\")","v":""},null,null,null,null,null,null,null,null,null,"1"]
[null,{"$f":"C101","v":""},{"$f":"IF(ISERROR(VLOOKUP(B101,Forb_Table,30,FALSE)),\"\",VLOOKUP(B101,Forb_Table,30,FALSE))","v":""},{"$f":"IF(E101=\"\",IF(F101=\"\",\"\",F101/$F$285),F102/$F$285)","v":""},{"$f":"IF(D101=\"\",IF(F101=\"\",\"\",F101/I101),J101*D101)","v":""},{"$f":"IF(D101=\"\",IF(E101=\"\",\"\",E101*I101),E102*I101)","v":""},{"$f":"G101","v":""},null,null,null,null,null,{"$f":"M101","v":""},{"$f":"IFERROR(VLOOKUP(B102,Monarch_ForbSciNameTable,33,FALSE),\"\")","v":""}]
[11,null,{"$f":"IF(ISERROR(VLOOKUP(B103,Forb_Table,2,FALSE)),\"\",VLOOKUP(B103,Forb_Table,2,FALSE))","v":""},null,null,null,{"$f":"IF(ISNA(VLOOKUP(B103,Forb_Table,31,FALSE)),\"\",VLOOKUP(B103,Forb_Table,31,FALSE))","v":""},{"$f":"IF(ISNA(VLOOKUP(B103,Forb_Table,25,FALSE)),\"\",VLOOKUP(B103,Forb_Table,25,FALSE))","v":""},{"$f":"IF(ISNA(VLOOKUP(B103,Forb_Table,28,FALSE)),\"\",VLOOKUP(B103,Forb_Table,28,FALSE))","v":""},{"$f":"IF(ISNA(VLOOKUP(B103,Forb_Table,21,FALSE)),\"\",VLOOKUP(B103,Forb_Table,21,FALSE))","v":""},{"$f":"IF(D104>0,D104,0)","v":""},{"$f":"IF(D103=\"\",IF(E103=\"\",IF(F103=\"\",0,F103/I103*H103),E103*H103),E104*H103)","v":0},{"$f":"IF(ISNA(VLOOKUP(B103,Forb_Table,32,FALSE)),\"\",VLOOKUP(B103,Forb_Table,32,FALSE))","v":""},{"$f":"IFERROR(VLOOKUP(B103,Monarch_ForbTable,34,FALSE),\"\")","v":""},null,null,null,null,null,null,null,null,null,"1"]
[null,{"$f":"C103","v":""},{"$f":"IF(ISERROR(VLOOKUP(B103,Forb_Table,30,FALSE)),\"\",VLOOKUP(B103,Forb_Table,30,FALSE))","v":""},{"$f":"IF(E103=\"\",IF(F103=\"\",\"\",F103/$F$285),F104/$F$285)","v":""},{"$f":"IF(D103=\"\",IF(F103=\"\",\"\",F103/I103),J103*D103)","v":""},{"$f":"IF(D103=\"\",IF(E103=\"\",\"\",E103*I103),E104*I103)","v":""},{"$f":"G103","v":""},null,null,null,null,null,{"$f":"M103","v":""},{"$f":"IFERROR(VLOOKUP(B104,Monarch_ForbSciNameTable,33,FALSE),\"\")","v":""}]
[12,null,{"$f":"IF(ISERROR(VLOOKUP(B105,Forb_Table,2,FALSE)),\"\",VLOOKUP(B105,Forb_Table,2,FALSE))","v":""},null,null,null,{"$f":"IF(ISNA(VLOOKUP(B105,Forb_Table,31,FALSE)),\"\",VLOOKUP(B105,Forb_Table,31,FALSE))","v":""},{"$f":"IF(ISNA(VLOOKUP(B105,Forb_Table,25,FALSE)),\"\",VLOOKUP(B105,Forb_Table,25,FALSE))","v":""},{"$f":"IF(ISNA(VLOOKUP(B105,Forb_Table,28,FALSE)),\"\",VLOOKUP(B105,Forb_Table,28,FALSE))","v":""},{"$f":"IF(ISNA(VLOOKUP(B105,Forb_Table,21,FALSE)),\"\",VLOOKUP(B105,Forb_Table,21,FALSE))","v":""},{"$f":"IF(D106>0,D106,0)","v":""},{"$f":"IF(D105=\"\",IF(E105=\"\",IF(F105=\"\",0,F105/I105*H105),E105*H105),E106*H105)","v":0},{"$f":"IF(ISNA(VLOOKUP(B105,Forb_Table,32,FALSE)),\"\",VLOOKUP(B105,Forb_Table,32,FALSE))","v":""},{"$f":"IFERROR(VLOOKUP(B105,Monarch_ForbTable,34,FALSE),\"\")","v":""},null,null,null,null,null,null,null,null,null,"1"]
[null,{"$f":"C105","v":""},{"$f":"IF(ISERROR(VLOOKUP(B105,Forb_Table,30,FALSE)),\"\",VLOOKUP(B105,Forb_Table,30,FALSE))","v":""},{"$f":"IF(E105=\"\",IF(F105=\"\",\"\",F105/$F$285),F106/$F$285)","v":""},{"$f":"IF(D105=\"\",IF(F105=\"\",\"\",F105/I105),J105*D105)","v":""},{"$f":"IF(D105=\"\",IF(E105=\"\",\"\",E105*I105),E106*I105)","v":""},{"$f":"G105","v":""},null,null,null,null,null,{"$f":"M105","v":""},{"$f":"IFERROR(VLOOKUP(B106,Monarch_ForbSciNameTable,33,FALSE),\"\")","v":""}]
[13,null,{"$f":"IF(ISERROR(VLOOKUP(B107,Forb_Table,2,FALSE)),\"\",VLOOKUP(B107,Forb_Table,2,FALSE))","v":""},null,null,null,{"$f":"IF(ISNA(VLOOKUP(B107,Forb_Table,31,FALSE)),\"\",VLOOKUP(B107,Forb_Table,31,FALSE))","v":""},{"$f":"IF(ISNA(VLOOKUP(B107,Forb_Table,25,FALSE)),\"\",VLOOKUP(B107,Forb_Table,25,FALSE))","v":""},{"$f":"IF(ISNA(VLOOKUP(B107,Forb_Table,28,FALSE)),\"\",VLOOKUP(B107,Forb_Table,28,FALSE))","v":""},{"$f":"IF(ISNA(VLOOKUP(B107,Forb_Table,21,FALSE)),\"\",VLOOKUP(B107,Forb_Table,21,FALSE))","v":""},{"$f":"IF(D108>0,D108,0)","v":""},{"$f":"IF(D107=\"\",IF(E107=\"\",IF(F107=\"\",0,F107/I107*H107),E107*H107),E108*H107)","v":0},{"$f":"IF(ISNA(VLOOKUP(B107,Forb_Table,32,FALSE)),\"\",VLOOKUP(B107,Forb_Table,32,FALSE))","v":""},{"$f":"IFERROR(VLOOKUP(B107,Monarch_ForbTable,34,FALSE),\"\")","v":""},null,null,null,null,null,null,null,null,null,"1"]
[null,{"$f":"C107","v":""},{"$f":"IF(ISERROR(VLOOKUP(B107,Forb_Table,30,FALSE)),\"\",VLOOKUP(B107,Forb_Table,30,FALSE))","v":""},{"$f":"IF(E107=\"\",IF(F107=\"\",\"\",F107/$F$285),F108/$F$285)","v":""},{"$f":"IF(D107=\"\",IF(F107=\"\",\"\",F107/I107),J107*D107)","v":""},{"$f":"IF(D107=\"\",IF(E107=\"\",\"\",E107*I107),E108*I107)","v":""},{"$f":"G107","v":""},null,null,null,null,null,{"$f":"M107","v":""},{"$f":"IFERROR(VLOOKUP(B108,Monarch_ForbSciNameTable,33,FALSE),\"\")","v":""}]
[14,null,{"$f":"IF(ISERROR(VLOOKUP(B109,Forb_Table,2,FALSE)),\"\",VLOOKUP(B109,Forb_Table,2,FALSE))","v":""},null,null,null,{"$f":"IF(ISNA(VLOOKUP(B109,Forb_Table,31,FALSE)),\"\",VLOOKUP(B109,Forb_Table,31,FALSE))","v":""},{"$f":"IF(ISNA(VLOOKUP(B109,Forb_Table,25,FALSE)),\"\",VLOOKUP(B109,Forb_Table,25,FALSE))","v":""},{"$f":"IF(ISNA(VLOOKUP(B109,Forb_Table,28,FALSE)),\"\",VLOOKUP(B109,Forb_Table,28,FALSE))","v":""},{"$f":"IF(ISNA(VLOOKUP(B109,Forb_Table,21,FALSE)),\"\",VLOOKUP(B109,Forb_Table,21,FALSE))","v":""},{"$f":"IF(D110>0,D110,0)","v":""},{"$f":"IF(D109=\"\",IF(E109=\"\",IF(F109=\"\",0,F109/I109*H109),E109*H109),E110*H109)","v":0},{"$f":"IF(ISNA(VLOOKUP(B109,Forb_Table,32,FALSE)),\"\",VLOOKUP(B109,Forb_Table,32,FALSE))","v":""},{"$f":"IFERROR(VLOOKUP(B109,Monarch_ForbTable,34,FALSE),\"\")","v":""},null,null,null,null,null,null,null,null,null,"1"]
[null,{"$f":"C109","v":""},{"$f":"IF(ISERROR(VLOOKUP(B109,Forb_Table,30,FALSE)),\"\",VLOOKUP(B109,Forb_Table,30,FALSE))","v":""},{"$f":"IF(E109=\"\",IF(F109=\"\",\"\",F109/$F$285),F110/$F$285)","v":""},{"$f":"IF(D109=\"\",IF(F109=\"\",\"\",F109/I109),J109*D109)","v":""},{"$f":"IF(D109=\"\",IF(E109=\"\",\"\",E109*I109),E110*I109)","v":""},{"$f":"G109","v":""},null,null,null,null,null,{"$f":"M109","v":""},{"$f":"IFERROR(VLOOKUP(B110,Monarch_ForbSciNameTable,33,FALSE),\"\")","v":""}]
[15,null,{"$f":"IF(ISERROR(VLOOKUP(B111,Forb_Table,2,FALSE)),\"\",VLOOKUP(B111,Forb_Table,2,FALSE))","v":""},null,null,null,{"$f":"IF(ISNA(VLOOKUP(B111,Forb_Table,31,FALSE)),\"\",VLOOKUP(B111,Forb_Table,31,FALSE))","v":""},{"$f":"IF(ISNA(VLOOKUP(B111,Forb_Table,25,FALSE)),\"\",VLOOKUP(B111,Forb_Table,25,FALSE))","v":""},{"$f":"IF(ISNA(VLOOKUP(B111,Forb_Table,28,FALSE)),\"\",VLOOKUP(B111,Forb_Table,28,FALSE))","v":""},{"$f":"IF(ISNA(VLOOKUP(B111,Forb_Table,21,FALSE)),\"\",VLOOKUP(B111,Forb_Table,21,FALSE))","v":""},{"$f":"IF(D112>0,D112,0)","v":""},{"$f":"IF(D111=\"\",IF(E111=\"\",IF(F111=\"\",0,F111/I111*H111),E111*H111),E112*H111)","v":0},{"$f":"IF(ISNA(VLOOKUP(B111,Forb_Table,32,FALSE)),\"\",VLOOKUP(B111,Forb_Table,32,FALSE))","v":""},{"$f":"IFERROR(VLOOKUP(B111,Monarch_ForbTable,34,FALSE),\"\")","v":""},null,null,null,null,null,null,null,null,null,"1"]
[null,{"$f":"C111","v":""},{"$f":"IF(ISERROR(VLOOKUP(B111,Forb_Table,30,FALSE)),\"\",VLOOKUP(B111,Forb_Table,30,FALSE))","v":""},{"$f":"IF(E111=\"\",IF(F111=\"\",\"\",F111/$F$285),F112/$F$285)","v":""},{"$f":"IF(D111=\"\",IF(F111=\"\",\"\",F111/I111),J111*D111)","v":""},{"$f":"IF(D111=\"\",IF(E111=\"\",\"\",E111*I111),E112*I111)","v":""},{"$f":"G111","v":""},null,null,null,null,null,{"$f":"M111","v":""},{"$f":"IFERROR(VLOOKUP(B112,Monarch_ForbSciNameTable,33,FALSE),\"\")","v":""}]
[16,null,{"$f":"IF(ISERROR(VLOOKUP(B113,Forb_Table,2,FALSE)),\"\",VLOOKUP(B113,Forb_Table,2,FALSE))","v":""},null,null,null,{"$f":"IF(ISNA(VLOOKUP(B113,Forb_Table,31,FALSE)),\"\",VLOOKUP(B113,Forb_Table,31,FALSE))","v":""},{"$f":"IF(ISNA(VLOOKUP(B113,Forb_Table,25,FALSE)),\"\",VLOOKUP(B113,Forb_Table,25,FALSE))","v":""},{"$f":"IF(ISNA(VLOOKUP(B113,Forb_Table,28,FALSE)),\"\",VLOOKUP(B113,Forb_Table,28,FALSE))","v":""},{"$f":"IF(ISNA(VLOOKUP(B113,Forb_Table,21,FALSE)),\"\",VLOOKUP(B113,Forb_Table,21,FALSE))","v":""},{"$f":"IF(D114>0,D114,0)","v":""},{"$f":"IF(D113=\"\",IF(E113=\"\",IF(F113=\"\",0,F113/I113*H113),E113*H113),E114*H113)","v":0},{"$f":"IF(ISNA(VLOOKUP(B113,Forb_Table,32,FALSE)),\"\",VLOOKUP(B113,Forb_Table,32,FALSE))","v":""},{"$f":"IFERROR(VLOOKUP(B113,Monarch_ForbTable,34,FALSE),\"\")","v":""},null,null,null,null,null,null,null,null,null,"1"]
[null,{"$f":"C113","v":""},{"$f":"IF(ISERROR(VLOOKUP(B113,Forb_Table,30,FALSE)),\"\",VLOOKUP(B113,Forb_Table,30,FALSE))","v":""},{"$f":"IF(E113=\"\",IF(F113=\"\",\"\",F113/$F$285),F114/$F$285)","v":""},{"$f":"IF(D113=\"\",IF(F113=\"\",\"\",F113/I113),J113*D113)","v":""},{"$f":"IF(D113=\"\",IF(E113=\"\",\"\",E113*I113),E114*I113)","v":""},{"$f":"G113","v":""},null,null,null,null,null,{"$f":"M113","v":""},{"$f":"IFERROR(VLOOKUP(B114,Monarch_ForbSciNameTable,33,FALSE),\"\")","v":""}]
[17,null,{"$f":"IF(ISERROR(VLOOKUP(B115,Forb_Table,2,FALSE)),\"\",VLOOKUP(B115,Forb_Table,2,FALSE))","v":""},null,null,null,{"$f":"IF(ISNA(VLOOKUP(B115,Forb_Table,31,FALSE)),\"\",VLOOKUP(B115,Forb_Table,31,FALSE))","v":""},{"$f":"IF(ISNA(VLOOKUP(B115,Forb_Table,25,FALSE)),\"\",VLOOKUP(B115,Forb_Table,25,FALSE))","v":""},{"$f":"IF(ISNA(VLOOKUP(B115,Forb_Table,28,FALSE)),\"\",VLOOKUP(B115,Forb_Table,28,FALSE))","v":""},{"$f":"IF(ISNA(VLOOKUP(B115,Forb_Table,21,FALSE)),\"\",VLOOKUP(B115,Forb_Table,21,FALSE))","v":""},{"$f":"IF(D116>0,D116,0)","v":""},{"$f":"IF(D115=\"\",IF(E115=\"\",IF(F115=\"\",0,F115/I115*H115),E115*H115),E116*H115)","v":0},{"$f":"IF(ISNA(VLOOKUP(B115,Forb_Table,32,FALSE)),\"\",VLOOKUP(B115,Forb_Table,32,FALSE))","v":""},{"$f":"IFERROR(VLOOKUP(B115,Monarch_ForbTable,34,FALSE),\"\")","v":""},null,null,null,null,null,null,null,null,null,"1"]
[null,{"$f":"C115","v":""},{"$f":"IF(ISERROR(VLOOKUP(B115,Forb_Table,30,FALSE)),\"\",VLOOKUP(B115,Forb_Table,30,FALSE))","v":""},{"$f":"IF(E115=\"\",IF(F115=\"\",\"\",F115/$F$285),F116/$F$285)","v":""},{"$f":"IF(D115=\"\",IF(F115=\"\",\"\",F115/I115),J115*D115)","v":""},{"$f":"IF(D115=\"\",IF(E115=\"\",\"\",E115*I115),E116*I115)","v":""},{"$f":"G115","v":""},null,null,null,null,null,{"$f":"M115","v":""},{"$f":"IFERROR(VLOOKUP(B116,Monarch_ForbSciNameTable,33,FALSE),\"\")","v":""}]
[18,null,{"$f":"IF(ISERROR(VLOOKUP(B117,Forb_Table,2,FALSE)),\"\",VLOOKUP(B117,Forb_Table,2,FALSE))","v":""},null,null,null,{"$f":"IF(ISNA(VLOOKUP(B117,Forb_Table,31,FALSE)),\"\",VLOOKUP(B117,Forb_Table,31,FALSE))","v":""},{"$f":"IF(ISNA(VLOOKUP(B117,Forb_Table,25,FALSE)),\"\",VLOOKUP(B117,Forb_Table,25,FALSE))","v":""},{"$f":"IF(ISNA(VLOOKUP(B117,Forb_Table,28,FALSE)),\"\",VLOOKUP(B117,Forb_Table,28,FALSE))","v":""},{"$f":"IF(ISNA(VLOOKUP(B117,Forb_Table,21,FALSE)),\"\",VLOOKUP(B117,Forb_Table,21,FALSE))","v":""},{"$f":"IF(D118>0,D118,0)","v":""},{"$f":"IF(D117=\"\",IF(E117=\"\",IF(F117=\"\",0,F117/I117*H117),E117*H117),E118*H117)","v":0},{"$f":"IF(ISNA(VLOOKUP(B117,Forb_Table,32,FALSE)),\"\",VLOOKUP(B117,Forb_Table,32,FALSE))","v":""},{"$f":"IFERROR(VLOOKUP(B117,Monarch_ForbTable,34,FALSE),\"\")","v":""},null,null,null,null,null,null,null,null,null,"1"]
[null,{"$f":"C117","v":""},{"$f":"IF(ISERROR(VLOOKUP(B117,Forb_Table,30,FALSE)),\"\",VLOOKUP(B117,Forb_Table,30,FALSE))","v":""},{"$f":"IF(E117=\"\",IF(F117=\"\",\"\",F117/$F$285),F118/$F$285)","v":""},{"$f":"IF(D117=\"\",IF(F117=\"\",\"\",F117/I117),J117*D117)","v":""},{"$f":"IF(D117=\"\",IF(E117=\"\",\"\",E117*I117),E118*I117)","v":""},{"$f":"G117","v":""},null,null,null,null,null,{"$f":"M117","v":""},{"$f":"IFERROR(VLOOKUP(B118,Monarch_ForbSciNameTable,33,FALSE),\"\")","v":""}]
[19,null,{"$f":"IF(ISERROR(VLOOKUP(B119,Forb_Table,2,FALSE)),\"\",VLOOKUP(B119,Forb_Table,2,FALSE))","v":""},null,null,null,{"$f":"IF(ISNA(VLOOKUP(B119,Forb_Table,31,FALSE)),\"\",VLOOKUP(B119,Forb_Table,31,FALSE))","v":""},{"$f":"IF(ISNA(VLOOKUP(B119,Forb_Table,25,FALSE)),\"\",VLOOKUP(B119,Forb_Table,25,FALSE))","v":""},{"$f":"IF(ISNA(VLOOKUP(B119,Forb_Table,28,FALSE)),\"\",VLOOKUP(B119,Forb_Table,28,FALSE))","v":""},{"$f":"IF(ISNA(VLOOKUP(B119,Forb_Table,21,FALSE)),\"\",VLOOKUP(B119,Forb_Table,21,FALSE))","v":""},{"$f":"IF(D120>0,D120,0)","v":""},{"$f":"IF(D119=\"\",IF(E119=\"\",IF(F119=\"\",0,F119/I119*H119),E119*H119),E120*H119)","v":0},{"$f":"IF(ISNA(VLOOKUP(B119,Forb_Table,32,FALSE)),\"\",VLOOKUP(B119,Forb_Table,32,FALSE))","v":""},{"$f":"IFERROR(VLOOKUP(B119,Monarch_ForbTable,34,FALSE),\"\")","v":""},null,null,null,null,null,null,null,null,null,"1"]
[null,{"$f":"C119","v":""},{"$f":"IF(ISERROR(VLOOKUP(B119,Forb_Table,30,FALSE)),\"\",VLOOKUP(B119,Forb_Table,30,FALSE))","v":""},{"$f":"IF(E119=\"\",IF(F119=\"\",\"\",F119/$F$285),F120/$F$285)","v":""},{"$f":"IF(D119=\"\",IF(F119=\"\",\"\",F119/I119),J119*D119)","v":""},{"$f":"IF(D119=\"\",IF(E119=\"\",\"\",E119*I119),E120*I119)","v":""},{"$f":"G119","v":""},null,null,null,null,null,{"$f":"M119","v":""},{"$f":"IFERROR(VLOOKUP(B120,Monarch_ForbSciNameTable,33,FALSE),\"\")","v":""}]
[20,null,{"$f":"IF(ISERROR(VLOOKUP(B121,Forb_Table,2,FALSE)),\"\",VLOOKUP(B121,Forb_Table,2,FALSE))","v":""},null,null,null,{"$f":"IF(ISNA(VLOOKUP(B121,Forb_Table,31,FALSE)),\"\",VLOOKUP(B121,Forb_Table,31,FALSE))","v":""},{"$f":"IF(ISNA(VLOOKUP(B121,Forb_Table,25,FALSE)),\"\",VLOOKUP(B121,Forb_Table,25,FALSE))","v":""},{"$f":"IF(ISNA(VLOOKUP(B121,Forb_Table,28,FALSE)),\"\",VLOOKUP(B121,Forb_Table,28,FALSE))","v":""},{"$f":"IF(ISNA(VLOOKUP(B121,Forb_Table,21,FALSE)),\"\",VLOOKUP(B121,Forb_Table,21,FALSE))","v":""},{"$f":"IF(D122>0,D122,0)","v":""},{"$f":"IF(D121=\"\",IF(E121=\"\",IF(F121=\"\",0,F121/I121*H121),E121*H121),E122*H121)","v":0},{"$f":"IF(ISNA(VLOOKUP(B121,Forb_Table,32,FALSE)),\"\",VLOOKUP(B121,Forb_Table,32,FALSE))","v":""},{"$f":"IFERROR(VLOOKUP(B121,Monarch_ForbTable,34,FALSE),\"\")","v":""},null,null,null,null,null,null,null,null,null,"1"]
[null,{"$f":"C121","v":""},{"$f":"IF(ISERROR(VLOOKUP(B121,Forb_Table,30,FALSE)),\"\",VLOOKUP(B121,Forb_Table,30,FALSE))","v":""},{"$f":"IF(E121=\"\",IF(F121=\"\",\"\",F121/$F$285),F122/$F$285)","v":""},{"$f":"IF(D121=\"\",IF(F121=\"\",\"\",F121/I121),J121*D121)","v":""},{"$f":"IF(D121=\"\",IF(E121=\"\",\"\",E121*I121),E122*I121)","v":""},{"$f":"G121","v":""},null,null,null,null,null,{"$f":"M121","v":""},{"$f":"IFERROR(VLOOKUP(B122,Monarch_ForbSciNameTable,33,FALSE),\"\")","v":""}]
[21,null,{"$f":"IF(ISERROR(VLOOKUP(B123,Forb_Table,2,FALSE)),\"\",VLOOKUP(B123,Forb_Table,2,FALSE))","v":""},null,null,null,{"$f":"IF(ISNA(VLOOKUP(B123,Forb_Table,31,FALSE)),\"\",VLOOKUP(B123,Forb_Table,31,FALSE))","v":""},{"$f":"IF(ISNA(VLOOKUP(B123,Forb_Table,25,FALSE)),\"\",VLOOKUP(B123,Forb_Table,25,FALSE))","v":""},{"$f":"IF(ISNA(VLOOKUP(B123,Forb_Table,28,FALSE)),\"\",VLOOKUP(B123,Forb_Table,28,FALSE))","v":""},{"$f":"IF(ISNA(VLOOKUP(B123,Forb_Table,21,FALSE)),\"\",VLOOKUP(B123,Forb_Table,21,FALSE))","v":""},{"$f":"IF(D124>0,D124,0)","v":""},{"$f":"IF(D123=\"\",IF(E123=\"\",IF(F123=\"\",0,F123/I123*H123),E123*H123),E124*H123)","v":0},{"$f":"IF(ISNA(VLOOKUP(B123,Forb_Table,32,FALSE)),\"\",VLOOKUP(B123,Forb_Table,32,FALSE))","v":""},{"$f":"IFERROR(VLOOKUP(B123,Monarch_ForbTable,34,FALSE),\"\")","v":""},null,null,null,null,null,null,null,null,null,"1"]
[null,{"$f":"C123","v":""},{"$f":"IF(ISERROR(VLOOKUP(B123,Forb_Table,30,FALSE)),\"\",VLOOKUP(B123,Forb_Table,30,FALSE))","v":""},{"$f":"IF(E123=\"\",IF(F123=\"\",\"\",F123/$F$285),F124/$F$285)","v":""},{"$f":"IF(D123=\"\",IF(F123=\"\",\"\",F123/I123),J123*D123)","v":""},{"$f":"IF(D123=\"\",IF(E123=\"\",\"\",E123*I123),E124*I123)","v":""},{"$f":"G123","v":""},null,null,null,null,null,{"$f":"M123","v":""},{"$f":"IFERROR(VLOOKUP(B124,Monarch_ForbSciNameTable,33,FALSE),\"\")","v":""}]
[22,null,{"$f":"IF(ISERROR(VLOOKUP(B125,Forb_Table,2,FALSE)),\"\",VLOOKUP(B125,Forb_Table,2,FALSE))","v":""},null,null,null,{"$f":"IF(ISNA(VLOOKUP(B125,Forb_Table,31,FALSE)),\"\",VLOOKUP(B125,Forb_Table,31,FALSE))","v":""},{"$f":"IF(ISNA(VLOOKUP(B125,Forb_Table,25,FALSE)),\"\",VLOOKUP(B125,Forb_Table,25,FALSE))","v":""},{"$f":"IF(ISNA(VLOOKUP(B125,Forb_Table,28,FALSE)),\"\",VLOOKUP(B125,Forb_Table,28,FALSE))","v":""},{"$f":"IF(ISNA(VLOOKUP(B125,Forb_Table,21,FALSE)),\"\",VLOOKUP(B125,Forb_Table,21,FALSE))","v":""},{"$f":"IF(D126>0,D126,0)","v":""},{"$f":"IF(D125=\"\",IF(E125=\"\",IF(F125=\"\",0,F125/I125*H125),E125*H125),E126*H125)","v":0},{"$f":"IF(ISNA(VLOOKUP(B125,Forb_Table,32,FALSE)),\"\",VLOOKUP(B125,Forb_Table,32,FALSE))","v":""},{"$f":"IFERROR(VLOOKUP(B125,Monarch_ForbTable,34,FALSE),\"\")","v":""},null,null,null,null,null,null,null,null,null,"1"]
[null,{"$f":"C125","v":""},{"$f":"IF(ISERROR(VLOOKUP(B125,Forb_Table,30,FALSE)),\"\",VLOOKUP(B125,Forb_Table,30,FALSE))","v":""},{"$f":"IF(E125=\"\",IF(F125=\"\",\"\",F125/$F$285),F126/$F$285)","v":""},{"$f":"IF(D125=\"\",IF(F125=\"\",\"\",F125/I125),J125*D125)","v":""},{"$f":"IF(D125=\"\",IF(E125=\"\",\"\",E125*I125),E126*I125)","v":""},{"$f":"G125","v":""},null,null,null,null,null,{"$f":"M125","v":""},{"$f":"IFERROR(VLOOKUP(B126,Monarch_ForbSciNameTable,33,FALSE),\"\")","v":""}]
[23,null,{"$f":"IF(ISERROR(VLOOKUP(B127,Forb_Table,2,FALSE)),\"\",VLOOKUP(B127,Forb_Table,2,FALSE))","v":""},null,null,null,{"$f":"IF(ISNA(VLOOKUP(B127,Forb_Table,31,FALSE)),\"\",VLOOKUP(B127,Forb_Table,31,FALSE))","v":""},{"$f":"IF(ISNA(VLOOKUP(B127,Forb_Table,25,FALSE)),\"\",VLOOKUP(B127,Forb_Table,25,FALSE))","v":""},{"$f":"IF(ISNA(VLOOKUP(B127,Forb_Table,28,FALSE)),\"\",VLOOKUP(B127,Forb_Table,28,FALSE))","v":""},{"$f":"IF(ISNA(VLOOKUP(B127,Forb_Table,21,FALSE)),\"\",VLOOKUP(B127,Forb_Table,21,FALSE))","v":""},{"$f":"IF(D128>0,D128,0)","v":""},{"$f":"IF(D127=\"\",IF(E127=\"\",IF(F127=\"\",0,F127/I127*H127),E127*H127),E128*H127)","v":0},{"$f":"IF(ISNA(VLOOKUP(B127,Forb_Table,32,FALSE)),\"\",VLOOKUP(B127,Forb_Table,32,FALSE))","v":""},{"$f":"IFERROR(VLOOKUP(B127,Monarch_ForbTable,34,FALSE),\"\")","v":""},null,null,null,null,null,null,null,null,null,"1"]
[null,{"$f":"C127","v":""},{"$f":"IF(ISERROR(VLOOKUP(B127,Forb_Table,30,FALSE)),\"\",VLOOKUP(B127,Forb_Table,30,FALSE))","v":""},{"$f":"IF(E127=\"\",IF(F127=\"\",\"\",F127/$F$285),F128/$F$285)","v":""},{"$f":"IF(D127=\"\",IF(F127=\"\",\"\",F127/I127),J127*D127)","v":""},{"$f":"IF(D127=\"\",IF(E127=\"\",\"\",E127*I127),E128*I127)","v":""},{"$f":"G127","v":""},null,null,null,null,null,{"$f":"M127","v":""},{"$f":"IFERROR(VLOOKUP(B128,Monarch_ForbSciNameTable,33,FALSE),\"\")","v":""}]
[24,null,{"$f":"IF(ISERROR(VLOOKUP(B129,Forb_Table,2,FALSE)),\"\",VLOOKUP(B129,Forb_Table,2,FALSE))","v":""},null,null,null,{"$f":"IF(ISNA(VLOOKUP(B129,Forb_Table,31,FALSE)),\"\",VLOOKUP(B129,Forb_Table,31,FALSE))","v":""},{"$f":"IF(ISNA(VLOOKUP(B129,Forb_Table,25,FALSE)),\"\",VLOOKUP(B129,Forb_Table,25,FALSE))","v":""},{"$f":"IF(ISNA(VLOOKUP(B129,Forb_Table,28,FALSE)),\"\",VLOOKUP(B129,Forb_Table,28,FALSE))","v":""},{"$f":"IF(ISNA(VLOOKUP(B129,Forb_Table,21,FALSE)),\"\",VLOOKUP(B129,Forb_Table,21,FALSE))","v":""},{"$f":"IF(D130>0,D130,0)","v":""},{"$f":"IF(D129=\"\",IF(E129=\"\",IF(F129=\"\",0,F129/I129*H129),E129*H129),E130*H129)","v":0},{"$f":"IF(ISNA(VLOOKUP(B129,Forb_Table,32,FALSE)),\"\",VLOOKUP(B129,Forb_Table,32,FALSE))","v":""},{"$f":"IFERROR(VLOOKUP(B129,Monarch_ForbTable,34,FALSE),\"\")","v":""},null,null,null,null,null,null,null,null,null,"1"]
[null,{"$f":"C129","v":""},{"$f":"IF(ISERROR(VLOOKUP(B129,Forb_Table,30,FALSE)),\"\",VLOOKUP(B129,Forb_Table,30,FALSE))","v":""},{"$f":"IF(E129=\"\",IF(F129=\"\",\"\",F129/$F$285),F130/$F$285)","v":""},{"$f":"IF(D129=\"\",IF(F129=\"\",\"\",F129/I129),J129*D129)","v":""},{"$f":"IF(D129=\"\",IF(E129=\"\",\"\",E129*I129),E130*I129)","v":""},{"$f":"G129","v":""},null,null,null,null,null,{"$f":"M129","v":""},{"$f":"IFERROR(VLOOKUP(B130,Monarch_ForbSciNameTable,33,FALSE),\"\")","v":""}]
[25,null,{"$f":"IF(ISERROR(VLOOKUP(B131,Forb_Table,2,FALSE)),\"\",VLOOKUP(B131,Forb_Table,2,FALSE))","v":""},null,null,null,{"$f":"IF(ISNA(VLOOKUP(B131,Forb_Table,31,FALSE)),\"\",VLOOKUP(B131,Forb_Table,31,FALSE))","v":""},{"$f":"IF(ISNA(VLOOKUP(B131,Forb_Table,25,FALSE)),\"\",VLOOKUP(B131,Forb_Table,25,FALSE))","v":""},{"$f":"IF(ISNA(VLOOKUP(B131,Forb_Table,28,FALSE)),\"\",VLOOKUP(B131,Forb_Table,28,FALSE))","v":""},{"$f":"IF(ISNA(VLOOKUP(B131,Forb_Table,21,FALSE)),\"\",VLOOKUP(B131,Forb_Table,21,FALSE))","v":""},{"$f":"IF(D132>0,D132,0)","v":""},{"$f":"IF(D131=\"\",IF(E131=\"\",IF(F131=\"\",0,F131/I131*H131),E131*H131),E132*H131)","v":0},{"$f":"IF(ISNA(VLOOKUP(B131,Forb_Table,32,FALSE)),\"\",VLOOKUP(B131,Forb_Table,32,FALSE))","v":""},{"$f":"IFERROR(VLOOKUP(B131,Monarch_ForbTable,34,FALSE),\"\")","v":""},null,null,null,null,null,null,null,null,null,"1"]
[null,{"$f":"C131","v":""},{"$f":"IF(ISERROR(VLOOKUP(B131,Forb_Table,30,FALSE)),\"\",VLOOKUP(B131,Forb_Table,30,FALSE))","v":""},{"$f":"IF(E131=\"\",IF(F131=\"\",\"\",F131/$F$285),F132/$F$285)","v":""},{"$f":"IF(D131=\"\",IF(F131=\"\",\"\",F131/I131),J131*D131)","v":""},{"$f":"IF(D131=\"\",IF(E131=\"\",\"\",E131*I131),E132*I131)","v":""},{"$f":"G131","v":""},null,null,null,null,null,{"$f":"M131","v":""},{"$f":"IFERROR(VLOOKUP(B132,Monarch_ForbSciNameTable,33,FALSE),\"\")","v":""}]
[26,null,{"$f":"IF(ISERROR(VLOOKUP(B133,Forb_Table,2,FALSE)),\"\",VLOOKUP(B133,Forb_Table,2,FALSE))","v":""},null,null,null,{"$f":"IF(ISNA(VLOOKUP(B133,Forb_Table,31,FALSE)),\"\",VLOOKUP(B133,Forb_Table,31,FALSE))","v":""},{"$f":"IF(ISNA(VLOOKUP(B133,Forb_Table,25,FALSE)),\"\",VLOOKUP(B133,Forb_Table,25,FALSE))","v":""},{"$f":"IF(ISNA(VLOOKUP(B133,Forb_Table,28,FALSE)),\"\",VLOOKUP(B133,Forb_Table,28,FALSE))","v":""},{"$f":"IF(ISNA(VLOOKUP(B133,Forb_Table,21,FALSE)),\"\",VLOOKUP(B133,Forb_Table,21,FALSE))","v":""},{"$f":"IF(D134>0,D134,0)","v":""},{"$f":"IF(D133=\"\",IF(E133=\"\",IF(F133=\"\",0,F133/I133*H133),E133*H133),E134*H133)","v":0},{"$f":"IF(ISNA(VLOOKUP(B133,Forb_Table,32,FALSE)),\"\",VLOOKUP(B133,Forb_Table,32,FALSE))","v":""},{"$f":"IFERROR(VLOOKUP(B133,Monarch_ForbTable,34,FALSE),\"\")","v":""},null,null,null,null,null,null,null,null,null,"1"]
[null,{"$f":"C133","v":""},{"$f":"IF(ISERROR(VLOOKUP(B133,Forb_Table,30,FALSE)),\"\",VLOOKUP(B133,Forb_Table,30,FALSE))","v":""},{"$f":"IF(E133=\"\",IF(F133=\"\",\"\",F133/$F$285),F134/$F$285)","v":""},{"$f":"IF(D133=\"\",IF(F133=\"\",\"\",F133/I133),J133*D133)","v":""},{"$f":"IF(D133=\"\",IF(E133=\"\",\"\",E133*I133),E134*I133)","v":""},{"$f":"G133","v":""},null,null,null,null,null,{"$f":"M133","v":""},{"$f":"IFERROR(VLOOKUP(B134,Monarch_ForbSciNameTable,33,FALSE),\"\")","v":""}]
[27,null,{"$f":"IF(ISERROR(VLOOKUP(B135,Forb_Table,2,FALSE)),\"\",VLOOKUP(B135,Forb_Table,2,FALSE))","v":""},null,null,null,{"$f":"IF(ISNA(VLOOKUP(B135,Forb_Table,31,FALSE)),\"\",VLOOKUP(B135,Forb_Table,31,FALSE))","v":""},{"$f":"IF(ISNA(VLOOKUP(B135,Forb_Table,25,FALSE)),\"\",VLOOKUP(B135,Forb_Table,25,FALSE))","v":""},{"$f":"IF(ISNA(VLOOKUP(B135,Forb_Table,28,FALSE)),\"\",VLOOKUP(B135,Forb_Table,28,FALSE))","v":""},{"$f":"IF(ISNA(VLOOKUP(B135,Forb_Table,21,FALSE)),\"\",VLOOKUP(B135,Forb_Table,21,FALSE))","v":""},{"$f":"IF(D136>0,D136,0)","v":""},{"$f":"IF(D135=\"\",IF(E135=\"\",IF(F135=\"\",0,F135/I135*H135),E135*H135),E136*H135)","v":0},{"$f":"IF(ISNA(VLOOKUP(B135,Forb_Table,32,FALSE)),\"\",VLOOKUP(B135,Forb_Table,32,FALSE))","v":""},{"$f":"IFERROR(VLOOKUP(B135,Monarch_ForbTable,34,FALSE),\"\")","v":""},null,null,null,null,null,null,null,null,null,"1"]
[null,{"$f":"C135","v":""},{"$f":"IF(ISERROR(VLOOKUP(B135,Forb_Table,30,FALSE)),\"\",VLOOKUP(B135,Forb_Table,30,FALSE))","v":""},{"$f":"IF(E135=\"\",IF(F135=\"\",\"\",F135/$F$285),F136/$F$285)","v":""},{"$f":"IF(D135=\"\",IF(F135=\"\",\"\",F135/I135),J135*D135)","v":""},{"$f":"IF(D135=\"\",IF(E135=\"\",\"\",E135*I135),E136*I135)","v":""},{"$f":"G135","v":""},null,null,null,null,null,{"$f":"M135","v":""},{"$f":"IFERROR(VLOOKUP(B136,Monarch_ForbSciNameTable,33,FALSE),\"\")","v":""}]
[28,null,{"$f":"IF(ISERROR(VLOOKUP(B137,Forb_Table,2,FALSE)),\"\",VLOOKUP(B137,Forb_Table,2,FALSE))","v":""},null,null,null,{"$f":"IF(ISNA(VLOOKUP(B137,Forb_Table,31,FALSE)),\"\",VLOOKUP(B137,Forb_Table,31,FALSE))","v":""},{"$f":"IF(ISNA(VLOOKUP(B137,Forb_Table,25,FALSE)),\"\",VLOOKUP(B137,Forb_Table,25,FALSE))","v":""},{"$f":"IF(ISNA(VLOOKUP(B137,Forb_Table,28,FALSE)),\"\",VLOOKUP(B137,Forb_Table,28,FALSE))","v":""},{"$f":"IF(ISNA(VLOOKUP(B137,Forb_Table,21,FALSE)),\"\",VLOOKUP(B137,Forb_Table,21,FALSE))","v":""},{"$f":"IF(D138>0,D138,0)","v":""},{"$f":"IF(D137=\"\",IF(E137=\"\",IF(F137=\"\",0,F137/I137*H137),E137*H137),E138*H137)","v":0},{"$f":"IF(ISNA(VLOOKUP(B137,Forb_Table,32,FALSE)),\"\",VLOOKUP(B137,Forb_Table,32,FALSE))","v":""},{"$f":"IFERROR(VLOOKUP(B137,Monarch_ForbTable,34,FALSE),\"\")","v":""},null,null,null,null,null,null,null,null,null,"1"]
[null,{"$f":"C137","v":""},{"$f":"IF(ISERROR(VLOOKUP(B137,Forb_Table,30,FALSE)),\"\",VLOOKUP(B137,Forb_Table,30,FALSE))","v":""},{"$f":"IF(E137=\"\",IF(F137=\"\",\"\",F137/$F$285),F138/$F$285)","v":""},{"$f":"IF(D137=\"\",IF(F137=\"\",\"\",F137/I137),J137*D137)","v":""},{"$f":"IF(D137=\"\",IF(E137=\"\",\"\",E137*I137),E138*I137)","v":""},{"$f":"G137","v":""},null,null,null,null,null,{"$f":"M137","v":""},{"$f":"IFERROR(VLOOKUP(B138,Monarch_ForbSciNameTable,33,FALSE),\"\")","v":""}]
[29,null,{"$f":"IF(ISERROR(VLOOKUP(B139,Forb_Table,2,FALSE)),\"\",VLOOKUP(B139,Forb_Table,2,FALSE))","v":""},null,null,null,{"$f":"IF(ISNA(VLOOKUP(B139,Forb_Table,31,FALSE)),\"\",VLOOKUP(B139,Forb_Table,31,FALSE))","v":""},{"$f":"IF(ISNA(VLOOKUP(B139,Forb_Table,25,FALSE)),\"\",VLOOKUP(B139,Forb_Table,25,FALSE))","v":""},{"$f":"IF(ISNA(VLOOKUP(B139,Forb_Table,28,FALSE)),\"\",VLOOKUP(B139,Forb_Table,28,FALSE))","v":""},{"$f":"IF(ISNA(VLOOKUP(B139,Forb_Table,21,FALSE)),\"\",VLOOKUP(B139,Forb_Table,21,FALSE))","v":""},{"$f":"IF(D140>0,D140,0)","v":""},{"$f":"IF(D139=\"\",IF(E139=\"\",IF(F139=\"\",0,F139/I139*H139),E139*H139),E140*H139)","v":0},{"$f":"IF(ISNA(VLOOKUP(B139,Forb_Table,32,FALSE)),\"\",VLOOKUP(B139,Forb_Table,32,FALSE))","v":""},{"$f":"IFERROR(VLOOKUP(B139,Monarch_ForbTable,34,FALSE),\"\")","v":""},null,null,null,null,null,null,null,null,null,"1"]
[null,{"$f":"C139","v":""},{"$f":"IF(ISERROR(VLOOKUP(B139,Forb_Table,30,FALSE)),\"\",VLOOKUP(B139,Forb_Table,30,FALSE))","v":""},{"$f":"IF(E139=\"\",IF(F139=\"\",\"\",F139/$F$285),F140/$F$285)","v":""},{"$f":"IF(D139=\"\",IF(F139=\"\",\"\",F139/I139),J139*D139)","v":""},{"$f":"IF(D139=\"\",IF(E139=\"\",\"\",E139*I139),E140*I139)","v":""},{"$f":"G139","v":""},null,null,null,null,null,{"$f":"M139","v":""},{"$f":"IFERROR(VLOOKUP(B140,Monarch_ForbSciNameTable,33,FALSE),\"\")","v":""}]
[30,null,{"$f":"IF(ISERROR(VLOOKUP(B141,Forb_Table,2,FALSE)),\"\",VLOOKUP(B141,Forb_Table,2,FALSE))","v":""},null,null,null,{"$f":"IF(ISNA(VLOOKUP(B141,Forb_Table,31,FALSE)),\"\",VLOOKUP(B141,Forb_Table,31,FALSE))","v":""},{"$f":"IF(ISNA(VLOOKUP(B141,Forb_Table,25,FALSE)),\"\",VLOOKUP(B141,Forb_Table,25,FALSE))","v":""},{"$f":"IF(ISNA(VLOOKUP(B141,Forb_Table,28,FALSE)),\"\",VLOOKUP(B141,Forb_Table,28,FALSE))","v":""},{"$f":"IF(ISNA(VLOOKUP(B141,Forb_Table,21,FALSE)),\"\",VLOOKUP(B141,Forb_Table,21,FALSE))","v":""},{"$f":"IF(D142>0,D142,0)","v":""},{"$f":"IF(D141=\"\",IF(E141=\"\",IF(F141=\"\",0,F141/I141*H141),E141*H141),E142*H141)","v":0},{"$f":"IF(ISNA(VLOOKUP(B141,Forb_Table,32,FALSE)),\"\",VLOOKUP(B141,Forb_Table,32,FALSE))","v":""},{"$f":"IFERROR(VLOOKUP(B141,Monarch_ForbTable,34,FALSE),\"\")","v":""},null,null,null,null,null,null,null,null,null,"1"]
[null,{"$f":"C141","v":""},{"$f":"IF(ISERROR(VLOOKUP(B141,Forb_Table,30,FALSE)),\"\",VLOOKUP(B141,Forb_Table,30,FALSE))","v":""},{"$f":"IF(E141=\"\",IF(F141=\"\",\"\",F141/$F$285),F142/$F$285)","v":""},{"$f":"IF(D141=\"\",IF(F141=\"\",\"\",F141/I141),J141*D141)","v":""},{"$f":"IF(D141=\"\",IF(E141=\"\",\"\",E141*I141),E142*I141)","v":""},{"$f":"G141","v":""},null,null,null,null,null,{"$f":"M141","v":""},{"$f":"IFERROR(VLOOKUP(B142,Monarch_ForbSciNameTable,33,FALSE),\"\")","v":""}]
[31,null,{"$f":"IF(ISERROR(VLOOKUP(B143,Forb_Table,2,FALSE)),\"\",VLOOKUP(B143,Forb_Table,2,FALSE))","v":""},null,null,null,{"$f":"IF(ISNA(VLOOKUP(B143,Forb_Table,31,FALSE)),\"\",VLOOKUP(B143,Forb_Table,31,FALSE))","v":""},{"$f":"IF(ISNA(VLOOKUP(B143,Forb_Table,25,FALSE)),\"\",VLOOKUP(B143,Forb_Table,25,FALSE))","v":""},{"$f":"IF(ISNA(VLOOKUP(B143,Forb_Table,28,FALSE)),\"\",VLOOKUP(B143,Forb_Table,28,FALSE))","v":""},{"$f":"IF(ISNA(VLOOKUP(B143,Forb_Table,21,FALSE)),\"\",VLOOKUP(B143,Forb_Table,21,FALSE))","v":""},{"$f":"IF(D144>0,D144,0)","v":""},{"$f":"IF(D143=\"\",IF(E143=\"\",IF(F143=\"\",0,F143/I143*H143),E143*H143),E144*H143)","v":0},{"$f":"IF(ISNA(VLOOKUP(B143,Forb_Table,32,FALSE)),\"\",VLOOKUP(B143,Forb_Table,32,FALSE))","v":""},{"$f":"IFERROR(VLOOKUP(B143,Monarch_ForbTable,34,FALSE),\"\")","v":""},null,null,null,null,null,null,null,null,null,"1"]
[null,{"$f":"C143","v":""},{"$f":"IF(ISERROR(VLOOKUP(B143,Forb_Table,30,FALSE)),\"\",VLOOKUP(B143,Forb_Table,30,FALSE))","v":""},{"$f":"IF(E143=\"\",IF(F143=\"\",\"\",F143/$F$285),F144/$F$285)","v":""},{"$f":"IF(D143=\"\",IF(F143=\"\",\"\",F143/I143),J143*D143)","v":""},{"$f":"IF(D143=\"\",IF(E143=\"\",\"\",E143*I143),E144*I143)","v":""},{"$f":"G143","v":""},null,null,null,null,null,{"$f":"M143","v":""},{"$f":"IFERROR(VLOOKUP(B144,Monarch_ForbSciNameTable,33,FALSE),\"\")","v":""}]
[32,null,{"$f":"IF(ISERROR(VLOOKUP(B145,Forb_Table,2,FALSE)),\"\",VLOOKUP(B145,Forb_Table,2,FALSE))","v":""},null,null,null,{"$f":"IF(ISNA(VLOOKUP(B145,Forb_Table,31,FALSE)),\"\",VLOOKUP(B145,Forb_Table,31,FALSE))","v":""},{"$f":"IF(ISNA(VLOOKUP(B145,Forb_Table,25,FALSE)),\"\",VLOOKUP(B145,Forb_Table,25,FALSE))","v":""},{"$f":"IF(ISNA(VLOOKUP(B145,Forb_Table,28,FALSE)),\"\",VLOOKUP(B145,Forb_Table,28,FALSE))","v":""},{"$f":"IF(ISNA(VLOOKUP(B145,Forb_Table,21,FALSE)),\"\",VLOOKUP(B145,Forb_Table,21,FALSE))","v":""},{"$f":"IF(D146>0,D146,0)","v":""},{"$f":"IF(D145=\"\",IF(E145=\"\",IF(F145=\"\",0,F145/I145*H145),E145*H145),E146*H145)","v":0},{"$f":"IF(ISNA(VLOOKUP(B145,Forb_Table,32,FALSE)),\"\",VLOOKUP(B145,Forb_Table,32,FALSE))","v":""},{"$f":"IFERROR(VLOOKUP(B145,Monarch_ForbTable,34,FALSE),\"\")","v":""},null,null,null,null,null,null,null,null,null,"1"]
[null,{"$f":"C145","v":""},{"$f":"IF(ISERROR(VLOOKUP(B145,Forb_Table,30,FALSE)),\"\",VLOOKUP(B145,Forb_Table,30,FALSE))","v":""},{"$f":"IF(E145=\"\",IF(F145=\"\",\"\",F145/$F$285),F146/$F$285)","v":""},{"$f":"IF(D145=\"\",IF(F145=\"\",\"\",F145/I145),J145*D145)","v":""},{"$f":"IF(D145=\"\",IF(E145=\"\",\"\",E145*I145),E146*I145)","v":""},{"$f":"G145","v":""},null,null,null,null,null,{"$f":"M145","v":""},{"$f":"IFERROR(VLOOKUP(B146,Monarch_ForbSciNameTable,33,FALSE),\"\")","v":""}]
[33,null,{"$f":"IF(ISERROR(VLOOKUP(B147,Forb_Table,2,FALSE)),\"\",VLOOKUP(B147,Forb_Table,2,FALSE))","v":""},null,null,null,{"$f":"IF(ISNA(VLOOKUP(B147,Forb_Table,31,FALSE)),\"\",VLOOKUP(B147,Forb_Table,31,FALSE))","v":""},{"$f":"IF(ISNA(VLOOKUP(B147,Forb_Table,25,FALSE)),\"\",VLOOKUP(B147,Forb_Table,25,FALSE))","v":""},{"$f":"IF(ISNA(VLOOKUP(B147,Forb_Table,28,FALSE)),\"\",VLOOKUP(B147,Forb_Table,28,FALSE))","v":""},{"$f":"IF(ISNA(VLOOKUP(B147,Forb_Table,21,FALSE)),\"\",VLOOKUP(B147,Forb_Table,21,FALSE))","v":""},{"$f":"IF(D148>0,D148,0)","v":""},{"$f":"IF(D147=\"\",IF(E147=\"\",IF(F147=\"\",0,F147/I147*H147),E147*H147),E148*H147)","v":0},{"$f":"IF(ISNA(VLOOKUP(B147,Forb_Table,32,FALSE)),\"\",VLOOKUP(B147,Forb_Table,32,FALSE))","v":""},{"$f":"IFERROR(VLOOKUP(B147,Monarch_ForbTable,34,FALSE),\"\")","v":""},null,null,null,null,null,null,null,null,null,"1"]
[null,{"$f":"C147","v":""},{"$f":"IF(ISERROR(VLOOKUP(B147,Forb_Table,30,FALSE)),\"\",VLOOKUP(B147,Forb_Table,30,FALSE))","v":""},{"$f":"IF(E147=\"\",IF(F147=\"\",\"\",F147/$F$285),F148/$F$285)","v":""},{"$f":"IF(D147=\"\",IF(F147=\"\",\"\",F147/I147),J147*D147)","v":""},{"$f":"IF(D147=\"\",IF(E147=\"\",\"\",E147*I147),E148*I147)","v":""},{"$f":"G147","v":""},null,null,null,null,null,{"$f":"M147","v":""},{"$f":"IFERROR(VLOOKUP(B148,Monarch_ForbSciNameTable,33,FALSE),\"\")","v":""}]
[34,null,{"$f":"IF(ISERROR(VLOOKUP(B149,Forb_Table,2,FALSE)),\"\",VLOOKUP(B149,Forb_Table,2,FALSE))","v":""},null,null,null,{"$f":"IF(ISNA(VLOOKUP(B149,Forb_Table,31,FALSE)),\"\",VLOOKUP(B149,Forb_Table,31,FALSE))","v":""},{"$f":"IF(ISNA(VLOOKUP(B149,Forb_Table,25,FALSE)),\"\",VLOOKUP(B149,Forb_Table,25,FALSE))","v":""},{"$f":"IF(ISNA(VLOOKUP(B149,Forb_Table,28,FALSE)),\"\",VLOOKUP(B149,Forb_Table,28,FALSE))","v":""},{"$f":"IF(ISNA(VLOOKUP(B149,Forb_Table,21,FALSE)),\"\",VLOOKUP(B149,Forb_Table,21,FALSE))","v":""},{"$f":"IF(D150>0,D150,0)","v":""},{"$f":"IF(D149=\"\",IF(E149=\"\",IF(F149=\"\",0,F149/I149*H149),E149*H149),E150*H149)","v":0},{"$f":"IF(ISNA(VLOOKUP(B149,Forb_Table,32,FALSE)),\"\",VLOOKUP(B149,Forb_Table,32,FALSE))","v":""},{"$f":"IFERROR(VLOOKUP(B149,Monarch_ForbTable,34,FALSE),\"\")","v":""},null,null,null,null,null,null,null,null,null,"1"]
[null,{"$f":"C149","v":""},{"$f":"IF(ISERROR(VLOOKUP(B149,Forb_Table,30,FALSE)),\"\",VLOOKUP(B149,Forb_Table,30,FALSE))","v":""},{"$f":"IF(E149=\"\",IF(F149=\"\",\"\",F149/$F$285),F150/$F$285)","v":""},{"$f":"IF(D149=\"\",IF(F149=\"\",\"\",F149/I149),J149*D149)","v":""},{"$f":"IF(D149=\"\",IF(E149=\"\",\"\",E149*I149),E150*I149)","v":""},{"$f":"G149","v":""},null,null,null,null,null,{"$f":"M149","v":""},{"$f":"IFERROR(VLOOKUP(B150,Monarch_ForbSciNameTable,33,FALSE),\"\")","v":""}]
[35,null,{"$f":"IF(ISERROR(VLOOKUP(B151,Forb_Table,2,FALSE)),\"\",VLOOKUP(B151,Forb_Table,2,FALSE))","v":""},null,null,null,{"$f":"IF(ISNA(VLOOKUP(B151,Forb_Table,31,FALSE)),\"\",VLOOKUP(B151,Forb_Table,31,FALSE))","v":""},{"$f":"IF(ISNA(VLOOKUP(B151,Forb_Table,25,FALSE)),\"\",VLOOKUP(B151,Forb_Table,25,FALSE))","v":""},{"$f":"IF(ISNA(VLOOKUP(B151,Forb_Table,28,FALSE)),\"\",VLOOKUP(B151,Forb_Table,28,FALSE))","v":""},{"$f":"IF(ISNA(VLOOKUP(B151,Forb_Table,21,FALSE)),\"\",VLOOKUP(B151,Forb_Table,21,FALSE))","v":""},{"$f":"IF(D152>0,D152,0)","v":""},{"$f":"IF(D151=\"\",IF(E151=\"\",IF(F151=\"\",0,F151/I151*H151),E151*H151),E152*H151)","v":0},{"$f":"IF(ISNA(VLOOKUP(B151,Forb_Table,32,FALSE)),\"\",VLOOKUP(B151,Forb_Table,32,FALSE))","v":""},{"$f":"IFERROR(VLOOKUP(B151,Monarch_ForbTable,34,FALSE),\"\")","v":""},null,null,null,null,null,null,null,null,null,"1"]
[null,{"$f":"C151","v":""},{"$f":"IF(ISERROR(VLOOKUP(B151,Forb_Table,30,FALSE)),\"\",VLOOKUP(B151,Forb_Table,30,FALSE))","v":""},{"$f":"IF(E151=\"\",IF(F151=\"\",\"\",F151/$F$285),F152/$F$285)","v":""},{"$f":"IF(D151=\"\",IF(F151=\"\",\"\",F151/I151),J151*D151)","v":""},{"$f":"IF(D151=\"\",IF(E151=\"\",\"\",E151*I151),E152*I151)","v":""},{"$f":"G151","v":""},null,null,null,null,null,{"$f":"M151","v":""},{"$f":"IFERROR(VLOOKUP(B152,Monarch_ForbSciNameTable,33,FALSE),\"\")","v":""}]
[36,null,{"$f":"IF(ISERROR(VLOOKUP(B153,Forb_Table,2,FALSE)),\"\",VLOOKUP(B153,Forb_Table,2,FALSE))","v":""},null,null,null,{"$f":"IF(ISNA(VLOOKUP(B153,Forb_Table,31,FALSE)),\"\",VLOOKUP(B153,Forb_Table,31,FALSE))","v":""},{"$f":"IF(ISNA(VLOOKUP(B153,Forb_Table,25,FALSE)),\"\",VLOOKUP(B153,Forb_Table,25,FALSE))","v":""},{"$f":"IF(ISNA(VLOOKUP(B153,Forb_Table,28,FALSE)),\"\",VLOOKUP(B153,Forb_Table,28,FALSE))","v":""},{"$f":"IF(ISNA(VLOOKUP(B153,Forb_Table,21,FALSE)),\"\",VLOOKUP(B153,Forb_Table,21,FALSE))","v":""},{"$f":"IF(D154>0,D154,0)","v":""},{"$f":"IF(D153=\"\",IF(E153=\"\",IF(F153=\"\",0,F153/I153*H153),E153*H153),E154*H153)","v":0},{"$f":"IF(ISNA(VLOOKUP(B153,Forb_Table,32,FALSE)),\"\",VLOOKUP(B153,Forb_Table,32,FALSE))","v":""},{"$f":"IFERROR(VLOOKUP(B153,Monarch_ForbTable,34,FALSE),\"\")","v":""},null,null,null,null,null,null,null,null,null,"1"]
[null,{"$f":"C153","v":""},{"$f":"IF(ISERROR(VLOOKUP(B153,Forb_Table,30,FALSE)),\"\",VLOOKUP(B153,Forb_Table,30,FALSE))","v":""},{"$f":"IF(E153=\"\",IF(F153=\"\",\"\",F153/$F$285),F154/$F$285)","v":""},{"$f":"IF(D153=\"\",IF(F153=\"\",\"\",F153/I153),J153*D153)","v":""},{"$f":"IF(D153=\"\",IF(E153=\"\",\"\",E153*I153),E154*I153)","v":""},{"$f":"G153","v":""},null,null,null,null,null,{"$f":"M153","v":""},{"$f":"IFERROR(VLOOKUP(B154,Monarch_ForbSciNameTable,33,FALSE),\"\")","v":""}]
[37,null,{"$f":"IF(ISERROR(VLOOKUP(B155,Forb_Table,2,FALSE)),\"\",VLOOKUP(B155,Forb_Table,2,FALSE))","v":""},null,null,null,{"$f":"IF(ISNA(VLOOKUP(B155,Forb_Table,31,FALSE)),\"\",VLOOKUP(B155,Forb_Table,31,FALSE))","v":""},{"$f":"IF(ISNA(VLOOKUP(B155,Forb_Table,25,FALSE)),\"\",VLOOKUP(B155,Forb_Table,25,FALSE))","v":""},{"$f":"IF(ISNA(VLOOKUP(B155,Forb_Table,28,FALSE)),\"\",VLOOKUP(B155,Forb_Table,28,FALSE))","v":""},{"$f":"IF(ISNA(VLOOKUP(B155,Forb_Table,21,FALSE)),\"\",VLOOKUP(B155,Forb_Table,21,FALSE))","v":""},{"$f":"IF(D156>0,D156,0)","v":""},{"$f":"IF(D155=\"\",IF(E155=\"\",IF(F155=\"\",0,F155/I155*H155),E155*H155),E156*H155)","v":0},{"$f":"IF(ISNA(VLOOKUP(B155,Forb_Table,32,FALSE)),\"\",VLOOKUP(B155,Forb_Table,32,FALSE))","v":""},{"$f":"IFERROR(VLOOKUP(B155,Monarch_ForbTable,34,FALSE),\"\")","v":""},null,null,null,null,null,null,null,null,null,"1"]
[null,{"$f":"C155","v":""},{"$f":"IF(ISERROR(VLOOKUP(B155,Forb_Table,30,FALSE)),\"\",VLOOKUP(B155,Forb_Table,30,FALSE))","v":""},{"$f":"IF(E155=\"\",IF(F155=\"\",\"\",F155/$F$285),F156/$F$285)","v":""},{"$f":"IF(D155=\"\",IF(F155=\"\",\"\",F155/I155),J155*D155)","v":""},{"$f":"IF(D155=\"\",IF(E155=\"\",\"\",E155*I155),E156*I155)","v":""},{"$f":"G155","v":""},null,null,null,null,null,{"$f":"M155","v":""},{"$f":"IFERROR(VLOOKUP(B156,Monarch_ForbSciNameTable,33,FALSE),\"\")","v":""}]
[38,null,{"$f":"IF(ISERROR(VLOOKUP(B157,Forb_Table,2,FALSE)),\"\",VLOOKUP(B157,Forb_Table,2,FALSE))","v":""},null,null,null,{"$f":"IF(ISNA(VLOOKUP(B157,Forb_Table,31,FALSE)),\"\",VLOOKUP(B157,Forb_Table,31,FALSE))","v":""},{"$f":"IF(ISNA(VLOOKUP(B157,Forb_Table,25,FALSE)),\"\",VLOOKUP(B157,Forb_Table,25,FALSE))","v":""},{"$f":"IF(ISNA(VLOOKUP(B157,Forb_Table,28,FALSE)),\"\",VLOOKUP(B157,Forb_Table,28,FALSE))","v":""},{"$f":"IF(ISNA(VLOOKUP(B157,Forb_Table,21,FALSE)),\"\",VLOOKUP(B157,Forb_Table,21,FALSE))","v":""},{"$f":"IF(D158>0,D158,0)","v":""},{"$f":"IF(D157=\"\",IF(E157=\"\",IF(F157=\"\",0,F157/I157*H157),E157*H157),E158*H157)","v":0},{"$f":"IF(ISNA(VLOOKUP(B157,Forb_Table,32,FALSE)),\"\",VLOOKUP(B157,Forb_Table,32,FALSE))","v":""},{"$f":"IFERROR(VLOOKUP(B157,Monarch_ForbTable,34,FALSE),\"\")","v":""},null,null,null,null,null,null,null,null,null,"1"]
[null,{"$f":"C157","v":""},{"$f":"IF(ISERROR(VLOOKUP(B157,Forb_Table,30,FALSE)),\"\",VLOOKUP(B157,Forb_Table,30,FALSE))","v":""},{"$f":"IF(E157=\"\",IF(F157=\"\",\"\",F157/$F$285),F158/$F$285)","v":""},{"$f":"IF(D157=\"\",IF(F157=\"\",\"\",F157/I157),J157*D157)","v":""},{"$f":"IF(D157=\"\",IF(E157=\"\",\"\",E157*I157),E158*I157)","v":""},{"$f":"G157","v":""},null,null,null,null,null,{"$f":"M157","v":""},{"$f":"IFERROR(VLOOKUP(B158,Monarch_ForbSciNameTable,33,FALSE),\"\")","v":""}]
[39,null,{"$f":"IF(ISERROR(VLOOKUP(B159,Forb_Table,2,FALSE)),\"\",VLOOKUP(B159,Forb_Table,2,FALSE))","v":""},null,null,null,{"$f":"IF(ISNA(VLOOKUP(B159,Forb_Table,31,FALSE)),\"\",VLOOKUP(B159,Forb_Table,31,FALSE))","v":""},{"$f":"IF(ISNA(VLOOKUP(B159,Forb_Table,25,FALSE)),\"\",VLOOKUP(B159,Forb_Table,25,FALSE))","v":""},{"$f":"IF(ISNA(VLOOKUP(B159,Forb_Table,28,FALSE)),\"\",VLOOKUP(B159,Forb_Table,28,FALSE))","v":""},{"$f":"IF(ISNA(VLOOKUP(B159,Forb_Table,21,FALSE)),\"\",VLOOKUP(B159,Forb_Table,21,FALSE))","v":""},{"$f":"IF(D160>0,D160,0)","v":""},{"$f":"IF(D159=\"\",IF(E159=\"\",IF(F159=\"\",0,F159/I159*H159),E159*H159),E160*H159)","v":0},{"$f":"IF(ISNA(VLOOKUP(B159,Forb_Table,32,FALSE)),\"\",VLOOKUP(B159,Forb_Table,32,FALSE))","v":""},{"$f":"IFERROR(VLOOKUP(B159,Monarch_ForbTable,34,FALSE),\"\")","v":""},null,null,null,null,null,null,null,null,null,"1"]
[null,{"$f":"C159","v":""},{"$f":"IF(ISERROR(VLOOKUP(B159,Forb_Table,30,FALSE)),\"\",VLOOKUP(B159,Forb_Table,30,FALSE))","v":""},{"$f":"IF(E159=\"\",IF(F159=\"\",\"\",F159/$F$285),F160/$F$285)","v":""},{"$f":"IF(D159=\"\",IF(F159=\"\",\"\",F159/I159),J159*D159)","v":""},{"$f":"IF(D159=\"\",IF(E159=\"\",\"\",E159*I159),E160*I159)","v":""},{"$f":"G159","v":""},null,null,null,null,null,{"$f":"M159","v":""},{"$f":"IFERROR(VLOOKUP(B160,Monarch_ForbSciNameTable,33,FALSE),\"\")","v":""}]
[40,null,{"$f":"IF(ISERROR(VLOOKUP(B161,Forb_Table,2,FALSE)),\"\",VLOOKUP(B161,Forb_Table,2,FALSE))","v":""},null,null,null,{"$f":"IF(ISNA(VLOOKUP(B161,Forb_Table,31,FALSE)),\"\",VLOOKUP(B161,Forb_Table,31,FALSE))","v":""},{"$f":"IF(ISNA(VLOOKUP(B161,Forb_Table,25,FALSE)),\"\",VLOOKUP(B161,Forb_Table,25,FALSE))","v":""},{"$f":"IF(ISNA(VLOOKUP(B161,Forb_Table,28,FALSE)),\"\",VLOOKUP(B161,Forb_Table,28,FALSE))","v":""},{"$f":"IF(ISNA(VLOOKUP(B161,Forb_Table,21,FALSE)),\"\",VLOOKUP(B161,Forb_Table,21,FALSE))","v":""},{"$f":"IF(D162>0,D162,0)","v":""},{"$f":"IF(D161=\"\",IF(E161=\"\",IF(F161=\"\",0,F161/I161*H161),E161*H161),E162*H161)","v":0},{"$f":"IF(ISNA(VLOOKUP(B161,Forb_Table,32,FALSE)),\"\",VLOOKUP(B161,Forb_Table,32,FALSE))","v":""},{"$f":"IFERROR(VLOOKUP(B161,Monarch_ForbTable,34,FALSE),\"\")","v":""},null,null,null,null,null,null,null,null,null,"1"]
[null,{"$f":"C161","v":""},{"$f":"IF(ISERROR(VLOOKUP(B161,Forb_Table,30,FALSE)),\"\",VLOOKUP(B161,Forb_Table,30,FALSE))","v":""},{"$f":"IF(E161=\"\",IF(F161=\"\",\"\",F161/$F$285),F162/$F$285)","v":""},null,{"$f":"IF(D161=\"\",IF(E161=\"\",\"\",E161*I161),E162*I161)","v":""},{"$f":"G161","v":""},null,null,null,null,null,{"$f":"M161","v":""},{"$f":"IFERROR(VLOOKUP(B162,Monarch_ForbSciNameTable,33,FALSE),\"\")","v":""}]
[41,null,{"$f":"IF(ISERROR(VLOOKUP(B163,Forb_Table,2,FALSE)),\"\",VLOOKUP(B163,Forb_Table,2,FALSE))","v":""},null,null,null,{"$f":"IF(ISNA(VLOOKUP(B163,Forb_Table,31,FALSE)),\"\",VLOOKUP(B163,Forb_Table,31,FALSE))","v":""},{"$f":"IF(ISNA(VLOOKUP(B163,Forb_Table,25,FALSE)),\"\",VLOOKUP(B163,Forb_Table,25,FALSE))","v":""},{"$f":"IF(ISNA(VLOOKUP(B163,Forb_Table,28,FALSE)),\"\",VLOOKUP(B163,Forb_Table,28,FALSE))","v":""},{"$f":"IF(ISNA(VLOOKUP(B163,Forb_Table,21,FALSE)),\"\",VLOOKUP(B163,Forb_Table,21,FALSE))","v":""},{"$f":"IF(D164>0,D164,0)","v":""},{"$f":"IF(D163=\"\",IF(E163=\"\",IF(F163=\"\",0,F163/I163*H163),E163*H163),E164*H163)","v":0},{"$f":"IF(ISNA(VLOOKUP(B163,Forb_Table,32,FALSE)),\"\",VLOOKUP(B163,Forb_Table,32,FALSE))","v":""},{"$f":"IFERROR(VLOOKUP(B163,Monarch_ForbTable,34,FALSE),\"\")","v":""}]
[null,{"$f":"C163","v":""},{"$f":"IF(ISERROR(VLOOKUP(B163,Forb_Table,30,FALSE)),\"\",VLOOKUP(B163,Forb_Table,30,FALSE))","v":""},{"$f":"IF(E163=\"\",IF(F163=\"\",\"\",F163/$F$285),F164/$F$285)","v":""},{"$f":"IF(D163=\"\",IF(F163=\"\",\"\",F163/I163),J163*D163)","v":""},{"$f":"IF(D163=\"\",IF(E163=\"\",\"\",E163*I163),E164*I163)","v":""},{"$f":"G163","v":""},null,null,null,null,null,{"$f":"M163","v":""},{"$f":"IFERROR(VLOOKUP(B164,Monarch_ForbSciNameTable,33,FALSE),\"\")","v":""}]
[42,null,{"$f":"IF(ISERROR(VLOOKUP(B165,Forb_Table,2,FALSE)),\"\",VLOOKUP(B165,Forb_Table,2,FALSE))","v":""},null,null,null,{"$f":"IF(ISNA(VLOOKUP(B165,Forb_Table,31,FALSE)),\"\",VLOOKUP(B165,Forb_Table,31,FALSE))","v":""},{"$f":"IF(ISNA(VLOOKUP(B165,Forb_Table,25,FALSE)),\"\",VLOOKUP(B165,Forb_Table,25,FALSE))","v":""},{"$f":"IF(ISNA(VLOOKUP(B165,Forb_Table,28,FALSE)),\"\",VLOOKUP(B165,Forb_Table,28,FALSE))","v":""},{"$f":"IF(ISNA(VLOOKUP(B165,Forb_Table,21,FALSE)),\"\",VLOOKUP(B165,Forb_Table,21,FALSE))","v":""},{"$f":"IF(D166>0,D166,0)","v":""},{"$f":"IF(D165=\"\",IF(E165=\"\",IF(F165=\"\",0,F165/I165*H165),E165*H165),E166*H165)","v":0},{"$f":"IF(ISNA(VLOOKUP(B165,Forb_Table,32,FALSE)),\"\",VLOOKUP(B165,Forb_Table,32,FALSE))","v":""},{"$f":"IFERROR(VLOOKUP(B165,Monarch_ForbTable,34,FALSE),\"\")","v":""}]
[null,{"$f":"C165","v":""},{"$f":"IF(ISERROR(VLOOKUP(B165,Forb_Table,30,FALSE)),\"\",VLOOKUP(B165,Forb_Table,30,FALSE))","v":""},{"$f":"IF(E165=\"\",IF(F165=\"\",\"\",F165/$F$285),F166/$F$285)","v":""},{"$f":"IF(D165=\"\",IF(F165=\"\",\"\",F165/I165),J165*D165)","v":""},{"$f":"IF(D165=\"\",IF(E165=\"\",\"\",E165*I165),E166*I165)","v":""},{"$f":"G165","v":""},null,null,null,null,null,{"$f":"M165","v":""},{"$f":"IFERROR(VLOOKUP(B166,Monarch_ForbSciNameTable,33,FALSE),\"\")","v":""}]
[43,null,{"$f":"IF(ISERROR(VLOOKUP(B167,Forb_Table,2,FALSE)),\"\",VLOOKUP(B167,Forb_Table,2,FALSE))","v":""},null,null,null,{"$f":"IF(ISNA(VLOOKUP(B167,Forb_Table,31,FALSE)),\"\",VLOOKUP(B167,Forb_Table,31,FALSE))","v":""},{"$f":"IF(ISNA(VLOOKUP(B167,Forb_Table,25,FALSE)),\"\",VLOOKUP(B167,Forb_Table,25,FALSE))","v":""},{"$f":"IF(ISNA(VLOOKUP(B167,Forb_Table,28,FALSE)),\"\",VLOOKUP(B167,Forb_Table,28,FALSE))","v":""},{"$f":"IF(ISNA(VLOOKUP(B167,Forb_Table,21,FALSE)),\"\",VLOOKUP(B167,Forb_Table,21,FALSE))","v":""},{"$f":"IF(D168>0,D168,0)","v":""},{"$f":"IF(D167=\"\",IF(E167=\"\",IF(F167=\"\",0,F167/I167*H167),E167*H167),E168*H167)","v":0},{"$f":"IF(ISNA(VLOOKUP(B167,Forb_Table,32,FALSE)),\"\",VLOOKUP(B167,Forb_Table,32,FALSE))","v":""},{"$f":"IFERROR(VLOOKUP(B167,Monarch_ForbTable,34,FALSE),\"\")","v":""}]
[null,{"$f":"C167","v":""},{"$f":"IF(ISERROR(VLOOKUP(B167,Forb_Table,30,FALSE)),\"\",VLOOKUP(B167,Forb_Table,30,FALSE))","v":""},{"$f":"IF(E167=\"\",IF(F167=\"\",\"\",F167/$F$285),F168/$F$285)","v":""},{"$f":"IF(D167=\"\",IF(F167=\"\",\"\",F167/I167),J167*D167)","v":""},{"$f":"IF(D167=\"\",IF(E167=\"\",\"\",E167*I167),E168*I167)","v":""},{"$f":"G167","v":""},null,null,null,null,null,{"$f":"M167","v":""},{"$f":"IFERROR(VLOOKUP(B168,Monarch_ForbSciNameTable,33,FALSE),\"\")","v":""}]
[44,null,{"$f":"IF(ISERROR(VLOOKUP(B169,Forb_Table,2,FALSE)),\"\",VLOOKUP(B169,Forb_Table,2,FALSE))","v":""},null,null,null,{"$f":"IF(ISNA(VLOOKUP(B169,Forb_Table,31,FALSE)),\"\",VLOOKUP(B169,Forb_Table,31,FALSE))","v":""},{"$f":"IF(ISNA(VLOOKUP(B169,Forb_Table,25,FALSE)),\"\",VLOOKUP(B169,Forb_Table,25,FALSE))","v":""},{"$f":"IF(ISNA(VLOOKUP(B169,Forb_Table,28,FALSE)),\"\",VLOOKUP(B169,Forb_Table,28,FALSE))","v":""},{"$f":"IF(ISNA(VLOOKUP(B169,Forb_Table,21,FALSE)),\"\",VLOOKUP(B169,Forb_Table,21,FALSE))","v":""},{"$f":"IF(D170>0,D170,0)","v":""},{"$f":"IF(D169=\"\",IF(E169=\"\",IF(F169=\"\",0,F169/I169*H169),E169*H169),E170*H169)","v":0},{"$f":"IF(ISNA(VLOOKUP(B169,Forb_Table,32,FALSE)),\"\",VLOOKUP(B169,Forb_Table,32,FALSE))","v":""},{"$f":"IFERROR(VLOOKUP(B169,Monarch_ForbTable,34,FALSE),\"\")","v":""}]
[null,{"$f":"C169","v":""},{"$f":"IF(ISERROR(VLOOKUP(B169,Forb_Table,30,FALSE)),\"\",VLOOKUP(B169,Forb_Table,30,FALSE))","v":""},{"$f":"IF(E169=\"\",IF(F169=\"\",\"\",F169/$F$285),F170/$F$285)","v":""},{"$f":"IF(D169=\"\",IF(F169=\"\",\"\",F169/I169),J169*D169)","v":""},{"$f":"IF(D169=\"\",IF(E169=\"\",\"\",E169*I169),E170*I169)","v":""},{"$f":"G169","v":""},null,null,null,null,null,{"$f":"M169","v":""},{"$f":"IFERROR(VLOOKUP(B170,Monarch_ForbSciNameTable,33,FALSE),\"\")","v":""}]
[45,null,{"$f":"IF(ISERROR(VLOOKUP(B171,Forb_Table,2,FALSE)),\"\",VLOOKUP(B171,Forb_Table,2,FALSE))","v":""},null,null,null,{"$f":"IF(ISNA(VLOOKUP(B171,Forb_Table,31,FALSE)),\"\",VLOOKUP(B171,Forb_Table,31,FALSE))","v":""},{"$f":"IF(ISNA(VLOOKUP(B171,Forb_Table,25,FALSE)),\"\",VLOOKUP(B171,Forb_Table,25,FALSE))","v":""},{"$f":"IF(ISNA(VLOOKUP(B171,Forb_Table,28,FALSE)),\"\",VLOOKUP(B171,Forb_Table,28,FALSE))","v":""},{"$f":"IF(ISNA(VLOOKUP(B171,Forb_Table,21,FALSE)),\"\",VLOOKUP(B171,Forb_Table,21,FALSE))","v":""},{"$f":"IF(D172>0,D172,0)","v":""},{"$f":"IF(D171=\"\",IF(E171=\"\",IF(F171=\"\",0,F171/I171*H171),E171*H171),E172*H171)","v":0},{"$f":"IF(ISNA(VLOOKUP(B171,Forb_Table,32,FALSE)),\"\",VLOOKUP(B171,Forb_Table,32,FALSE))","v":""},{"$f":"IFERROR(VLOOKUP(B171,Monarch_ForbTable,34,FALSE),\"\")","v":""}]
[null,{"$f":"C171","v":""},{"$f":"IF(ISERROR(VLOOKUP(B171,Forb_Table,30,FALSE)),\"\",VLOOKUP(B171,Forb_Table,30,FALSE))","v":""},{"$f":"IF(E171=\"\",IF(F171=\"\",\"\",F171/$F$285),F172/$F$285)","v":""},{"$f":"IF(D171=\"\",IF(F171=\"\",\"\",F171/I171),J171*D171)","v":""},{"$f":"IF(D171=\"\",IF(E171=\"\",\"\",E171*I171),E172*I171)","v":""},{"$f":"G171","v":""},null,null,null,null,null,{"$f":"M171","v":""},{"$f":"IFERROR(VLOOKUP(B172,Monarch_ForbSciNameTable,33,FALSE),\"\")","v":""}]
[46,null,{"$f":"IF(ISERROR(VLOOKUP(B173,Forb_Table,2,FALSE)),\"\",VLOOKUP(B173,Forb_Table,2,FALSE))","v":""},null,null,null,{"$f":"IF(ISNA(VLOOKUP(B173,Forb_Table,31,FALSE)),\"\",VLOOKUP(B173,Forb_Table,31,FALSE))","v":""},{"$f":"IF(ISNA(VLOOKUP(B173,Forb_Table,25,FALSE)),\"\",VLOOKUP(B173,Forb_Table,25,FALSE))","v":""},{"$f":"IF(ISNA(VLOOKUP(B173,Forb_Table,28,FALSE)),\"\",VLOOKUP(B173,Forb_Table,28,FALSE))","v":""},{"$f":"IF(ISNA(VLOOKUP(B173,Forb_Table,21,FALSE)),\"\",VLOOKUP(B173,Forb_Table,21,FALSE))","v":""},{"$f":"IF(D174>0,D174,0)","v":""},{"$f":"IF(D173=\"\",IF(E173=\"\",IF(F173=\"\",0,F173/I173*H173),E173*H173),E174*H173)","v":0},{"$f":"IF(ISNA(VLOOKUP(B173,Forb_Table,32,FALSE)),\"\",VLOOKUP(B173,Forb_Table,32,FALSE))","v":""},{"$f":"IFERROR(VLOOKUP(B173,Monarch_ForbTable,34,FALSE),\"\")","v":""}]
[null,{"$f":"C173","v":""},{"$f":"IF(ISERROR(VLOOKUP(B173,Forb_Table,30,FALSE)),\"\",VLOOKUP(B173,Forb_Table,30,FALSE))","v":""},{"$f":"IF(E173=\"\",IF(F173=\"\",\"\",F173/$F$285),F174/$F$285)","v":""},{"$f":"IF(D173=\"\",IF(F173=\"\",\"\",F173/I173),J173*D173)","v":""},{"$f":"IF(D173=\"\",IF(E173=\"\",\"\",E173*I173),E174*I173)","v":""},{"$f":"G173","v":""},null,null,null,null,null,{"$f":"M173","v":""},{"$f":"IFERROR(VLOOKUP(B174,Monarch_ForbSciNameTable,33,FALSE),\"\")","v":""}]
[47,null,{"$f":"IF(ISERROR(VLOOKUP(B175,Forb_Table,2,FALSE)),\"\",VLOOKUP(B175,Forb_Table,2,FALSE))","v":""},null,null,null,{"$f":"IF(ISNA(VLOOKUP(B175,Forb_Table,31,FALSE)),\"\",VLOOKUP(B175,Forb_Table,31,FALSE))","v":""},{"$f":"IF(ISNA(VLOOKUP(B175,Forb_Table,25,FALSE)),\"\",VLOOKUP(B175,Forb_Table,25,FALSE))","v":""},{"$f":"IF(ISNA(VLOOKUP(B175,Forb_Table,28,FALSE)),\"\",VLOOKUP(B175,Forb_Table,28,FALSE))","v":""},{"$f":"IF(ISNA(VLOOKUP(B175,Forb_Table,21,FALSE)),\"\",VLOOKUP(B175,Forb_Table,21,FALSE))","v":""},{"$f":"IF(D176>0,D176,0)","v":""},{"$f":"IF(D175=\"\",IF(E175=\"\",IF(F175=\"\",0,F175/I175*H175),E175*H175),E176*H175)","v":0},{"$f":"IF(ISNA(VLOOKUP(B175,Forb_Table,32,FALSE)),\"\",VLOOKUP(B175,Forb_Table,32,FALSE))","v":""},{"$f":"IFERROR(VLOOKUP(B175,Monarch_ForbTable,34,FALSE),\"\")","v":""}]
[null,{"$f":"C175","v":""},{"$f":"IF(ISERROR(VLOOKUP(B175,Forb_Table,30,FALSE)),\"\",VLOOKUP(B175,Forb_Table,30,FALSE))","v":""},{"$f":"IF(E175=\"\",IF(F175=\"\",\"\",F175/$F$285),F176/$F$285)","v":""},{"$f":"IF(D175=\"\",IF(F175=\"\",\"\",F175/I175),J175*D175)","v":""},{"$f":"IF(D175=\"\",IF(E175=\"\",\"\",E175*I175),E176*I175)","v":""},{"$f":"G175","v":""},null,null,null,null,null,{"$f":"M175","v":""},{"$f":"IFERROR(VLOOKUP(B176,Monarch_ForbSciNameTable,33,FALSE),\"\")","v":""}]
[48,null,{"$f":"IF(ISERROR(VLOOKUP(B177,Forb_Table,2,FALSE)),\"\",VLOOKUP(B177,Forb_Table,2,FALSE))","v":""},null,null,null,{"$f":"IF(ISNA(VLOOKUP(B177,Forb_Table,31,FALSE)),\"\",VLOOKUP(B177,Forb_Table,31,FALSE))","v":""},{"$f":"IF(ISNA(VLOOKUP(B177,Forb_Table,25,FALSE)),\"\",VLOOKUP(B177,Forb_Table,25,FALSE))","v":""},{"$f":"IF(ISNA(VLOOKUP(B177,Forb_Table,28,FALSE)),\"\",VLOOKUP(B177,Forb_Table,28,FALSE))","v":""},{"$f":"IF(ISNA(VLOOKUP(B177,Forb_Table,21,FALSE)),\"\",VLOOKUP(B177,Forb_Table,21,FALSE))","v":""},{"$f":"IF(D178>0,D178,0)","v":""},{"$f":"IF(D177=\"\",IF(E177=\"\",IF(F177=\"\",0,F177/I177*H177),E177*H177),E178*H177)","v":0},{"$f":"IF(ISNA(VLOOKUP(B177,Forb_Table,32,FALSE)),\"\",VLOOKUP(B177,Forb_Table,32,FALSE))","v":""},{"$f":"IFERROR(VLOOKUP(B177,Monarch_ForbTable,34,FALSE),\"\")","v":""}]
[null,{"$f":"C177","v":""},{"$f":"IF(ISERROR(VLOOKUP(B177,Forb_Table,30,FALSE)),\"\",VLOOKUP(B177,Forb_Table,30,FALSE))","v":""},{"$f":"IF(E177=\"\",IF(F177=\"\",\"\",F177/$F$285),F178/$F$285)","v":""},{"$f":"IF(D177=\"\",IF(F177=\"\",\"\",F177/I177),J177*D177)","v":""},{"$f":"IF(D177=\"\",IF(E177=\"\",\"\",E177*I177),E178*I177)","v":""},{"$f":"G177","v":""},null,null,null,null,null,{"$f":"M177","v":""},{"$f":"IFERROR(VLOOKUP(B178,Monarch_ForbSciNameTable,33,FALSE),\"\")","v":""}]
[49,null,{"$f":"IF(ISERROR(VLOOKUP(B179,Forb_Table,2,FALSE)),\"\",VLOOKUP(B179,Forb_Table,2,FALSE))","v":""},null,null,null,{"$f":"IF(ISNA(VLOOKUP(B179,Forb_Table,31,FALSE)),\"\",VLOOKUP(B179,Forb_Table,31,FALSE))","v":""},{"$f":"IF(ISNA(VLOOKUP(B179,Forb_Table,25,FALSE)),\"\",VLOOKUP(B179,Forb_Table,25,FALSE))","v":""},{"$f":"IF(ISNA(VLOOKUP(B179,Forb_Table,28,FALSE)),\"\",VLOOKUP(B179,Forb_Table,28,FALSE))","v":""},{"$f":"IF(ISNA(VLOOKUP(B179,Forb_Table,21,FALSE)),\"\",VLOOKUP(B179,Forb_Table,21,FALSE))","v":""},{"$f":"IF(D180>0,D180,0)","v":""},{"$f":"IF(D179=\"\",IF(E179=\"\",IF(F179=\"\",0,F179/I179*H179),E179*H179),E180*H179)","v":0},{"$f":"IF(ISNA(VLOOKUP(B179,Forb_Table,32,FALSE)),\"\",VLOOKUP(B179,Forb_Table,32,FALSE))","v":""},{"$f":"IFERROR(VLOOKUP(B179,Monarch_ForbTable,34,FALSE),\"\")","v":""}]
[null,{"$f":"C179","v":""},{"$f":"IF(ISERROR(VLOOKUP(B179,Forb_Table,30,FALSE)),\"\",VLOOKUP(B179,Forb_Table,30,FALSE))","v":""},{"$f":"IF(E179=\"\",IF(F179=\"\",\"\",F179/$F$285),F180/$F$285)","v":""},{"$f":"IF(D179=\"\",IF(F179=\"\",\"\",F179/I179),J179*D179)","v":""},{"$f":"IF(D179=\"\",IF(E179=\"\",\"\",E179*I179),E180*I179)","v":""},{"$f":"G179","v":""},null,null,null,null,null,{"$f":"M179","v":""},{"$f":"IFERROR(VLOOKUP(B180,Monarch_ForbSciNameTable,33,FALSE),\"\")","v":""}]
[50,null,{"$f":"IF(ISERROR(VLOOKUP(B181,Forb_Table,2,FALSE)),\"\",VLOOKUP(B181,Forb_Table,2,FALSE))","v":""},null,null,null,{"$f":"IF(ISNA(VLOOKUP(B181,Forb_Table,31,FALSE)),\"\",VLOOKUP(B181,Forb_Table,31,FALSE))","v":""},{"$f":"IF(ISNA(VLOOKUP(B181,Forb_Table,25,FALSE)),\"\",VLOOKUP(B181,Forb_Table,25,FALSE))","v":""},{"$f":"IF(ISNA(VLOOKUP(B181,Forb_Table,28,FALSE)),\"\",VLOOKUP(B181,Forb_Table,28,FALSE))","v":""},{"$f":"IF(ISNA(VLOOKUP(B181,Forb_Table,21,FALSE)),\"\",VLOOKUP(B181,Forb_Table,21,FALSE))","v":""},{"$f":"IF(D182>0,D182,0)","v":""},{"$f":"IF(D181=\"\",IF(E181=\"\",IF(F181=\"\",0,F181/I181*H181),E181*H181),E182*H181)","v":0},{"$f":"IF(ISNA(VLOOKUP(B181,Forb_Table,32,FALSE)),\"\",VLOOKUP(B181,Forb_Table,32,FALSE))","v":""},{"$f":"IFERROR(VLOOKUP(B181,Monarch_ForbTable,34,FALSE),\"\")","v":""}]
[null,{"$f":"C181","v":""},{"$f":"IF(ISERROR(VLOOKUP(B181,Forb_Table,30,FALSE)),\"\",VLOOKUP(B181,Forb_Table,30,FALSE))","v":""},{"$f":"IF(E181=\"\",IF(F181=\"\",\"\",F181/$F$285),F182/$F$285)","v":""},{"$f":"IF(D181=\"\",IF(F181=\"\",\"\",F181/I181),J181*D181)","v":""},{"$f":"IF(D181=\"\",IF(E181=\"\",\"\",E181*I181),E182*I181)","v":""},{"$f":"G181","v":""},null,null,null,null,null,{"$f":"M181","v":""},{"$f":"IFERROR(VLOOKUP(B182,Monarch_ForbSciNameTable,33,FALSE),\"\")","v":""}]
[51,null,{"$f":"IF(ISERROR(VLOOKUP(B183,Forb_Table,2,FALSE)),\"\",VLOOKUP(B183,Forb_Table,2,FALSE))","v":""},null,null,null,{"$f":"IF(ISNA(VLOOKUP(B183,Forb_Table,31,FALSE)),\"\",VLOOKUP(B183,Forb_Table,31,FALSE))","v":""},{"$f":"IF(ISNA(VLOOKUP(B183,Forb_Table,25,FALSE)),\"\",VLOOKUP(B183,Forb_Table,25,FALSE))","v":""},{"$f":"IF(ISNA(VLOOKUP(B183,Forb_Table,28,FALSE)),\"\",VLOOKUP(B183,Forb_Table,28,FALSE))","v":""},{"$f":"IF(ISNA(VLOOKUP(B183,Forb_Table,21,FALSE)),\"\",VLOOKUP(B183,Forb_Table,21,FALSE))","v":""},{"$f":"IF(D184>0,D184,0)","v":""},{"$f":"IF(D183=\"\",IF(E183=\"\",IF(F183=\"\",0,F183/I183*H183),E183*H183),E184*H183)","v":0},{"$f":"IF(ISNA(VLOOKUP(B183,Forb_Table,32,FALSE)),\"\",VLOOKUP(B183,Forb_Table,32,FALSE))","v":""},{"$f":"IFERROR(VLOOKUP(B183,Monarch_ForbTable,34,FALSE),\"\")","v":""}]
[null,{"$f":"C183","v":""},{"$f":"IF(ISERROR(VLOOKUP(B183,Forb_Table,30,FALSE)),\"\",VLOOKUP(B183,Forb_Table,30,FALSE))","v":""},{"$f":"IF(E183=\"\",IF(F183=\"\",\"\",F183/$F$285),F184/$F$285)","v":""},{"$f":"IF(D183=\"\",IF(F183=\"\",\"\",F183/I183),J183*D183)","v":""},{"$f":"IF(D183=\"\",IF(E183=\"\",\"\",E183*I183),E184*I183)","v":""},{"$f":"G183","v":""},null,null,null,null,null,{"$f":"M183","v":""},{"$f":"IFERROR(VLOOKUP(B184,Monarch_ForbSciNameTable,33,FALSE),\"\")","v":""}]
[52,null,{"$f":"IF(ISERROR(VLOOKUP(B185,Forb_Table,2,FALSE)),\"\",VLOOKUP(B185,Forb_Table,2,FALSE))","v":""},null,null,null,{"$f":"IF(ISNA(VLOOKUP(B185,Forb_Table,31,FALSE)),\"\",VLOOKUP(B185,Forb_Table,31,FALSE))","v":""},{"$f":"IF(ISNA(VLOOKUP(B185,Forb_Table,25,FALSE)),\"\",VLOOKUP(B185,Forb_Table,25,FALSE))","v":""},{"$f":"IF(ISNA(VLOOKUP(B185,Forb_Table,28,FALSE)),\"\",VLOOKUP(B185,Forb_Table,28,FALSE))","v":""},{"$f":"IF(ISNA(VLOOKUP(B185,Forb_Table,21,FALSE)),\"\",VLOOKUP(B185,Forb_Table,21,FALSE))","v":""},{"$f":"IF(D186>0,D186,0)","v":""},{"$f":"IF(D185=\"\",IF(E185=\"\",IF(F185=\"\",0,F185/I185*H185),E185*H185),E186*H185)","v":0},{"$f":"IF(ISNA(VLOOKUP(B185,Forb_Table,32,FALSE)),\"\",VLOOKUP(B185,Forb_Table,32,FALSE))","v":""},{"$f":"IFERROR(VLOOKUP(B185,Monarch_ForbTable,34,FALSE),\"\")","v":""}]
[null,{"$f":"C185","v":""},{"$f":"IF(ISERROR(VLOOKUP(B185,Forb_Table,30,FALSE)),\"\",VLOOKUP(B185,Forb_Table,30,FALSE))","v":""},{"$f":"IF(E185=\"\",IF(F185=\"\",\"\",F185/$F$285),F186/$F$285)","v":""},{"$f":"IF(D185=\"\",IF(F185=\"\",\"\",F185/I185),J185*D185)","v":""},{"$f":"IF(D185=\"\",IF(E185=\"\",\"\",E185*I185),E186*I185)","v":""},{"$f":"G185","v":""},null,null,null,null,null,{"$f":"M185","v":""},{"$f":"IFERROR(VLOOKUP(B186,Monarch_ForbSciNameTable,33,FALSE),\"\")","v":""}]
[53,null,{"$f":"IF(ISERROR(VLOOKUP(B187,Forb_Table,2,FALSE)),\"\",VLOOKUP(B187,Forb_Table,2,FALSE))","v":""},null,null,null,{"$f":"IF(ISNA(VLOOKUP(B187,Forb_Table,31,FALSE)),\"\",VLOOKUP(B187,Forb_Table,31,FALSE))","v":""},{"$f":"IF(ISNA(VLOOKUP(B187,Forb_Table,25,FALSE)),\"\",VLOOKUP(B187,Forb_Table,25,FALSE))","v":""},{"$f":"IF(ISNA(VLOOKUP(B187,Forb_Table,28,FALSE)),\"\",VLOOKUP(B187,Forb_Table,28,FALSE))","v":""},{"$f":"IF(ISNA(VLOOKUP(B187,Forb_Table,21,FALSE)),\"\",VLOOKUP(B187,Forb_Table,21,FALSE))","v":""},{"$f":"IF(D188>0,D188,0)","v":""},{"$f":"IF(D187=\"\",IF(E187=\"\",IF(F187=\"\",0,F187/I187*H187),E187*H187),E188*H187)","v":0},{"$f":"IF(ISNA(VLOOKUP(B187,Forb_Table,32,FALSE)),\"\",VLOOKUP(B187,Forb_Table,32,FALSE))","v":""},{"$f":"IFERROR(VLOOKUP(B187,Monarch_ForbTable,34,FALSE),\"\")","v":""}]
[null,{"$f":"C187","v":""},{"$f":"IF(ISERROR(VLOOKUP(B187,Forb_Table,30,FALSE)),\"\",VLOOKUP(B187,Forb_Table,30,FALSE))","v":""},{"$f":"IF(E187=\"\",IF(F187=\"\",\"\",F187/$F$285),F188/$F$285)","v":""},{"$f":"IF(D187=\"\",IF(F187=\"\",\"\",F187/I187),J187*D187)","v":""},{"$f":"IF(D187=\"\",IF(E187=\"\",\"\",E187*I187),E188*I187)","v":""},{"$f":"G187","v":""},null,null,null,null,null,{"$f":"M187","v":""},{"$f":"IFERROR(VLOOKUP(B188,Monarch_ForbSciNameTable,33,FALSE),\"\")","v":""}]
[54,null,{"$f":"IF(ISERROR(VLOOKUP(B189,Forb_Table,2,FALSE)),\"\",VLOOKUP(B189,Forb_Table,2,FALSE))","v":""},null,null,null,{"$f":"IF(ISNA(VLOOKUP(B189,Forb_Table,31,FALSE)),\"\",VLOOKUP(B189,Forb_Table,31,FALSE))","v":""},{"$f":"IF(ISNA(VLOOKUP(B189,Forb_Table,25,FALSE)),\"\",VLOOKUP(B189,Forb_Table,25,FALSE))","v":""},{"$f":"IF(ISNA(VLOOKUP(B189,Forb_Table,28,FALSE)),\"\",VLOOKUP(B189,Forb_Table,28,FALSE))","v":""},{"$f":"IF(ISNA(VLOOKUP(B189,Forb_Table,21,FALSE)),\"\",VLOOKUP(B189,Forb_Table,21,FALSE))","v":""},{"$f":"IF(D190>0,D190,0)","v":""},{"$f":"IF(D189=\"\",IF(E189=\"\",IF(F189=\"\",0,F189/I189*H189),E189*H189),E190*H189)","v":0},{"$f":"IF(ISNA(VLOOKUP(B189,Forb_Table,32,FALSE)),\"\",VLOOKUP(B189,Forb_Table,32,FALSE))","v":""},{"$f":"IFERROR(VLOOKUP(B189,Monarch_ForbTable,34,FALSE),\"\")","v":""}]
[null,{"$f":"C189","v":""},{"$f":"IF(ISERROR(VLOOKUP(B189,Forb_Table,30,FALSE)),\"\",VLOOKUP(B189,Forb_Table,30,FALSE))","v":""},{"$f":"IF(E189=\"\",IF(F189=\"\",\"\",F189/$F$285),F190/$F$285)","v":""},{"$f":"IF(D189=\"\",IF(F189=\"\",\"\",F189/I189),J189*D189)","v":""},{"$f":"IF(D189=\"\",IF(E189=\"\",\"\",E189*I189),E190*I189)","v":""},{"$f":"G189","v":""},null,null,null,null,null,{"$f":"M189","v":""},{"$f":"IFERROR(VLOOKUP(B190,Monarch_ForbSciNameTable,33,FALSE),\"\")","v":""}]
[55,null,{"$f":"IF(ISERROR(VLOOKUP(B191,Forb_Table,2,FALSE)),\"\",VLOOKUP(B191,Forb_Table,2,FALSE))","v":""},null,null,null,{"$f":"IF(ISNA(VLOOKUP(B191,Forb_Table,31,FALSE)),\"\",VLOOKUP(B191,Forb_Table,31,FALSE))","v":""},{"$f":"IF(ISNA(VLOOKUP(B191,Forb_Table,25,FALSE)),\"\",VLOOKUP(B191,Forb_Table,25,FALSE))","v":""},{"$f":"IF(ISNA(VLOOKUP(B191,Forb_Table,28,FALSE)),\"\",VLOOKUP(B191,Forb_Table,28,FALSE))","v":""},{"$f":"IF(ISNA(VLOOKUP(B191,Forb_Table,21,FALSE)),\"\",VLOOKUP(B191,Forb_Table,21,FALSE))","v":""},{"$f":"IF(D192>0,D192,0)","v":""},{"$f":"IF(D191=\"\",IF(E191=\"\",IF(F191=\"\",0,F191/I191*H191),E191*H191),E192*H191)","v":0},{"$f":"IF(ISNA(VLOOKUP(B191,Forb_Table,32,FALSE)),\"\",VLOOKUP(B191,Forb_Table,32,FALSE))","v":""},{"$f":"IFERROR(VLOOKUP(B191,Monarch_ForbTable,34,FALSE),\"\")","v":""}]
[null,{"$f":"C191","v":""},{"$f":"IF(ISERROR(VLOOKUP(B191,Forb_Table,30,FALSE)),\"\",VLOOKUP(B191,Forb_Table,30,FALSE))","v":""},{"$f":"IF(E191=\"\",IF(F191=\"\",\"\",F191/$F$285),F192/$F$285)","v":""},{"$f":"IF(D191=\"\",IF(F191=\"\",\"\",F191/I191),J191*D191)","v":""},{"$f":"IF(D191=\"\",IF(E191=\"\",\"\",E191*I191),E192*I191)","v":""},{"$f":"G191","v":""},null,null,null,null,null,{"$f":"M191","v":""},{"$f":"IFERROR(VLOOKUP(B192,Monarch_ForbSciNameTable,33,FALSE),\"\")","v":""}]
[56,null,{"$f":"IF(ISERROR(VLOOKUP(B193,Forb_Table,2,FALSE)),\"\",VLOOKUP(B193,Forb_Table,2,FALSE))","v":""},null,null,null,{"$f":"IF(ISNA(VLOOKUP(B193,Forb_Table,31,FALSE)),\"\",VLOOKUP(B193,Forb_Table,31,FALSE))","v":""},{"$f":"IF(ISNA(VLOOKUP(B193,Forb_Table,25,FALSE)),\"\",VLOOKUP(B193,Forb_Table,25,FALSE))","v":""},{"$f":"IF(ISNA(VLOOKUP(B193,Forb_Table,28,FALSE)),\"\",VLOOKUP(B193,Forb_Table,28,FALSE))","v":""},{"$f":"IF(ISNA(VLOOKUP(B193,Forb_Table,21,FALSE)),\"\",VLOOKUP(B193,Forb_Table,21,FALSE))","v":""},{"$f":"IF(D194>0,D194,0)","v":""},{"$f":"IF(D193=\"\",IF(E193=\"\",IF(F193=\"\",0,F193/I193*H193),E193*H193),E194*H193)","v":0},{"$f":"IF(ISNA(VLOOKUP(B193,Forb_Table,32,FALSE)),\"\",VLOOKUP(B193,Forb_Table,32,FALSE))","v":""},{"$f":"IFERROR(VLOOKUP(B193,Monarch_ForbTable,34,FALSE),\"\")","v":""}]
[null,{"$f":"C193","v":""},{"$f":"IF(ISERROR(VLOOKUP(B193,Forb_Table,30,FALSE)),\"\",VLOOKUP(B193,Forb_Table,30,FALSE))","v":""},{"$f":"IF(E193=\"\",IF(F193=\"\",\"\",F193/$F$285),F194/$F$285)","v":""},{"$f":"IF(D193=\"\",IF(F193=\"\",\"\",F193/I193),J193*D193)","v":""},{"$f":"IF(D193=\"\",IF(E193=\"\",\"\",E193*I193),E194*I193)","v":""},{"$f":"G193","v":""},null,null,null,null,null,{"$f":"M193","v":""},{"$f":"IFERROR(VLOOKUP(B194,Monarch_ForbSciNameTable,33,FALSE),\"\")","v":""}]
[57,null,{"$f":"IF(ISERROR(VLOOKUP(B195,Forb_Table,2,FALSE)),\"\",VLOOKUP(B195,Forb_Table,2,FALSE))","v":""},null,null,null,{"$f":"IF(ISNA(VLOOKUP(B195,Forb_Table,31,FALSE)),\"\",VLOOKUP(B195,Forb_Table,31,FALSE))","v":""},{"$f":"IF(ISNA(VLOOKUP(B195,Forb_Table,25,FALSE)),\"\",VLOOKUP(B195,Forb_Table,25,FALSE))","v":""},{"$f":"IF(ISNA(VLOOKUP(B195,Forb_Table,28,FALSE)),\"\",VLOOKUP(B195,Forb_Table,28,FALSE))","v":""},{"$f":"IF(ISNA(VLOOKUP(B195,Forb_Table,21,FALSE)),\"\",VLOOKUP(B195,Forb_Table,21,FALSE))","v":""},{"$f":"IF(D196>0,D196,0)","v":""},{"$f":"IF(D195=\"\",IF(E195=\"\",IF(F195=\"\",0,F195/I195*H195),E195*H195),E196*H195)","v":0},{"$f":"IF(ISNA(VLOOKUP(B195,Forb_Table,32,FALSE)),\"\",VLOOKUP(B195,Forb_Table,32,FALSE))","v":""},{"$f":"IFERROR(VLOOKUP(B195,Monarch_ForbTable,34,FALSE),\"\")","v":""}]
[null,{"$f":"C195","v":""},{"$f":"IF(ISERROR(VLOOKUP(B195,Forb_Table,30,FALSE)),\"\",VLOOKUP(B195,Forb_Table,30,FALSE))","v":""},{"$f":"IF(E195=\"\",IF(F195=\"\",\"\",F195/$F$285),F196/$F$285)","v":""},{"$f":"IF(D195=\"\",IF(F195=\"\",\"\",F195/I195),J195*D195)","v":""},{"$f":"IF(D195=\"\",IF(E195=\"\",\"\",E195*I195),E196*I195)","v":""},{"$f":"G195","v":""},null,null,null,null,null,{"$f":"M195","v":""},{"$f":"IFERROR(VLOOKUP(B196,Monarch_ForbSciNameTable,33,FALSE),\"\")","v":""}]
[58,null,{"$f":"IF(ISERROR(VLOOKUP(B197,Forb_Table,2,FALSE)),\"\",VLOOKUP(B197,Forb_Table,2,FALSE))","v":""},null,null,null,{"$f":"IF(ISNA(VLOOKUP(B197,Forb_Table,31,FALSE)),\"\",VLOOKUP(B197,Forb_Table,31,FALSE))","v":""},{"$f":"IF(ISNA(VLOOKUP(B197,Forb_Table,25,FALSE)),\"\",VLOOKUP(B197,Forb_Table,25,FALSE))","v":""},{"$f":"IF(ISNA(VLOOKUP(B197,Forb_Table,28,FALSE)),\"\",VLOOKUP(B197,Forb_Table,28,FALSE))","v":""},{"$f":"IF(ISNA(VLOOKUP(B197,Forb_Table,21,FALSE)),\"\",VLOOKUP(B197,Forb_Table,21,FALSE))","v":""},{"$f":"IF(D198>0,D198,0)","v":""},{"$f":"IF(D197=\"\",IF(E197=\"\",IF(F197=\"\",0,F197/I197*H197),E197*H197),E198*H197)","v":0},{"$f":"IF(ISNA(VLOOKUP(B197,Forb_Table,32,FALSE)),\"\",VLOOKUP(B197,Forb_Table,32,FALSE))","v":""},{"$f":"IFERROR(VLOOKUP(B197,Monarch_ForbTable,34,FALSE),\"\")","v":""}]
[null,{"$f":"C197","v":""},{"$f":"IF(ISERROR(VLOOKUP(B197,Forb_Table,30,FALSE)),\"\",VLOOKUP(B197,Forb_Table,30,FALSE))","v":""},{"$f":"IF(E197=\"\",IF(F197=\"\",\"\",F197/$F$285),F198/$F$285)","v":""},{"$f":"IF(D197=\"\",IF(F197=\"\",\"\",F197/I197),J197*D197)","v":""},{"$f":"IF(D197=\"\",IF(E197=\"\",\"\",E197*I197),E198*I197)","v":""},{"$f":"G197","v":""},null,null,null,null,null,{"$f":"M197","v":""},{"$f":"IFERROR(VLOOKUP(B198,Monarch_ForbSciNameTable,33,FALSE),\"\")","v":""}]
[59,null,{"$f":"IF(ISERROR(VLOOKUP(B199,Forb_Table,2,FALSE)),\"\",VLOOKUP(B199,Forb_Table,2,FALSE))","v":""},null,null,null,{"$f":"IF(ISNA(VLOOKUP(B199,Forb_Table,31,FALSE)),\"\",VLOOKUP(B199,Forb_Table,31,FALSE))","v":""},{"$f":"IF(ISNA(VLOOKUP(B199,Forb_Table,25,FALSE)),\"\",VLOOKUP(B199,Forb_Table,25,FALSE))","v":""},{"$f":"IF(ISNA(VLOOKUP(B199,Forb_Table,28,FALSE)),\"\",VLOOKUP(B199,Forb_Table,28,FALSE))","v":""},{"$f":"IF(ISNA(VLOOKUP(B199,Forb_Table,21,FALSE)),\"\",VLOOKUP(B199,Forb_Table,21,FALSE))","v":""},{"$f":"IF(D200>0,D200,0)","v":""},{"$f":"IF(D199=\"\",IF(E199=\"\",IF(F199=\"\",0,F199/I199*H199),E199*H199),E200*H199)","v":0},{"$f":"IF(ISNA(VLOOKUP(B199,Forb_Table,32,FALSE)),\"\",VLOOKUP(B199,Forb_Table,32,FALSE))","v":""},{"$f":"IFERROR(VLOOKUP(B199,Monarch_ForbTable,34,FALSE),\"\")","v":""}]
[null,{"$f":"C199","v":""},{"$f":"IF(ISERROR(VLOOKUP(B199,Forb_Table,30,FALSE)),\"\",VLOOKUP(B199,Forb_Table,30,FALSE))","v":""},{"$f":"IF(E199=\"\",IF(F199=\"\",\"\",F199/$F$285),F200/$F$285)","v":""},{"$f":"IF(D199=\"\",IF(F199=\"\",\"\",F199/I199),J199*D199)","v":""},{"$f":"IF(D199=\"\",IF(E199=\"\",\"\",E199*I199),E200*I199)","v":""},{"$f":"G199","v":""},null,null,null,null,null,{"$f":"M199","v":""},{"$f":"IFERROR(VLOOKUP(B200,Monarch_ForbSciNameTable,33,FALSE),\"\")","v":""}]
[60,null,{"$f":"IF(ISERROR(VLOOKUP(B201,Forb_Table,2,FALSE)),\"\",VLOOKUP(B201,Forb_Table,2,FALSE))","v":""},null,null,null,{"$f":"IF(ISNA(VLOOKUP(B201,Forb_Table,31,FALSE)),\"\",VLOOKUP(B201,Forb_Table,31,FALSE))","v":""},{"$f":"IF(ISNA(VLOOKUP(B201,Forb_Table,25,FALSE)),\"\",VLOOKUP(B201,Forb_Table,25,FALSE))","v":""},{"$f":"IF(ISNA(VLOOKUP(B201,Forb_Table,28,FALSE)),\"\",VLOOKUP(B201,Forb_Table,28,FALSE))","v":""},{"$f":"IF(ISNA(VLOOKUP(B201,Forb_Table,21,FALSE)),\"\",VLOOKUP(B201,Forb_Table,21,FALSE))","v":""},{"$f":"IF(D202>0,D202,0)","v":""},{"$f":"IF(D201=\"\",IF(E201=\"\",IF(F201=\"\",0,F201/I201*H201),E201*H201),E202*H201)","v":0},{"$f":"IF(ISNA(VLOOKUP(B201,Forb_Table,32,FALSE)),\"\",VLOOKUP(B201,Forb_Table,32,FALSE))","v":""},{"$f":"IFERROR(VLOOKUP(B201,Monarch_ForbTable,34,FALSE),\"\")","v":""}]
[null,{"$f":"C201","v":""},{"$f":"IF(ISERROR(VLOOKUP(B201,Forb_Table,30,FALSE)),\"\",VLOOKUP(B201,Forb_Table,30,FALSE))","v":""},{"$f":"IF(E201=\"\",IF(F201=\"\",\"\",F201/$F$285),F202/$F$285)","v":""},{"$f":"IF(D201=\"\",IF(F201=\"\",\"\",F201/I201),J201*D201)","v":""},{"$f":"IF(D201=\"\",IF(E201=\"\",\"\",E201*I201),E202*I201)","v":""},{"$f":"G201","v":""},null,null,null,null,null,{"$f":"M201","v":""},{"$f":"IFERROR(VLOOKUP(B202,Monarch_ForbSciNameTable,33,FALSE),\"\")","v":""}]
[61,null,{"$f":"IF(ISERROR(VLOOKUP(B203,Forb_Table,2,FALSE)),\"\",VLOOKUP(B203,Forb_Table,2,FALSE))","v":""},null,null,null,{"$f":"IF(ISNA(VLOOKUP(B203,Forb_Table,31,FALSE)),\"\",VLOOKUP(B203,Forb_Table,31,FALSE))","v":""},{"$f":"IF(ISNA(VLOOKUP(B203,Forb_Table,25,FALSE)),\"\",VLOOKUP(B203,Forb_Table,25,FALSE))","v":""},{"$f":"IF(ISNA(VLOOKUP(B203,Forb_Table,28,FALSE)),\"\",VLOOKUP(B203,Forb_Table,28,FALSE))","v":""},{"$f":"IF(ISNA(VLOOKUP(B203,Forb_Table,21,FALSE)),\"\",VLOOKUP(B203,Forb_Table,21,FALSE))","v":""},{"$f":"IF(D204>0,D204,0)","v":""},{"$f":"IF(D203=\"\",IF(E203=\"\",IF(F203=\"\",0,F203/I203*H203),E203*H203),E204*H203)","v":0},{"$f":"IF(ISNA(VLOOKUP(B203,Forb_Table,32,FALSE)),\"\",VLOOKUP(B203,Forb_Table,32,FALSE))","v":""},{"$f":"IFERROR(VLOOKUP(B203,Monarch_ForbTable,34,FALSE),\"\")","v":""}]
[null,{"$f":"C203","v":""},{"$f":"IF(ISERROR(VLOOKUP(B203,Forb_Table,30,FALSE)),\"\",VLOOKUP(B203,Forb_Table,30,FALSE))","v":""},{"$f":"IF(E203=\"\",IF(F203=\"\",\"\",F203/$F$285),F204/$F$285)","v":""},{"$f":"IF(D203=\"\",IF(F203=\"\",\"\",F203/I203),J203*D203)","v":""},{"$f":"IF(D203=\"\",IF(E203=\"\",\"\",E203*I203),E204*I203)","v":""},{"$f":"G203","v":""},null,null,null,null,null,{"$f":"M203","v":""},{"$f":"IFERROR(VLOOKUP(B204,Monarch_ForbSciNameTable,33,FALSE),\"\")","v":""}]
[62,null,{"$f":"IF(ISERROR(VLOOKUP(B205,Forb_Table,2,FALSE)),\"\",VLOOKUP(B205,Forb_Table,2,FALSE))","v":""},null,null,null,{"$f":"IF(ISNA(VLOOKUP(B205,Forb_Table,31,FALSE)),\"\",VLOOKUP(B205,Forb_Table,31,FALSE))","v":""},{"$f":"IF(ISNA(VLOOKUP(B205,Forb_Table,25,FALSE)),\"\",VLOOKUP(B205,Forb_Table,25,FALSE))","v":""},{"$f":"IF(ISNA(VLOOKUP(B205,Forb_Table,28,FALSE)),\"\",VLOOKUP(B205,Forb_Table,28,FALSE))","v":""},{"$f":"IF(ISNA(VLOOKUP(B205,Forb_Table,21,FALSE)),\"\",VLOOKUP(B205,Forb_Table,21,FALSE))","v":""},{"$f":"IF(D206>0,D206,0)","v":""},{"$f":"IF(D205=\"\",IF(E205=\"\",IF(F205=\"\",0,F205/I205*H205),E205*H205),E206*H205)","v":0},{"$f":"IF(ISNA(VLOOKUP(B205,Forb_Table,32,FALSE)),\"\",VLOOKUP(B205,Forb_Table,32,FALSE))","v":""},{"$f":"IFERROR(VLOOKUP(B205,Monarch_ForbTable,34,FALSE),\"\")","v":""}]
[null,{"$f":"C205","v":""},{"$f":"IF(ISERROR(VLOOKUP(B205,Forb_Table,30,FALSE)),\"\",VLOOKUP(B205,Forb_Table,30,FALSE))","v":""},{"$f":"IF(E205=\"\",IF(F205=\"\",\"\",F205/$F$285),F206/$F$285)","v":""},{"$f":"IF(D205=\"\",IF(F205=\"\",\"\",F205/I205),J205*D205)","v":""},{"$f":"IF(D205=\"\",IF(E205=\"\",\"\",E205*I205),E206*I205)","v":""},{"$f":"G205","v":""},null,null,null,null,null,{"$f":"M205","v":""},{"$f":"IFERROR(VLOOKUP(B206,Monarch_ForbSciNameTable,33,FALSE),\"\")","v":""}]
[63,null,{"$f":"IF(ISERROR(VLOOKUP(B207,Forb_Table,2,FALSE)),\"\",VLOOKUP(B207,Forb_Table,2,FALSE))","v":""},null,null,null,{"$f":"IF(ISNA(VLOOKUP(B207,Forb_Table,31,FALSE)),\"\",VLOOKUP(B207,Forb_Table,31,FALSE))","v":""},{"$f":"IF(ISNA(VLOOKUP(B207,Forb_Table,25,FALSE)),\"\",VLOOKUP(B207,Forb_Table,25,FALSE))","v":""},{"$f":"IF(ISNA(VLOOKUP(B207,Forb_Table,28,FALSE)),\"\",VLOOKUP(B207,Forb_Table,28,FALSE))","v":""},{"$f":"IF(ISNA(VLOOKUP(B207,Forb_Table,21,FALSE)),\"\",VLOOKUP(B207,Forb_Table,21,FALSE))","v":""},{"$f":"IF(D208>0,D208,0)","v":""},{"$f":"IF(D207=\"\",IF(E207=\"\",IF(F207=\"\",0,F207/I207*H207),E207*H207),E208*H207)","v":0},{"$f":"IF(ISNA(VLOOKUP(B207,Forb_Table,32,FALSE)),\"\",VLOOKUP(B207,Forb_Table,32,FALSE))","v":""},{"$f":"IFERROR(VLOOKUP(B207,Monarch_ForbTable,34,FALSE),\"\")","v":""}]
[null,{"$f":"C207","v":""},{"$f":"IF(ISERROR(VLOOKUP(B207,Forb_Table,30,FALSE)),\"\",VLOOKUP(B207,Forb_Table,30,FALSE))","v":""},{"$f":"IF(E207=\"\",IF(F207=\"\",\"\",F207/$F$285),F208/$F$285)","v":""},{"$f":"IF(D207=\"\",IF(F207=\"\",\"\",F207/I207),J207*D207)","v":""},{"$f":"IF(D207=\"\",IF(E207=\"\",\"\",E207*I207),E208*I207)","v":""},{"$f":"G207","v":""},null,null,null,null,null,{"$f":"M207","v":""},{"$f":"IFERROR(VLOOKUP(B208,Monarch_ForbSciNameTable,33,FALSE),\"\")","v":""}]
[64,null,{"$f":"IF(ISERROR(VLOOKUP(B209,Forb_Table,2,FALSE)),\"\",VLOOKUP(B209,Forb_Table,2,FALSE))","v":""},null,null,null,{"$f":"IF(ISNA(VLOOKUP(B209,Forb_Table,31,FALSE)),\"\",VLOOKUP(B209,Forb_Table,31,FALSE))","v":""},{"$f":"IF(ISNA(VLOOKUP(B209,Forb_Table,25,FALSE)),\"\",VLOOKUP(B209,Forb_Table,25,FALSE))","v":""},{"$f":"IF(ISNA(VLOOKUP(B209,Forb_Table,28,FALSE)),\"\",VLOOKUP(B209,Forb_Table,28,FALSE))","v":""},{"$f":"IF(ISNA(VLOOKUP(B209,Forb_Table,21,FALSE)),\"\",VLOOKUP(B209,Forb_Table,21,FALSE))","v":""},{"$f":"IF(D210>0,D210,0)","v":""},{"$f":"IF(D209=\"\",IF(E209=\"\",IF(F209=\"\",0,F209/I209*H209),E209*H209),E210*H209)","v":0},{"$f":"IF(ISNA(VLOOKUP(B209,Forb_Table,32,FALSE)),\"\",VLOOKUP(B209,Forb_Table,32,FALSE))","v":""},{"$f":"IFERROR(VLOOKUP(B209,Monarch_ForbTable,34,FALSE),\"\")","v":""}]
[null,{"$f":"C209","v":""},{"$f":"IF(ISERROR(VLOOKUP(B209,Forb_Table,30,FALSE)),\"\",VLOOKUP(B209,Forb_Table,30,FALSE))","v":""},{"$f":"IF(E209=\"\",IF(F209=\"\",\"\",F209/$F$285),F210/$F$285)","v":""},{"$f":"IF(D209=\"\",IF(F209=\"\",\"\",F209/I209),J209*D209)","v":""},{"$f":"IF(D209=\"\",IF(E209=\"\",\"\",E209*I209),E210*I209)","v":""},{"$f":"G209","v":""},null,null,null,null,null,{"$f":"M209","v":""},{"$f":"IFERROR(VLOOKUP(B210,Monarch_ForbSciNameTable,33,FALSE),\"\")","v":""}]
[65,null,{"$f":"IF(ISERROR(VLOOKUP(B211,Forb_Table,2,FALSE)),\"\",VLOOKUP(B211,Forb_Table,2,FALSE))","v":""},null,null,null,{"$f":"IF(ISNA(VLOOKUP(B211,Forb_Table,31,FALSE)),\"\",VLOOKUP(B211,Forb_Table,31,FALSE))","v":""},{"$f":"IF(ISNA(VLOOKUP(B211,Forb_Table,25,FALSE)),\"\",VLOOKUP(B211,Forb_Table,25,FALSE))","v":""},{"$f":"IF(ISNA(VLOOKUP(B211,Forb_Table,28,FALSE)),\"\",VLOOKUP(B211,Forb_Table,28,FALSE))","v":""},{"$f":"IF(ISNA(VLOOKUP(B211,Forb_Table,21,FALSE)),\"\",VLOOKUP(B211,Forb_Table,21,FALSE))","v":""},{"$f":"IF(D212>0,D212,0)","v":""},{"$f":"IF(D211=\"\",IF(E211=\"\",IF(F211=\"\",0,F211/I211*H211),E211*H211),E212*H211)","v":0},{"$f":"IF(ISNA(VLOOKUP(B211,Forb_Table,32,FALSE)),\"\",VLOOKUP(B211,Forb_Table,32,FALSE))","v":""},{"$f":"IFERROR(VLOOKUP(B211,Monarch_ForbTable,34,FALSE),\"\")","v":""}]
[null,{"$f":"C211","v":""},{"$f":"IF(ISERROR(VLOOKUP(B211,Forb_Table,30,FALSE)),\"\",VLOOKUP(B211,Forb_Table,30,FALSE))","v":""},{"$f":"IF(E211=\"\",IF(F211=\"\",\"\",F211/$F$285),F212/$F$285)","v":""},{"$f":"IF(D211=\"\",IF(F211=\"\",\"\",F211/I211),J211*D211)","v":""},{"$f":"IF(D211=\"\",IF(E211=\"\",\"\",E211*I211),E212*I211)","v":""},{"$f":"G211","v":""},null,null,null,null,null,{"$f":"M211","v":""},{"$f":"IFERROR(VLOOKUP(B212,Monarch_ForbSciNameTable,33,FALSE),\"\")","v":""}]
[66,null,{"$f":"IF(ISERROR(VLOOKUP(B213,Forb_Table,2,FALSE)),\"\",VLOOKUP(B213,Forb_Table,2,FALSE))","v":""},null,null,null,{"$f":"IF(ISNA(VLOOKUP(B213,Forb_Table,31,FALSE)),\"\",VLOOKUP(B213,Forb_Table,31,FALSE))","v":""},{"$f":"IF(ISNA(VLOOKUP(B213,Forb_Table,25,FALSE)),\"\",VLOOKUP(B213,Forb_Table,25,FALSE))","v":""},{"$f":"IF(ISNA(VLOOKUP(B213,Forb_Table,28,FALSE)),\"\",VLOOKUP(B213,Forb_Table,28,FALSE))","v":""},{"$f":"IF(ISNA(VLOOKUP(B213,Forb_Table,21,FALSE)),\"\",VLOOKUP(B213,Forb_Table,21,FALSE))","v":""},{"$f":"IF(D214>0,D214,0)","v":""},{"$f":"IF(D213=\"\",IF(E213=\"\",IF(F213=\"\",0,F213/I213*H213),E213*H213),E214*H213)","v":0},{"$f":"IF(ISNA(VLOOKUP(B213,Forb_Table,32,FALSE)),\"\",VLOOKUP(B213,Forb_Table,32,FALSE))","v":""},{"$f":"IFERROR(VLOOKUP(B213,Monarch_ForbTable,34,FALSE),\"\")","v":""}]
[null,{"$f":"C213","v":""},{"$f":"IF(ISERROR(VLOOKUP(B213,Forb_Table,30,FALSE)),\"\",VLOOKUP(B213,Forb_Table,30,FALSE))","v":""},{"$f":"IF(E213=\"\",IF(F213=\"\",\"\",F213/$F$285),F214/$F$285)","v":""},{"$f":"IF(D213=\"\",IF(F213=\"\",\"\",F213/I213),J213*D213)","v":""},{"$f":"IF(D213=\"\",IF(E213=\"\",\"\",E213*I213),E214*I213)","v":""},{"$f":"G213","v":""},null,null,null,null,null,{"$f":"M213","v":""},{"$f":"IFERROR(VLOOKUP(B214,Monarch_ForbSciNameTable,33,FALSE),\"\")","v":""}]
[67,null,{"$f":"IF(ISERROR(VLOOKUP(B215,Forb_Table,2,FALSE)),\"\",VLOOKUP(B215,Forb_Table,2,FALSE))","v":""},null,null,null,{"$f":"IF(ISNA(VLOOKUP(B215,Forb_Table,31,FALSE)),\"\",VLOOKUP(B215,Forb_Table,31,FALSE))","v":""},{"$f":"IF(ISNA(VLOOKUP(B215,Forb_Table,25,FALSE)),\"\",VLOOKUP(B215,Forb_Table,25,FALSE))","v":""},{"$f":"IF(ISNA(VLOOKUP(B215,Forb_Table,28,FALSE)),\"\",VLOOKUP(B215,Forb_Table,28,FALSE))","v":""},{"$f":"IF(ISNA(VLOOKUP(B215,Forb_Table,21,FALSE)),\"\",VLOOKUP(B215,Forb_Table,21,FALSE))","v":""},{"$f":"IF(D216>0,D216,0)","v":""},{"$f":"IF(D215=\"\",IF(E215=\"\",IF(F215=\"\",0,F215/I215*H215),E215*H215),E216*H215)","v":0},{"$f":"IF(ISNA(VLOOKUP(B215,Forb_Table,32,FALSE)),\"\",VLOOKUP(B215,Forb_Table,32,FALSE))","v":""},{"$f":"IFERROR(VLOOKUP(B215,Monarch_ForbTable,34,FALSE),\"\")","v":""}]
[null,{"$f":"C215","v":""},{"$f":"IF(ISERROR(VLOOKUP(B215,Forb_Table,30,FALSE)),\"\",VLOOKUP(B215,Forb_Table,30,FALSE))","v":""},{"$f":"IF(E215=\"\",IF(F215=\"\",\"\",F215/$F$285),F216/$F$285)","v":""},{"$f":"IF(D215=\"\",IF(F215=\"\",\"\",F215/I215),J215*D215)","v":""},{"$f":"IF(D215=\"\",IF(E215=\"\",\"\",E215*I215),E216*I215)","v":""},{"$f":"G215","v":""},null,null,null,null,null,{"$f":"M215","v":""},{"$f":"IFERROR(VLOOKUP(B216,Monarch_ForbSciNameTable,33,FALSE),\"\")","v":""}]
[68,null,{"$f":"IF(ISERROR(VLOOKUP(B217,Forb_Table,2,FALSE)),\"\",VLOOKUP(B217,Forb_Table,2,FALSE))","v":""},null,null,null,{"$f":"IF(ISNA(VLOOKUP(B217,Forb_Table,31,FALSE)),\"\",VLOOKUP(B217,Forb_Table,31,FALSE))","v":""},{"$f":"IF(ISNA(VLOOKUP(B217,Forb_Table,25,FALSE)),\"\",VLOOKUP(B217,Forb_Table,25,FALSE))","v":""},{"$f":"IF(ISNA(VLOOKUP(B217,Forb_Table,28,FALSE)),\"\",VLOOKUP(B217,Forb_Table,28,FALSE))","v":""},{"$f":"IF(ISNA(VLOOKUP(B217,Forb_Table,21,FALSE)),\"\",VLOOKUP(B217,Forb_Table,21,FALSE))","v":""},{"$f":"IF(D218>0,D218,0)","v":""},{"$f":"IF(D217=\"\",IF(E217=\"\",IF(F217=\"\",0,F217/I217*H217),E217*H217),E218*H217)","v":0},{"$f":"IF(ISNA(VLOOKUP(B217,Forb_Table,32,FALSE)),\"\",VLOOKUP(B217,Forb_Table,32,FALSE))","v":""},{"$f":"IFERROR(VLOOKUP(B217,Monarch_ForbTable,34,FALSE),\"\")","v":""}]
[null,{"$f":"C217","v":""},{"$f":"IF(ISERROR(VLOOKUP(B217,Forb_Table,30,FALSE)),\"\",VLOOKUP(B217,Forb_Table,30,FALSE))","v":""},{"$f":"IF(E217=\"\",IF(F217=\"\",\"\",F217/$F$285),F218/$F$285)","v":""},{"$f":"IF(D217=\"\",IF(F217=\"\",\"\",F217/I217),J217*D217)","v":""},{"$f":"IF(D217=\"\",IF(E217=\"\",\"\",E217*I217),E218*I217)","v":""},{"$f":"G217","v":""},null,null,null,null,null,{"$f":"M217","v":""},{"$f":"IFERROR(VLOOKUP(B218,Monarch_ForbSciNameTable,33,FALSE),\"\")","v":""}]
[69,null,{"$f":"IF(ISERROR(VLOOKUP(B219,Forb_Table,2,FALSE)),\"\",VLOOKUP(B219,Forb_Table,2,FALSE))","v":""},null,null,null,{"$f":"IF(ISNA(VLOOKUP(B219,Forb_Table,31,FALSE)),\"\",VLOOKUP(B219,Forb_Table,31,FALSE))","v":""},{"$f":"IF(ISNA(VLOOKUP(B219,Forb_Table,25,FALSE)),\"\",VLOOKUP(B219,Forb_Table,25,FALSE))","v":""},{"$f":"IF(ISNA(VLOOKUP(B219,Forb_Table,28,FALSE)),\"\",VLOOKUP(B219,Forb_Table,28,FALSE))","v":""},{"$f":"IF(ISNA(VLOOKUP(B219,Forb_Table,21,FALSE)),\"\",VLOOKUP(B219,Forb_Table,21,FALSE))","v":""},{"$f":"IF(D220>0,D220,0)","v":""},{"$f":"IF(D219=\"\",IF(E219=\"\",IF(F219=\"\",0,F219/I219*H219),E219*H219),E220*H219)","v":0},{"$f":"IF(ISNA(VLOOKUP(B219,Forb_Table,32,FALSE)),\"\",VLOOKUP(B219,Forb_Table,32,FALSE))","v":""},{"$f":"IFERROR(VLOOKUP(B219,Monarch_ForbTable,34,FALSE),\"\")","v":""}]
[null,{"$f":"C219","v":""},{"$f":"IF(ISERROR(VLOOKUP(B219,Forb_Table,30,FALSE)),\"\",VLOOKUP(B219,Forb_Table,30,FALSE))","v":""},{"$f":"IF(E219=\"\",IF(F219=\"\",\"\",F219/$F$285),F220/$F$285)","v":""},{"$f":"IF(D219=\"\",IF(F219=\"\",\"\",F219/I219),J219*D219)","v":""},{"$f":"IF(D219=\"\",IF(E219=\"\",\"\",E219*I219),E220*I219)","v":""},{"$f":"G219","v":""},null,null,null,null,null,{"$f":"M219","v":""},{"$f":"IFERROR(VLOOKUP(B220,Monarch_ForbSciNameTable,33,FALSE),\"\")","v":""}]
[70,null,{"$f":"IF(ISERROR(VLOOKUP(B221,Forb_Table,2,FALSE)),\"\",VLOOKUP(B221,Forb_Table,2,FALSE))","v":""},null,null,null,{"$f":"IF(ISNA(VLOOKUP(B221,Forb_Table,31,FALSE)),\"\",VLOOKUP(B221,Forb_Table,31,FALSE))","v":""},{"$f":"IF(ISNA(VLOOKUP(B221,Forb_Table,25,FALSE)),\"\",VLOOKUP(B221,Forb_Table,25,FALSE))","v":""},{"$f":"IF(ISNA(VLOOKUP(B221,Forb_Table,28,FALSE)),\"\",VLOOKUP(B221,Forb_Table,28,FALSE))","v":""},{"$f":"IF(ISNA(VLOOKUP(B221,Forb_Table,21,FALSE)),\"\",VLOOKUP(B221,Forb_Table,21,FALSE))","v":""},{"$f":"IF(D222>0,D222,0)","v":""},{"$f":"IF(D221=\"\",IF(E221=\"\",IF(F221=\"\",0,F221/I221*H221),E221*H221),E222*H221)","v":0},{"$f":"IF(ISNA(VLOOKUP(B221,Forb_Table,32,FALSE)),\"\",VLOOKUP(B221,Forb_Table,32,FALSE))","v":""},{"$f":"IFERROR(VLOOKUP(B221,Monarch_ForbTable,34,FALSE),\"\")","v":""}]
[null,{"$f":"C221","v":""},{"$f":"IF(ISERROR(VLOOKUP(B221,Forb_Table,30,FALSE)),\"\",VLOOKUP(B221,Forb_Table,30,FALSE))","v":""},{"$f":"IF(E221=\"\",IF(F221=\"\",\"\",F221/$F$285),F222/$F$285)","v":""},{"$f":"IF(D221=\"\",IF(F221=\"\",\"\",F221/I221),J221*D221)","v":""},{"$f":"IF(D221=\"\",IF(E221=\"\",\"\",E221*I221),E222*I221)","v":""},{"$f":"G221","v":""},null,null,null,null,null,{"$f":"M221","v":""},{"$f":"IFERROR(VLOOKUP(B222,Monarch_ForbSciNameTable,33,FALSE),\"\")","v":""}]
[71,null,{"$f":"IF(ISERROR(VLOOKUP(B223,Forb_Table,2,FALSE)),\"\",VLOOKUP(B223,Forb_Table,2,FALSE))","v":""},null,null,null,{"$f":"IF(ISNA(VLOOKUP(B223,Forb_Table,31,FALSE)),\"\",VLOOKUP(B223,Forb_Table,31,FALSE))","v":""},{"$f":"IF(ISNA(VLOOKUP(B223,Forb_Table,25,FALSE)),\"\",VLOOKUP(B223,Forb_Table,25,FALSE))","v":""},{"$f":"IF(ISNA(VLOOKUP(B223,Forb_Table,28,FALSE)),\"\",VLOOKUP(B223,Forb_Table,28,FALSE))","v":""},{"$f":"IF(ISNA(VLOOKUP(B223,Forb_Table,21,FALSE)),\"\",VLOOKUP(B223,Forb_Table,21,FALSE))","v":""},{"$f":"IF(D224>0,D224,0)","v":""},{"$f":"IF(D223=\"\",IF(E223=\"\",IF(F223=\"\",0,F223/I223*H223),E223*H223),E224*H223)","v":0},{"$f":"IF(ISNA(VLOOKUP(B223,Forb_Table,32,FALSE)),\"\",VLOOKUP(B223,Forb_Table,32,FALSE))","v":""},{"$f":"IFERROR(VLOOKUP(B223,Monarch_ForbTable,34,FALSE),\"\")","v":""}]
[null,{"$f":"C223","v":""},{"$f":"IF(ISERROR(VLOOKUP(B223,Forb_Table,30,FALSE)),\"\",VLOOKUP(B223,Forb_Table,30,FALSE))","v":""},{"$f":"IF(E223=\"\",IF(F223=\"\",\"\",F223/$F$285),F224/$F$285)","v":""},{"$f":"IF(D223=\"\",IF(F223=\"\",\"\",F223/I223),J223*D223)","v":""},{"$f":"IF(D223=\"\",IF(E223=\"\",\"\",E223*I223),E224*I223)","v":""},{"$f":"G223","v":""},null,null,null,null,null,{"$f":"M223","v":""},{"$f":"IFERROR(VLOOKUP(B224,Monarch_ForbSciNameTable,33,FALSE),\"\")","v":""}]
[72,null,{"$f":"IF(ISERROR(VLOOKUP(B225,Forb_Table,2,FALSE)),\"\",VLOOKUP(B225,Forb_Table,2,FALSE))","v":""},null,null,null,{"$f":"IF(ISNA(VLOOKUP(B225,Forb_Table,31,FALSE)),\"\",VLOOKUP(B225,Forb_Table,31,FALSE))","v":""},{"$f":"IF(ISNA(VLOOKUP(B225,Forb_Table,25,FALSE)),\"\",VLOOKUP(B225,Forb_Table,25,FALSE))","v":""},{"$f":"IF(ISNA(VLOOKUP(B225,Forb_Table,28,FALSE)),\"\",VLOOKUP(B225,Forb_Table,28,FALSE))","v":""},{"$f":"IF(ISNA(VLOOKUP(B225,Forb_Table,21,FALSE)),\"\",VLOOKUP(B225,Forb_Table,21,FALSE))","v":""},{"$f":"IF(D226>0,D226,0)","v":""},{"$f":"IF(D225=\"\",IF(E225=\"\",IF(F225=\"\",0,F225/I225*H225),E225*H225),E226*H225)","v":0},{"$f":"IF(ISNA(VLOOKUP(B225,Forb_Table,32,FALSE)),\"\",VLOOKUP(B225,Forb_Table,32,FALSE))","v":""},{"$f":"IFERROR(VLOOKUP(B225,Monarch_ForbTable,34,FALSE),\"\")","v":""}]
[null,{"$f":"C225","v":""},{"$f":"IF(ISERROR(VLOOKUP(B225,Forb_Table,30,FALSE)),\"\",VLOOKUP(B225,Forb_Table,30,FALSE))","v":""},{"$f":"IF(E225=\"\",IF(F225=\"\",\"\",F225/$F$285),F226/$F$285)","v":""},{"$f":"IF(D225=\"\",IF(F225=\"\",\"\",F225/I225),J225*D225)","v":""},{"$f":"IF(D225=\"\",IF(E225=\"\",\"\",E225*I225),E226*I225)","v":""},{"$f":"G225","v":""},null,null,null,null,null,{"$f":"M225","v":""},{"$f":"IFERROR(VLOOKUP(B226,Monarch_ForbSciNameTable,33,FALSE),\"\")","v":""}]
[73,null,{"$f":"IF(ISERROR(VLOOKUP(B227,Forb_Table,2,FALSE)),\"\",VLOOKUP(B227,Forb_Table,2,FALSE))","v":""},null,null,null,{"$f":"IF(ISNA(VLOOKUP(B227,Forb_Table,31,FALSE)),\"\",VLOOKUP(B227,Forb_Table,31,FALSE))","v":""},{"$f":"IF(ISNA(VLOOKUP(B227,Forb_Table,25,FALSE)),\"\",VLOOKUP(B227,Forb_Table,25,FALSE))","v":""},{"$f":"IF(ISNA(VLOOKUP(B227,Forb_Table,28,FALSE)),\"\",VLOOKUP(B227,Forb_Table,28,FALSE))","v":""},{"$f":"IF(ISNA(VLOOKUP(B227,Forb_Table,21,FALSE)),\"\",VLOOKUP(B227,Forb_Table,21,FALSE))","v":""},{"$f":"IF(D228>0,D228,0)","v":""},{"$f":"IF(D227=\"\",IF(E227=\"\",IF(F227=\"\",0,F227/I227*H227),E227*H227),E228*H227)","v":0},{"$f":"IF(ISNA(VLOOKUP(B227,Forb_Table,32,FALSE)),\"\",VLOOKUP(B227,Forb_Table,32,FALSE))","v":""},{"$f":"IFERROR(VLOOKUP(B227,Monarch_ForbTable,34,FALSE),\"\")","v":""}]
[null,{"$f":"C227","v":""},{"$f":"IF(ISERROR(VLOOKUP(B227,Forb_Table,30,FALSE)),\"\",VLOOKUP(B227,Forb_Table,30,FALSE))","v":""},{"$f":"IF(E227=\"\",IF(F227=\"\",\"\",F227/$F$285),F228/$F$285)","v":""},{"$f":"IF(D227=\"\",IF(F227=\"\",\"\",F227/I227),J227*D227)","v":""},{"$f":"IF(D227=\"\",IF(E227=\"\",\"\",E227*I227),E228*I227)","v":""},{"$f":"G227","v":""},null,null,null,null,null,{"$f":"M227","v":""},{"$f":"IFERROR(VLOOKUP(B228,Monarch_ForbSciNameTable,33,FALSE),\"\")","v":""}]
[74,null,{"$f":"IF(ISERROR(VLOOKUP(B229,Forb_Table,2,FALSE)),\"\",VLOOKUP(B229,Forb_Table,2,FALSE))","v":""},null,null,null,{"$f":"IF(ISNA(VLOOKUP(B229,Forb_Table,31,FALSE)),\"\",VLOOKUP(B229,Forb_Table,31,FALSE))","v":""},{"$f":"IF(ISNA(VLOOKUP(B229,Forb_Table,25,FALSE)),\"\",VLOOKUP(B229,Forb_Table,25,FALSE))","v":""},{"$f":"IF(ISNA(VLOOKUP(B229,Forb_Table,28,FALSE)),\"\",VLOOKUP(B229,Forb_Table,28,FALSE))","v":""},{"$f":"IF(ISNA(VLOOKUP(B229,Forb_Table,21,FALSE)),\"\",VLOOKUP(B229,Forb_Table,21,FALSE))","v":""},{"$f":"IF(D230>0,D230,0)","v":""},{"$f":"IF(D229=\"\",IF(E229=\"\",IF(F229=\"\",0,F229/I229*H229),E229*H229),E230*H229)","v":0},{"$f":"IF(ISNA(VLOOKUP(B229,Forb_Table,32,FALSE)),\"\",VLOOKUP(B229,Forb_Table,32,FALSE))","v":""},{"$f":"IFERROR(VLOOKUP(B229,Monarch_ForbTable,34,FALSE),\"\")","v":""}]
[null,{"$f":"C229","v":""},{"$f":"IF(ISERROR(VLOOKUP(B229,Forb_Table,30,FALSE)),\"\",VLOOKUP(B229,Forb_Table,30,FALSE))","v":""},{"$f":"IF(E229=\"\",IF(F229=\"\",\"\",F229/$F$285),F230/$F$285)","v":""},{"$f":"IF(D229=\"\",IF(F229=\"\",\"\",F229/I229),J229*D229)","v":""},{"$f":"IF(D229=\"\",IF(E229=\"\",\"\",E229*I229),E230*I229)","v":""},{"$f":"G229","v":""},null,null,null,null,null,{"$f":"M229","v":""},{"$f":"IFERROR(VLOOKUP(B230,Monarch_ForbSciNameTable,33,FALSE),\"\")","v":""}]
[75,null,{"$f":"IF(ISERROR(VLOOKUP(B231,Forb_Table,2,FALSE)),\"\",VLOOKUP(B231,Forb_Table,2,FALSE))","v":""},null,null,null,{"$f":"IF(ISNA(VLOOKUP(B231,Forb_Table,31,FALSE)),\"\",VLOOKUP(B231,Forb_Table,31,FALSE))","v":""},{"$f":"IF(ISNA(VLOOKUP(B231,Forb_Table,25,FALSE)),\"\",VLOOKUP(B231,Forb_Table,25,FALSE))","v":""},{"$f":"IF(ISNA(VLOOKUP(B231,Forb_Table,28,FALSE)),\"\",VLOOKUP(B231,Forb_Table,28,FALSE))","v":""},{"$f":"IF(ISNA(VLOOKUP(B231,Forb_Table,21,FALSE)),\"\",VLOOKUP(B231,Forb_Table,21,FALSE))","v":""},{"$f":"IF(D232>0,D232,0)","v":""},{"$f":"IF(D231=\"\",IF(E231=\"\",IF(F231=\"\",0,F231/I231*H231),E231*H231),E232*H231)","v":0},{"$f":"IF(ISNA(VLOOKUP(B231,Forb_Table,32,FALSE)),\"\",VLOOKUP(B231,Forb_Table,32,FALSE))","v":""},{"$f":"IFERROR(VLOOKUP(B231,Monarch_ForbTable,34,FALSE),\"\")","v":""}]
[null,{"$f":"C231","v":""},{"$f":"IF(ISERROR(VLOOKUP(B231,Forb_Table,30,FALSE)),\"\",VLOOKUP(B231,Forb_Table,30,FALSE))","v":""},{"$f":"IF(E231=\"\",IF(F231=\"\",\"\",F231/$F$285),F232/$F$285)","v":""},null,{"$f":"IF(D231=\"\",IF(E231=\"\",\"\",E231*I231),E232*I231)","v":""},{"$f":"G231","v":""},null,null,null,null,null,{"$f":"M231","v":""},{"$f":"IFERROR(VLOOKUP(B232,Monarch_ForbSciNameTable,33,FALSE),\"\")","v":""}]
[76,null,{"$f":"IF(ISERROR(VLOOKUP(B233,Forb_Table,2,FALSE)),\"\",VLOOKUP(B233,Forb_Table,2,FALSE))","v":""},null,null,null,{"$f":"IF(ISNA(VLOOKUP(B233,Forb_Table,31,FALSE)),\"\",VLOOKUP(B233,Forb_Table,31,FALSE))","v":""},{"$f":"IF(ISNA(VLOOKUP(B233,Forb_Table,25,FALSE)),\"\",VLOOKUP(B233,Forb_Table,25,FALSE))","v":""},{"$f":"IF(ISNA(VLOOKUP(B233,Forb_Table,28,FALSE)),\"\",VLOOKUP(B233,Forb_Table,28,FALSE))","v":""},{"$f":"IF(ISNA(VLOOKUP(B233,Forb_Table,21,FALSE)),\"\",VLOOKUP(B233,Forb_Table,21,FALSE))","v":""},{"$f":"IF(D234>0,D234,0)","v":""},{"$f":"IF(D233=\"\",IF(E233=\"\",IF(F233=\"\",0,F233/I233*H233),E233*H233),E234*H233)","v":0},{"$f":"IF(ISNA(VLOOKUP(B233,Forb_Table,32,FALSE)),\"\",VLOOKUP(B233,Forb_Table,32,FALSE))","v":""},{"$f":"IFERROR(VLOOKUP(B233,Monarch_ForbTable,34,FALSE),\"\")","v":""}]
[null,{"$f":"C233","v":""},{"$f":"IF(ISERROR(VLOOKUP(B233,Forb_Table,30,FALSE)),\"\",VLOOKUP(B233,Forb_Table,30,FALSE))","v":""},{"$f":"IF(E233=\"\",IF(F233=\"\",\"\",F233/$F$285),F234/$F$285)","v":""},{"$f":"IF(D233=\"\",IF(F233=\"\",\"\",F233/I233),J233*D233)","v":""},{"$f":"IF(D233=\"\",IF(E233=\"\",\"\",E233*I233),E234*I233)","v":""},{"$f":"G233","v":""},null,null,null,null,null,{"$f":"M233","v":""},{"$f":"IFERROR(VLOOKUP(B234,Monarch_ForbSciNameTable,33,FALSE),\"\")","v":""}]
[77,null,{"$f":"IF(ISERROR(VLOOKUP(B235,Forb_Table,2,FALSE)),\"\",VLOOKUP(B235,Forb_Table,2,FALSE))","v":""},null,null,null,{"$f":"IF(ISNA(VLOOKUP(B235,Forb_Table,31,FALSE)),\"\",VLOOKUP(B235,Forb_Table,31,FALSE))","v":""},{"$f":"IF(ISNA(VLOOKUP(B235,Forb_Table,25,FALSE)),\"\",VLOOKUP(B235,Forb_Table,25,FALSE))","v":""},{"$f":"IF(ISNA(VLOOKUP(B235,Forb_Table,28,FALSE)),\"\",VLOOKUP(B235,Forb_Table,28,FALSE))","v":""},{"$f":"IF(ISNA(VLOOKUP(B235,Forb_Table,21,FALSE)),\"\",VLOOKUP(B235,Forb_Table,21,FALSE))","v":""},{"$f":"IF(D236>0,D236,0)","v":""},{"$f":"IF(D235=\"\",IF(E235=\"\",IF(F235=\"\",0,F235/I235*H235),E235*H235),E236*H235)","v":0},{"$f":"IF(ISNA(VLOOKUP(B235,Forb_Table,32,FALSE)),\"\",VLOOKUP(B235,Forb_Table,32,FALSE))","v":""},{"$f":"IFERROR(VLOOKUP(B235,Monarch_ForbTable,34,FALSE),\"\")","v":""}]
[null,{"$f":"C235","v":""},{"$f":"IF(ISERROR(VLOOKUP(B235,Forb_Table,30,FALSE)),\"\",VLOOKUP(B235,Forb_Table,30,FALSE))","v":""},{"$f":"IF(E235=\"\",IF(F235=\"\",\"\",F235/$F$285),F236/$F$285)","v":""},{"$f":"IF(D235=\"\",IF(F235=\"\",\"\",F235/I235),J235*D235)","v":""},{"$f":"IF(D235=\"\",IF(E235=\"\",\"\",E235*I235),E236*I235)","v":""},{"$f":"G235","v":""},null,null,null,null,null,{"$f":"M235","v":""},{"$f":"IFERROR(VLOOKUP(B236,Monarch_ForbSciNameTable,33,FALSE),\"\")","v":""}]
[78,null,{"$f":"IF(ISERROR(VLOOKUP(B237,Forb_Table,2,FALSE)),\"\",VLOOKUP(B237,Forb_Table,2,FALSE))","v":""},null,null,null,{"$f":"IF(ISNA(VLOOKUP(B237,Forb_Table,31,FALSE)),\"\",VLOOKUP(B237,Forb_Table,31,FALSE))","v":""},{"$f":"IF(ISNA(VLOOKUP(B237,Forb_Table,25,FALSE)),\"\",VLOOKUP(B237,Forb_Table,25,FALSE))","v":""},{"$f":"IF(ISNA(VLOOKUP(B237,Forb_Table,28,FALSE)),\"\",VLOOKUP(B237,Forb_Table,28,FALSE))","v":""},{"$f":"IF(ISNA(VLOOKUP(B237,Forb_Table,21,FALSE)),\"\",VLOOKUP(B237,Forb_Table,21,FALSE))","v":""},{"$f":"IF(D238>0,D238,0)","v":""},{"$f":"IF(D237=\"\",IF(E237=\"\",IF(F237=\"\",0,F237/I237*H237),E237*H237),E238*H237)","v":0},{"$f":"IF(ISNA(VLOOKUP(B237,Forb_Table,32,FALSE)),\"\",VLOOKUP(B237,Forb_Table,32,FALSE))","v":""},{"$f":"IFERROR(VLOOKUP(B237,Monarch_ForbTable,34,FALSE),\"\")","v":""}]
[null,{"$f":"C237","v":""},{"$f":"IF(ISERROR(VLOOKUP(B237,Forb_Table,30,FALSE)),\"\",VLOOKUP(B237,Forb_Table,30,FALSE))","v":""},{"$f":"IF(E237=\"\",IF(F237=\"\",\"\",F237/$F$285),F238/$F$285)","v":""},{"$f":"IF(D237=\"\",IF(F237=\"\",\"\",F237/I237),J237*D237)","v":""},{"$f":"IF(D237=\"\",IF(E237=\"\",\"\",E237*I237),E238*I237)","v":""},{"$f":"G237","v":""},null,null,null,null,null,{"$f":"M237","v":""},{"$f":"IFERROR(VLOOKUP(B238,Monarch_ForbSciNameTable,33,FALSE),\"\")","v":""}]
[79,null,{"$f":"IF(ISERROR(VLOOKUP(B239,Forb_Table,2,FALSE)),\"\",VLOOKUP(B239,Forb_Table,2,FALSE))","v":""},null,null,null,{"$f":"IF(ISNA(VLOOKUP(B239,Forb_Table,31,FALSE)),\"\",VLOOKUP(B239,Forb_Table,31,FALSE))","v":""},{"$f":"IF(ISNA(VLOOKUP(B239,Forb_Table,25,FALSE)),\"\",VLOOKUP(B239,Forb_Table,25,FALSE))","v":""},{"$f":"IF(ISNA(VLOOKUP(B239,Forb_Table,28,FALSE)),\"\",VLOOKUP(B239,Forb_Table,28,FALSE))","v":""},{"$f":"IF(ISNA(VLOOKUP(B239,Forb_Table,21,FALSE)),\"\",VLOOKUP(B239,Forb_Table,21,FALSE))","v":""},{"$f":"IF(D240>0,D240,0)","v":""},{"$f":"IF(D239=\"\",IF(E239=\"\",IF(F239=\"\",0,F239/I239*H239),E239*H239),E240*H239)","v":0},{"$f":"IF(ISNA(VLOOKUP(B239,Forb_Table,32,FALSE)),\"\",VLOOKUP(B239,Forb_Table,32,FALSE))","v":""},{"$f":"IFERROR(VLOOKUP(B239,Monarch_ForbTable,34,FALSE),\"\")","v":""}]
[null,{"$f":"C239","v":""},{"$f":"IF(ISERROR(VLOOKUP(B239,Forb_Table,30,FALSE)),\"\",VLOOKUP(B239,Forb_Table,30,FALSE))","v":""},{"$f":"IF(E239=\"\",IF(F239=\"\",\"\",F239/$F$285),F240/$F$285)","v":""},{"$f":"IF(D239=\"\",IF(F239=\"\",\"\",F239/I239),J239*D239)","v":""},{"$f":"IF(D239=\"\",IF(E239=\"\",\"\",E239*I239),E240*I239)","v":""},{"$f":"G239","v":""},null,null,null,null,null,{"$f":"M239","v":""},{"$f":"IFERROR(VLOOKUP(B240,Monarch_ForbSciNameTable,33,FALSE),\"\")","v":""}]
[80,null,{"$f":"IF(ISERROR(VLOOKUP(B241,Forb_Table,2,FALSE)),\"\",VLOOKUP(B241,Forb_Table,2,FALSE))","v":""},null,null,null,{"$f":"IF(ISNA(VLOOKUP(B241,Forb_Table,31,FALSE)),\"\",VLOOKUP(B241,Forb_Table,31,FALSE))","v":""},{"$f":"IF(ISNA(VLOOKUP(B241,Forb_Table,25,FALSE)),\"\",VLOOKUP(B241,Forb_Table,25,FALSE))","v":""},{"$f":"IF(ISNA(VLOOKUP(B241,Forb_Table,28,FALSE)),\"\",VLOOKUP(B241,Forb_Table,28,FALSE))","v":""},{"$f":"IF(ISNA(VLOOKUP(B241,Forb_Table,21,FALSE)),\"\",VLOOKUP(B241,Forb_Table,21,FALSE))","v":""},{"$f":"IF(D242>0,D242,0)","v":""},{"$f":"IF(D241=\"\",IF(E241=\"\",IF(F241=\"\",0,F241/I241*H241),E241*H241),E242*H241)","v":0},{"$f":"IF(ISNA(VLOOKUP(B241,Forb_Table,32,FALSE)),\"\",VLOOKUP(B241,Forb_Table,32,FALSE))","v":""},{"$f":"IFERROR(VLOOKUP(B241,Monarch_ForbTable,34,FALSE),\"\")","v":""}]
[null,{"$f":"C241","v":""},{"$f":"IF(ISERROR(VLOOKUP(B241,Forb_Table,30,FALSE)),\"\",VLOOKUP(B241,Forb_Table,30,FALSE))","v":""},{"$f":"IF(E241=\"\",IF(F241=\"\",\"\",F241/$F$285),F242/$F$285)","v":""},{"$f":"IF(D241=\"\",IF(F241=\"\",\"\",F241/I241),J241*D241)","v":""},{"$f":"IF(D241=\"\",IF(E241=\"\",\"\",E241*I241),E242*I241)","v":""},{"$f":"G241","v":""},null,null,null,null,null,{"$f":"M241","v":""},{"$f":"IFERROR(VLOOKUP(B242,Monarch_ForbSciNameTable,33,FALSE),\"\")","v":""}]
[81,null,{"$f":"IF(ISERROR(VLOOKUP(B243,Forb_Table,2,FALSE)),\"\",VLOOKUP(B243,Forb_Table,2,FALSE))","v":""},null,null,null,{"$f":"IF(ISNA(VLOOKUP(B243,Forb_Table,31,FALSE)),\"\",VLOOKUP(B243,Forb_Table,31,FALSE))","v":""},{"$f":"IF(ISNA(VLOOKUP(B243,Forb_Table,25,FALSE)),\"\",VLOOKUP(B243,Forb_Table,25,FALSE))","v":""},{"$f":"IF(ISNA(VLOOKUP(B243,Forb_Table,28,FALSE)),\"\",VLOOKUP(B243,Forb_Table,28,FALSE))","v":""},{"$f":"IF(ISNA(VLOOKUP(B243,Forb_Table,21,FALSE)),\"\",VLOOKUP(B243,Forb_Table,21,FALSE))","v":""},{"$f":"IF(D244>0,D244,0)","v":""},{"$f":"IF(D243=\"\",IF(E243=\"\",IF(F243=\"\",0,F243/I243*H243),E243*H243),E244*H243)","v":0},{"$f":"IF(ISNA(VLOOKUP(B243,Forb_Table,32,FALSE)),\"\",VLOOKUP(B243,Forb_Table,32,FALSE))","v":""},{"$f":"IFERROR(VLOOKUP(B243,Monarch_ForbTable,34,FALSE),\"\")","v":""}]
[null,{"$f":"C243","v":""},{"$f":"IF(ISERROR(VLOOKUP(B243,Forb_Table,30,FALSE)),\"\",VLOOKUP(B243,Forb_Table,30,FALSE))","v":""},{"$f":"IF(E243=\"\",IF(F243=\"\",\"\",F243/$F$285),F244/$F$285)","v":""},{"$f":"IF(D243=\"\",IF(F243=\"\",\"\",F243/I243),J243*D243)","v":""},{"$f":"IF(D243=\"\",IF(E243=\"\",\"\",E243*I243),E244*I243)","v":""},{"$f":"G243","v":""},null,null,null,null,null,{"$f":"M243","v":""},{"$f":"IFERROR(VLOOKUP(B244,Monarch_ForbSciNameTable,33,FALSE),\"\")","v":""}]
[82,null,{"$f":"IF(ISERROR(VLOOKUP(B245,Forb_Table,2,FALSE)),\"\",VLOOKUP(B245,Forb_Table,2,FALSE))","v":""},null,null,null,{"$f":"IF(ISNA(VLOOKUP(B245,Forb_Table,31,FALSE)),\"\",VLOOKUP(B245,Forb_Table,31,FALSE))","v":""},{"$f":"IF(ISNA(VLOOKUP(B245,Forb_Table,25,FALSE)),\"\",VLOOKUP(B245,Forb_Table,25,FALSE))","v":""},{"$f":"IF(ISNA(VLOOKUP(B245,Forb_Table,28,FALSE)),\"\",VLOOKUP(B245,Forb_Table,28,FALSE))","v":""},{"$f":"IF(ISNA(VLOOKUP(B245,Forb_Table,21,FALSE)),\"\",VLOOKUP(B245,Forb_Table,21,FALSE))","v":""},{"$f":"IF(D246>0,D246,0)","v":""},{"$f":"IF(D245=\"\",IF(E245=\"\",IF(F245=\"\",0,F245/I245*H245),E245*H245),E246*H245)","v":0},{"$f":"IF(ISNA(VLOOKUP(B245,Forb_Table,32,FALSE)),\"\",VLOOKUP(B245,Forb_Table,32,FALSE))","v":""},{"$f":"IFERROR(VLOOKUP(B245,Monarch_ForbTable,34,FALSE),\"\")","v":""}]
[null,{"$f":"C245","v":""},{"$f":"IF(ISERROR(VLOOKUP(B245,Forb_Table,30,FALSE)),\"\",VLOOKUP(B245,Forb_Table,30,FALSE))","v":""},{"$f":"IF(E245=\"\",IF(F245=\"\",\"\",F245/$F$285),F246/$F$285)","v":""},{"$f":"IF(D245=\"\",IF(F245=\"\",\"\",F245/I245),J245*D245)","v":""},{"$f":"IF(D245=\"\",IF(E245=\"\",\"\",E245*I245),E246*I245)","v":""},{"$f":"G245","v":""},null,null,null,null,null,{"$f":"M245","v":""},{"$f":"IFERROR(VLOOKUP(B246,Monarch_ForbSciNameTable,33,FALSE),\"\")","v":""}]
[83,null,{"$f":"IF(ISERROR(VLOOKUP(B247,Forb_Table,2,FALSE)),\"\",VLOOKUP(B247,Forb_Table,2,FALSE))","v":""},null,null,null,{"$f":"IF(ISNA(VLOOKUP(B247,Forb_Table,31,FALSE)),\"\",VLOOKUP(B247,Forb_Table,31,FALSE))","v":""},{"$f":"IF(ISNA(VLOOKUP(B247,Forb_Table,25,FALSE)),\"\",VLOOKUP(B247,Forb_Table,25,FALSE))","v":""},{"$f":"IF(ISNA(VLOOKUP(B247,Forb_Table,28,FALSE)),\"\",VLOOKUP(B247,Forb_Table,28,FALSE))","v":""},{"$f":"IF(ISNA(VLOOKUP(B247,Forb_Table,21,FALSE)),\"\",VLOOKUP(B247,Forb_Table,21,FALSE))","v":""},{"$f":"IF(D248>0,D248,0)","v":""},{"$f":"IF(D247=\"\",IF(E247=\"\",IF(F247=\"\",0,F247/I247*H247),E247*H247),E248*H247)","v":0},{"$f":"IF(ISNA(VLOOKUP(B247,Forb_Table,32,FALSE)),\"\",VLOOKUP(B247,Forb_Table,32,FALSE))","v":""},{"$f":"IFERROR(VLOOKUP(B247,Monarch_ForbTable,34,FALSE),\"\")","v":""}]
[null,{"$f":"C247","v":""},{"$f":"IF(ISERROR(VLOOKUP(B247,Forb_Table,30,FALSE)),\"\",VLOOKUP(B247,Forb_Table,30,FALSE))","v":""},{"$f":"IF(E247=\"\",IF(F247=\"\",\"\",F247/$F$285),F248/$F$285)","v":""},{"$f":"IF(D247=\"\",IF(F247=\"\",\"\",F247/I247),J247*D247)","v":""},{"$f":"IF(D247=\"\",IF(E247=\"\",\"\",E247*I247),E248*I247)","v":""},{"$f":"G247","v":""},null,null,null,null,null,{"$f":"M247","v":""},{"$f":"IFERROR(VLOOKUP(B248,Monarch_ForbSciNameTable,33,FALSE),\"\")","v":""}]
[84,null,{"$f":"IF(ISERROR(VLOOKUP(B249,Forb_Table,2,FALSE)),\"\",VLOOKUP(B249,Forb_Table,2,FALSE))","v":""},null,null,null,{"$f":"IF(ISNA(VLOOKUP(B249,Forb_Table,31,FALSE)),\"\",VLOOKUP(B249,Forb_Table,31,FALSE))","v":""},{"$f":"IF(ISNA(VLOOKUP(B249,Forb_Table,25,FALSE)),\"\",VLOOKUP(B249,Forb_Table,25,FALSE))","v":""},{"$f":"IF(ISNA(VLOOKUP(B249,Forb_Table,28,FALSE)),\"\",VLOOKUP(B249,Forb_Table,28,FALSE))","v":""},{"$f":"IF(ISNA(VLOOKUP(B249,Forb_Table,21,FALSE)),\"\",VLOOKUP(B249,Forb_Table,21,FALSE))","v":""},{"$f":"IF(D250>0,D250,0)","v":""},{"$f":"IF(D249=\"\",IF(E249=\"\",IF(F249=\"\",0,F249/I249*H249),E249*H249),E250*H249)","v":0},{"$f":"IF(ISNA(VLOOKUP(B249,Forb_Table,32,FALSE)),\"\",VLOOKUP(B249,Forb_Table,32,FALSE))","v":""},{"$f":"IFERROR(VLOOKUP(B249,Monarch_ForbTable,34,FALSE),\"\")","v":""}]
[null,{"$f":"C249","v":""},{"$f":"IF(ISERROR(VLOOKUP(B249,Forb_Table,30,FALSE)),\"\",VLOOKUP(B249,Forb_Table,30,FALSE))","v":""},{"$f":"IF(E249=\"\",IF(F249=\"\",\"\",F249/$F$285),F250/$F$285)","v":""},{"$f":"IF(D249=\"\",IF(F249=\"\",\"\",F249/I249),J249*D249)","v":""},{"$f":"IF(D249=\"\",IF(E249=\"\",\"\",E249*I249),E250*I249)","v":""},{"$f":"G249","v":""},null,null,null,null,null,{"$f":"M249","v":""},{"$f":"IFERROR(VLOOKUP(B250,Monarch_ForbSciNameTable,33,FALSE),\"\")","v":""}]
[85,null,{"$f":"IF(ISERROR(VLOOKUP(B251,Forb_Table,2,FALSE)),\"\",VLOOKUP(B251,Forb_Table,2,FALSE))","v":""},null,null,null,{"$f":"IF(ISNA(VLOOKUP(B251,Forb_Table,31,FALSE)),\"\",VLOOKUP(B251,Forb_Table,31,FALSE))","v":""},{"$f":"IF(ISNA(VLOOKUP(B251,Forb_Table,25,FALSE)),\"\",VLOOKUP(B251,Forb_Table,25,FALSE))","v":""},{"$f":"IF(ISNA(VLOOKUP(B251,Forb_Table,28,FALSE)),\"\",VLOOKUP(B251,Forb_Table,28,FALSE))","v":""},{"$f":"IF(ISNA(VLOOKUP(B251,Forb_Table,21,FALSE)),\"\",VLOOKUP(B251,Forb_Table,21,FALSE))","v":""},{"$f":"IF(D252>0,D252,0)","v":""},{"$f":"IF(D251=\"\",IF(E251=\"\",IF(F251=\"\",0,F251/I251*H251),E251*H251),E252*H251)","v":0},{"$f":"IF(ISNA(VLOOKUP(B251,Forb_Table,32,FALSE)),\"\",VLOOKUP(B251,Forb_Table,32,FALSE))","v":""},{"$f":"IFERROR(VLOOKUP(B251,Monarch_ForbTable,34,FALSE),\"\")","v":""}]
[null,{"$f":"C251","v":""},{"$f":"IF(ISERROR(VLOOKUP(B251,Forb_Table,30,FALSE)),\"\",VLOOKUP(B251,Forb_Table,30,FALSE))","v":""},{"$f":"IF(E251=\"\",IF(F251=\"\",\"\",F251/$F$285),F252/$F$285)","v":""},{"$f":"IF(D251=\"\",IF(F251=\"\",\"\",F251/I251),J251*D251)","v":""},{"$f":"IF(D251=\"\",IF(E251=\"\",\"\",E251*I251),E252*I251)","v":""},{"$f":"G251","v":""},null,null,null,null,null,{"$f":"M251","v":""},{"$f":"IFERROR(VLOOKUP(B252,Monarch_ForbSciNameTable,33,FALSE),\"\")","v":""}]
[86,null,{"$f":"IF(ISERROR(VLOOKUP(B253,Forb_Table,2,FALSE)),\"\",VLOOKUP(B253,Forb_Table,2,FALSE))","v":""},null,null,null,{"$f":"IF(ISNA(VLOOKUP(B253,Forb_Table,31,FALSE)),\"\",VLOOKUP(B253,Forb_Table,31,FALSE))","v":""},{"$f":"IF(ISNA(VLOOKUP(B253,Forb_Table,25,FALSE)),\"\",VLOOKUP(B253,Forb_Table,25,FALSE))","v":""},{"$f":"IF(ISNA(VLOOKUP(B253,Forb_Table,28,FALSE)),\"\",VLOOKUP(B253,Forb_Table,28,FALSE))","v":""},{"$f":"IF(ISNA(VLOOKUP(B253,Forb_Table,21,FALSE)),\"\",VLOOKUP(B253,Forb_Table,21,FALSE))","v":""},{"$f":"IF(D254>0,D254,0)","v":""},{"$f":"IF(D253=\"\",IF(E253=\"\",IF(F253=\"\",0,F253/I253*H253),E253*H253),E254*H253)","v":0},{"$f":"IF(ISNA(VLOOKUP(B253,Forb_Table,32,FALSE)),\"\",VLOOKUP(B253,Forb_Table,32,FALSE))","v":""},{"$f":"IFERROR(VLOOKUP(B253,Monarch_ForbTable,34,FALSE),\"\")","v":""}]
[null,{"$f":"C253","v":""},{"$f":"IF(ISERROR(VLOOKUP(B253,Forb_Table,30,FALSE)),\"\",VLOOKUP(B253,Forb_Table,30,FALSE))","v":""},{"$f":"IF(E253=\"\",IF(F253=\"\",\"\",F253/$F$285),F254/$F$285)","v":""},{"$f":"IF(D253=\"\",IF(F253=\"\",\"\",F253/I253),J253*D253)","v":""},{"$f":"IF(D253=\"\",IF(E253=\"\",\"\",E253*I253),E254*I253)","v":""},{"$f":"G253","v":""},null,null,null,null,null,{"$f":"M253","v":""},{"$f":"IFERROR(VLOOKUP(B254,Monarch_ForbSciNameTable,33,FALSE),\"\")","v":""}]
[87,null,{"$f":"IF(ISERROR(VLOOKUP(B255,Forb_Table,2,FALSE)),\"\",VLOOKUP(B255,Forb_Table,2,FALSE))","v":""},null,null,null,{"$f":"IF(ISNA(VLOOKUP(B255,Forb_Table,31,FALSE)),\"\",VLOOKUP(B255,Forb_Table,31,FALSE))","v":""},{"$f":"IF(ISNA(VLOOKUP(B255,Forb_Table,25,FALSE)),\"\",VLOOKUP(B255,Forb_Table,25,FALSE))","v":""},{"$f":"IF(ISNA(VLOOKUP(B255,Forb_Table,28,FALSE)),\"\",VLOOKUP(B255,Forb_Table,28,FALSE))","v":""},{"$f":"IF(ISNA(VLOOKUP(B255,Forb_Table,21,FALSE)),\"\",VLOOKUP(B255,Forb_Table,21,FALSE))","v":""},{"$f":"IF(D256>0,D256,0)","v":""},{"$f":"IF(D255=\"\",IF(E255=\"\",IF(F255=\"\",0,F255/I255*H255),E255*H255),E256*H255)","v":0},{"$f":"IF(ISNA(VLOOKUP(B255,Forb_Table,32,FALSE)),\"\",VLOOKUP(B255,Forb_Table,32,FALSE))","v":""},{"$f":"IFERROR(VLOOKUP(B255,Monarch_ForbTable,34,FALSE),\"\")","v":""}]
[null,{"$f":"C255","v":""},{"$f":"IF(ISERROR(VLOOKUP(B255,Forb_Table,30,FALSE)),\"\",VLOOKUP(B255,Forb_Table,30,FALSE))","v":""},{"$f":"IF(E255=\"\",IF(F255=\"\",\"\",F255/$F$285),F256/$F$285)","v":""},{"$f":"IF(D255=\"\",IF(F255=\"\",\"\",F255/I255),J255*D255)","v":""},{"$f":"IF(D255=\"\",IF(E255=\"\",\"\",E255*I255),E256*I255)","v":""},{"$f":"G255","v":""},null,null,null,null,null,{"$f":"M255","v":""},{"$f":"IFERROR(VLOOKUP(B256,Monarch_ForbSciNameTable,33,FALSE),\"\")","v":""}]
[88,null,{"$f":"IF(ISERROR(VLOOKUP(B257,Forb_Table,2,FALSE)),\"\",VLOOKUP(B257,Forb_Table,2,FALSE))","v":""},null,null,null,{"$f":"IF(ISNA(VLOOKUP(B257,Forb_Table,31,FALSE)),\"\",VLOOKUP(B257,Forb_Table,31,FALSE))","v":""},{"$f":"IF(ISNA(VLOOKUP(B257,Forb_Table,25,FALSE)),\"\",VLOOKUP(B257,Forb_Table,25,FALSE))","v":""},{"$f":"IF(ISNA(VLOOKUP(B257,Forb_Table,28,FALSE)),\"\",VLOOKUP(B257,Forb_Table,28,FALSE))","v":""},{"$f":"IF(ISNA(VLOOKUP(B257,Forb_Table,21,FALSE)),\"\",VLOOKUP(B257,Forb_Table,21,FALSE))","v":""},{"$f":"IF(D258>0,D258,0)","v":""},{"$f":"IF(D257=\"\",IF(E257=\"\",IF(F257=\"\",0,F257/I257*H257),E257*H257),E258*H257)","v":0},{"$f":"IF(ISNA(VLOOKUP(B257,Forb_Table,32,FALSE)),\"\",VLOOKUP(B257,Forb_Table,32,FALSE))","v":""},{"$f":"IFERROR(VLOOKUP(B257,Monarch_ForbTable,34,FALSE),\"\")","v":""}]
[null,{"$f":"C257","v":""},{"$f":"IF(ISERROR(VLOOKUP(B257,Forb_Table,30,FALSE)),\"\",VLOOKUP(B257,Forb_Table,30,FALSE))","v":""},{"$f":"IF(E257=\"\",IF(F257=\"\",\"\",F257/$F$285),F258/$F$285)","v":""},{"$f":"IF(D257=\"\",IF(F257=\"\",\"\",F257/I257),J257*D257)","v":""},{"$f":"IF(D257=\"\",IF(E257=\"\",\"\",E257*I257),E258*I257)","v":""},{"$f":"G257","v":""},null,null,null,null,null,{"$f":"M257","v":""},{"$f":"IFERROR(VLOOKUP(B258,Monarch_ForbSciNameTable,33,FALSE),\"\")","v":""}]
[89,null,{"$f":"IF(ISERROR(VLOOKUP(B259,Forb_Table,2,FALSE)),\"\",VLOOKUP(B259,Forb_Table,2,FALSE))","v":""},null,null,null,{"$f":"IF(ISNA(VLOOKUP(B259,Forb_Table,31,FALSE)),\"\",VLOOKUP(B259,Forb_Table,31,FALSE))","v":""},{"$f":"IF(ISNA(VLOOKUP(B259,Forb_Table,25,FALSE)),\"\",VLOOKUP(B259,Forb_Table,25,FALSE))","v":""},{"$f":"IF(ISNA(VLOOKUP(B259,Forb_Table,28,FALSE)),\"\",VLOOKUP(B259,Forb_Table,28,FALSE))","v":""},{"$f":"IF(ISNA(VLOOKUP(B259,Forb_Table,21,FALSE)),\"\",VLOOKUP(B259,Forb_Table,21,FALSE))","v":""},{"$f":"IF(D260>0,D260,0)","v":""},{"$f":"IF(D259=\"\",IF(E259=\"\",IF(F259=\"\",0,F259/I259*H259),E259*H259),E260*H259)","v":0},{"$f":"IF(ISNA(VLOOKUP(B259,Forb_Table,32,FALSE)),\"\",VLOOKUP(B259,Forb_Table,32,FALSE))","v":""},{"$f":"IFERROR(VLOOKUP(B259,Monarch_ForbTable,34,FALSE),\"\")","v":""}]
[null,{"$f":"C259","v":""},{"$f":"IF(ISERROR(VLOOKUP(B259,Forb_Table,30,FALSE)),\"\",VLOOKUP(B259,Forb_Table,30,FALSE))","v":""},{"$f":"IF(E259=\"\",IF(F259=\"\",\"\",F259/$F$285),F260/$F$285)","v":""},{"$f":"IF(D259=\"\",IF(F259=\"\",\"\",F259/I259),J259*D259)","v":""},{"$f":"IF(D259=\"\",IF(E259=\"\",\"\",E259*I259),E260*I259)","v":""},{"$f":"G259","v":""},null,null,null,null,null,{"$f":"M259","v":""},{"$f":"IFERROR(VLOOKUP(B260,Monarch_ForbSciNameTable,33,FALSE),\"\")","v":""}]
[90,null,{"$f":"IF(ISERROR(VLOOKUP(B261,Forb_Table,2,FALSE)),\"\",VLOOKUP(B261,Forb_Table,2,FALSE))","v":""},null,null,null,{"$f":"IF(ISNA(VLOOKUP(B261,Forb_Table,31,FALSE)),\"\",VLOOKUP(B261,Forb_Table,31,FALSE))","v":""},{"$f":"IF(ISNA(VLOOKUP(B261,Forb_Table,25,FALSE)),\"\",VLOOKUP(B261,Forb_Table,25,FALSE))","v":""},{"$f":"IF(ISNA(VLOOKUP(B261,Forb_Table,28,FALSE)),\"\",VLOOKUP(B261,Forb_Table,28,FALSE))","v":""},{"$f":"IF(ISNA(VLOOKUP(B261,Forb_Table,21,FALSE)),\"\",VLOOKUP(B261,Forb_Table,21,FALSE))","v":""},{"$f":"IF(D262>0,D262,0)","v":""},{"$f":"IF(D261=\"\",IF(E261=\"\",IF(F261=\"\",0,F261/I261*H261),E261*H261),E262*H261)","v":0},{"$f":"IF(ISNA(VLOOKUP(B261,Forb_Table,32,FALSE)),\"\",VLOOKUP(B261,Forb_Table,32,FALSE))","v":""},{"$f":"IFERROR(VLOOKUP(B261,Monarch_ForbTable,34,FALSE),\"\")","v":""}]
[null,{"$f":"C261","v":""},{"$f":"IF(ISERROR(VLOOKUP(B261,Forb_Table,30,FALSE)),\"\",VLOOKUP(B261,Forb_Table,30,FALSE))","v":""},{"$f":"IF(E261=\"\",IF(F261=\"\",\"\",F261/$F$285),F262/$F$285)","v":""},{"$f":"IF(D261=\"\",IF(F261=\"\",\"\",F261/I261),J261*D261)","v":""},{"$f":"IF(D261=\"\",IF(E261=\"\",\"\",E261*I261),E262*I261)","v":""},{"$f":"G261","v":""},null,null,null,null,null,{"$f":"M261","v":""},{"$f":"IFERROR(VLOOKUP(B262,Monarch_ForbSciNameTable,33,FALSE),\"\")","v":""}]
[null,null,"Species Richness",null,"lbs / acre PLS","seeds / ft2 PLS","Average CC"]
[]
[null,"FORBS/LEGUMES TOTAL",{"$f":"COUNT(F83:F262)","v":0},{"$f":"IF(SUM(D83:D262)>1,\"> 100%\",SUM(D83:D262))","v":0},{"$f":"SUM(E83:E262)","v":0},{"$f":"SUM(F83:F262)","v":0},{"$f":"IF(ISERROR(AVERAGE(G83:G262)),0,AVERAGE(G83:G262))","v":0}]
[]
[null,null,null,null,null,null,null,null,null,null,null,null,null,null,null,null,null,null,null,null,null,null,null,0]
[null,"CHOOSE YOUR VINE OR WOODY PLANT SPECIES"]
[null,"Common Name","Scientific Name",null,"Lbs / acre PLS","Seeds / ft2 PLS","Coefficient of Conservatism","Estimated Cost ($/lb)","# Seeds / ft2","Pure Stand PLS Rate       lbs / ac","% of Mix","Estimated Cost ($/ac)",null,null,null,null,null,null,null,null,null,null,null,0]
[null,null,"Flowering Period","Equivalent rate below",null,null,null,null,"@ 1 oz. / ac",null,null,null,"Functional Group"]
[1,null,{"$f":"IF(ISERROR(VLOOKUP(B271,Woody_Table,2,FALSE)),\"\",VLOOKUP(B271,Woody_Table,2,FALSE))","v":""},null,null,null,{"$f":"IF(ISNA(VLOOKUP(B271,Woody_Table,31,FALSE)),\"\",VLOOKUP(B271,Woody_Table,31,FALSE))","v":""},{"$f":"IF(ISNA(VLOOKUP(B271,Woody_Table,25,FALSE)),\"\",VLOOKUP(B271,Woody_Table,25,FALSE))","v":""},{"$f":"IF(ISNA(VLOOKUP(B271,Woody_Table,28,FALSE)),\"\",VLOOKUP(B271,Woody_Table,28,FALSE))","v":""},{"$f":"IF(ISNA(VLOOKUP(B271,Woody_Table,21,FALSE)),\"\",VLOOKUP(B271,Woody_Table,21,FALSE))","v":""},{"$f":"IF(D272>0,D272,0)","v":""},{"$f":"IF(D271=\"\",IF(E271=\"\",IF(F271=\"\",0,F271/I271*H271),E271*H271),E272*H271)","v":0},{"$f":"IF(ISNA(VLOOKUP(B271,Woody_Table,32,FALSE)),\"\",VLOOKUP(B271,Woody_Table,32,FALSE))","v":""},{"$f":"IFERROR(VLOOKUP(B271,Monarch_WoodyTable,34,FALSE),\"\")","v":""},null,null,null,null,null,null,null,null,null,"1",null,"Bladdernut  "]
[null,{"$f":"C271","v":""},{"$f":"IF(ISERROR(VLOOKUP(B271,Woody_Table,30,FALSE)),\"\",VLOOKUP(B271,Woody_Table,30,FALSE))","v":""},{"$f":"IF(E271=\"\",IF(F271=\"\",\"\",F271/$F$285),F272/$F$285)","v":""},{"$f":"IF(D271=\"\",IF(F271=\"\",\"\",F271/I271),J271*D271)","v":""},{"$f":"IF(D271=\"\",IF(E271=\"\",\"\",E271*I271),E272*I271)","v":""},{"$f":"G271","v":""},null,null,null,null,null,{"$f":"M271","v":""},{"$f":"IFERROR(VLOOKUP(B272,Monarch_WoodySciNameTable,33,FALSE),\"\")","v":""}]
[2,null,{"$f":"IF(ISERROR(VLOOKUP(B273,Woody_Table,2,FALSE)),\"\",VLOOKUP(B273,Woody_Table,2,FALSE))","v":""},null,null,null,{"$f":"IF(ISNA(VLOOKUP(B273,Woody_Table,31,FALSE)),\"\",VLOOKUP(B273,Woody_Table,31,FALSE))","v":""},{"$f":"IF(ISNA(VLOOKUP(B273,Woody_Table,25,FALSE)),\"\",VLOOKUP(B273,Woody_Table,25,FALSE))","v":""},{"$f":"IF(ISNA(VLOOKUP(B273,Woody_Table,28,FALSE)),\"\",VLOOKUP(B273,Woody_Table,28,FALSE))","v":""},{"$f":"IF(ISNA(VLOOKUP(B273,Woody_Table,21,FALSE)),\"\",VLOOKUP(B273,Woody_Table,21,FALSE))","v":""},{"$f":"IF(D274>0,D274,0)","v":""},{"$f":"IF(D273=\"\",IF(E273=\"\",IF(F273=\"\",0,F273/I273*H273),E273*H273),E274*H273)","v":0},{"$f":"IF(ISNA(VLOOKUP(B273,Woody_Table,32,FALSE)),\"\",VLOOKUP(B273,Woody_Table,32,FALSE))","v":""},{"$f":"IFERROR(VLOOKUP(B273,Monarch_WoodyTable,34,FALSE),\"\")","v":""},null,null,null,null,null,null,null,null,null,"1"]
[null,{"$f":"C273","v":""},{"$f":"IF(ISERROR(VLOOKUP(B273,Woody_Table,30,FALSE)),\"\",VLOOKUP(B273,Woody_Table,30,FALSE))","v":""},{"$f":"IF(E273=\"\",IF(F273=\"\",\"\",F273/$F$285),F274/$F$285)","v":""},{"$f":"IF(D273=\"\",IF(F273=\"\",\"\",F273/I273),J273*D273)","v":""},{"$f":"IF(D273=\"\",IF(E273=\"\",\"\",E273*I273),E274*I273)","v":""},{"$f":"G273","v":""},null,null,null,null,null,{"$f":"M273","v":""},{"$f":"IFERROR(VLOOKUP(B274,Monarch_WoodySciNameTable,33,FALSE),\"\")","v":""}]
[3,null,{"$f":"IF(ISERROR(VLOOKUP(B275,Woody_Table,2,FALSE)),\"\",VLOOKUP(B275,Woody_Table,2,FALSE))","v":""},null,null,null,{"$f":"IF(ISNA(VLOOKUP(B275,Woody_Table,31,FALSE)),\"\",VLOOKUP(B275,Woody_Table,31,FALSE))","v":""},{"$f":"IF(ISNA(VLOOKUP(B275,Woody_Table,25,FALSE)),\"\",VLOOKUP(B275,Woody_Table,25,FALSE))","v":""},{"$f":"IF(ISNA(VLOOKUP(B275,Woody_Table,28,FALSE)),\"\",VLOOKUP(B275,Woody_Table,28,FALSE))","v":""},{"$f":"IF(ISNA(VLOOKUP(B275,Woody_Table,21,FALSE)),\"\",VLOOKUP(B275,Woody_Table,21,FALSE))","v":""},{"$f":"IF(D276>0,D276,0)","v":""},{"$f":"IF(D275=\"\",IF(E275=\"\",IF(F275=\"\",0,F275/I275*H275),E275*H275),E276*H275)","v":0},{"$f":"IF(ISNA(VLOOKUP(B275,Woody_Table,32,FALSE)),\"\",VLOOKUP(B275,Woody_Table,32,FALSE))","v":""},{"$f":"IFERROR(VLOOKUP(B275,Monarch_WoodyTable,34,FALSE),\"\")","v":""},null,null,null,null,null,null,null,null,null,"1"]
[null,{"$f":"C275","v":""},{"$f":"IF(ISERROR(VLOOKUP(B275,Woody_Table,30,FALSE)),\"\",VLOOKUP(B275,Woody_Table,30,FALSE))","v":""},{"$f":"IF(E275=\"\",IF(F275=\"\",\"\",F275/$F$285),F276/$F$285)","v":""},{"$f":"IF(D275=\"\",IF(F275=\"\",\"\",F275/I275),J275*D275)","v":""},{"$f":"IF(D275=\"\",IF(E275=\"\",\"\",E275*I275),E276*I275)","v":""},{"$f":"G275","v":""},null,null,null,null,null,{"$f":"M275","v":""},{"$f":"IFERROR(VLOOKUP(B276,Monarch_WoodySciNameTable,33,FALSE),\"\")","v":""}]
[4,null,{"$f":"IF(ISERROR(VLOOKUP(B277,Woody_Table,2,FALSE)),\"\",VLOOKUP(B277,Woody_Table,2,FALSE))","v":""},null,null,null,{"$f":"IF(ISNA(VLOOKUP(B277,Woody_Table,31,FALSE)),\"\",VLOOKUP(B277,Woody_Table,31,FALSE))","v":""},{"$f":"IF(ISNA(VLOOKUP(B277,Woody_Table,25,FALSE)),\"\",VLOOKUP(B277,Woody_Table,25,FALSE))","v":""},{"$f":"IF(ISNA(VLOOKUP(B277,Woody_Table,28,FALSE)),\"\",VLOOKUP(B277,Woody_Table,28,FALSE))","v":""},{"$f":"IF(ISNA(VLOOKUP(B277,Woody_Table,21,FALSE)),\"\",VLOOKUP(B277,Woody_Table,21,FALSE))","v":""},{"$f":"IF(D278>0,D278,0)","v":""},{"$f":"IF(D277=\"\",IF(E277=\"\",IF(F277=\"\",0,F277/I277*H277),E277*H277),E278*H277)","v":0},{"$f":"IF(ISNA(VLOOKUP(B277,Woody_Table,32,FALSE)),\"\",VLOOKUP(B277,Woody_Table,32,FALSE))","v":""},{"$f":"IFERROR(VLOOKUP(B277,Monarch_WoodyTable,34,FALSE),\"\")","v":""},null,null,null,null,null,null,null,null,null,"1"]
[null,{"$f":"C277","v":""},{"$f":"IF(ISERROR(VLOOKUP(B277,Woody_Table,30,FALSE)),\"\",VLOOKUP(B277,Woody_Table,30,FALSE))","v":""},{"$f":"IF(E277=\"\",IF(F277=\"\",\"\",F277/$F$285),F278/$F$285)","v":""},{"$f":"IF(D277=\"\",IF(F277=\"\",\"\",F277/I277),J277*D277)","v":""},{"$f":"IF(D277=\"\",IF(E277=\"\",\"\",E277*I277),E278*I277)","v":""},{"$f":"G277","v":""},null,null,null,null,null,{"$f":"M277","v":""},{"$f":"IFERROR(VLOOKUP(B278,Monarch_WoodySciNameTable,33,FALSE),\"\")","v":""}]
[5,null,{"$f":"IF(ISERROR(VLOOKUP(B279,Woody_Table,2,FALSE)),\"\",VLOOKUP(B279,Woody_Table,2,FALSE))","v":""},null,null,null,{"$f":"IF(ISNA(VLOOKUP(B279,Woody_Table,31,FALSE)),\"\",VLOOKUP(B279,Woody_Table,31,FALSE))","v":""},{"$f":"IF(ISNA(VLOOKUP(B279,Woody_Table,25,FALSE)),\"\",VLOOKUP(B279,Woody_Table,25,FALSE))","v":""},{"$f":"IF(ISNA(VLOOKUP(B279,Woody_Table,28,FALSE)),\"\",VLOOKUP(B279,Woody_Table,28,FALSE))","v":""},{"$f":"IF(ISNA(VLOOKUP(B279,Woody_Table,21,FALSE)),\"\",VLOOKUP(B279,Woody_Table,21,FALSE))","v":""},{"$f":"IF(D280>0,D280,0)","v":""},{"$f":"IF(D279=\"\",IF(E279=\"\",IF(F279=\"\",0,F279/I279*H279),E279*H279),E280*H279)","v":0},{"$f":"IF(ISNA(VLOOKUP(B279,Woody_Table,32,FALSE)),\"\",VLOOKUP(B279,Woody_Table,32,FALSE))","v":""},{"$f":"IFERROR(VLOOKUP(B279,Monarch_WoodyTable,34,FALSE),\"\")","v":""},null,null,null,null,null,null,null,null,null,"1"]
[null,{"$f":"C279","v":""},{"$f":"IF(ISERROR(VLOOKUP(B279,Woody_Table,30,FALSE)),\"\",VLOOKUP(B279,Woody_Table,30,FALSE))","v":""},{"$f":"IF(E279=\"\",IF(F279=\"\",\"\",F279/$F$285),F280/$F$285)","v":""},{"$f":"IF(D279=\"\",IF(F279=\"\",\"\",F279/I279),J279*D279)","v":""},{"$f":"IF(D279=\"\",IF(E279=\"\",\"\",E279*I279),E280*I279)","v":""},{"$f":"G279","v":""},null,null,null,null,null,{"$f":"M279","v":""},{"$f":"IFERROR(VLOOKUP(B280,Monarch_WoodySciNameTable,33,FALSE),\"\")","v":""}]
[null,null,"Species Richness","% of mix","Lbs / acre PLS","seeds / ft2 PLS","Average CC"]
[null,"VINE & WOODY PLANT TOTAL",{"$f":"COUNT(F271:F280)","v":0},{"$f":"IF(SUM(D271:D280)>1,\"> 100%\",SUM(D271:D280))","v":0},{"$f":"SUM(E271:E280)","v":0},{"$f":"SUM(F271:F280)","v":0},{"$f":"IF(ISERROR(AVERAGE(G271:G280)),0,AVERAGE(G271:G280))","v":0}]
[]
[null,null,null,"% of mix","lbs / acre PLS","seeds / ft2 PLS","Average CC",null,"Species Richness",null,"Floristic Quality Index"]
[null,null,"GRAND TOTAL",{"$f":"IF(OR(SUM(D265,D77,D282)>1,D265=\"> 100%\",D77=\"> 100%\",D282=\"> 100%\"),\"> 100%\",SUM(D265,D77,D282))","v":0},{"$f":"SUM(E265,E77,E282)","v":0},{"$f":"SUM(F282+F265+F77)","v":0},{"$f":"IF(ISERROR(AVERAGE(G271:G280,G83:G262,G15:G74)),0,AVERAGE(G271:G280,G83:G262,G15:G74))","v":0},null,{"$f":"SUM(C282,C265,C77)","v":0},null,{"$f":"SQRT(I285)*G285","v":0}]

{"sheet":"SeedingPlan","index":3,"n_rows":178,"n_cols":11,"rows_kept":178,"cut":false,"hidden":false,"merged":[[175,0,175,6],[176,0,176,6],[177,0,177,6],[172,3,172,5],[173,3,173,5],[10,0,10,5],[5,1,5,2],[3,0,3,5],[6,1,6,2],[4,0,4,5],[8,1,8,2],[0,5,0,6],[1,5,1,6],[2,5,2,6],[162,0,162,1],[160,0,160,1],[158,0,158,1],[156,0,156,1],[154,3,154,4],[155,0,155,1],[153,0,154,1],[155,3,155,4],[156,3,156,4],[157,3,157,4],[158,3,158,4],[157,0,157,1],[153,3,153,4],[160,2,160,3],[169,0,169,1],[164,0,164,5],[170,3,170,4],[169,3,169,4],[170,0,170,1],[162,2,162,6],[163,0,163,6]]}
[null,null,null,null,null,"IA - CPA - 4 REV."]
[null,null,null,null,null,"September 2022"]
[null,null,null,null,null,"(File Code 180-12-12)"]
["Seeding Plan"]
[]
["Name ",{"$f":"IF(ISBLANK('Supplement to Seed Plan'!D7)=TRUE,\"\",'Supplement to Seed Plan'!D7)","v":""},null,null,null,"Date ",{"$f":"TODAY()","v":"2022-09-26"},null,"VISIBLE",null,"Agricultural Conservation Easement Program"]
["Prepared by",{"$f":"IF(ISBLANK('Supplement to Seed Plan'!H86)=TRUE,\"\",'Supplement to Seed Plan'!H86)","v":""},null,null,null,"Tract No.",{"$f":"IF(ISBLANK('Supplement to Seed Plan'!V10)=TRUE,\"\",'Supplement to Seed Plan'!V10)","v":""},null,{"$f":"COUNT(H14:H43)","v":0},null,"Conservation Reserve Program"]
[null,null,null,null,null,"Field No.",{"$f":"IF(ISBLANK('Supplement to Seed Plan'!F10)=TRUE,\"\",'Supplement to Seed Plan'!F10)","v":""},null,{"$f":"COUNT(H47:H136)","v":0},null,"Conservation Stewardship Program"]
["Program:",{"$f":"IF(ISBLANK('Supplement to Seed Plan'!M19)=TRUE,\"\",'Supplement to Seed Plan'!M19)","v":""},null,"Acres:",{"$f":"IF(ISBLANK('Supplement to Seed Plan'!P10)=TRUE,\"\",'Supplement to Seed Plan'!P10)","v":""},"Contract No.",{"$f":"IF(ISBLANK('Supplement to Seed Plan'!M20)=TRUE,\"\",'Supplement to Seed Plan'!M20)","v":""},null,{"$f":"COUNT(H141:H145)","v":0},null,"Environmental Quality Incentives Program"]
[null,null,null,null,null,"Moisture Regime",{"$f":"IF(ISBLANK('Supplement to Seed Plan'!J26)=TRUE,\"\",'Supplement to Seed Plan'!J26)","v":""},null,null,null,"Iowa Financial Incentive Program"]
["Seeding Mix Summary",null,null,null,null,null,null,null,null,null,"Iowa Water Quality Initiative"]
[]
["Grasses","Scientific Name","Common Name","Seeds/Ft2","PLS Lbs/Acre","PLS Lbs Total"]
[1,{"$f":"IF(ISNA(VLOOKUP(Calculator!B15,Grass_Table,2,FALSE)),\"\",VLOOKUP(Calculator!B15,Grass_Table,2,FALSE))","v":""},{"$f":"IF(ISBLANK(Calculator!B15),\"\",Calculator!B15)","v":""},{"$f":"IF(C14=\"\",\"\",SUM(Calculator!F15:F16))","v":""},{"$f":"IF(C14=\"\",\"\",SUM(Calculator!E15:E16))","v":""},{"$f":"IF(E14<>\"\",E14*$E$9,\"\")","v":""},null,{"$f":"IF(LEN(B14)>1,VALUE(\"1\"),\"\")","v":""}]
[2,{"$f":"IF(ISNA(VLOOKUP(Calculator!B17,Grass_Table,2,FALSE)),\"\",VLOOKUP(Calculator!B17,Grass_Table,2,FALSE))","v":""},{"$f":"IF(ISBLANK(Calculator!B17),\"\",Calculator!B17)","v":""},{"$f":"IF(C15=\"\",\"\",SUM(Calculator!F17:F18))","v":""},{"$f":"IF(C15=\"\",\"\",SUM(Calculator!E17:E18))","v":""},"",null,{"$f":"IF(LEN(B15)>1,VALUE(\"1\"),\"\")","v":""}]
[3,{"$f":"IF(ISNA(VLOOKUP(Calculator!B19,Grass_Table,2,FALSE)),\"\",VLOOKUP(Calculator!B19,Grass_Table,2,FALSE))","v":""},{"$f":"IF(ISBLANK(Calculator!B19),\"\",Calculator!B19)","v":""},{"$f":"IF(C16=\"\",\"\",SUM(Calculator!F19:F20))","v":""},{"$f":"IF(C16=\"\",\"\",SUM(Calculator!E19:E20))","v":""},"",null,""]
[4,{"$f":"IF(ISNA(VLOOKUP(Calculator!B21,Grass_Table,2,FALSE)),\"\",VLOOKUP(Calculator!B21,Grass_Table,2,FALSE))","v":""},{"$f":"IF(ISBLANK(Calculator!B21),\"\",Calculator!B21)","v":""},{"$f":"IF(C17=\"\",\"\",SUM(Calculator!F21:F22))","v":""},{"$f":"IF(C17=\"\",\"\",SUM(Calculator!E21:E22))","v":""},"",null,""]
[5,{"$f":"IF(ISNA(VLOOKUP(Calculator!B23,Grass_Table,2,FALSE)),\"\",VLOOKUP(Calculator!B23,Grass_Table,2,FALSE))","v":""},{"$f":"IF(ISBLANK(Calculator!B23),\"\",Calculator!B23)","v":""},{"$f":"IF(C18=\"\",\"\",SUM(Calculator!F23:F24))","v":""},{"$f":"IF(C18=\"\",\"\",SUM(Calculator!E23:E24))","v":""},"",null,""]
[6,{"$f":"IF(ISNA(VLOOKUP(Calculator!B25,Grass_Table,2,FALSE)),\"\",VLOOKUP(Calculator!B25,Grass_Table,2,FALSE))","v":""},{"$f":"IF(ISBLANK(Calculator!B25),\"\",Calculator!B25)","v":""},{"$f":"IF(C19=\"\",\"\",SUM(Calculator!F25:F26))","v":""},{"$f":"IF(C19=\"\",\"\",SUM(Calculator!E25:E26))","v":""},"",null,""]
[7,{"$f":"IF(ISNA(VLOOKUP(Calculator!B27,Grass_Table,2,FALSE)),\"\",VLOOKUP(Calculator!B27,Grass_Table,2,FALSE))","v":""},{"$f":"IF(ISBLANK(Calculator!B27),\"\",Calculator!B27)","v":""},{"$f":"IF(C20=\"\",\"\",SUM(Calculator!F27:F28))","v":""},{"$f":"IF(C20=\"\",\"\",SUM(Calculator!E27:E28))","v":""},"",null,""]
[8,{"$f":"IF(ISNA(VLOOKUP(Calculator!B29,Grass_Table,2,FALSE)),\"\",VLOOKUP(Calculator!B29,Grass_Table,2,FALSE))","v":""},{"$f":"IF(ISBLANK(Calculator!B29),\"\",Calculator!B29)","v":""},{"$f":"IF(C21=\"\",\"\",SUM(Calculator!F29:F30))","v":""},{"$f":"IF(C21=\"\",\"\",SUM(Calculator!E29:E30))","v":""},"",null,""]
[9,{"$f":"IF(ISNA(VLOOKUP(Calculator!B31,Grass_Table,2,FALSE)),\"\",VLOOKUP(Calculator!B31,Grass_Table,2,FALSE))","v":""},{"$f":"IF(ISBLANK(Calculator!B31),\"\",Calculator!B31)","v":""},{"$f":"IF(C22=\"\",\"\",SUM(Calculator!F31:F32))","v":""},{"$f":"IF(C22=\"\",\"\",SUM(Calculator!E31:E32))","v":""},"",null,""]
[10,{"$f":"IF(ISNA(VLOOKUP(Calculator!B33,Grass_Table,2,FALSE)),\"\",VLOOKUP(Calculator!B33,Grass_Table,2,FALSE))","v":""},{"$f":"IF(ISBLANK(Calculator!B33),\"\",Calculator!B33)","v":""},{"$f":"IF(C23=\"\",\"\",SUM(Calculator!F33:F34))","v":""},{"$f":"IF(C23=\"\",\"\",SUM(Calculator!E33:E34))","v":""},"",null,""]
[11,{"$f":"IF(ISNA(VLOOKUP(Calculator!B35,Grass_Table,2,FALSE)),\"\",VLOOKUP(Calculator!B35,Grass_Table,2,FALSE))","v":""},{"$f":"IF(ISBLANK(Calculator!B35),\"\",Calculator!B35)","v":""},{"$f":"IF(C24=\"\",\"\",SUM(Calculator!F35:F36))","v":""},{"$f":"IF(C24=\"\",\"\",SUM(Calculator!E35:E36))","v":""},"",null,""]
[12,{"$f":"IF(ISNA(VLOOKUP(Calculator!B37,Grass_Table,2,FALSE)),\"\",VLOOKUP(Calculator!B37,Grass_Table,2,FALSE))","v":""},{"$f":"IF(ISBLANK(Calculator!B37),\"\",Calculator!B37)","v":""},{"$f":"IF(C25=\"\",\"\",SUM(Calculator!F37:F38))","v":""},{"$f":"IF(C25=\"\",\"\",SUM(Calculator!E37:E38))","v":""},"",null,""]
[13,{"$f":"IF(ISNA(VLOOKUP(Calculator!B39,Grass_Table,2,FALSE)),\"\",VLOOKUP(Calculator!B39,Grass_Table,2,FALSE))","v":""},{"$f":"IF(ISBLANK(Calculator!B39),\"\",Calculator!B39)","v":""},{"$f":"IF(C26=\"\",\"\",SUM(Calculator!F39:F40))","v":""},{"$f":"IF(C26=\"\",\"\",SUM(Calculator!E39:E40))","v":""},"",null,""]
[14,{"$f":"IF(ISNA(VLOOKUP(Calculator!B41,Grass_Table,2,FALSE)),\"\",VLOOKUP(Calculator!B41,Grass_Table,2,FALSE))","v":""},{"$f":"IF(ISBLANK(Calculator!B41),\"\",Calculator!B41)","v":""},{"$f":"IF(C27=\"\",\"\",SUM(Calculator!F41:F42))","v":""},{"$f":"IF(C27=\"\",\"\",SUM(Calculator!E41:E42))","v":""},"",null,""]
[15,{"$f":"IF(ISNA(VLOOKUP(Calculator!B43,Grass_Table,2,FALSE)),\"\",VLOOKUP(Calculator!B43,Grass_Table,2,FALSE))","v":""},{"$f":"IF(ISBLANK(Calculator!B43),\"\",Calculator!B43)","v":""},{"$f":"IF(C28=\"\",\"\",SUM(Calculator!F43:F44))","v":""},{"$f":"IF(C28=\"\",\"\",SUM(Calculator!E43:E44))","v":""},"",null,""]
[16,{"$f":"IF(ISNA(VLOOKUP(Calculator!B45,Grass_Table,2,FALSE)),\"\",VLOOKUP(Calculator!B45,Grass_Table,2,FALSE))","v":""},{"$f":"IF(ISBLANK(Calculator!B45),\"\",Calculator!B45)","v":""},{"$f":"IF(C29=\"\",\"\",SUM(Calculator!F45:F46))","v":""},{"$f":"IF(C29=\"\",\"\",SUM(Calculator!E45:E46))","v":""},"",null,""]
[17,{"$f":"IF(ISNA(VLOOKUP(Calculator!B47,Grass_Table,2,FALSE)),\"\",VLOOKUP(Calculator!B47,Grass_Table,2,FALSE))","v":""},{"$f":"IF(ISBLANK(Calculator!B47),\"\",Calculator!B47)","v":""},{"$f":"IF(C30=\"\",\"\",SUM(Calculator!F47:F48))","v":""},{"$f":"IF(C30=\"\",\"\",SUM(Calculator!E47:E48))","v":""},"",null,""]
[18,{"$f":"IF(ISNA(VLOOKUP(Calculator!B49,Grass_Table,2,FALSE)),\"\",VLOOKUP(Calculator!B49,Grass_Table,2,FALSE))","v":""},{"$f":"IF(ISBLANK(Calculator!B49),\"\",Calculator!B49)","v":""},{"$f":"IF(C31=\"\",\"\",SUM(Calculator!F49:F50))","v":""},{"$f":"IF(C31=\"\",\"\",SUM(Calculator!E49:E50))","v":""},"",null,""]
[19,{"$f":"IF(ISNA(VLOOKUP(Calculator!B51,Grass_Table,2,FALSE)),\"\",VLOOKUP(Calculator!B51,Grass_Table,2,FALSE))","v":""},{"$f":"IF(ISBLANK(Calculator!B51),\"\",Calculator!B51)","v":""},{"$f":"IF(C32=\"\",\"\",SUM(Calculator!F51:F52))","v":""},{"$f":"IF(C32=\"\",\"\",SUM(Calculator!E51:E52))","v":""},"",null,""]
[20,{"$f":"IF(ISNA(VLOOKUP(Calculator!B53,Grass_Table,2,FALSE)),\"\",VLOOKUP(Calculator!B53,Grass_Table,2,FALSE))","v":""},{"$f":"IF(ISBLANK(Calculator!B53),\"\",Calculator!B53)","v":""},{"$f":"IF(C33=\"\",\"\",SUM(Calculator!F53:F54))","v":""},{"$f":"IF(C33=\"\",\"\",SUM(Calculator!E53:E54))","v":""},"",null,""]
[21,{"$f":"IF(ISNA(VLOOKUP(Calculator!B55,Grass_Table,2,FALSE)),\"\",VLOOKUP(Calculator!B55,Grass_Table,2,FALSE))","v":""},{"$f":"IF(ISBLANK(Calculator!B55),\"\",Calculator!B55)","v":""},{"$f":"IF(C34=\"\",\"\",SUM(Calculator!F55:F56))","v":""},{"$f":"IF(C34=\"\",\"\",SUM(Calculator!E55:E56))","v":""},"",null,""]
[22,{"$f":"IF(ISNA(VLOOKUP(Calculator!B57,Grass_Table,2,FALSE)),\"\",VLOOKUP(Calculator!B57,Grass_Table,2,FALSE))","v":""},{"$f":"IF(ISBLANK(Calculator!B57),\"\",Calculator!B57)","v":""},{"$f":"IF(C35=\"\",\"\",SUM(Calculator!F57:F58))","v":""},{"$f":"IF(C35=\"\",\"\",SUM(Calculator!E57:E58))","v":""},"",null,""]
[23,{"$f":"IF(ISNA(VLOOKUP(Calculator!B59,Grass_Table,2,FALSE)),\"\",VLOOKUP(Calculator!B59,Grass_Table,2,FALSE))","v":""},{"$f":"IF(ISBLANK(Calculator!B59),\"\",Calculator!B59)","v":""},{"$f":"IF(C36=\"\",\"\",SUM(Calculator!F59:F60))","v":""},{"$f":"IF(C36=\"\",\"\",SUM(Calculator!E59:E60))","v":""},"",null,""]
[24,{"$f":"IF(ISNA(VLOOKUP(Calculator!B61,Grass_Table,2,FALSE)),\"\",VLOOKUP(Calculator!B61,Grass_Table,2,FALSE))","v":""},{"$f":"IF(ISBLANK(Calculator!B61),\"\",Calculator!B61)","v":""},{"$f":"IF(C37=\"\",\"\",SUM(Calculator!F61:F62))","v":""},{"$f":"IF(C37=\"\",\"\",SUM(Calculator!E61:E62))","v":""},"",null,""]
[25,{"$f":"IF(ISNA(VLOOKUP(Calculator!B63,Grass_Table,2,FALSE)),\"\",VLOOKUP(Calculator!B63,Grass_Table,2,FALSE))","v":""},{"$f":"IF(ISBLANK(Calculator!B63),\"\",Calculator!B63)","v":""},{"$f":"IF(C38=\"\",\"\",SUM(Calculator!F63:F64))","v":""},{"$f":"IF(C38=\"\",\"\",SUM(Calculator!E63:E64))","v":""},"",null,""]
[26,{"$f":"IF(ISNA(VLOOKUP(Calculator!B65,Grass_Table,2,FALSE)),\"\",VLOOKUP(Calculator!B65,Grass_Table,2,FALSE))","v":""},{"$f":"IF(ISBLANK(Calculator!B65),\"\",Calculator!B65)","v":""},{"$f":"IF(C39=\"\",\"\",SUM(Calculator!F65:F66))","v":""},{"$f":"IF(C39=\"\",\"\",SUM(Calculator!E65:E66))","v":""},"",null,""]
[27,{"$f":"IF(ISNA(VLOOKUP(Calculator!B67,Grass_Table,2,FALSE)),\"\",VLOOKUP(Calculator!B67,Grass_Table,2,FALSE))","v":""},{"$f":"IF(ISBLANK(Calculator!B67),\"\",Calculator!B67)","v":""},{"$f":"IF(C40=\"\",\"\",SUM(Calculator!F67:F68))","v":""},{"$f":"IF(C40=\"\",\"\",SUM(Calculator!E67:E68))","v":""},"",null,""]
[28,{"$f":"IF(ISNA(VLOOKUP(Calculator!B69,Grass_Table,2,FALSE)),\"\",VLOOKUP(Calculator!B69,Grass_Table,2,FALSE))","v":""},{"$f":"IF(ISBLANK(Calculator!B69),\"\",Calculator!B69)","v":""},{"$f":"IF(C41=\"\",\"\",SUM(Calculator!F69:F70))","v":""},{"$f":"IF(C41=\"\",\"\",SUM(Calculator!E69:E70))","v":""},"",null,""]
[29,{"$f":"IF(ISNA(VLOOKUP(Calculator!B71,Grass_Table,2,FALSE)),\"\",VLOOKUP(Calculator!B71,Grass_Table,2,FALSE))","v":""},{"$f":"IF(ISBLANK(Calculator!B71),\"\",Calculator!B71)","v":""},{"$f":"IF(C42=\"\",\"\",SUM(Calculator!F71:F72))","v":""},{"$f":"IF(C42=\"\",\"\",SUM(Calculator!E71:E72))","v":""},"",null,""]
[30,{"$f":"IF(ISNA(VLOOKUP(Calculator!B73,Grass_Table,2,FALSE)),\"\",VLOOKUP(Calculator!B73,Grass_Table,2,FALSE))","v":""},{"$f":"IF(ISBLANK(Calculator!B73),\"\",Calculator!B73)","v":""},{"$f":"IF(C43=\"\",\"\",SUM(Calculator!F73:F74))","v":""},{"$f":"IF(C43=\"\",\"\",SUM(Calculator!E73:E74))","v":""},"",null,""]
[]
[null,null,"SUBTOTAL GRASSES",{"$f":"SUM(D14:D43)","v":0},{"$f":"SUM(E14:E43)","v":0},{"$f":"SUM(F14:F43)","v":0}]
["Forbs/Legumes","Scientific Name","Common Name","Seeds/Ft2","PLS Lbs/Acre","PLS Lbs Total"]
[1,{"$f":"IF(ISNA(VLOOKUP(Calculator!B83,Forb_Table,2,FALSE)),\"\",VLOOKUP(Calculator!B83,Forb_Table,2,FALSE))","v":""},{"$f":"IF(ISBLANK(Calculator!B83),\"\",Calculator!B83)","v":""},{"$f":"IF(C47=\"\",\"\",SUM(Calculator!F83:F84))","v":""},{"$f":"IF(C47=\"\",\"\",SUM(Calculator!E83:E84))","v":""},{"$f":"IF(E47<>\"\",E47*$E$9,\"\")","v":""},null,{"$f":"IF(LEN(B47)>1,VALUE(\"1\"),\"\")","v":""}]
[2,{"$f":"IF(ISNA(VLOOKUP(Calculator!B85,Forb_Table,2,FALSE)),\"\",VLOOKUP(Calculator!B85,Forb_Table,2,FALSE))","v":""},{"$f":"IF(ISBLANK(Calculator!B85),\"\",Calculator!B85)","v":""},{"$f":"IF(C48=\"\",\"\",SUM(Calculator!F85:F86))","v":""},{"$f":"IF(C48=\"\",\"\",SUM(Calculator!E85:E86))","v":""},"",null,{"$f":"IF(LEN(B48)>1,VALUE(\"1\"),\"\")","v":""}]
[3,{"$f":"IF(ISNA(VLOOKUP(Calculator!B87,Forb_Table,2,FALSE)),\"\",VLOOKUP(Calculator!B87,Forb_Table,2,FALSE))","v":""},{"$f":"IF(ISBLANK(Calculator!B87),\"\",Calculator!B87)","v":""},{"$f":"IF(C49=\"\",\"\",SUM(Calculator!F87:F88))","v":""},{"$f":"IF(C49=\"\",\"\",SUM(Calculator!E87:E88))","v":""},"",null,""]
[4,{"$f":"IF(ISNA(VLOOKUP(Calculator!B89,Forb_Table,2,FALSE)),\"\",VLOOKUP(Calculator!B89,Forb_Table,2,FALSE))","v":""},{"$f":"IF(ISBLANK(Calculator!B89),\"\",Calculator!B89)","v":""},{"$f":"IF(C50=\"\",\"\",SUM(Calculator!F89:F90))","v":""},{"$f":"IF(C50=\"\",\"\",SUM(Calculator!E89:E90))","v":""},"",null,""]
[5,{"$f":"IF(ISNA(VLOOKUP(Calculator!B91,Forb_Table,2,FALSE)),\"\",VLOOKUP(Calculator!B91,Forb_Table,2,FALSE))","v":""},{"$f":"IF(ISBLANK(Calculator!B91),\"\",Calculator!B91)","v":""},{"$f":"IF(C51=\"\",\"\",SUM(Calculator!F91:F92))","v":""},{"$f":"IF(C51=\"\",\"\",SUM(Calculator!E91:E92))","v":""},"",null,""]
[6,{"$f":"IF(ISNA(VLOOKUP(Calculator!B93,Forb_Table,2,FALSE)),\"\",VLOOKUP(Calculator!B93,Forb_Table,2,FALSE))","v":""},{"$f":"IF(ISBLANK(Calculator!B93),\"\",Calculator!B93)","v":""},{"$f":"IF(C52=\"\",\"\",SUM(Calculator!F93:F94))","v":""},{"$f":"IF(C52=\"\",\"\",SUM(Calculator!E93:E94))","v":""},"",null,""]
[7,{"$f":"IF(ISNA(VLOOKUP(Calculator!B95,Forb_Table,2,FALSE)),\"\",VLOOKUP(Calculator!B95,Forb_Table,2,FALSE))","v":""},{"$f":"IF(ISBLANK(Calculator!B95),\"\",Calculator!B95)","v":""},{"$f":"IF(C53=\"\",\"\",SUM(Calculator!F95:F96))","v":""},{"$f":"IF(C53=\"\",\"\",SUM(Calculator!E95:E96))","v":""},"",null,""]
[8,{"$f":"IF(ISNA(VLOOKUP(Calculator!B97,Forb_Table,2,FALSE)),\"\",VLOOKUP(Calculator!B97,Forb_Table,2,FALSE))","v":""},{"$f":"IF(ISBLANK(Calculator!B97),\"\",Calculator!B97)","v":""},{"$f":"IF(C54=\"\",\"\",SUM(Calculator!F97:F98))","v":""},{"$f":"IF(C54=\"\",\"\",SUM(Calculator!E97:E98))","v":""},"",null,""]
[9,{"$f":"IF(ISNA(VLOOKUP(Calculator!B99,Forb_Table,2,FALSE)),\"\",VLOOKUP(Calculator!B99,Forb_Table,2,FALSE))","v":""},{"$f":"IF(ISBLANK(Calculator!B99),\"\",Calculator!B99)","v":""},{"$f":"IF(C55=\"\",\"\",SUM(Calculator!F99:F100))","v":""},{"$f":"IF(C55=\"\",\"\",SUM(Calculator!E99:E100))","v":""},"",null,""]
[10,{"$f":"IF(ISNA(VLOOKUP(Calculator!B101,Forb_Table,2,FALSE)),\"\",VLOOKUP(Calculator!B101,Forb_Table,2,FALSE))","v":""},{"$f":"IF(ISBLANK(Calculator!B101),\"\",Calculator!B101)","v":""},{"$f":"IF(C56=\"\",\"\",SUM(Calculator!F101:F102))","v":""},{"$f":"IF(C56=\"\",\"\",SUM(Calculator!E101:E102))","v":""},"",null,""]
[11,{"$f":"IF(ISNA(VLOOKUP(Calculator!B103,Forb_Table,2,FALSE)),\"\",VLOOKUP(Calculator!B103,Forb_Table,2,FALSE))","v":""},{"$f":"IF(ISBLANK(Calculator!B103),\"\",Calculator!B103)","v":""},{"$f":"IF(C57=\"\",\"\",SUM(Calculator!F103:F104))","v":""},{"$f":"IF(C57=\"\",\"\",SUM(Calculator!E103:E104))","v":""},"",null,""]
[12,{"$f":"IF(ISNA(VLOOKUP(Calculator!B105,Forb_Table,2,FALSE)),\"\",VLOOKUP(Calculator!B105,Forb_Table,2,FALSE))","v":""},{"$f":"IF(ISBLANK(Calculator!B105),\"\",Calculator!B105)","v":""},{"$f":"IF(C58=\"\",\"\",SUM(Calculator!F105:F106))","v":""},{"$f":"IF(C58=\"\",\"\",SUM(Calculator!E105:E106))","v":""},"",null,""]
[13,{"$f":"IF(ISNA(VLOOKUP(Calculator!B107,Forb_Table,2,FALSE)),\"\",VLOOKUP(Calculator!B107,Forb_Table,2,FALSE))","v":""},{"$f":"IF(ISBLANK(Calculator!B107),\"\",Calculator!B107)","v":""},{"$f":"IF(C59=\"\",\"\",SUM(Calculator!F107:F108))","v":""},{"$f":"IF(C59=\"\",\"\",SUM(Calculator!E107:E108))","v":""},"",null,""]
[14,{"$f":"IF(ISNA(VLOOKUP(Calculator!B109,Forb_Table,2,FALSE)),\"\",VLOOKUP(Calculator!B109,Forb_Table,2,FALSE))","v":""},{"$f":"IF(ISBLANK(Calculator!B109),\"\",Calculator!B109)","v":""},{"$f":"IF(C60=\"\",\"\",SUM(Calculator!F109:F110))","v":""},{"$f":"IF(C60=\"\",\"\",SUM(Calculator!E109:E110))","v":""},"",null,""]
[15,{"$f":"IF(ISNA(VLOOKUP(Calculator!B111,Forb_Table,2,FALSE)),\"\",VLOOKUP(Calculator!B111,Forb_Table,2,FALSE))","v":""},{"$f":"IF(ISBLANK(Calculator!B111),\"\",Calculator!B111)","v":""},{"$f":"IF(C61=\"\",\"\",SUM(Calculator!F111:F112))","v":""},{"$f":"IF(C61=\"\",\"\",SUM(Calculator!E111:E112))","v":""},"",null,""]
[16,{"$f":"IF(ISNA(VLOOKUP(Calculator!B113,Forb_Table,2,FALSE)),\"\",VLOOKUP(Calculator!B113,Forb_Table,2,FALSE))","v":""},{"$f":"IF(ISBLANK(Calculator!B113),\"\",Calculator!B113)","v":""},{"$f":"IF(C62=\"\",\"\",SUM(Calculator!F113:F114))","v":""},{"$f":"IF(C62=\"\",\"\",SUM(Calculator!E113:E114))","v":""},"",null,""]
[17,{"$f":"IF(ISNA(VLOOKUP(Calculator!B115,Forb_Table,2,FALSE)),\"\",VLOOKUP(Calculator!B115,Forb_Table,2,FALSE))","v":""},{"$f":"IF(ISBLANK(Calculator!B115),\"\",Calculator!B115)","v":""},{"$f":"IF(C63=\"\",\"\",SUM(Calculator!F115:F116))","v":""},{"$f":"IF(C63=\"\",\"\",SUM(Calculator!E115:E116))","v":""},"",null,""]
[18,{"$f":"IF(ISNA(VLOOKUP(Calculator!B117,Forb_Table,2,FALSE)),\"\",VLOOKUP(Calculator!B117,Forb_Table,2,FALSE))","v":""},{"$f":"IF(ISBLANK(Calculator!B117),\"\",Calculator!B117)","v":""},{"$f":"IF(C64=\"\",\"\",SUM(Calculator!F117:F118))","v":""},{"$f":"IF(C64=\"\",\"\",SUM(Calculator!E117:E118))","v":""},"",null,""]
[19,{"$f":"IF(ISNA(VLOOKUP(Calculator!B119,Forb_Table,2,FALSE)),\"\",VLOOKUP(Calculator!B119,Forb_Table,2,FALSE))","v":""},{"$f":"IF(ISBLANK(Calculator!B119),\"\",Calculator!B119)","v":""},{"$f":"IF(C65=\"\",\"\",SUM(Calculator!F119:F120))","v":""},{"$f":"IF(C65=\"\",\"\",SUM(Calculator!E119:E120))","v":""},"",null,""]
[20,{"$f":"IF(ISNA(VLOOKUP(Calculator!B121,Forb_Table,2,FALSE)),\"\",VLOOKUP(Calculator!B121,Forb_Table,2,FALSE))","v":""},{"$f":"IF(ISBLANK(Calculator!B121),\"\",Calculator!B121)","v":""},{"$f":"IF(C66=\"\",\"\",SUM(Calculator!F121:F122))","v":""},{"$f":"IF(C66=\"\",\"\",SUM(Calculator!E121:E122))","v":""},"",null,""]
[21,{"$f":"IF(ISNA(VLOOKUP(Calculator!B123,Forb_Table,2,FALSE)),\"\",VLOOKUP(Calculator!B123,Forb_Table,2,FALSE))","v":""},{"$f":"IF(ISBLANK(Calculator!B123),\"\",Calculator!B123)","v":""},{"$f":"IF(C67=\"\",\"\",SUM(Calculator!F123:F124))","v":""},{"$f":"IF(C67=\"\",\"\",SUM(Calculator!E123:E124))","v":""},"",null,""]
[22,{"$f":"IF(ISNA(VLOOKUP(Calculator!B125,Forb_Table,2,FALSE)),\"\",VLOOKUP(Calculator!B125,Forb_Table,2,FALSE))","v":""},{"$f":"IF(ISBLANK(Calculator!B125),\"\",Calculator!B125)","v":""},{"$f":"IF(C68=\"\",\"\",SUM(Calculator!F125:F126))","v":""},{"$f":"IF(C68=\"\",\"\",SUM(Calculator!E125:E126))","v":""},"",null,""]
[23,{"$f":"IF(ISNA(VLOOKUP(Calculator!B127,Forb_Table,2,FALSE)),\"\",VLOOKUP(Calculator!B127,Forb_Table,2,FALSE))","v":""},{"$f":"IF(ISBLANK(Calculator!B127),\"\",Calculator!B127)","v":""},{"$f":"IF(C69=\"\",\"\",SUM(Calculator!F127:F128))","v":""},{"$f":"IF(C69=\"\",\"\",SUM(Calculator!E127:E128))","v":""},"",null,""]
[24,{"$f":"IF(ISNA(VLOOKUP(Calculator!B129,Forb_Table,2,FALSE)),\"\",VLOOKUP(Calculator!B129,Forb_Table,2,FALSE))","v":""},{"$f":"IF(ISBLANK(Calculator!B129),\"\",Calculator!B129)","v":""},{"$f":"IF(C70=\"\",\"\",SUM(Calculator!F129:F130))","v":""},{"$f":"IF(C70=\"\",\"\",SUM(Calculator!E129:E130))","v":""},"",null,""]
[25,{"$f":"IF(ISNA(VLOOKUP(Calculator!B131,Forb_Table,2,FALSE)),\"\",VLOOKUP(Calculator!B131,Forb_Table,2,FALSE))","v":""},{"$f":"IF(ISBLANK(Calculator!B131),\"\",Calculator!B131)","v":""},{"$f":"IF(C71=\"\",\"\",SUM(Calculator!F131:F132))","v":""},{"$f":"IF(C71=\"\",\"\",SUM(Calculator!E131:E132))","v":""},"",null,""]
[26,{"$f":"IF(ISNA(VLOOKUP(Calculator!B133,Forb_Table,2,FALSE)),\"\",VLOOKUP(Calculator!B133,Forb_Table,2,FALSE))","v":""},{"$f":"IF(ISBLANK(Calculator!B133),\"\",Calculator!B133)","v":""},{"$f":"IF(C72=\"\",\"\",SUM(Calculator!F133:F134))","v":""},{"$f":"IF(C72=\"\",\"\",SUM(Calculator!E133:E134))","v":""},"",null,""]
[27,{"$f":"IF(ISNA(VLOOKUP(Calculator!B135,Forb_Table,2,FALSE)),\"\",VLOOKUP(Calculator!B135,Forb_Table,2,FALSE))","v":""},{"$f":"IF(ISBLANK(Calculator!B135),\"\",Calculator!B135)","v":""},{"$f":"IF(C73=\"\",\"\",SUM(Calculator!F135:F136))","v":""},{"$f":"IF(C73=\"\",\"\",SUM(Calculator!E135:E136))","v":""},"",null,""]
[28,{"$f":"IF(ISNA(VLOOKUP(Calculator!B137,Forb_Table,2,FALSE)),\"\",VLOOKUP(Calculator!B137,Forb_Table,2,FALSE))","v":""},{"$f":"IF(ISBLANK(Calculator!B137),\"\",Calculator!B137)","v":""},{"$f":"IF(C74=\"\",\"\",SUM(Calculator!F137:F138))","v":""},{"$f":"IF(C74=\"\",\"\",SUM(Calculator!E137:E138))","v":""},"",null,""]
[29,{"$f":"IF(ISNA(VLOOKUP(Calculator!B139,Forb_Table,2,FALSE)),\"\",VLOOKUP(Calculator!B139,Forb_Table,2,FALSE))","v":""},{"$f":"IF(ISBLANK(Calculator!B139),\"\",Calculator!B139)","v":""},{"$f":"IF(C75=\"\",\"\",SUM(Calculator!F139:F140))","v":""},{"$f":"IF(C75=\"\",\"\",SUM(Calculator!E139:E140))","v":""},"",null,""]
[30,{"$f":"IF(ISNA(VLOOKUP(Calculator!B141,Forb_Table,2,FALSE)),\"\",VLOOKUP(Calculator!B141,Forb_Table,2,FALSE))","v":""},{"$f":"IF(ISBLANK(Calculator!B141),\"\",Calculator!B141)","v":""},{"$f":"IF(C76=\"\",\"\",SUM(Calculator!F141:F142))","v":""},{"$f":"IF(C76=\"\",\"\",SUM(Calculator!E141:E142))","v":""},"",null,""]
[31,{"$f":"IF(ISNA(VLOOKUP(Calculator!B143,Forb_Table,2,FALSE)),\"\",VLOOKUP(Calculator!B143,Forb_Table,2,FALSE))","v":""},{"$f":"IF(ISBLANK(Calculator!B143),\"\",Calculator!B143)","v":""},{"$f":"IF(C77=\"\",\"\",SUM(Calculator!F143:F144))","v":""},{"$f":"IF(C77=\"\",\"\",SUM(Calculator!E143:E144))","v":""},"",null,""]
[32,{"$f":"IF(ISNA(VLOOKUP(Calculator!B145,Forb_Table,2,FALSE)),\"\",VLOOKUP(Calculator!B145,Forb_Table,2,FALSE))","v":""},{"$f":"IF(ISBLANK(Calculator!B145),\"\",Calculator!B145)","v":""},{"$f":"IF(C78=\"\",\"\",SUM(Calculator!F145:F146))","v":""},{"$f":"IF(C78=\"\",\"\",SUM(Calculator!E145:E146))","v":""},"",null,""]
[33,{"$f":"IF(ISNA(VLOOKUP(Calculator!B147,Forb_Table,2,FALSE)),\"\",VLOOKUP(Calculator!B147,Forb_Table,2,FALSE))","v":""},{"$f":"IF(ISBLANK(Calculator!B147),\"\",Calculator!B147)","v":""},{"$f":"IF(C79=\"\",\"\",SUM(Calculator!F147:F148))","v":""},{"$f":"IF(C79=\"\",\"\",SUM(Calculator!E147:E148))","v":""},"",null,""]
[34,{"$f":"IF(ISNA(VLOOKUP(Calculator!B149,Forb_Table,2,FALSE)),\"\",VLOOKUP(Calculator!B149,Forb_Table,2,FALSE))","v":""},{"$f":"IF(ISBLANK(Calculator!B149),\"\",Calculator!B149)","v":""},{"$f":"IF(C80=\"\",\"\",SUM(Calculator!F149:F150))","v":""},{"$f":"IF(C80=\"\",\"\",SUM(Calculator!E149:E150))","v":""},"",null,""]
[35,{"$f":"IF(ISNA(VLOOKUP(Calculator!B151,Forb_Table,2,FALSE)),\"\",VLOOKUP(Calculator!B151,Forb_Table,2,FALSE))","v":""},{"$f":"IF(ISBLANK(Calculator!B151),\"\",Calculator!B151)","v":""},{"$f":"IF(C81=\"\",\"\",SUM(Calculator!F151:F152))","v":""},{"$f":"IF(C81=\"\",\"\",SUM(Calculator!E151:E152))","v":""},"",null,""]
[36,{"$f":"IF(ISNA(VLOOKUP(Calculator!B153,Forb_Table,2,FALSE)),\"\",VLOOKUP(Calculator!B153,Forb_Table,2,FALSE))","v":""},{"$f":"IF(ISBLANK(Calculator!B153),\"\",Calculator!B153)","v":""},{"$f":"IF(C82=\"\",\"\",SUM(Calculator!F153:F154))","v":""},{"$f":"IF(C82=\"\",\"\",SUM(Calculator!E153:E154))","v":""},"",null,""]
[37,{"$f":"IF(ISNA(VLOOKUP(Calculator!B155,Forb_Table,2,FALSE)),\"\",VLOOKUP(Calculator!B155,Forb_Table,2,FALSE))","v":""},{"$f":"IF(ISBLANK(Calculator!B155),\"\",Calculator!B155)","v":""},{"$f":"IF(C83=\"\",\"\",SUM(Calculator!F155:F156))","v":""},{"$f":"IF(C83=\"\",\"\",SUM(Calculator!E155:E156))","v":""},"",null,""]
[38,{"$f":"IF(ISNA(VLOOKUP(Calculator!B157,Forb_Table,2,FALSE)),\"\",VLOOKUP(Calculator!B157,Forb_Table,2,FALSE))","v":""},{"$f":"IF(ISBLANK(Calculator!B157),\"\",Calculator!B157)","v":""},{"$f":"IF(C84=\"\",\"\",SUM(Calculator!F157:F158))","v":""},{"$f":"IF(C84=\"\",\"\",SUM(Calculator!E157:E158))","v":""},"",null,""]
[39,{"$f":"IF(ISNA(VLOOKUP(Calculator!B159,Forb_Table,2,FALSE)),\"\",VLOOKUP(Calculator!B159,Forb_Table,2,FALSE))","v":""},{"$f":"IF(ISBLANK(Calculator!B159),\"\",Calculator!B159)","v":""},{"$f":"IF(C85=\"\",\"\",SUM(Calculator!F159:F160))","v":""},{"$f":"IF(C85=\"\",\"\",SUM(Calculator!E159:E160))","v":""},"",null,""]
[40,{"$f":"IF(ISNA(VLOOKUP(Calculator!B161,Forb_Table,2,FALSE)),\"\",VLOOKUP(Calculator!B161,Forb_Table,2,FALSE))","v":""},{"$f":"IF(ISBLANK(Calculator!B161),\"\",Calculator!B161)","v":""},{"$f":"IF(C86=\"\",\"\",SUM(Calculator!F161:F162))","v":""},{"$f":"IF(C86=\"\",\"\",SUM(Calculator!E161:E162))","v":""},{"$f":"IF(E86<>\"\",E86*$E$9,\"\")","v":""},null,""]
[41,{"$f":"IF(ISNA(VLOOKUP(Calculator!B163,Forb_Table,2,FALSE)),\"\",VLOOKUP(Calculator!B163,Forb_Table,2,FALSE))","v":""},{"$f":"IF(ISBLANK(Calculator!B163),\"\",Calculator!B163)","v":""},{"$f":"IF(C87=\"\",\"\",SUM(Calculator!F163:F164))","v":""},{"$f":"IF(C87=\"\",\"\",SUM(Calculator!E163:E164))","v":""},{"$f":"IF(E87<>\"\",E87*$E$9,\"\")","v":""},null,""]
[42,{"$f":"IF(ISNA(VLOOKUP(Calculator!B165,Forb_Table,2,FALSE)),\"\",VLOOKUP(Calculator!B165,Forb_Table,2,FALSE))","v":""},{"$f":"IF(ISBLANK(Calculator!B165),\"\",Calculator!B165)","v":""},{"$f":"IF(C88=\"\",\"\",SUM(Calculator!F165:F166))","v":""},{"$f":"IF(C88=\"\",\"\",SUM(Calculator!E165:E166))","v":""},"",null,""]
[43,{"$f":"IF(ISNA(VLOOKUP(Calculator!B167,Forb_Table,2,FALSE)),\"\",VLOOKUP(Calculator!B167,Forb_Table,2,FALSE))","v":""},{"$f":"IF(ISBLANK(Calculator!B167),\"\",Calculator!B167)","v":""},{"$f":"IF(C89=\"\",\"\",SUM(Calculator!F167:F168))","v":""},{"$f":"IF(C89=\"\",\"\",SUM(Calculator!E167:E168))","v":""},"",null,""]
[44,{"$f":"IF(ISNA(VLOOKUP(Calculator!B169,Forb_Table,2,FALSE)),\"\",VLOOKUP(Calculator!B169,Forb_Table,2,FALSE))","v":""},{"$f":"IF(ISBLANK(Calculator!B169),\"\",Calculator!B169)","v":""},{"$f":"IF(C90=\"\",\"\",SUM(Calculator!F169:F170))","v":""},{"$f":"IF(C90=\"\",\"\",SUM(Calculator!E169:E170))","v":""},"",null,""]
[45,{"$f":"IF(ISNA(VLOOKUP(Calculator!B171,Forb_Table,2,FALSE)),\"\",VLOOKUP(Calculator!B171,Forb_Table,2,FALSE))","v":""},{"$f":"IF(ISBLANK(Calculator!B171),\"\",Calculator!B171)","v":""},{"$f":"IF(C91=\"\",\"\",SUM(Calculator!F171:F172))","v":""},{"$f":"IF(C91=\"\",\"\",SUM(Calculator!E171:E172))","v":""},"",null,""]
[46,{"$f":"IF(ISNA(VLOOKUP(Calculator!B173,Forb_Table,2,FALSE)),\"\",VLOOKUP(Calculator!B173,Forb_Table,2,FALSE))","v":""},{"$f":"IF(ISBLANK(Calculator!B173),\"\",Calculator!B173)","v":""},{"$f":"IF(C92=\"\",\"\",SUM(Calculator!F173:F174))","v":""},{"$f":"IF(C92=\"\",\"\",SUM(Calculator!E173:E174))","v":""},"",null,""]
[47,{"$f":"IF(ISNA(VLOOKUP(Calculator!B175,Forb_Table,2,FALSE)),\"\",VLOOKUP(Calculator!B175,Forb_Table,2,FALSE))","v":""},{"$f":"IF(ISBLANK(Calculator!B175),\"\",Calculator!B175)","v":""},{"$f":"IF(C93=\"\",\"\",SUM(Calculator!F175:F176))","v":""},{"$f":"IF(C93=\"\",\"\",SUM(Calculator!E175:E176))","v":""},"",null,""]
[48,{"$f":"IF(ISNA(VLOOKUP(Calculator!B177,Forb_Table,2,FALSE)),\"\",VLOOKUP(Calculator!B177,Forb_Table,2,FALSE))","v":""},{"$f":"IF(ISBLANK(Calculator!B177),\"\",Calculator!B177)","v":""},{"$f":"IF(C94=\"\",\"\",SUM(Calculator!F177:F178))","v":""},{"$f":"IF(C94=\"\",\"\",SUM(Calculator!E177:E178))","v":""},"",null,""]
[49,{"$f":"IF(ISNA(VLOOKUP(Calculator!B179,Forb_Table,2,FALSE)),\"\",VLOOKUP(Calculator!B179,Forb_Table,2,FALSE))","v":""},{"$f":"IF(ISBLANK(Calculator!B179),\"\",Calculator!B179)","v":""},{"$f":"IF(C95=\"\",\"\",SUM(Calculator!F179:F180))","v":""},{"$f":"IF(C95=\"\",\"\",SUM(Calculator!E179:E180))","v":""},"",null,""]
[50,{"$f":"IF(ISNA(VLOOKUP(Calculator!B181,Forb_Table,2,FALSE)),\"\",VLOOKUP(Calculator!B181,Forb_Table,2,FALSE))","v":""},{"$f":"IF(ISBLANK(Calculator!B181),\"\",Calculator!B181)","v":""},{"$f":"IF(C96=\"\",\"\",SUM(Calculator!F181:F182))","v":""},{"$f":"IF(C96=\"\",\"\",SUM(Calculator!E181:E182))","v":""},"",null,""]
[51,{"$f":"IF(ISNA(VLOOKUP(Calculator!B183,Forb_Table,2,FALSE)),\"\",VLOOKUP(Calculator!B183,Forb_Table,2,FALSE))","v":""},{"$f":"IF(ISBLANK(Calculator!B183),\"\",Calculator!B183)","v":""},{"$f":"IF(C97=\"\",\"\",SUM(Calculator!F183:F184))","v":""},{"$f":"IF(C97=\"\",\"\",SUM(Calculator!E183:E184))","v":""},"",null,""]
[52,{"$f":"IF(ISNA(VLOOKUP(Calculator!B185,Forb_Table,2,FALSE)),\"\",VLOOKUP(Calculator!B185,Forb_Table,2,FALSE))","v":""},{"$f":"IF(ISBLANK(Calculator!B185),\"\",Calculator!B185)","v":""},{"$f":"IF(C98=\"\",\"\",SUM(Calculator!F185:F186))","v":""},{"$f":"IF(C98=\"\",\"\",SUM(Calculator!E185:E186))","v":""},"",null,""]
[53,{"$f":"IF(ISNA(VLOOKUP(Calculator!B187,Forb_Table,2,FALSE)),\"\",VLOOKUP(Calculator!B187,Forb_Table,2,FALSE))","v":""},{"$f":"IF(ISBLANK(Calculator!B187),\"\",Calculator!B187)","v":""},{"$f":"IF(C99=\"\",\"\",SUM(Calculator!F187:F188))","v":""},{"$f":"IF(C99=\"\",\"\",SUM(Calculator!E187:E188))","v":""},"",null,""]
[54,{"$f":"IF(ISNA(VLOOKUP(Calculator!B189,Forb_Table,2,FALSE)),\"\",VLOOKUP(Calculator!B189,Forb_Table,2,FALSE))","v":""},{"$f":"IF(ISBLANK(Calculator!B189),\"\",Calculator!B189)","v":""},{"$f":"IF(C100=\"\",\"\",SUM(Calculator!F189:F190))","v":""},{"$f":"IF(C100=\"\",\"\",SUM(Calculator!E189:E190))","v":""},"",null,""]
[55,{"$f":"IF(ISNA(VLOOKUP(Calculator!B191,Forb_Table,2,FALSE)),\"\",VLOOKUP(Calculator!B191,Forb_Table,2,FALSE))","v":""},{"$f":"IF(ISBLANK(Calculator!B191),\"\",Calculator!B191)","v":""},{"$f":"IF(C101=\"\",\"\",SUM(Calculator!F191:F192))","v":""},{"$f":"IF(C101=\"\",\"\",SUM(Calculator!E191:E192))","v":""},"",null,""]
[56,{"$f":"IF(ISNA(VLOOKUP(Calculator!B193,Forb_Table,2,FALSE)),\"\",VLOOKUP(Calculator!B193,Forb_Table,2,FALSE))","v":""},{"$f":"IF(ISBLANK(Calculator!B193),\"\",Calculator!B193)","v":""},{"$f":"IF(C102=\"\",\"\",SUM(Calculator!F193:F194))","v":""},{"$f":"IF(C102=\"\",\"\",SUM(Calculator!E193:E194))","v":""},"",null,""]
[57,{"$f":"IF(ISNA(VLOOKUP(Calculator!B195,Forb_Table,2,FALSE)),\"\",VLOOKUP(Calculator!B195,Forb_Table,2,FALSE))","v":""},{"$f":"IF(ISBLANK(Calculator!B195),\"\",Calculator!B195)","v":""},{"$f":"IF(C103=\"\",\"\",SUM(Calculator!F195:F196))","v":""},{"$f":"IF(C103=\"\",\"\",SUM(Calculator!E195:E196))","v":""},"",null,""]
[58,{"$f":"IF(ISNA(VLOOKUP(Calculator!B197,Forb_Table,2,FALSE)),\"\",VLOOKUP(Calculator!B197,Forb_Table,2,FALSE))","v":""},{"$f":"IF(ISBLANK(Calculator!B197),\"\",Calculator!B197)","v":""},{"$f":"IF(C104=\"\",\"\",SUM(Calculator!F197:F198))","v":""},{"$f":"IF(C104=\"\",\"\",SUM(Calculator!E197:E198))","v":""},"",null,""]
[59,{"$f":"IF(ISNA(VLOOKUP(Calculator!B199,Forb_Table,2,FALSE)),\"\",VLOOKUP(Calculator!B199,Forb_Table,2,FALSE))","v":""},{"$f":"IF(ISBLANK(Calculator!B199),\"\",Calculator!B199)","v":""},{"$f":"IF(C105=\"\",\"\",SUM(Calculator!F199:F200))","v":""},{"$f":"IF(C105=\"\",\"\",SUM(Calculator!E199:E200))","v":""},"",null,""]
[60,{"$f":"IF(ISNA(VLOOKUP(Calculator!B201,Forb_Table,2,FALSE)),\"\",VLOOKUP(Calculator!B201,Forb_Table,2,FALSE))","v":""},{"$f":"IF(ISBLANK(Calculator!B201),\"\",Calculator!B201)","v":""},{"$f":"IF(C106=\"\",\"\",SUM(Calculator!F201:F202))","v":""},{"$f":"IF(C106=\"\",\"\",SUM(Calculator!E201:E202))","v":""},"",null,""]
[61,{"$f":"IF(ISNA(VLOOKUP(Calculator!B203,Forb_Table,2,FALSE)),\"\",VLOOKUP(Calculator!B203,Forb_Table,2,FALSE))","v":""},{"$f":"IF(ISBLANK(Calculator!B203),\"\",Calculator!B203)","v":""},{"$f":"IF(C107=\"\",\"\",SUM(Calculator!F203:F204))","v":""},{"$f":"IF(C107=\"\",\"\",SUM(Calculator!E203:E204))","v":""},"",null,""]
[62,{"$f":"IF(ISNA(VLOOKUP(Calculator!B205,Forb_Table,2,FALSE)),\"\",VLOOKUP(Calculator!B205,Forb_Table,2,FALSE))","v":""},{"$f":"IF(ISBLANK(Calculator!B205),\"\",Calculator!B205)","v":""},{"$f":"IF(C108=\"\",\"\",SUM(Calculator!F205:F206))","v":""},{"$f":"IF(C108=\"\",\"\",SUM(Calculator!E205:E206))","v":""},"",null,""]
[63,{"$f":"IF(ISNA(VLOOKUP(Calculator!B207,Forb_Table,2,FALSE)),\"\",VLOOKUP(Calculator!B207,Forb_Table,2,FALSE))","v":""},{"$f":"IF(ISBLANK(Calculator!B207),\"\",Calculator!B207)","v":""},{"$f":"IF(C109=\"\",\"\",SUM(Calculator!F207:F208))","v":""},{"$f":"IF(C109=\"\",\"\",SUM(Calculator!E207:E208))","v":""},"",null,""]
[64,{"$f":"IF(ISNA(VLOOKUP(Calculator!B209,Forb_Table,2,FALSE)),\"\",VLOOKUP(Calculator!B209,Forb_Table,2,FALSE))","v":""},{"$f":"IF(ISBLANK(Calculator!B209),\"\",Calculator!B209)","v":""},{"$f":"IF(C110=\"\",\"\",SUM(Calculator!F209:F210))","v":""},{"$f":"IF(C110=\"\",\"\",SUM(Calculator!E209:E210))","v":""},"",null,""]
[65,{"$f":"IF(ISNA(VLOOKUP(Calculator!B211,Forb_Table,2,FALSE)),\"\",VLOOKUP(Calculator!B211,Forb_Table,2,FALSE))","v":""},{"$f":"IF(ISBLANK(Calculator!B211),\"\",Calculator!B211)","v":""},{"$f":"IF(C111=\"\",\"\",SUM(Calculator!F211:F212))","v":""},{"$f":"IF(C111=\"\",\"\",SUM(Calculator!E211:E212))","v":""},"",null,""]
[66,{"$f":"IF(ISNA(VLOOKUP(Calculator!B213,Forb_Table,2,FALSE)),\"\",VLOOKUP(Calculator!B213,Forb_Table,2,FALSE))","v":""},{"$f":"IF(ISBLANK(Calculator!B213),\"\",Calculator!B213)","v":""},{"$f":"IF(C112=\"\",\"\",SUM(Calculator!F213:F214))","v":""},{"$f":"IF(C112=\"\",\"\",SUM(Calculator!E213:E214))","v":""},"",null,{"$f":"IF(LEN(B112)>1,VALUE(\"1\"),\"\")","v":""}]
[67,{"$f":"IF(ISNA(VLOOKUP(Calculator!B215,Forb_Table,2,FALSE)),\"\",VLOOKUP(Calculator!B215,Forb_Table,2,FALSE))","v":""},{"$f":"IF(ISBLANK(Calculator!B215),\"\",Calculator!B215)","v":""},{"$f":"IF(C113=\"\",\"\",SUM(Calculator!F215:F216))","v":""},{"$f":"IF(C113=\"\",\"\",SUM(Calculator!E215:E216))","v":""},"",null,""]
[68,{"$f":"IF(ISNA(VLOOKUP(Calculator!B217,Forb_Table,2,FALSE)),\"\",VLOOKUP(Calculator!B217,Forb_Table,2,FALSE))","v":""},{"$f":"IF(ISBLANK(Calculator!B217),\"\",Calculator!B217)","v":""},{"$f":"IF(C114=\"\",\"\",SUM(Calculator!F217:F218))","v":""},{"$f":"IF(C114=\"\",\"\",SUM(Calculator!E217:E218))","v":""},"",null,""]
[69,{"$f":"IF(ISNA(VLOOKUP(Calculator!B219,Forb_Table,2,FALSE)),\"\",VLOOKUP(Calculator!B219,Forb_Table,2,FALSE))","v":""},{"$f":"IF(ISBLANK(Calculator!B219),\"\",Calculator!B219)","v":""},{"$f":"IF(C115=\"\",\"\",SUM(Calculator!F219:F220))","v":""},{"$f":"IF(C115=\"\",\"\",SUM(Calculator!E219:E220))","v":""},"",null,""]
[70,{"$f":"IF(ISNA(VLOOKUP(Calculator!B221,Forb_Table,2,FALSE)),\"\",VLOOKUP(Calculator!B221,Forb_Table,2,FALSE))","v":""},{"$f":"IF(ISBLANK(Calculator!B221),\"\",Calculator!B221)","v":""},{"$f":"IF(C116=\"\",\"\",SUM(Calculator!F221:F222))","v":""},{"$f":"IF(C116=\"\",\"\",SUM(Calculator!E221:E222))","v":""},"",null,""]
[71,{"$f":"IF(ISNA(VLOOKUP(Calculator!B223,Forb_Table,2,FALSE)),\"\",VLOOKUP(Calculator!B223,Forb_Table,2,FALSE))","v":""},{"$f":"IF(ISBLANK(Calculator!B223),\"\",Calculator!B223)","v":""},{"$f":"IF(C117=\"\",\"\",SUM(Calculator!F223:F224))","v":""},{"$f":"IF(C117=\"\",\"\",SUM(Calculator!E223:E224))","v":""},"",null,""]
[72,{"$f":"IF(ISNA(VLOOKUP(Calculator!B225,Forb_Table,2,FALSE)),\"\",VLOOKUP(Calculator!B225,Forb_Table,2,FALSE))","v":""},{"$f":"IF(ISBLANK(Calculator!B225),\"\",Calculator!B225)","v":""},{"$f":"IF(C118=\"\",\"\",SUM(Calculator!F225:F226))","v":""},{"$f":"IF(C118=\"\",\"\",SUM(Calculator!E225:E226))","v":""},"",null,""]
[73,{"$f":"IF(ISNA(VLOOKUP(Calculator!B227,Forb_Table,2,FALSE)),\"\",VLOOKUP(Calculator!B227,Forb_Table,2,FALSE))","v":""},{"$f":"IF(ISBLANK(Calculator!B227),\"\",Calculator!B227)","v":""},{"$f":"IF(C119=\"\",\"\",SUM(Calculator!F227:F228))","v":""},{"$f":"IF(C119=\"\",\"\",SUM(Calculator!E227:E228))","v":""},"",null,""]
[74,{"$f":"IF(ISNA(VLOOKUP(Calculator!B229,Forb_Table,2,FALSE)),\"\",VLOOKUP(Calculator!B229,Forb_Table,2,FALSE))","v":""},{"$f":"IF(ISBLANK(Calculator!B229),\"\",Calculator!B229)","v":""},{"$f":"IF(C120=\"\",\"\",SUM(Calculator!F229:F230))","v":""},{"$f":"IF(C120=\"\",\"\",SUM(Calculator!E229:E230))","v":""},"",null,""]
[75,{"$f":"IF(ISNA(VLOOKUP(Calculator!B231,Forb_Table,2,FALSE)),\"\",VLOOKUP(Calculator!B231,Forb_Table,2,FALSE))","v":""},{"$f":"IF(ISBLANK(Calculator!B231),\"\",Calculator!B231)","v":""},{"$f":"IF(C121=\"\",\"\",SUM(Calculator!F231:F232))","v":""},{"$f":"IF(C121=\"\",\"\",SUM(Calculator!E231:E232))","v":""},"",null,""]
[76,{"$f":"IF(ISNA(VLOOKUP(Calculator!B233,Forb_Table,2,FALSE)),\"\",VLOOKUP(Calculator!B233,Forb_Table,2,FALSE))","v":""},{"$f":"IF(ISBLANK(Calculator!B233),\"\",Calculator!B233)","v":""},{"$f":"IF(C122=\"\",\"\",SUM(Calculator!F233:F234))","v":""},{"$f":"IF(C122=\"\",\"\",SUM(Calculator!E233:E234))","v":""},"",null,""]
[77,{"$f":"IF(ISNA(VLOOKUP(Calculator!B235,Forb_Table,2,FALSE)),\"\",VLOOKUP(Calculator!B235,Forb_Table,2,FALSE))","v":""},{"$f":"IF(ISBLANK(Calculator!B235),\"\",Calculator!B235)","v":""},{"$f":"IF(C123=\"\",\"\",SUM(Calculator!F235:F236))","v":""},{"$f":"IF(C123=\"\",\"\",SUM(Calculator!E235:E236))","v":""},"",null,""]
[78,{"$f":"IF(ISNA(VLOOKUP(Calculator!B237,Forb_Table,2,FALSE)),\"\",VLOOKUP(Calculator!B237,Forb_Table,2,FALSE))","v":""},{"$f":"IF(ISBLANK(Calculator!B237),\"\",Calculator!B237)","v":""},{"$f":"IF(C124=\"\",\"\",SUM(Calculator!F237:F238))","v":""},{"$f":"IF(C124=\"\",\"\",SUM(Calculator!E237:E238))","v":""},"",null,""]
[79,{"$f":"IF(ISNA(VLOOKUP(Calculator!B239,Forb_Table,2,FALSE)),\"\",VLOOKUP(Calculator!B239,Forb_Table,2,FALSE))","v":""},{"$f":"IF(ISBLANK(Calculator!B239),\"\",Calculator!B239)","v":""},{"$f":"IF(C125=\"\",\"\",SUM(Calculator!F239:F240))","v":""},{"$f":"IF(C125=\"\",\"\",SUM(Calculator!E239:E240))","v":""},"",null,""]
[80,{"$f":"IF(ISNA(VLOOKUP(Calculator!B241,Forb_Table,2,FALSE)),\"\",VLOOKUP(Calculator!B241,Forb_Table,2,FALSE))","v":""},{"$f":"IF(ISBLANK(Calculator!B241),\"\",Calculator!B241)","v":""},{"$f":"IF(C126=\"\",\"\",SUM(Calculator!F241:F242))","v":""},{"$f":"IF(C126=\"\",\"\",SUM(Calculator!E241:E242))","v":""},"",null,""]
[81,{"$f":"IF(ISNA(VLOOKUP(Calculator!B243,Forb_Table,2,FALSE)),\"\",VLOOKUP(Calculator!B243,Forb_Table,2,FALSE))","v":""},{"$f":"IF(ISBLANK(Calculator!B243),\"\",Calculator!B243)","v":""},{"$f":"IF(C127=\"\",\"\",SUM(Calculator!F243:F244))","v":""},{"$f":"IF(C127=\"\",\"\",SUM(Calculator!E243:E244))","v":""},"",null,""]
[82,{"$f":"IF(ISNA(VLOOKUP(Calculator!B245,Forb_Table,2,FALSE)),\"\",VLOOKUP(Calculator!B245,Forb_Table,2,FALSE))","v":""},{"$f":"IF(ISBLANK(Calculator!B245),\"\",Calculator!B245)","v":""},{"$f":"IF(C128=\"\",\"\",SUM(Calculator!F245:F246))","v":""},{"$f":"IF(C128=\"\",\"\",SUM(Calculator!E245:E246))","v":""},"",null,""]
[83,{"$f":"IF(ISNA(VLOOKUP(Calculator!B247,Forb_Table,2,FALSE)),\"\",VLOOKUP(Calculator!B247,Forb_Table,2,FALSE))","v":""},{"$f":"IF(ISBLANK(Calculator!B247),\"\",Calculator!B247)","v":""},{"$f":"IF(C129=\"\",\"\",SUM(Calculator!F247:F248))","v":""},{"$f":"IF(C129=\"\",\"\",SUM(Calculator!E247:E248))","v":""},"",null,""]
[84,{"$f":"IF(ISNA(VLOOKUP(Calculator!B249,Forb_Table,2,FALSE)),\"\",VLOOKUP(Calculator!B249,Forb_Table,2,FALSE))","v":""},{"$f":"IF(ISBLANK(Calculator!B249),\"\",Calculator!B249)","v":""},{"$f":"IF(C130=\"\",\"\",SUM(Calculator!F249:F250))","v":""},{"$f":"IF(C130=\"\",\"\",SUM(Calculator!E249:E250))","v":""},"",null,""]
[85,{"$f":"IF(ISNA(VLOOKUP(Calculator!B251,Forb_Table,2,FALSE)),\"\",VLOOKUP(Calculator!B251,Forb_Table,2,FALSE))","v":""},{"$f":"IF(ISBLANK(Calculator!B251),\"\",Calculator!B251)","v":""},{"$f":"IF(C131=\"\",\"\",SUM(Calculator!F251:F252))","v":""},{"$f":"IF(C131=\"\",\"\",SUM(Calculator!E251:E252))","v":""},"",null,""]
[86,{"$f":"IF(ISNA(VLOOKUP(Calculator!B253,Forb_Table,2,FALSE)),\"\",VLOOKUP(Calculator!B253,Forb_Table,2,FALSE))","v":""},{"$f":"IF(ISBLANK(Calculator!B253),\"\",Calculator!B253)","v":""},{"$f":"IF(C132=\"\",\"\",SUM(Calculator!F253:F254))","v":""},{"$f":"IF(C132=\"\",\"\",SUM(Calculator!E253:E254))","v":""},"",null,""]
[87,{"$f":"IF(ISNA(VLOOKUP(Calculator!B255,Forb_Table,2,FALSE)),\"\",VLOOKUP(Calculator!B255,Forb_Table,2,FALSE))","v":""},{"$f":"IF(ISBLANK(Calculator!B255),\"\",Calculator!B255)","v":""},{"$f":"IF(C133=\"\",\"\",SUM(Calculator!F255:F256))","v":""},{"$f":"IF(C133=\"\",\"\",SUM(Calculator!E255:E256))","v":""},"",null,""]
[88,{"$f":"IF(ISNA(VLOOKUP(Calculator!B257,Forb_Table,2,FALSE)),\"\",VLOOKUP(Calculator!B257,Forb_Table,2,FALSE))","v":""},{"$f":"IF(ISBLANK(Calculator!B257),\"\",Calculator!B257)","v":""},{"$f":"IF(C134=\"\",\"\",SUM(Calculator!F257:F258))","v":""},{"$f":"IF(C134=\"\",\"\",SUM(Calculator!E257:E258))","v":""},"",null,""]
[89,{"$f":"IF(ISNA(VLOOKUP(Calculator!B259,Forb_Table,2,FALSE)),\"\",VLOOKUP(Calculator!B259,Forb_Table,2,FALSE))","v":""},{"$f":"IF(ISBLANK(Calculator!B259),\"\",Calculator!B259)","v":""},{"$f":"IF(C135=\"\",\"\",SUM(Calculator!F259:F260))","v":""},{"$f":"IF(C135=\"\",\"\",SUM(Calculator!E259:E260))","v":""},"",null,""]
[90,{"$f":"IF(ISNA(VLOOKUP(Calculator!B261,Forb_Table,2,FALSE)),\"\",VLOOKUP(Calculator!B261,Forb_Table,2,FALSE))","v":""},{"$f":"IF(ISBLANK(Calculator!B261),\"\",Calculator!B261)","v":""},{"$f":"IF(C136=\"\",\"\",SUM(Calculator!F261:F262))","v":""},{"$f":"IF(C136=\"\",\"\",SUM(Calculator!E261:E262))","v":""},"",null,""]
[]
[null,null,"SUBTOTAL FORBS",{"$f":"SUM(D47:D136)","v":0},{"$f":"SUM(E47:E136)","v":0},{"$f":"SUM(F47:F136)","v":0}]
[]
["Woody","Scientific Name","Common Name","Seeds/Ft2","PLS Lbs/Acre","PLS Lbs Total"]
[1,{"$f":"IF(ISNA(VLOOKUP(Calculator!B271,Woody_Table,2,FALSE)),\"\",VLOOKUP(Calculator!B271,Woody_Table,2,FALSE))","v":""},{"$f":"IF(ISBLANK(Calculator!B271),\"\",Calculator!B271)","v":""},{"$f":"IF(C141=\"\",\"\",SUM(Calculator!F271:F272))","v":""},{"$f":"IF(C141=\"\",\"\",SUM(Calculator!E271:E272))","v":""},{"$f":"IF(E141<>\"\",E141*$E$9,\"\")","v":""},null,{"$f":"IF(LEN(B141)>1,VALUE(\"1\"),\"\")","v":""}]
[2,{"$f":"IF(ISNA(VLOOKUP(Calculator!B273,Woody_Table,2,FALSE)),\"\",VLOOKUP(Calculator!B273,Woody_Table,2,FALSE))","v":""},{"$f":"IF(ISBLANK(Calculator!B273),\"\",Calculator!B273)","v":""},{"$f":"IF(C142=\"\",\"\",SUM(Calculator!F273:F274))","v":""},{"$f":"IF(C142=\"\",\"\",SUM(Calculator!E273:E274))","v":""},{"$f":"IF(E142<>\"\",E142*$E$9,\"\")","v":""},null,{"$f":"IF(LEN(B142)>1,VALUE(\"1\"),\"\")","v":""}]
[3,{"$f":"IF(ISNA(VLOOKUP(Calculator!B275,Woody_Table,2,FALSE)),\"\",VLOOKUP(Calculator!B275,Woody_Table,2,FALSE))","v":""},{"$f":"IF(ISBLANK(Calculator!B275),\"\",Calculator!B275)","v":""},{"$f":"IF(C143=\"\",\"\",SUM(Calculator!F275:F276))","v":""},{"$f":"IF(C143=\"\",\"\",SUM(Calculator!E275:E276))","v":""},{"$f":"IF(E143<>\"\",E143*$E$9,\"\")","v":""},null,""]
[4,{"$f":"IF(ISNA(VLOOKUP(Calculator!B277,Woody_Table,2,FALSE)),\"\",VLOOKUP(Calculator!B277,Woody_Table,2,FALSE))","v":""},{"$f":"IF(ISBLANK(Calculator!B277),\"\",Calculator!B277)","v":""},{"$f":"IF(C144=\"\",\"\",SUM(Calculator!F277:F278))","v":""},{"$f":"IF(C144=\"\",\"\",SUM(Calculator!E277:E278))","v":""},{"$f":"IF(E144<>\"\",E144*$E$9,\"\")","v":""},null,""]
[5,{"$f":"IF(ISNA(VLOOKUP(Calculator!B279,Woody_Table,2,FALSE)),\"\",VLOOKUP(Calculator!B279,Woody_Table,2,FALSE))","v":""},{"$f":"IF(ISBLANK(Calculator!B279),\"\",Calculator!B279)","v":""},{"$f":"IF(C145=\"\",\"\",SUM(Calculator!F279:F280))","v":""},{"$f":"IF(C145=\"\",\"\",SUM(Calculator!E279:E280))","v":""},{"$f":"IF(E145<>\"\",E145*$E$9,\"\")","v":""},null,""]
[]
[null,null,"SUBTOTAL VINES/WOODY",{"$f":"SUM(D141:D145)","v":0},{"$f":"SUM(E141:E145)","v":0},{"$f":"SUM(F141:F145)","v":0}]
[null,null,null,null,null,""]
[]
[null,null,"TOTAL",{"$f":"SUM(D14:D43,D47:D136,D141:D145)","v":0},{"$f":"SUM(E14:E43,E47:E136,E141:E145)","v":0},{"$f":"SUM(F14:F43,F47:F136,F141:F145)","v":0}]
[]
[null,"Estimated Cost/Acre",null,null,null,"Estimated Total Cost",{"$f":"E9*C152","v":{"$error":"#VALUE!"}}]
[]
[null,null,null,"Total Needed"]
[null,null,"Soil Test Information","lbs"]
["Lime (ECCE)  (Actual Lime)"]
["Nitrogen"]
["Phosphate (P205)  "]
["Potash (K20) "]
[]
["Seeding Dates:",null,{"$f":"IF(ISBLANK('Supplement to Seed Plan'!I37)=TRUE,\"\",'Supplement to Seed Plan'!I37)","v":""},null,null,null,null,null,null,null,"Spring  (April 1 - July 1)"]
[null,null,null,null,null,null,null,null,null,null,"Dormant  (November 15 - March 31)"]
["Additional Seeding Criteria:",null,null,null,null,null,null,null,null,null,"Frost*  (February 1 - March 31)"]
[null,null,null,null,null,null,null,null,null,null,"Other:"]
[]
[]
["Seeding was completed by",null,"according to the above requirements."]
[null,"         (Date)"]
[]
[]
["(Producer's Signature)",null,null,"(Date)"]
[]
["Field Office",null,"Certified by"]
[null,null,null,"(NRCS Representative)"]
[]
["When seeding is completed, return seeding plan to the Natural Resources Conservation Services."]
["For CRP cost-share, return receipts to Farm Service Agency.  "]
["For all other cost-share projects, attach seed tags and receipts for seed, fertilizer, lime, etc."]

{"sheet":"327ConservationCoverCheckSheet","index":4,"n_rows":53,"n_cols":5,"rows_kept":53,"cut":false,"hidden":false,"merged":[[37,1,37,4],[46,1,46,4],[1,1,1,4],[28,1,28,4],[20,1,20,4],[3,1,3,4],[17,1,17,4],[18,1,18,4],[23,1,23,4]]}
[]
[null,"Iowa NRCS 327 Conservation Cover\nCriteria for Grass Forb Mixes"]
[null,"Requirement","Criteria","Mix or Component","Criteria Met"]
[null,"All Sites"]
[null,"Grass Seeds/ft2, Range","10 to 30",{"$f":"Calculator!F77","v":0},{"$f":"IF(AND(D5>=9.5,D5<=31),\"Meets Criteria\",\"Does Not Meet Criteria\")","v":"Does Not Meet Criteria"}]
[null,"Forb & Sub-shrub Seeds/ft2, Range","30 to 10",{"$f":"Calculator!F265+SUMIF(Calculator!M271:M280,\"*sub-shrub*\",Calculator!F271:F280)+SUMIF(Calculator!M271:M280,\"*vine*\",Calculator!F271:F280)","v":0},{"$f":"IF(AND(D6>=9.5,D6<=31),\"Meets Criteria\",\"Does Not Meet Criteria\")","v":"Does Not Meet Criteria"}]
[null,"Total Seeds/ft2, Minimum",40,{"$f":"Calculator!F285","v":0},{"$f":"IF(D7>=C7,\"Meets Criteria\",\"Does Not Meet Criteria\")","v":"Does Not Meet Criteria"}]
[]
[null,"% Annual and Biennial Forbs, (of Forb Component)","0-20%",{"$f":"(SUMIF(Calculator!M83:M262,\"*annual*\",Calculator!F83:F262)+SUMIF(Calculator!M83:M262,\"*biennial*\",Calculator!F83:F262))/Calculator!F265","v":{"$error":"#DIV/0!"}},{"$f":"IF(D9<=0.2,\"Meets Criteria\",\"Does Not Meet Criteria\")","v":{"$error":"#DIV/0!"}}]
[]
[null,"% Introduced Forbs Seeds/ft2, (of Total Mix)","0-20%",{"$f":"SUMIF(Calculator!M83:M262,\"*Introduced Forb*\",Calculator!F83:F262)/Calculator!F285","v":{"$error":"#DIV/0!"}},{"$f":"IF(D11<=0.2,\"Meets Criteria\",\"Does Not Meet Criteria\")","v":{"$error":"#DIV/0!"}}]
[null,"  -%Alfalfa Seeds/ft2, (single species)","0-10%",{"$f":"SUMIF(Calculator!B83:B262,\"Alfalfa*\",Calculator!K83:K262)","v":0},{"$f":"IF(D12<=0.1,\"Meets Criteria\",\"Does Not Meet Criteria\")","v":"Meets Criteria"}]
[null,"  -%Alsike Seeds/ft2, (single species)","0-10%",{"$f":"SUMIF(Calculator!B83:B262,\"Alsike*\",Calculator!K83:K262)","v":0},{"$f":"IF(D13<=0.1,\"Meets Criteria\",\"Does Not Meet Criteria\")","v":"Meets Criteria"}]
[null,"  -%Kura Clover Seeds/ft2, (single species)","0-10%",{"$f":"SUMIF(Calculator!B83:B262,\"Kura*\",Calculator!K83:K262)","v":0},{"$f":"IF(D14<=0.1,\"Meets Criteria\",\"Does Not Meet Criteria\")","v":"Meets Criteria"}]
[null,"  -%Red Clover Seeds/ft2, (single species)","0-10%",{"$f":"SUMIF(Calculator!B83:B262,\"Red Clover*\",Calculator!K83:K262)","v":0},{"$f":"IF(D15<=0.1,\"Meets Criteria\",\"Does Not Meet Criteria\")","v":"Meets Criteria"}]
[null,"  -%White Clover Seeds/ft2, (single species)","0-10%",{"$f":"SUMIF(Calculator!B83:B262,\"White Clover*\",Calculator!K83:K262)","v":0},{"$f":"IF(D16<=0.1,\"Meets Criteria\",\"Does Not Meet Criteria\")","v":"Meets Criteria"}]
[]
[null,"*Long-term Plantings (>15 years) or plantings within 1-mile of remnants must be seeded with local ecotype or source identified seed.  As defined by Iowa Agronomy Technical Note #28."]
[null,"Additional Requirements for seeding sites on >5% slope"]
[null,"Grass Seeds/ft2","> 20",{"$f":"Calculator!F77","v":0},{"$f":"IF(D20<=20,\"Requires Nurse Crop or No-till Planting\",\"Meets Criteria\")","v":"Requires Nurse Crop or No-till Planting"}]
[null,"Additional Requirements for Wildlife Plantings"]
[null,"Switchgrass Seeds/ft2, Maximum","< 4",{"$f":"SUMIF(Calculator!B15:B74,\"Switchgrass\",Calculator!F15:F74)","v":0},{"$f":"IF(D22<=4,\"Meets Criteria\",\"Does Not Meet Criteria\")","v":"Meets Criteria"}]
[null,"Canada Wildrye Seeds/ft2, Maximum","< 8",{"$f":"SUMIF(Calculator!B15:B74,\"Canada Wildrye\",Calculator!F15:F74)","v":0},{"$f":"IF(D23<=8,\"Meets Criteria\",\"Does Not Meet Criteria\")","v":"Meets Criteria"}]
[null,"Additional Requirements for diverse prairie restorations of 10 species or more"]
[null,"Diverse mix of 10 or more species (number)",10,{"$f":"Calculator!I285","v":0},{"$f":"IF(D25>=C25,\"Meets Criteria\",\"Does Not Meet Criteria\")","v":"Does Not Meet Criteria"}]
[null,"% Single Grass Species, (of Total Mix)","0-20%",{"$f":"COUNTIF(Calculator!K15:K74,\">=.201\")","v":0},{"$f":"IF(D26=0,\"Meets Criteria\",\"Does Not Meet Criteria\")","v":"Meets Criteria"}]
[null,"% Single Forb Species, (of Total Mix)","0-10%",{"$f":"COUNTIF(Calculator!K83:K262,\">=.101\")+COUNTIF(Calculator!K271:K280,\">=.101\")","v":0},{"$f":"IF(D27=0,\"Meets Criteria\",\"Does Not Meet Criteria\")","v":"Meets Criteria"}]
[null,"% Early successional species: CC < 3, (of Total Mix)","0-33%",{"$f":"(SUMIF(Calculator!G15:G74,\"<=3\",Calculator!F15:F74)+SUMIF(Calculator!G83:G262,\"<=3\",Calculator!F83:F262)+SUMIF(Calculator!G271:G280,\"<=3\",Calculator!F271:F280))/Calculator!F285","v":{"$error":"#DIV/0!"}},{"$f":"IF(D28<=0.333,\"Meets Criteria\",\"Does Not Meet Criteria\")","v":{"$error":"#DIV/0!"}}]
[null,"Additional Requirements for Pollinator Habitat including CP42"]
[null,"Spring Blooming Forbs & Shrubs, Minimum",3,{"$f":"COUNTIFS(Calculator!C83:C262,\"*spring*\",Calculator!F83:F262,\">=.0001\")+COUNTIFS(Calculator!C271:C280,\"*spring*\",Calculator!F271:F280,\">=.0001\")+COUNTIFS(Calculator!C83:C262,\"*spring*\",Calculator!E83:E262,\">=.0001\")+COUNTIFS(Calculator!C271:C280,\"*spring*\",Calculator!E271:E280,\">=.0001\")","v":0},{"$f":"IF(D30>=C30,\"Meets Criteria\",\"Does Not Meet Criteria\")","v":"Does Not Meet Criteria"}]
[null,"Summer Blooming Forbs & Shrubs, Minimum",3,{"$f":"COUNTIFS(Calculator!C83:C262,\"*summer*\",Calculator!F83:F262,\">=.0001\")+COUNTIFS(Calculator!C271:C280,\"*summer*\",Calculator!F271:F280,\">=.0001\")+COUNTIFS(Calculator!C83:C262,\"*summer*\",Calculator!E83:E262,\">=.0001\")+COUNTIFS(Calculator!C271:C280,\"*summer*\",Calculator!E271:E280,\">=.0001\")","v":0},{"$f":"IF(D31>=C31,\"Meets Criteria\",\"Does Not Meet Criteria\")","v":"Does Not Meet Criteria"}]
[null,"Fall Blooming Forbs & Shrubs, Minimum",3,{"$f":"COUNTIFS(Calculator!C83:C262,\"*fall*\",Calculator!F83:F262,\">=.0001\")+COUNTIFS(Calculator!C271:C280,\"*fall*\",Calculator!F271:F280,\">=.0001\")+COUNTIFS(Calculator!C83:C262,\"*fall*\",Calculator!E83:E262,\">=.0001\")+COUNTIFS(Calculator!C271:C280,\"*fall*\",Calculator!E271:E280,\">=.0001\")","v":0},"Does Not Meet Criteria"]
[null,"Legume, Minimum",1,{"$f":"COUNTIFS(Calculator!M83:M262,\"Introduced*\",Calculator!F83:F262,\">.0001\")+COUNTIFS(Calculator!M83:M262,\"*legume*\",Calculator!F83:F262,\">.0001\")+COUNTIFS(Calculator!M271:M280,\"*legume*\",Calculator!F271:F280,\">.0001\")","v":0},"Does Not Meet Criteria"]
[null,"Bunch grass or sedge, Minimum",1,{"$f":"COUNTIFS(Calculator!C15:C74,\"*bunch*\",Calculator!F15:F74,\">.0001\")+COUNTIFS(Calculator!C15:C74,\"*bunch*\",Calculator!E15:E74,\">.0001\")","v":0},"Does Not Meet Criteria"]
[null,"Number of Species, Minimum",10,{"$f":"Calculator!I285","v":0},"Does Not Meet Criteria"]
[null,"Grass Seeds/ft2, Range","10 to 20",{"$f":"Calculator!F77","v":0},{"$f":"IF(AND(D36>=9.5,D36<=21),\"Meets Criteria\",\"Does Not Meet Criteria\")","v":"Does Not Meet Criteria"}]
[null,"Forb & Sub-shrub Seeds/ft2, Range","30 to 20",{"$f":"Calculator!F265+SUMIF(Calculator!M271:M280,\"*sub-shrub*\",Calculator!F271:F280)+SUMIF(Calculator!M271:M280,\"*vine*\",Calculator!F271:F280)","v":0},{"$f":"IF(AND(D37>=9.5,D37<=31),\"Meets Criteria\",\"Does Not Meet Criteria\")","v":"Does Not Meet Criteria"}]
[null,"Additional Requirements for Prairie Strips including CP43"]
[null,"Spring Blooming Forbs & Shrubs, Minimum",2,{"$f":"COUNTIFS(Calculator!C83:C262,\"*spring*\",Calculator!F83:F262,\">=.0001\")+COUNTIFS(Calculator!C271:C280,\"*spring*\",Calculator!F271:F280,\">=.0001\")+COUNTIFS(Calculator!C83:C262,\"*spring*\",Calculator!E83:E262,\">=.0001\")+COUNTIFS(Calculator!C271:C280,\"*spring*\",Calculator!E271:E280,\">=.0001\")","v":0},{"$f":"IF(D39>=C39,\"Meets Criteria\",\"Does Not Meet Criteria\")","v":"Does Not Meet Criteria"}]
[null,"Summer Blooming Forbs & Shrubs, Minimum",2,{"$f":"COUNTIFS(Calculator!C83:C262,\"*summer*\",Calculator!F83:F262,\">=.0001\")+COUNTIFS(Calculator!C271:C280,\"*summer*\",Calculator!F271:F280,\">=.0001\")+COUNTIFS(Calculator!C83:C262,\"*summer*\",Calculator!E83:E262,\">=.0001\")+COUNTIFS(Calculator!C271:C280,\"*summer*\",Calculator!E271:E280,\">=.0001\")","v":0},"Does Not Meet Criteria"]
[null,"Fall Blooming Forbs & Shrubs, Minimum",2,{"$f":"COUNTIFS(Calculator!C83:C262,\"*fall*\",Calculator!F83:F262,\">=.0001\")+COUNTIFS(Calculator!C271:C280,\"*fall*\",Calculator!F271:F280,\">=.0001\")+COUNTIFS(Calculator!C83:C262,\"*fall*\",Calculator!E83:E262,\">=.0001\")+COUNTIFS(Calculator!C271:C280,\"*fall*\",Calculator!E271:E280,\">=.0001\")","v":0},"Does Not Meet Criteria"]
[null,"Number of Flowering Species, Minimum",10,{"$f":"SUM(D39:D41)","v":0},{"$f":"IF(D42>=C42,\"Meets Criteria\",\"Does Not Meet Criteria\")","v":"Does Not Meet Criteria"}]
[null,"Number of Species, Minimum",10,{"$f":"Calculator!I285","v":0},"Does Not Meet Criteria"]
[null,"% Introduced Forb Seeds/ft2, None Allowed",0,{"$f":"SUMIF(Calculator!M83:M262,\"*Introduced Forb*\",Calculator!F83:F262)/Calculator!F265","v":{"$error":"#DIV/0!"}},{"$f":"IF(D44=C44,\"Meets Criteria\",\"Does Not Meet Criteria\")","v":{"$error":"#DIV/0!"}}]
[null,"Grass Seeds/ft2","20",{"$f":"Calculator!F77","v":0},{"$f":"IF(AND(D45>=19.5,D45<=21),\"Meets Criteria\",\"Does Not Meet Criteria\")","v":"Does Not Meet Criteria"}]
[null,"Forb & Sub-shrub Seeds/ft2",20,{"$f":"Calculator!F265+SUMIF(Calculator!M271:M280,\"*sub-shrub*\",Calculator!F271:F280)+SUMIF(Calculator!M271:M280,\"*vine*\",Calculator!F271:F280)","v":0},{"$f":"IF(AND(D46>=19.5,D46<=21),\"Meets Criteria\",\"Does Not Meet Criteria\")","v":"Does Not Meet Criteria"}]
[null,"Additional Requirements for Monarch Habitat Mix"]
[null,"Priority Milkweed, Minimum (% of total mix)",1.4999999999999999E-2,{"$f":"(SUMIF(Calculator!B83:B262,\"Butterfly Weed\",Calculator!F83:F262)+SUMIF(Calculator!B83:B262,\"Common Milkweed\",Calculator!F83:F262)+SUMIF(Calculator!B83:B262,\"Sullivant's Milkweed\",Calculator!F83:F262)+SUMIF(Calculator!B83:B262,\"Swamp Milkweed\",Calculator!F83:F262)+SUMIF(Calculator!B83:B262,\"Whorled Milkweed\",Calculator!F83:F262)+SUMIF(Calculator!B83:B262,\"Asclepias tuberosa\",Calculator!F83:F262)+SUMIF(Calculator!B83:B262,\"Asclepias syriaca\",Calculator!F83:F262)+SUMIF(Calculator!B83:B262,\"Asclepias sullivantii\",Calculator!F83:F262)+SUMIF(Calculator!B83:B262,\"Asclepias incarnata\",Calculator!F83:F262)+SUMIF(Calculator!B83:B262,\"Asclepias verticillata\",Calculator!F83:F262))/Calculator!F285","v":{"$error":"#DIV/0!"}},{"$f":"IF(D48>=C48,\"Meets Criteria\",\"Does Not Meet Criteria\")","v":{"$error":"#DIV/0!"}}]
[null,"High Value Forbs, Minimum (% of total forbs)",0.6,{"$f":"((SUMIF(Calculator!N83:N262,\"1\",Calculator!F83:F262))+(SUMIF(Calculator!N271:N280,\"1\",Calculator!F271:F280)))/Calculator!F265","v":{"$error":"#DIV/0!"}},{"$f":"IF(D49>=C49,\"Meets Criteria\",\"Does Not Meet Criteria\")","v":{"$error":"#DIV/0!"}}]
[null,"% Introduced Forb Seeds/ft2, None Allowed",0,{"$f":"SUMIF(Calculator!M83:M262,\"*Introduced Forb*\",Calculator!F83:F262)/Calculator!F265","v":{"$error":"#DIV/0!"}},{"$f":"IF(D50=C50,\"Meets Criteria\",\"Does Not Meet Criteria\")","v":{"$error":"#DIV/0!"}}]
[null,"Big Bluestem Seeds/ft2, Maximum",1,{"$f":"SUMIF(Calculator!B15:B74,\"Big Bluestem\",Calculator!F15:F74)","v":0},{"$f":"IF(D51<=C51,\"Meets Criteria\",\"Does Not Meet Criteria\")","v":"Meets Criteria"}]
[null,"Switchgrass Seeds/ft2, Maximum",1,{"$f":"SUMIF(Calculator!B15:B74,\"Switchgrass\",Calculator!F15:F74)","v":0},{"$f":"IF(D52<=C52,\"Meets Criteria\",\"Does Not Meet Criteria\")","v":"Meets Criteria"}]
[null,"Indiangrass Seeds/ft2, Maximum",1.3,{"$f":"SUMIF(Calculator!B15:B74,\"Indiangrass\",Calculator!F15:F74)","v":0},{"$f":"IF(D53<=C53,\"Meets Criteria\",\"Does Not Meet Criteria\")","v":"Meets Criteria"}]

{"sheet":"Grasses","index":5,"n_rows":338,"n_cols":34,"rows_kept":338,"cut":false,"hidden":false,"merged":[[0,3,0,5],[0,6,0,9],[0,11,0,20]]}
[null,null,null,"Moisture Regime",null,null,"Habitat",null,null,null,null,"REGION"]
["Plant Type","Common Name","Scientific Name","Dry","Medium","Wet","Prairie","Savanna","Wetland","Woodland","Short-term Program (Y = < $0.0017)","All","C","EC","NC","NE","NW","SC","SE","SW","WC","Pure Stand Seeding Rate PLS lbs/acre","Seeding Rate Oz/ac PLS","Seeds/sq foot","Estimated Cost/oz","Estimated Cost/lb","Seeds/oz","Seeds/sq ft @ 1oz/ac","Seeds/sq ft @ 16oz/ac","% of Mixture","Growth Form","Coefficient of Conservatism","Functional Group","Germination"]
["Leave this row blank",null," ","X","X","X","X","X","X","X",1.0000000000000001E-5,"X","X","X","X","X","X","X","X","X","X"]
["Grass","American Beakgrain","Diarrhena americana ","X","X","X"," "," "," ","X",1E-4," ","X","X"," ","X"," ","X","X","X"," ",{"$f":"35/AC4","v":38.115000000000002},null,null,null,null,2500,{"$f":"AA4/43560","v":5.73921028466483E-2},{"$f":"AB4*16","v":0.91827364554637281},null,"Rhizomatous",6,"Perennial Warm Season Grass",",CM,"]
["Grass","American Mannagrass","Glyceria grandis"," "," ","X","X"," ","X"," ",1E-4," ","X","X","X","X","X"," "," "," ","X",1.1910937500000001,null,null,null,null,80000,1.8365472910927456,29.38475665748393,null,"Rhizomatous",7,"Perennial Cool Season Grass",",CD,LI"]
["Grass","American Sloughgrass","Beckmannia syzigachne "," "," ","X","X","X","X"," ",1E-4," "," "," "," "," ","X"," "," "," "," ",1.9057500000000001,null,null,null,null,50000,1.1478420569329659,18.365472910927455,null,"Bunch",8,"Annual Cool Season Grass",",CD,"]
["Grass","Arctic Brome","Bromus kalmii","X","X"," ","X","X"," ","X",1E-4," ","X","X"," ","X","X"," ","X"," "," ",11.910937500000001,null,null,null,null,8000,0.18365472910927455,2.9384756657483928,null,"Bunch",10,"Perennial Cool Season Grass",",CD,"]
["Grass","Bald Spikerush","Eleocharis erythropoda"," "," ","X","X","X","X"," ",1E-4,"X","X","X","X","X","X","X","X","X","X",1.2216346153846154,null,null,null,null,78000,1.7906336088154271,28.650137741046834,null,"Rhizomatous",4,"Perennial Cool Season Sedge"]
["Grass","Baltic Rush","Juncus arcticus ssp. littoralis"," ","X","X","X"," ","X"," ",1E-4,"X","X","X","X","X","X","X","X","X","X",0.50819999999999999,null,null,null,null,187500,4.3044077134986223,68.870523415977956,null,"Rhizomatous",6,"Perennial Cool Season Sedge",",CM,LI"]
["Grass","Bebb's Sedge","Carex bebbii"," ","X","X","X","X","X","X",1E-4,"X","X","X","X","X","X","X","X","X","X",2.8025735294117644,null,null,null,null,34000,0.78053259871441694,12.488521579430671,null,"Bunch",8,"Perennial Cool Season Sedge",",CM,LI"]
["Grass","Bicknell's Sedge","Carex bicknellii","X","X","X","X","X","X"," ",1E-4,"X","X","X","X","X","X","X","X","X","X",5.6051470588235288,null,null,null,null,17000,0.39026629935720847,6.2442607897153355,null,"Bunch",7,"Perennial Cool Season Sedge",",CM,LI"]
["Grass","Big Bluestem","Andropogon gerardii","X","X","X","X","X"," "," ",1E-4,"X","X","X","X","X","X","X","X","X","X",9.5287500000000005,null,null,null,null,10000,0.2295684113865932,3.6730945821854912,null,"Bunch",6,"Perennial Warm Season Grass",",CD,"]
["Grass","Blister Sedge","Carex vesicaria"," ","X","X","X"," ","X","X",1E-4,"X","X","X","X","X","X","X","X","X","X",7.9406249999999998,null,null,null,null,12000,0.27548209366391185,4.4077134986225897,null,"Rhizomatous",7,"Perennial Cool Season Sedge",",CM,LI"]
["Grass","Blue Grama","Bouteloua gracilis","X"," "," ","X","X"," "," ",1E-4," ","X"," "," "," ","X"," "," ","X","X",2.3821875000000001,null,null,null,null,40000,0.91827364554637281,14.692378328741965,null,"Bunch",8,"Perennial Warm Season Grass",",CD,"]
["Grass","Bluejoint","Calamagrostis canadensis"," ","X","X","X","X","X"," ",1E-4,"X","X","X","X","X","X","X","X","X","X",0.34031250000000002,null,null,null,null,280000,6.4279155188246095,102.84664830119375,null,"Rhizomatous",6,"Perennial Cool Season Grass",",CD,LI"]
["Grass","Blunt Broom Sedge","Carex tribuloides"," "," ","X","X","X","X"," ",1E-4,"X","X","X","X","X","X","X","X","X","X",0.7940625,null,null,null,null,120000,2.7548209366391183,44.077134986225893,null,"Bunch",3,"Perennial Cool Season Sedge",",CM,LI"]
["Grass","Blunt Spikerush","Eleocharis obtusa "," "," ","X","X"," ","X"," ",1E-4,"X","X","X","X","X","X","X","X","X","X",0.95287500000000003,null,null,null,null,100000,2.2956841138659319,36.73094582185491,null,"Rhizomatous",3,"Annual Cool Season Sedge",",CM,LI"]
["Grass","Bottlebrush Grass","Elymus hystrix","X","X"," "," ","X"," ","X",1E-4,"X","X","X","X","X","X","X","X","X","X",12.537828947368421,null,null,null,null,7600,0.17447199265381083,2.7915518824609733,null,"Bunch",6,"Perennial Cool Season Grass",",CD,"]
["Grass","Bristlystalked Sedge","Carex leptalea"," "," ","X","X"," ","X","X",1E-4," "," ","X"," ","X","X"," "," "," "," ",2.3821875000000001,null,null,null,null,40000,0.91827364554637281,14.692378328741965,null,"Rhizomatous",10,"Perennial Cool Season Sedge"]
["Grass","Broom Sedge","Carex scoparia"," ","X","X","X"," ","X"," ",1E-4,"X","X","X","X","X","X","X","X","X","X",1.1343750000000001,null,null,null,null,84000,1.9283746556473829,30.853994490358126,null,"Bunch",5,"Perennial Cool Season Sedge",",CM,LI"]
["Grass","Broomsedge Bluestem","Andropogon virginicus"," ","X"," ","X"," "," "," ",1E-4," "," "," "," "," "," ","X","X","X"," ",1.9057500000000001,null,null,null,null,50000,1.1478420569329659,18.365472910927455,null,"Bunch",2,"Perennial Warm Season Grass"]
["Grass","Burr Reed Sedge","Carex sparganioides ","X","X","X"," ","X","X","X",1E-4,"X","X","X","X","X","X","X","X","X","X",5.0151315789473685,null,null,null,null,19000,0.43617998163452709,6.9788797061524335,null,"Bunch",6,"Perennial Cool Season Sedge",",CM,LI"]
["Grass","Buxbaum's Sedge","Carex buxbaumii"," "," ","X","X","X","X"," ",1E-4," ","X","X","X","X"," ","X","X"," ","X",6.5715517241379304,null,null,null,null,14500,0.33287419651056016,5.3259871441689626,null,null,8,"Perennial Cool Season Sedge","CM"]
["Grass","Canada Wildrye","Elymus canadensis","X","X","X","X","X"," ","X",1E-4,"X","X","X","X","X","X","X","X","X","X",18.32451923076923,null,null,null,null,5200,0.11937557392102846,1.9100091827364554,null,"Bunch",5,"Perennial Cool Season Grass",",CD,"]
["Grass","Canadian Rush","Juncus canadensis "," ","X","X","X"," ","X"," ",1E-4," ","X","X"," ","X"," ","X","X"," "," ",0.12705,null,null,null,null,750000,17.217630853994489,275.48209366391183,null,"Bunch",7,"Perennial Cool Season Rush",",CM,LI"]
["Grass","Catchfly Grass","Leersia lenticularis "," ","X","X"," "," "," ","X",1E-4," "," ","X"," ","X"," "," ","X"," "," ",17.97877358490566,null,null,null,null,5300,0.1216712580348944,1.9467401285583104,null,"Rhizomatous",7,"Perennial Cool Season Grass"]
["Grass","Cattail Sedge","Carex typhina "," "," ","X"," "," ","X","X",1E-4," ","X","X"," "," "," ","X","X"," "," ",6.8062500000000004,null,null,null,null,14000,0.32139577594123048,5.1423324150596876,null,"Bunch",8,"Perennial Cool Season Sedge",",CM,LI"]
["Grass","Clustered Field Sedge","Carex praegracilis"," ","X","X","X","X"," "," ",1E-4," ","X"," ","X"," ","X","X"," ","X","X",2.575337837837838,null,null,null,null,37000,0.84940312213039482,13.590449954086317,null,"Rhizomatous",5,"Perennial Cool Season Sedge","CM"]
["Grass","Common Rivergrass","Scolochloa festucacea "," "," ","X","X"," ","X"," ",1E-4," "," "," ","X"," ","X"," "," "," "," ",5.0151315789473685,null,null,null,null,19000,0.43617998163452709,6.9788797061524335,null,"Rhizomatous",8,"Perennial Cool Season Grass","CM"]
["Grass","Common Rush","Juncus effusus"," "," ","X","X"," ","X","X",1E-4," ","X","X"," ","X"," "," ","X"," "," ",9.5287499999999997E-2,null,null,null,null,1000000,22.956841138659321,367.30945821854914,null,"Bunch",5,"Perennial Cool Season Rush",",CM,LI"]
["Grass","Common Spikerush","Eleocharis palustris"," "," ","X","X"," ","X"," ",1E-4," ","X","X","X","X"," ","X","X"," "," ",1.8683823529411765,null,null,null,null,51000,1.1707988980716253,18.732782369146005,null,"Rhizomatous",6,"Perennial Cool Season Sedge",",CM,LI"]
["Grass","Common Threesquare","Schoenoplectus pungens"," "," ","X"," "," ","X"," ",1E-4," ","X"," ","X"," ","X","X"," ","X","X",7.9406249999999998,null,null,null,null,12000,0.27548209366391185,4.4077134986225897,null,"Rhizomatous",8,"Perennial Cool Season Sedge",",CM,LI"]
["Grass","Composite Dropseed","Sporobolus clandestinus","X"," "," ","X","X"," "," ",1E-4,"X","X","X","X","X","X","X","X","X","X",3.17625,null,null,null,null,30000,0.68870523415977958,11.019283746556473,null,"Bunch",5,"Perennial Warm Season Grass","CD"]
["Grass","Crested Sedge","Carex cristatella"," ","X","X","X"," ","X","X",1E-4," ","X"," "," "," ","X","X","X","X"," ",1.6428879310344826,null,null,null,null,58000,1.3314967860422406,21.30394857667585,null,"Bunch",4,"Perennial Cool Season Sedge",",CM,LI"]
["Grass","Dark Green Bulrush","Scirpus atrovirens"," ","X","X","X"," ","X","X",1E-4,"X","X","X","X","X","X","X","X","X","X",0.20714673913043477,null,null,null,null,460000,10.560146923783288,168.9623507805326,null,"Bunch",3,"Perennial Cool Season Sedge",",CM,LI"]
["Grass","Dioecious Sedge","Carex sterilis"," "," ","X","X"," ","X"," ",1E-4," ","X"," "," ","X"," "," "," "," "," ",1.4659615384615385,null,null,null,null,65000,{"$f":"AA36/43560","v":1.4921946740128558},{"$f":"AB36*16","v":23.875114784205692},null,"Bunch",10,"Perennial Cool Season Sedge",",CM,LI"]
["Grass","Dudley's Rush","Juncus dudleyi"," ","X","X","X"," ","X"," ",1E-4,"X","X","X","X","X","X","X","X","X","X",2.9777343750000001E-2,null,null,null,null,3200000,73.461891643709819,1175.3902662993571,null,"",4,"Perennial Cool Season Rush",",CM,LI"]
["Grass","Eastern Gamagrass","Tripsacum dactyloides"," ","X","X","X","X","X"," ",1E-4," ","X"," "," "," "," ","X","X","X"," ",7.36,null,null,null,null,370,8.4940312213039482E-3,0.13590449954086317,null,"Bunch",5,"Perennial Warm Season Grass",",CM,"]
["Grass","Eastern Narrowleaf Sedge","Carex amphibola"," ","X","X"," ","X"," ","X",1E-4,"X","X","X","X","X","X","X","X","X","X",{"$f":"35/AC39","v":15.88125},null,null,null,null,6000,0.13774104683195593,2.2038567493112948,null,"Bunch",4,"Perennial Cool Season Sedge","CM"]
["Grass","Eastern Woodland Sedge","Carex blanda ","X","X"," ","X","X","X","X",1E-4,"X","X","X","X","X","X","X","X","X","X",7.6230000000000002,null,null,null,null,12500,0.28696051423324148,4.5913682277318637,null,"Bunch",3,"Perennial Cool Season Sedge","CM"]
["Grass","Floating Mannagrass","Glyceria septentrionalis"," "," ","X"," "," ","X","X",1E-4," ","X"," "," ","X"," "," ","X"," "," ",2.1656249999999999,null,null,null,null,44000,1.0101010101010102,16.161616161616163,null,null,7,"Perennial Cool Season Grass","LI"]
["Grass","Fowl Bluegrass","Poa palustris"," ","X","X","X","X","X"," ",1E-4,"X","X","X","X","X","X","X","X","X","X",0.73298076923076927,null,null,null,null,130000,2.9843893480257115,47.750229568411385,null,"Bunch",7,"Perennial Cool Season Grass","CD,LI"]
["Grass","Fowl Mannagrass","Glyceria striata"," ","X","X","X"," ","X","X",1E-4,"X","X","X","X","X","X","X","X","X","X",0.59554687500000003,null,null,null,null,160000,3.6730945821854912,58.76951331496786,null,"Rhizomatous",6,"Perennial Cool Season Grass",",CD,LI"]
["Grass","Fox Sedge","Carex vulpinoidea"," ","X","X","X"," ","X","X",1E-4,"X","X","X","X","X","X","X","X","X","X",0.95287500000000003,null,null,null,null,100000,2.2956841138659319,36.73094582185491,null,"Bunch",3,"Perennial Cool Season Sedge",",CM,LI"]
["Grass","Foxtail Barley","Hordeum jubatum","X","X","X","X"," ","X"," ",1E-4,"X","X","X","X","X","X","X","X","X","X",7.9406249999999998,null,null,null,null,12000,0.27548209366391185,4.4077134986225897,null,"Bunch",2,"Perennial Cool Season Grass"]
["Grass","Frank's Sedge","Carex frankii"," "," ","X","X"," ","X","X",1E-4," ","X"," "," "," "," ","X","X"," "," ",5.6051470588235288,null,null,null,null,17000,0.39026629935720847,6.2442607897153355,null,"Rhizomatous",5,"Perennial Cool Season Sedge",",CM,LI"]
["Grass","Fringed Brome","Bromus ciliatus"," ","X","X","X"," ","X","X",1E-4," ","X","X","X"," ","X","X","X","X","X",9.5287500000000005,null,null,null,null,10000,0.2295684113865932,3.6730945821854912,null,"Bunch",10,"Perennial Cool Season Grass","none"]
["Grass","Fringed Sedge","Carex crinita"," ","X","X"," ","X"," ","X",1E-4," ","X","X"," "," "," "," ","X"," "," ",4.1429347826086955,null,null,null,null,23000,0.52800734618916434,8.4481175390266294,null,"Bunch",10,"Perennial Cool Season Sedge",",CM,LI"]
["Grass","Fuzzy Wuzzy Sedge","Carex hirsutella","X","X"," "," ","X"," ","X",1E-4," ","X"," "," "," "," ","X","X"," "," ",5.2937500000000002,null,null,null,null,18000,0.41322314049586778,6.6115702479338845,null,"Rhizomatous",5,"Perennial Cool Season Sedge",",CM,LI"]
["Grass","Graceful Sedge","Carex gracillima "," ","X"," "," "," "," ","X",1E-4," ","X"," ","X","X","X"," "," "," "," ",0.93419117647058825,null,null,null,null,102000,2.3415977961432506,37.465564738292009,null,"Bunch",8,"Perennial Cool Season Sedge",",CM,LI"]
["Grass","Gray's Sedge","Carex grayi"," ","X","X"," "," ","X","X",1E-4," ","X","X"," ","X"," ","X","X"," "," ",79.40625,null,null,null,null,1200,2.7548209366391185E-2,0.44077134986225897,null,"Bunch",7,"Perennial Cool Season Sedge",",CD,"]
["Grass","Great Plains Flatsedge","Cyperus lupulinus","X","X"," ","X","X"," "," ",1E-4,"X","X","X","X","X","X","X","X","X","X",3.2857758620689652,null,null,null,null,29000,0.66574839302112032,10.651974288337925,null,"",8,"Annual Cool Season Sedge",",CM,LI"]
["Grass","Greater Straw Sedge","Carex normalis "," ","X","X","X","X"," ","X",1E-4,"X","X","X","X","X","X","X","X","X","X",3.8115000000000001,null,null,null,null,25000,0.57392102846648296,9.1827364554637274,null,"Bunch",5,"Perennial Cool Season Sedge",",CM,LI"]
["Grass","Green Needlegrass","Nassella viridula","X","X"," ","X","X"," "," ",1E-4," "," "," "," "," ","X"," "," "," "," ",12.705,null,null,null,null,7500,0.17217630853994489,2.7548209366391183,null,"Bunch",5,"Perennial Cool Season Grass",",CM,"]
["Grass","Hairy Grama","Bouteloua hirsuta","X"," "," ","X","X"," "," ",1E-4," ","X"," "," ","X","X"," ","X","X","X",1.3612500000000001,null,null,null,null,70000,1.6069788797061524,25.711662075298438,null,"Colonizing",8,"Perennial Warm Season Grass",",CD,"]
["Grass","Hairy Sedge","Carex lacustris"," "," ","X","X"," ","X","X",1E-4," ","X","X","X","X","X","X","X"," "," ",2.9777343750000003,null,null,null,null,32000,0.7346189164370982,11.753902662993571,null,"Rhizomatous",9,"Perennial Cool Season Sedge",",CM,LI"]
["Grass","Hairy Wildrye","Elymus villosus"," ","X","X"," ","X"," ","X",1E-4,"X","X","X","X","X","X","X","X","X","X",17.324999999999999,null,null,null,null,5500,0.12626262626262627,2.0202020202020203,null,null,5,"Perennial Cool Season Grass",",CD,"]
["Grass","Hairy Woodland Brome","Bromus pubescens","X","X"," "," "," "," ","X",1E-4,"X","X","X","X","X","X","X","X","X","X",12.537828947368421,null,null,null,null,7600,0.17447199265381083,2.7915518824609733,null,null,7,"Perennial Cool Season Grass"]
["Grass","Hairyfruit Sedge","Carex trichocarpa "," ","X","X","X"," ","X"," ",1E-4,"X","X","X","X","X","X","X","X","X","X",5.2937500000000002,null,null,null,null,18000,0.41322314049586778,6.6115702479338845,null,"Bunch",6,"Perennial Cool Season Sedge",",CM,LI"]
["Grass","Hardstem Bulrush","Schoenoplectus acutus"," "," ","X"," "," ","X"," ",1E-4,"X","X","X","X","X","X","X","X","X","X",7.3866279069767442,null,null,null,null,12900,0.29614325068870523,4.7382920110192837,null,"Rhizomatous",6,"Perennial Cool Season Sedge",",CM,LI"]
["Grass","Hayden's Sedge","Carex haydenii"," "," ","X","X"," ","X"," ",1E-4,"X","X","X","X","X","X","X","X","X","X",2.5075657894736842,null,null,null,null,38000,0.87235996326905418,13.957759412304867,null,"Bunch",7,"Perennial Cool Season Sedge"]
["Grass","Heavy Sedge","Carex gravida ","X","X"," ","X","X"," ","X",1E-4,"X","X","X","X","X","X","X","X","X","X",7.9406249999999998,null,null,null,null,12000,0.27548209366391185,4.4077134986225897,null,"Rhizomatous",3,"Perennial Cool Season Sedge",",CM,LI"]
["Grass","Hop Sedge","Carex lupulina"," ","X","X","X"," ","X","X",1E-4,"X","X","X","X","X","X","X","X","X","X",28.875,null,null,null,null,3300,7.575757575757576E-2,1.2121212121212122,null,"Bunch",5,"Perennial Cool Season Sedge",",CD,"]
["Grass","Indian Woodoats","Chasmanthium latifolium"," ","X","X"," ","X"," ","X",1E-4," "," "," "," "," "," "," ","X"," "," ",23.821875000000002,null,null,null,null,4000,9.1827364554637275E-2,1.4692378328741964,null,"Rhizomatous",6,"Perennial Warm Season Grass",",CM,"]
["Grass","Indiangrass","Sorghastrum nutans","X","X","X","X","X"," "," ",1E-4,"X","X","X","X","X","X","X","X","X","X",7.9406249999999998,null,null,null,null,12000,0.27548209366391185,4.4077134986225897,null,"Bunch",6,"Perennial Warm Season Grass","CD "]
["Grass","Inflated Narrow-Leaf Sedge","Carex grisea"," ","X","X"," ","X"," ","X",1E-4,"X","X","X","X","X","X","X","X","X","X",10.5875,null,null,null,null,9000,0.20661157024793389,3.3057851239669422,null,"Rhizomatous",4,"Perennial Cool Season Sedge",",CD,"]
["Grass","Inland Rush","Juncus interior"," ","X","X","X"," "," ","X",1E-4,"X","X","X","X","X","X","X","X","X","X",3.4031249999999999E-2,null,null,null,null,2800000,64.279155188246094,1028.4664830119375,null,"Bunch",4,"Perennial Cool Season Rush",",CM,LI"]
["Grass","Inland Sedge","Carex interior"," "," ","X","X","X","X"," ",1E-4," ","X","X","X","X"," ","X","X"," "," ",2.4432692307692307,null,null,null,null,39000,{"$f":"AA68/43560","v":0.89531680440771355},{"$f":"AB68*16","v":14.325068870523417},null,"Bunch",9,"Perennial Cool Season Sedge",",CM,LI"]
["Grass","James Sedge","Carex jamesii "," ","X"," "," ","X"," ","X",1E-4," ","X","X","X","X"," ","X","X"," "," ",7.6230000000000002,null,null,null,null,12500,0.28696051423324148,4.5913682277318637,null,null,4,"Perennial Cool Season Sedge","CM"]
["Grass","Junegrass","Koeleria macrantha","X","X"," ","X","X"," "," ",1E-4,"X","X","X","X","X","X","X","X","X","X",0.47643750000000001,null,null,null,null,200000,4.5913682277318637,73.461891643709819,null,"Bunch",8,"Perennial Cool Season Grass","CD,LI"]
["Grass","Knotsheath Sedge","Carex retrorsa "," ","X","X"," ","X"," ","X",1E-4," ","X"," ","X","X"," "," "," "," "," ",{"$f":"35/AC71","v":8.6624999999999996},null,null,null,null,11000,0.25252525252525254,4.0404040404040407,null,"Bunch",8,"Perennial Cool Season Sedge",",CM,LI"]
["Grass","Knotted Rush","Juncus nodosus "," ","X","X","X"," ","X"," ",1E-4,"X","X","X","X","X","X","X","X","X","X",5.147893030794165E-2,null,null,null,null,1851000,42.493112947658403,679.88980716253445,null,"Single Stem",6,"Perennial Cool Season Rush",",CM,LI"]
["Grass","Lesser Panicled Sedge","Carex diandra "," "," ","X","X","X","X"," ",1E-4," ","X","X","X"," ","X"," "," "," "," ",2.2159883720930234,null,null,null,null,43000,0.9871441689623508,15.794306703397613,null,"Bunch",10,"Perennial Cool Season Sedge",",CM,LI"]
["Grass","Limestone Meadow Sedge","Carex granularis "," ","X"," "," "," "," ","X",1E-4," ","X","X","X","X"," ","X","X"," "," ",5.9554687500000005,null,null,null,null,16000,0.3673094582185491,5.8769513314967856,null,"Bunch",3,"Perennial Cool Season Sedge",",CM,LI"]
["Grass","Little Bluestem","Schizachyrium scoparium","X","X"," ","X","X"," "," ",1E-4,"X","X","X","X","X","X","X","X","X","X",6.3525,null,null,null,null,15000,0.34435261707988979,5.5096418732782366,null,"Bunch",7,"Perennial Warm Season Grass",",CD,"]
["Grass","Longhair Sedge","Carex comosa"," "," ","X","X","X"," "," ",1E-4," "," "," "," ","X","X"," "," "," "," ",3.17625,null,null,null,null,30000,0.68870523415977958,11.019283746556473,null,"Rhizomatous",7,"Perennial Cool Season Sedge",",CM,LI"]
["Grass","Lurid Sedge","Carex lurida"," "," ","X","X"," ","X"," ",1E-4," "," "," "," "," "," "," ","X"," "," ",7.9406249999999998,null,null,null,null,12000,0.27548209366391185,4.4077134986225897,null,"Bunch",6,"Perennial Cool Season Sedge",",CM,LI"]
["Grass","Marsh Muhly","Muhlenbergia racemosa"," ","X","X","X","X"," "," ",1E-4,"X","X","X","X","X","X","X","X","X","X",1.1910937500000001,null,null,null,null,80000,1.8365472910927456,29.38475665748393,null,"Rhizomatous",4,"Perennial Warm Season Grass","CD,LI"]
["Grass","Mexican Muhly","Muhlenbergia mexicana"," "," ","X","X","X","X","X",1E-4,"X","X","X","X","X","X","X","X","X","X",0.54449999999999998,null,null,null,null,175000,4.0174471992653809,64.279155188246094,null,"Rhizomatous",5,"Perennial Warm Season Grass","CD,LI"]
["Grass","Muhlenberg's Sedge","Carex muehlenbergii","X"," "," ","X","X"," ","X",1E-4," "," ","X"," ","X"," "," ","X"," "," ",7.9406249999999998,null,null,null,null,12000,0.27548209366391185,4.4077134986225897,null,"",7,"Perennial Cool Season Sedge",",CM,LI"]
["Grass","Muskingum Sedge","Carex muskingumensis"," "," ","X"," ","X"," ","X",1E-4,"X","X","X","X","X","X","X","X","X","X",12.705,null,null,null,null,7500,0.17217630853994489,2.7548209366391183,null,"Bunch",8,"Perennial Cool Season Sedge"]
["Grass","Needle And Thread","Hesperostipa comata ","X"," "," ","X","X"," "," ",1E-4," ","X"," "," "," ","X"," "," "," ","X",5.9554687500000005,null,null,null,null,16000,0.3673094582185491,5.8769513314967856,null,"Thicket Forming",8,"Perennial Cool Season Grass",",CM,"]
["Grass","Needle Spikerush","Eleocharis acicularis"," "," ","X","X"," ","X"," ",1E-4,"X","X","X","X","X","X","X","X","X","X",1.3612500000000001,null,null,null,null,70000,1.6069788797061524,25.711662075298438,null,"Rhizomatous",4,"Perennial Cool Season Sedge",",CM,"]
["Grass","Nodding Fescue","Festuca subverticillata"," ","X"," "," ","X"," ","X",1E-4,"X","X","X","X","X","X","X","X","X","X",4.7643750000000002,null,null,null,null,20000,0.4591368227731864,7.3461891643709825,null,"Bunch",6,"Perennial Cool Season Grass",",CM,"]
["Grass","Northwest Territory Sedge","Carex utriculata"," "," ","X","X"," ","X"," ",1E-4,"X","X","X","X","X","X","X","X","X","X",9.5287500000000005,null,null,null,null,10000,0.2295684113865932,3.6730945821854912,null,"Rhizomatous",8,"Perennial Cool Season Sedge",",CM,LI"]
["Grass","Owlfruit Sedge","Carex stipata"," ","X","X","X"," ","X","X",1E-4,"X","X","X","X","X","X","X","X","X","X",2.8025735294117644,null,null,null,null,34000,0.78053259871441694,12.488521579430671,null,"Bunch",4,"Perennial Cool Season Sedge",",CM,LI"]
["Grass","Panicled Bulrush","Scirpus microcarpus "," "," ","X"," "," ","X"," ",1E-4," ","X"," ","X","X"," "," ","X"," "," ",0.20714673913043477,null,null,null,null,460000,10.560146923783288,168.9623507805326,null,"Rhizomatous",8,"Annual Cool Season Sedge",",CM,LI"]
["Grass","Pennsylvania Sedge","Carex pensylvanica","X","X"," "," ","X"," ","X",1E-4,"X","X","X","X","X","X","X","X","X","X",3.17625,null,null,null,null,30000,0.68870523415977958,11.019283746556473,null,"Rhizomatous",5,"Perennial Cool Season Sedge","Clone"]
["Grass","Plains Muhly","Muhlenbergia cuspidata","X"," "," ","X"," "," "," ",1E-4," ","X","X","X","X","X"," "," ","X","X",0.52937500000000004,null,null,null,null,180000,4.1322314049586772,66.115702479338836,null,"Bunch",9,"Perennial Warm Season Grass","CD LI"]
["Grass","Porcupine Sedge","Carex hystericina"," "," ","X","X"," ","X"," ",1E-4,"X","X","X","X","X","X","X","X","X","X",3.17625,null,null,null,null,30000,0.68870523415977958,11.019283746556473,null,"Rhizomatous",4,"Perennial Cool Season Sedge",",CM,LI"]
["Grass","Porcupinegrass","Hesperostipa spartea","X","X"," ","X","X"," "," ",1E-4,"X","X","X","X","X","X","X","X","X","X",140.12867647058823,null,null,null,null,680,1.5610651974288337E-2,0.2497704315886134,null,"Bunch",7,"Perennial Cool Season Grass",",CM,"]
["Grass","Poverty Oatgrass","Danthonia spicata","X"," "," "," ","X"," ","X",1E-4,"X","X","X","X","X","X","X","X","X","X",3.8115000000000001,null,null,null,null,25000,0.57392102846648296,9.1827364554637274,null,"Bunch",7,"Perennial Cool Season Grass","none"]
["Grass","Poverty Rush","Juncus tenuis"," ","X","X","X","X"," ","X",1E-4,"X","X","X","X","X","X","X","X","X","X",9.5287499999999997E-2,null,null,null,null,1000000,22.956841138659321,367.30945821854914,null,"Bunch",2,"Perennial Cool Season Rush",",CM,LI"]
["Grass","Prairie Cordgrass","Spartina pectinata"," "," ","X","X"," ","X"," ",1E-4,"X","X","X","X","X","X","X","X","X","X",14.4375,null,null,null,null,6600,0.15151515151515152,2.4242424242424243,null,"Rhizomatous",6,"Perennial Warm Season Grass","CD"]
["Grass","Prairie Dropseed","Sporobolus heterolepis","X","X"," ","X","X"," "," ",1E-4,"X","X","X","X","X","X","X","X","X","X",5.9554687500000005,null,null,null,null,16000,0.3673094582185491,5.8769513314967856,null,"Bunch",9,"Perennial Warm Season Grass","CD"]
["Grass","Prairie Oval Sedge","Carex brevior","X","X","X","X","X"," ","X",1E-4,"X","X","X","X","X","X","X","X","X","X",{"$f":"35/AC91","v":140.12867647058823},null,null,null,null,29000,0.66574839302112032,10.651974288337925,null,"Bunch",4,"Perennial Cool Season Sedge",",CM,LI"]
["Grass","Prairie Sandreed","Calamovilfa longifolia","X"," "," ","X","X"," "," ",1E-4,"X","X","X","X","X","X","X","X","X","X",{"$f":"35/AC97","v":5.5642335766423354},null,null,null,null,17125,0.39313590449954089,6.2901744719926542,null,"Rhizomatous",7,"Perennial Warm Season Grass",",CD,"]
["Grass","Prairie Sedge","Carex prairea"," "," ","X","X"," ","X"," ",1E-4," ","X","X"," ","X","X"," ","X"," "," ",1.1343750000000001,null,null,null,null,84000,1.9283746556473829,30.853994490358126,null,"Bunch",10,"Perennial Cool Season Sedge",",CM,LI"]
["Grass","Prairie Straw Sedge","Carex suberecta"," "," ","X","X","X","X"," ",1E-4," ","X"," ","X","X"," "," ","X","X"," ",1.3444634139458758,null,null,null,null,70874,1.6270431588613408,26.032690541781452,null,null,7,"Perennial Cool Season Sedge"]
["Grass","Prairie Wedgescale","Sphenopholis obtusata ","X","X"," ","X","X"," ","X",1E-4,"X","X","X","X","X","X","X","X","X","X",0.43559999999999999,null,null,null,null,218750,{"$f":"AA100/43560","v":5.0218089990817267},{"$f":"AB100*16","v":80.348943985307628},null,"Bunch",6,"Perennial Cool Season Grass"]
["Grass","Purple Lovegrass","Eragrostis spectabilis","X","X"," ","X","X"," "," ",1E-4,"X","X","X","X","X","X","X","X","X","X",0.34031250000000002,null,null,null,null,280000,6.4279155188246095,102.84664830119375,null,"Rhizomatous",4,"Perennial Warm Season Grass",",CD,LI"]
["Grass","Purple Top","Tridens flavus","X","X"," ","X","X"," ","X",1E-4," ","X"," "," ","X"," ","X","X","X"," ",3.6649038461538463,null,null,null,null,26000,0.59687786960514233,9.5500459136822773,null,"Bunch",2,"Perennial Warm Season Grass",",CM,"]
["Grass","Quill Sedge","Carex tenera"," ","X","X","X","X","X","X",1E-4,"X","X","X","X","X","X","X","X","X","X",4.7643750000000002,null,null,null,null,20000,0.4591368227731864,7.3461891643709825,null,"Bunch",8,"Perennial Cool Season Sedge",",CM,LI"]
["Grass","Ravenfoot Sedge","Carex crus-corvi"," "," ","X"," ","X","X","X",1E-4," ","X"," "," "," ","X","X","X","X"," ",7.3298076923076927,null,null,null,null,13000,0.29843893480257117,4.7750229568411386,null,"Bunch",9,"Perennial Cool Season Sedge",",CM,LI"]
["Grass","Rice Cutgrass","Leersia oryzoides"," "," ","X","X"," ","X","X",1E-4,"X","X","X","X","X","X","X","X","X","X",2.8025735294117644,null,null,null,null,34000,0.78053259871441694,12.488521579430671,null,"Rhizomatous",6,"Perennial Cool Season Grass","CD"]
["Grass","River Bulrush","Schoenoplectus fluviatilis"," "," ","X"," "," ","X"," ",1E-4,"X","X","X","X","X","X","X","X","X","X",22.159883720930235,null,null,null,null,4300,9.8714416896235072E-2,1.5794306703397611,null,"Rhizomatous",5,"Perennial Cool Season Sedge","CM"]
["Grass","Riverbank Wildrye","Elymus riparius"," ","X"," "," ","X"," ","X",1E-4," ","X","X"," ","X"," "," "," "," "," ",32.857758620689658,null,null,null,null,2900,6.6574839302112027E-2,1.0651974288337924,null,"Bunch",6,"Perennial Cool Season Grass",",CD,"]
["Grass","Rosy Sedge","Carex rosea","X","X","X"," "," "," ","X",1E-4," ","X","X"," ","X","X","X","X","X"," ",1.7978773584905661,null,null,null,null,53000,1.216712580348944,19.467401285583104,null,"",6,"Perennial Cool Season Sedge",",CM,LI"]
["Grass","Rough Dropseed","Sporobolus compositus ","X","X"," ","X","X"," "," ",1E-4,"X","X","X","X","X","X","X","X","X","X",3.17625,null,null,null,null,30000,0.68870523415977958,11.019283746556473,null,"Bunch",4,"Perennial Warm Season Grass"]
["Grass","Rufous Bulrush","Scirpus pendulus "," ","X","X"," "," ","X","X",1E-4," ","X","X"," ","X"," ","X","X","X"," ",0.30737903225806451,null,null,null,null,310000,7.1166207529843897,113.86593204775023,null,"Rhizomatous",4,"Perennial Cool Season Sedge"]
["Grass","Sand Dropseed","Sporobolus cryptandrus","X","X"," ","X","X"," "," ",1E-4,"X","X","X","X","X","X","X","X","X","X",0.27224611076984612,null,null,null,null,350005,8.0350091827364558,128.56014692378329,null,"Bunch",7,"Perennial Warm Season Grass","none"]
["Grass","Sand Lovegrass","Eragrostis trichodes","X","X"," ","X","X"," "," ",1E-4," ","X","X"," "," "," ","X","X","X","X",1.0587500000000001,null,null,null,null,90000,2.0661157024793386,33.057851239669418,null,"Bunch",4,"Perennial Warm Season Grass",",CD,LI"]
["Grass","Sartwell's Sedge","Carex sartwellii"," "," ","X","X","X","X"," ",1E-4,"X","X","X","X","X","X","X","X","X","X",2.3240853658536587,null,null,null,null,41000,0.94123048668503217,15.059687786960515,null,"Rhizomatous",7,"Perennial Cool Season Sedge","CM"]
["Grass","Schweinitz's Flatsedge","Cyperus schweinitzii","X"," "," ","X","X"," "," ",1E-4," ","X","X","X","X"," "," ","X"," "," ",4.1429347826086955,null,null,null,null,23000,0.52800734618916434,8.4481175390266294,null,"Rhizomatous",5,"Perennial Cool Season Sedge",",CM,LI"]
["Grass","Scribner's Rosette Grass","Dichanthelium oligosanthes var. scribnerianum","X"," "," ","X","X"," "," ",1E-4,"X","X","X","X","X","X","X","X","X","X",10.5875,null,null,null,null,9000,0.20661157024793389,3.3057851239669422,null,"",5,"Perennial Cool Season Grass","CD"]
["Grass","Short's Sedge","Carex shortiana "," ","X","X","X"," "," ","X",1E-4," ","X"," "," ","X"," ","X","X"," "," ",5.6051470588235288,null,null,null,null,17000,0.39026629935720847,6.2442607897153355,null,"Bunch",8,"Perennial Cool Season Sedge",",CM,LI"]
["Grass","Sideoats Grama","Bouteloua curtipendula","X","X"," ","X","X"," "," ",1E-4,"X","X","X","X","X","X","X","X","X","X",15.88125,null,null,null,null,6000,0.13774104683195593,2.2038567493112948,null,"Rhizomatous",7,"Perennial Warm Season Grass",",CD,"]
["Grass","Slender Looseflower Sedge","Carex gracilescens ","X"," "," "," "," "," ","X",1E-4," "," "," "," "," "," "," ","X"," "," ",8.285869565217391,null,null,null,null,11500,0.26400367309458217,4.2240587695133147,null,null,10,"Perennial Cool Season Sedge","CM"]
["Grass","Slender Wheatgrass","Elymus trachycaulus","X","X"," ","X","X"," ","X",1E-4," ","X"," ","X","X","X","X","X"," "," ",13.809782608695652,null,null,null,null,6900,0.1584022038567493,2.5344352617079888,null,"Bunch",6,"Perennial Cool Season Grass",",CD,"]
["Grass","Smoothcone Sedge","Carex laeviconica"," "," ","X","X","X","X"," ",1E-4,"X","X","X","X","X","X","X","X","X","X",7.9406249999999998,null,null,null,null,12000,0.27548209366391185,4.4077134986225897,null,"Rhizomatous",5,"Perennial Cool Season Sedge",",CM,LI"]
["Grass","Soft Fox Sedge","Carex conjuncta "," ","X","X","X","X"," ","X",1E-4,"X","X","X","X","X","X","X","X","X","X",4.3312499999999998,null,null,null,null,22000,0.50505050505050508,8.0808080808080813,null,null,5,"Perennial Cool Season Sedge","CM"]
["Grass","Softstem Bulrush","Schoenoplectus tabernaemontani"," "," ","X"," "," ","X"," ",1E-4,"X","X","X","X","X","X","X","X","X","X",3.0737903225806451,null,null,null,null,31000,0.71166207529843895,11.386593204775023,null,"Rhizomatous",4,"Perennial Cool Season Sedge",",CM,LI"]
["Grass","Spiked Muhly","Muhlenbergia glomerata"," ","X","X","X","X","X"," ",1E-4," ","X","X","X","X","X"," ","X"," "," ",0.42349999999999999,null,null,null,null,225000,5.1652892561983474,82.644628099173559,null,"Rhizomatous",10,"Perennial Warm Season Grass","CD LI"]
["Grass","Sprengel's Sedge","Carex sprengelii"," ","X","X"," ","X","X","X",1E-4,"X","X","X","X","X","X","X","X","X","X",9.5287500000000005,null,null,null,null,10000,0.2295684113865932,3.6730945821854912,null,"Rhizomatous",5,"Perennial Cool Season Sedge",",CM,LI"]
["Grass","Squarrose Sedge","Carex squarrosa"," ","X","X","X"," ","X","X",1E-4," "," "," "," "," "," "," ","X"," "," ",4.7643750000000002,null,null,null,null,20000,0.4591368227731864,7.3461891643709825,null,"Bunch",9,"Perennial Cool Season Sedge",",CM,LI"]
["Grass","Star Sedge","Carex echinata "," "," ","X"," "," ","X"," ",1E-4," "," ","X","X","X"," "," "," "," "," ",1.9446428571428571,null,null,null,null,49000,1.1248852157943068,17.998163452708908,null,"Bunch",7,"Perennial Cool Season Sedge","CM"]
["Grass","Sweetgrass","Hierochloe odorata "," ","X","X","X","X","X"," ",1E-4," ","X","X","X","X","X"," "," "," ","X",4.7643750000000002,null,null,null,null,20000,0.4591368227731864,7.3461891643709825,null,"Rhizomatous",8,"Perennial Cool Season Grass","LI"]
["Grass","Switchgrass","Panicum virgatum","X","X","X","X","X","X"," ",1E-4,"X","X","X","X","X","X","X","X","X","X",4,null,null,null,null,14000,0.32139577594123048,5.1423324150596876,null,"Rhizomatous",7,"Perennial Warm Season Grass","CD"]
["Grass","Thin Paspalum","Paspalum setaceum","X"," "," ","X"," "," "," ",1E-4,"X","X","X","X","X","X","X","X","X","X",{"$f":"35/AC129","v":2.7225000000000001},null,null,null,null,35000,0.80348943985307619,12.855831037649219,null,null,5,"Perennial Cool Season Grass","CD"]
["Grass","Thinleaf Sedge","Carex cephaloidea ","X","X"," "," "," "," ","X",1E-4," ","X","X","X","X"," ","X","X"," "," ",2.9777343750000003,null,null,null,null,32000,0.7346189164370982,11.753902662993571,null,"",6,"Perennial Cool Season Sedge",",CM,LI"]
["Grass","Threeway Sedge","Dulichium arundinaceum "," "," ","X"," "," ","X"," ",1E-4," ","X","X","X","X"," ","X","X"," "," ",2.4432692307692307,null,null,null,null,39000,0.89531680440771355,14.325068870523417,null,"Rhizomatous",9,"Perennial Cool Season Sedge","CM"]
["Grass","Torrey's Rush","Juncus torreyi"," "," ","X","X"," ","X"," ",1E-4,"X","X","X","X","X","X","X","X","X","X",5.9554687500000002E-2,null,null,null,null,1600000,{"$f":"AA132/43560","v":36.73094582185491},{"$f":"AB132*16","v":587.69513314967855},null,"Rhizomatous",5,"Perennial Cool Season Rush",",CM,LI"]
["Grass","Troublesome Sedge","Carex molesta","X","X","X","X","X","X","X",1E-4," ","X","X","X","X","X","X","X","X"," ",3.8115000000000001,null,null,null,null,25000,0.57392102846648296,9.1827364554637274,null,"Bunch",3,"Perennial Cool Season Sedge",",CM,LI"]
["Grass","Tuckerman's Sedge","Carex tuckermanii "," "," ","X","X"," ","X"," ",1E-4," ","X"," "," "," "," "," "," "," "," ",119.109375,null,null,null,null,800,1.8365472910927456E-2,0.29384756657483929,null,"",7,"Perennial Cool Season Sedge",",CM,LI"]
["Grass","Upright Sedge","Carex stricta"," ","X","X","X"," ","X"," ",1E-4,"X","X","X","X","X","X","X","X","X","X",1.7978773584905661,null,null,null,null,53000,1.216712580348944,19.467401285583104,null,"Bunch",6,"Perennial Cool Season Sedge",",CM,LI"]
["Grass","Virginia Wildrye","Elymus virginicus"," ","X","X","X","X","X","X",1E-4,"X","X","X","X","X","X","X","X","X","X",22.6875,null,null,null,null,4200,9.6418732782369149E-2,1.5426997245179064,null,"Bunch",4,"Perennial Cool Season Grass",",CD,"]
["Grass","Water Sedge","Carex aquatilis "," "," ","X","X"," ","X"," ",1E-4," ","X"," "," "," ","X"," "," "," "," ",2.2159883720930234,null,null,null,null,43000,0.9871441689623508,15.794306703397613,null,"Bunch",10,"Perennial Cool Season Sedge","CM"]
["Grass","Western Wheatgrass","Pascopyrum smithii","X","X"," ","X","X"," "," ",1E-4,"X","X","X","X","X","X","X","X","X","X",13.256469115191985,null,null,null,null,7188,0.16501377410468321,2.6402203856749313,null,"Rhizomatous",2,"Perennial Cool Season Grass"]
["Grass","Wheat Sedge","Carex atherodes"," "," ","X","X","X","X"," ",1E-4,"X","X","X","X","X","X","X","X","X","X",3.2857758620689652,null,null,null,null,29000,0.66574839302112032,10.651974288337925,null,"Rhizomatous",8,"Perennial Cool Season Sedge",",CM,LI"]
["Grass","Woolgrass","Scirpus cyperinus"," ","X","X","X"," ","X"," ",1E-4," ","X","X"," ","X"," ","X","X","X"," ",5.6051470588235286E-2,null,null,null,null,1700000,39.026629935720848,624.42607897153357,null,"Bunch",6,"Perennial Cool Season Sedge",",CM,LI"]
["Grass","Woolly Sedge","Carex pellita "," ","X","X","X"," ","X"," ",1E-4,"X","X","X","X","X","X","X","X","X","X",3.4031250000000002,null,null,null,null,28000,0.64279155188246095,10.284664830119375,null,"Rhizomatous",3,"Perennial Cool Season Sedge",",CM,LI"]
["Grass","Woollyfruit Sedge","Carex lasiocarpa "," "," ","X","X"," ","X"," ",1E-4," ","X","X"," ","X","X"," ","X"," "," ",6.8062500000000004,null,null,null,null,14000,0.32139577594123048,5.1423324150596876,null,"Rhizomatous",10,"Perennial Cool Season Sedge",",CM,LI"]
["Grass","Yellow Fox Sedge","Carex annectens","X","X","X","X"," ","X"," ",1E-4," ","X","X"," ","X"," ","X"," ","X","X",1.0587500000000001,null,null,null,null,90000,2.0661157024793386,33.057851239669418,null,null,5,"Perennial Cool Season Sedge",",CM,LI"]
[]
[]
[]
[]
[]
[]
["Plant Type","Common Name","Scientific Name","Dry","Medium","Wet","Prairie","Savanna","Wetland","Woodland","Short-term Program (Y = < $0.0017)","All","C","EC","NC","NE","NW","SC","SE","SW","WC"]
[null,null,null,{"$f":"IF(Calculator!$A$4=1,\"X\",\"\")","v":""},{"$f":"IF(Calculator!$A$4=2,\"X\",\"\")","v":""},{"$f":"IF(Calculator!$A$4=3,\"X\",\"\")","v":""},{"$f":"IF(Calculator!$A$6=1,\"X\",\"\")","v":""},{"$f":"IF(Calculator!$A$6=2,\"X\",\"\")","v":""},{"$f":"IF(Calculator!$A$6=3,\"X\",\"\")","v":""},{"$f":"IF(Calculator!$A$6=4,\"X\",\"\")","v":""},{"$f":"IF(Calculator!$A$8=2,\"<.0069\",\">0\")","v":">0"},{"$f":"IF(Calculator!$C$2=\"ALL\",\"X\",\"\")","v":""},{"$f":"IF(Calculator!$C$2=\"C\",\"X\",\"\")","v":""},{"$f":"IF(Calculator!$C$2=\"EC\",\"X\",\"\")","v":""},{"$f":"IF(Calculator!$C$2=\"NC\",\"X\",\"\")","v":""},{"$f":"IF(Calculator!$C$2=\"NE\",\"X\",\"\")","v":""},{"$f":"IF(Calculator!$C$2=\"NW\",\"X\",\"\")","v":""},{"$f":"IF(Calculator!$C$2=\"SC\",\"X\",\"\")","v":""},{"$f":"IF(Calculator!$C$2=\"SE\",\"X\",\"\")","v":""},{"$f":"IF(Calculator!$C$2=\"SW\",\"X\",\"\")","v":""},{"$f":"IF(Calculator!$C$2=\"WC\",\"X\",\"\")","v":""}]
["Plant Type","Common Name","Scientific Name","Dry","Medium","Wet","Prairie","Savanna","Wetland","Woodland","Short-term Program (Y = < $0.0017)","All","C","EC","NC","NE","NW","SC","SE","SW","WC"]
["Leave this row blank",null," ","X","X","X","X","X","X","X",1.0000000000000001E-5,"X","X","X","X","X","X","X","X","X","X"]
["Grass","American Beakgrain","Diarrhena americana ","X","X","X"," "," "," ","X",1E-4," ","X","X"," ","X"," ","X","X","X"," "]
["Grass","American Mannagrass","Glyceria grandis"," "," ","X","X"," ","X"," ",1E-4," ","X","X","X","X","X"," "," "," ","X"]
["Grass","American Sloughgrass","Beckmannia syzigachne "," "," ","X","X","X","X"," ",1E-4," "," "," "," "," ","X"," "," "," "," "]
["Grass","Arctic Brome","Bromus kalmii","X","X"," ","X","X"," ","X",1E-4," ","X","X"," ","X","X"," ","X"," "," "]
["Grass","Bald Spikerush","Eleocharis erythropoda"," "," ","X","X","X","X"," ",1E-4,"X","X","X","X","X","X","X","X","X","X"]
["Grass","Baltic Rush","Juncus arcticus ssp. littoralis"," ","X","X","X"," ","X"," ",1E-4,"X","X","X","X","X","X","X","X","X","X"]
["Grass","Bebb's Sedge","Carex bebbii"," ","X","X","X","X","X","X",1E-4,"X","X","X","X","X","X","X","X","X","X"]
["Grass","Bicknell's Sedge","Carex bicknellii","X","X","X","X","X","X"," ",1E-4,"X","X","X","X","X","X","X","X","X","X"]
["Grass","Big Bluestem","Andropogon gerardii","X","X","X","X","X"," "," ",1E-4,"X","X","X","X","X","X","X","X","X","X"]
["Grass","Blister Sedge","Carex vesicaria"," ","X","X","X"," ","X","X",1E-4,"X","X","X","X","X","X","X","X","X","X"]
["Grass","Blue Grama","Bouteloua gracilis","X"," "," ","X","X"," "," ",1E-4," ","X"," "," "," ","X"," "," ","X","X"]
["Grass","Bluejoint","Calamagrostis canadensis"," ","X","X","X","X","X"," ",1E-4,"X","X","X","X","X","X","X","X","X","X"]
["Grass","Blunt Broom Sedge","Carex tribuloides"," "," ","X","X","X","X"," ",1E-4,"X","X","X","X","X","X","X","X","X","X"]
["Grass","Blunt Spikerush","Eleocharis obtusa "," "," ","X","X"," ","X"," ",1E-4,"X","X","X","X","X","X","X","X","X","X"]
["Grass","Bottlebrush Grass","Elymus hystrix","X","X"," "," ","X"," ","X",1E-4,"X","X","X","X","X","X","X","X","X","X"]
["Grass","Bristlystalked Sedge","Carex leptalea"," "," ","X","X"," ","X","X",1E-4," "," ","X"," ","X","X"," "," "," "," "]
["Grass","Broom Sedge","Carex scoparia"," ","X","X","X"," ","X"," ",1E-4,"X","X","X","X","X","X","X","X","X","X"]
["Grass","Broomsedge Bluestem","Andropogon virginicus"," ","X"," ","X"," "," "," ",1E-4," "," "," "," "," "," ","X","X","X"," "]
["Grass","Burr Reed Sedge","Carex sparganioides ","X","X","X"," ","X","X","X",1E-4,"X","X","X","X","X","X","X","X","X","X"]
["Grass","Buxbaum's Sedge","Carex buxbaumii"," "," ","X","X","X","X"," ",1E-4," ","X","X","X","X"," ","X","X"," ","X"]
["Grass","Canada Wildrye","Elymus canadensis","X","X","X","X","X"," ","X",1E-4,"X","X","X","X","X","X","X","X","X","X"]
["Grass","Canadian Rush","Juncus canadensis "," ","X","X","X"," ","X"," ",1E-4," ","X","X"," ","X"," ","X","X"," "," "]
["Grass","Catchfly Grass","Leersia lenticularis "," ","X","X"," "," "," ","X",1E-4," "," ","X"," ","X"," "," ","X"," "," "]
["Grass","Cattail Sedge","Carex typhina "," "," ","X"," "," ","X","X",1E-4," ","X","X"," "," "," ","X","X"," "," "]
["Grass","Clustered Field Sedge","Carex praegracilis"," ","X","X","X","X"," "," ",1E-4," ","X"," ","X"," ","X","X"," ","X","X"]
["Grass","Common Rivergrass","Scolochloa festucacea "," "," ","X","X"," ","X"," ",1E-4," "," "," ","X"," ","X"," "," "," "," "]
["Grass","Common Rush","Juncus effusus"," "," ","X","X"," ","X","X",1E-4," ","X","X"," ","X"," "," ","X"," "," "]
["Grass","Common Spikerush","Eleocharis palustris"," "," ","X","X"," ","X"," ",1E-4," ","X","X","X","X"," ","X","X"," "," "]
["Grass","Common Threesquare","Schoenoplectus pungens"," "," ","X"," "," ","X"," ",1E-4," ","X"," ","X"," ","X","X"," ","X","X"]
["Grass","Composite Dropseed","Sporobolus clandestinus","X"," "," ","X","X"," "," ",1E-4,"X","X","X","X","X","X","X","X","X","X"]
["Grass","Crested Sedge","Carex cristatella"," ","X","X","X"," ","X","X",1E-4," ","X"," "," "," ","X","X","X","X"," "]
["Grass","Dark Green Bulrush","Scirpus atrovirens"," ","X","X","X"," ","X","X",1E-4,"X","X","X","X","X","X","X","X","X","X"]
["Grass","Dioecious Sedge","Carex sterilis"," "," ","X","X"," ","X"," ",1E-4," ","X"," "," ","X"," "," "," "," "," "]
["Grass","Dudley's Rush","Juncus dudleyi"," ","X","X","X"," ","X"," ",1E-4,"X","X","X","X","X","X","X","X","X","X"]
["Grass","Eastern Gamagrass","Tripsacum dactyloides"," ","X","X","X","X","X"," ",1E-4," ","X"," "," "," "," ","X","X","X"," "]
["Grass","Eastern Narrowleaf Sedge","Carex amphibola"," ","X","X"," ","X"," ","X",1E-4,"X","X","X","X","X","X","X","X","X","X"]
["Grass","Eastern Woodland Sedge","Carex blanda ","X","X"," ","X","X","X","X",1E-4,"X","X","X","X","X","X","X","X","X","X"]
["Grass","Floating Mannagrass","Glyceria septentrionalis"," "," ","X"," "," ","X","X",1E-4," ","X"," "," ","X"," "," ","X"," "," "]
["Grass","Fowl Bluegrass","Poa palustris"," ","X","X","X","X","X"," ",1E-4,"X","X","X","X","X","X","X","X","X","X"]
["Grass","Fowl Mannagrass","Glyceria striata"," ","X","X","X"," ","X","X",1E-4,"X","X","X","X","X","X","X","X","X","X"]
["Grass","Fox Sedge","Carex vulpinoidea"," ","X","X","X"," ","X","X",1E-4,"X","X","X","X","X","X","X","X","X","X"]
["Grass","Foxtail Barley","Hordeum jubatum","X","X","X","X"," ","X"," ",1E-4,"X","X","X","X","X","X","X","X","X","X"]
["Grass","Frank's Sedge","Carex frankii"," "," ","X","X"," ","X","X",1E-4," ","X"," "," "," "," ","X","X"," "," "]
["Grass","Fringed Brome","Bromus ciliatus"," ","X","X","X"," ","X","X",1E-4," ","X","X","X"," ","X","X","X","X","X"]
["Grass","Fringed Sedge","Carex crinita"," ","X","X"," ","X"," ","X",1E-4," ","X","X"," "," "," "," ","X"," "," "]
["Grass","Fuzzy Wuzzy Sedge","Carex hirsutella","X","X"," "," ","X"," ","X",1E-4," ","X"," "," "," "," ","X","X"," "," "]
["Grass","Graceful Sedge","Carex gracillima "," ","X"," "," "," "," ","X",1E-4," ","X"," ","X","X","X"," "," "," "," "]
["Grass","Gray's Sedge","Carex grayi"," ","X","X"," "," ","X","X",1E-4," ","X","X"," ","X"," ","X","X"," "," "]
["Grass","Great Plains Flatsedge","Cyperus lupulinus","X","X"," ","X","X"," "," ",1E-4,"X","X","X","X","X","X","X","X","X","X"]
["Grass","Greater Straw Sedge","Carex normalis "," ","X","X","X","X"," ","X",1E-4,"X","X","X","X","X","X","X","X","X","X"]
["Grass","Green Needlegrass","Nassella viridula","X","X"," ","X","X"," "," ",1E-4," "," "," "," "," ","X"," "," "," "," "]
["Grass","Hairy Grama","Bouteloua hirsuta","X"," "," ","X","X"," "," ",1E-4," ","X"," "," ","X","X"," ","X","X","X"]
["Grass","Hairy Sedge","Carex lacustris"," "," ","X","X"," ","X","X",1E-4," ","X","X","X","X","X","X","X"," "," "]
["Grass","Hairy Wildrye","Elymus villosus"," ","X","X"," ","X"," ","X",1E-4,"X","X","X","X","X","X","X","X","X","X"]
["Grass","Hairy Woodland Brome","Bromus pubescens","X","X"," "," "," "," ","X",1E-4,"X","X","X","X","X","X","X","X","X","X"]
["Grass","Hairyfruit Sedge","Carex trichocarpa "," ","X","X","X"," ","X"," ",1E-4,"X","X","X","X","X","X","X","X","X","X"]
["Grass","Hardstem Bulrush","Schoenoplectus acutus"," "," ","X"," "," ","X"," ",1E-4,"X","X","X","X","X","X","X","X","X","X"]
["Grass","Hayden's Sedge","Carex haydenii"," "," ","X","X"," ","X"," ",1E-4,"X","X","X","X","X","X","X","X","X","X"]
["Grass","Heavy Sedge","Carex gravida ","X","X"," ","X","X"," ","X",1E-4,"X","X","X","X","X","X","X","X","X","X"]
["Grass","Hop Sedge","Carex lupulina"," ","X","X","X"," ","X","X",1E-4,"X","X","X","X","X","X","X","X","X","X"]
["Grass","Indian Woodoats","Chasmanthium latifolium"," ","X","X"," ","X"," ","X",1E-4," "," "," "," "," "," "," ","X"," "," "]
["Grass","Indiangrass","Sorghastrum nutans","X","X","X","X","X"," "," ",1E-4,"X","X","X","X","X","X","X","X","X","X"]
["Grass","Inflated Narrow-Leaf Sedge","Carex grisea"," ","X","X"," ","X"," ","X",1E-4,"X","X","X","X","X","X","X","X","X","X"]
["Grass","Inland Rush","Juncus interior"," ","X","X","X"," "," ","X",1E-4,"X","X","X","X","X","X","X","X","X","X"]
["Grass","Inland Sedge","Carex interior"," "," ","X","X","X","X"," ",1E-4," ","X","X","X","X"," ","X","X"," "," "]
["Grass","James Sedge","Carex jamesii "," ","X"," "," ","X"," ","X",1E-4," ","X","X","X","X"," ","X","X"," "," "]
["Grass","Junegrass","Koeleria macrantha","X","X"," ","X","X"," "," ",1E-4,"X","X","X","X","X","X","X","X","X","X"]
["Grass","Knotsheath Sedge","Carex retrorsa "," ","X","X"," ","X"," ","X",1E-4," ","X"," ","X","X"," "," "," "," "," "]
["Grass","Knotted Rush","Juncus nodosus "," ","X","X","X"," ","X"," ",1E-4,"X","X","X","X","X","X","X","X","X","X"]
["Grass","Lesser Panicled Sedge","Carex diandra "," "," ","X","X","X","X"," ",1E-4," ","X","X","X"," ","X"," "," "," "," "]
["Grass","Limestone Meadow Sedge","Carex granularis "," ","X"," "," "," "," ","X",1E-4," ","X","X","X","X"," ","X","X"," "," "]
["Grass","Little Bluestem","Schizachyrium scoparium","X","X"," ","X","X"," "," ",1E-4,"X","X","X","X","X","X","X","X","X","X"]
["Grass","Longhair Sedge","Carex comosa"," "," ","X","X","X"," "," ",1E-4," "," "," "," ","X","X"," "," "," "," "]
["Grass","Lurid Sedge","Carex lurida"," "," ","X","X"," ","X"," ",1E-4," "," "," "," "," "," "," ","X"," "," "]
["Grass","Marsh Muhly","Muhlenbergia racemosa"," ","X","X","X","X"," "," ",1E-4,"X","X","X","X","X","X","X","X","X","X"]
["Grass","Mexican Muhly","Muhlenbergia mexicana"," "," ","X","X","X","X","X",1E-4,"X","X","X","X","X","X","X","X","X","X"]
["Grass","Muhlenberg's Sedge","Carex muehlenbergii","X"," "," ","X","X"," ","X",1E-4," "," ","X"," ","X"," "," ","X"," "," "]
["Grass","Muskingum Sedge","Carex muskingumensis"," "," ","X"," ","X"," ","X",1E-4,"X","X","X","X","X","X","X","X","X","X"]
["Grass","Needle And Thread","Hesperostipa comata ","X"," "," ","X","X"," "," ",1E-4," ","X"," "," "," ","X"," "," "," ","X"]
["Grass","Needle Spikerush","Eleocharis acicularis"," "," ","X","X"," ","X"," ",1E-4,"X","X","X","X","X","X","X","X","X","X"]
["Grass","Nodding Fescue","Festuca subverticillata"," ","X"," "," ","X"," ","X",1E-4,"X","X","X","X","X","X","X","X","X","X"]
["Grass","Northwest Territory Sedge","Carex utriculata"," "," ","X","X"," ","X"," ",1E-4,"X","X","X","X","X","X","X","X","X","X"]
["Grass","Owlfruit Sedge","Carex stipata"," ","X","X","X"," ","X","X",1E-4,"X","X","X","X","X","X","X","X","X","X"]
["Grass","Panicled Bulrush","Scirpus microcarpus "," "," ","X"," "," ","X"," ",1E-4," ","X"," ","X","X"," "," ","X"," "," "]
["Grass","Pennsylvania Sedge","Carex pensylvanica","X","X"," "," ","X"," ","X",1E-4,"X","X","X","X","X","X","X","X","X","X"]
["Grass","Plains Muhly","Muhlenbergia cuspidata","X"," "," ","X"," "," "," ",1E-4," ","X","X","X","X","X"," "," ","X","X"]
["Grass","Porcupine Sedge","Carex hystericina"," "," ","X","X"," ","X"," ",1E-4,"X","X","X","X","X","X","X","X","X","X"]
["Grass","Porcupinegrass","Hesperostipa spartea","X","X"," ","X","X"," "," ",1E-4,"X","X","X","X","X","X","X","X","X","X"]
["Grass","Poverty Oatgrass","Danthonia spicata","X"," "," "," ","X"," ","X",1E-4,"X","X","X","X","X","X","X","X","X","X"]
["Grass","Poverty Rush","Juncus tenuis"," ","X","X","X","X"," ","X",1E-4,"X","X","X","X","X","X","X","X","X","X"]
["Grass","Prairie Cordgrass","Spartina pectinata"," "," ","X","X"," ","X"," ",1E-4,"X","X","X","X","X","X","X","X","X","X"]
["Grass","Prairie Dropseed","Sporobolus heterolepis","X","X"," ","X","X"," "," ",1E-4,"X","X","X","X","X","X","X","X","X","X"]
["Grass","Prairie Oval Sedge","Carex brevior","X","X","X","X","X"," ","X",1E-4,"X","X","X","X","X","X","X","X","X","X"]
["Grass","Prairie Sandreed","Calamovilfa longifolia","X"," "," ","X","X"," "," ",1E-4,"X","X","X","X","X","X","X","X","X","X"]
["Grass","Prairie Sedge","Carex prairea"," "," ","X","X"," ","X"," ",1E-4," ","X","X"," ","X","X"," ","X"," "," "]
["Grass","Prairie Straw Sedge","Carex suberecta"," "," ","X","X","X","X"," ",1E-4," ","X"," ","X","X"," "," ","X","X"," "]
["Grass","Prairie Wedgescale","Sphenopholis obtusata ","X","X"," ","X","X"," ","X",1E-4,"X","X","X","X","X","X","X","X","X","X"]
["Grass","Purple Lovegrass","Eragrostis spectabilis","X","X"," ","X","X"," "," ",1E-4,"X","X","X","X","X","X","X","X","X","X"]
["Grass","Purple Top","Tridens flavus","X","X"," ","X","X"," ","X",1E-4," ","X"," "," ","X"," ","X","X","X"," "]
["Grass","Quill Sedge","Carex tenera"," ","X","X","X","X","X","X",1E-4,"X","X","X","X","X","X","X","X","X","X"]
["Grass","Ravenfoot Sedge","Carex crus-corvi"," "," ","X"," ","X","X","X",1E-4," ","X"," "," "," ","X","X","X","X"," "]
["Grass","Rice Cutgrass","Leersia oryzoides"," "," ","X","X"," ","X","X",1E-4,"X","X","X","X","X","X","X","X","X","X"]
["Grass","River Bulrush","Schoenoplectus fluviatilis"," "," ","X"," "," ","X"," ",1E-4,"X","X","X","X","X","X","X","X","X","X"]
["Grass","Riverbank Wildrye","Elymus riparius"," ","X"," "," ","X"," ","X",1E-4," ","X","X"," ","X"," "," "," "," "," "]
["Grass","Rosy Sedge","Carex rosea","X","X","X"," "," "," ","X",1E-4," ","X","X"," ","X","X","X","X","X"," "]
["Grass","Rough Dropseed","Sporobolus compositus ","X","X"," ","X","X"," "," ",1E-4,"X","X","X","X","X","X","X","X","X","X"]
["Grass","Rufous Bulrush","Scirpus pendulus "," ","X","X"," "," ","X","X",1E-4," ","X","X"," ","X"," ","X","X","X"," "]
["Grass","Sand Dropseed","Sporobolus cryptandrus","X","X"," ","X","X"," "," ",1E-4,"X","X","X","X","X","X","X","X","X","X"]
["Grass","Sand Lovegrass","Eragrostis trichodes","X","X"," ","X","X"," "," ",1E-4," ","X","X"," "," "," ","X","X","X","X"]
["Grass","Sartwell's Sedge","Carex sartwellii"," "," ","X","X","X","X"," ",1E-4,"X","X","X","X","X","X","X","X","X","X"]
["Grass","Schweinitz's Flatsedge","Cyperus schweinitzii","X"," "," ","X","X"," "," ",1E-4," ","X","X","X","X"," "," ","X"," "," "]
["Grass","Scribner's Rosette Grass","Dichanthelium oligosanthes var. scribnerianum","X"," "," ","X","X"," "," ",1E-4,"X","X","X","X","X","X","X","X","X","X"]
["Grass","Short's Sedge","Carex shortiana "," ","X","X","X"," "," ","X",1E-4," ","X"," "," ","X"," ","X","X"," "," "]
["Grass","Sideoats Grama","Bouteloua curtipendula","X","X"," ","X","X"," "," ",1E-4,"X","X","X","X","X","X","X","X","X","X"]
["Grass","Slender Looseflower Sedge","Carex gracilescens ","X"," "," "," "," "," ","X",1E-4," "," "," "," "," "," "," ","X"," "," "]
["Grass","Slender Wheatgrass","Elymus trachycaulus","X","X"," ","X","X"," ","X",1E-4," ","X"," ","X","X","X","X","X"," "," "]
["Grass","Smoothcone Sedge","Carex laeviconica"," "," ","X","X","X","X"," ",1E-4,"X","X","X","X","X","X","X","X","X","X"]
["Grass","Soft Fox Sedge","Carex conjuncta "," ","X","X","X","X"," ","X",1E-4,"X","X","X","X","X","X","X","X","X","X"]
["Grass","Softstem Bulrush","Schoenoplectus tabernaemontani"," "," ","X"," "," ","X"," ",1E-4,"X","X","X","X","X","X","X","X","X","X"]
["Grass","Spiked Muhly","Muhlenbergia glomerata"," ","X","X","X","X","X"," ",1E-4," ","X","X","X","X","X"," ","X"," "," "]
["Grass","Sprengel's Sedge","Carex sprengelii"," ","X","X"," ","X","X","X",1E-4,"X","X","X","X","X","X","X","X","X","X"]
["Grass","Squarrose Sedge","Carex squarrosa"," ","X","X","X"," ","X","X",1E-4," "," "," "," "," "," "," ","X"," "," "]
["Grass","Star Sedge","Carex echinata "," "," ","X"," "," ","X"," ",1E-4," "," ","X","X","X"," "," "," "," "," "]
["Grass","Sweetgrass","Hierochloe odorata "," ","X","X","X","X","X"," ",1E-4," ","X","X","X","X","X"," "," "," ","X"]
["Grass","Switchgrass","Panicum virgatum","X","X","X","X","X","X"," ",1E-4,"X","X","X","X","X","X","X","X","X","X"]
["Grass","Thin Paspalum","Paspalum setaceum","X"," "," ","X"," "," "," ",1E-4,"X","X","X","X","X","X","X","X","X","X"]
["Grass","Thinleaf Sedge","Carex cephaloidea ","X","X"," "," "," "," ","X",1E-4," ","X","X","X","X"," ","X","X"," "," "]
["Grass","Threeway Sedge","Dulichium arundinaceum "," "," ","X"," "," ","X"," ",1E-4," ","X","X","X","X"," ","X","X"," "," "]
["Grass","Torrey's Rush","Juncus torreyi"," "," ","X","X"," ","X"," ",1E-4,"X","X","X","X","X","X","X","X","X","X"]
["Grass","Troublesome Sedge","Carex molesta","X","X","X","X","X","X","X",1E-4," ","X","X","X","X","X","X","X","X"," "]
["Grass","Tuckerman's Sedge","Carex tuckermanii "," "," ","X","X"," ","X"," ",1E-4," ","X"," "," "," "," "," "," "," "," "]
["Grass","Upright Sedge","Carex stricta"," ","X","X","X"," ","X"," ",1E-4,"X","X","X","X","X","X","X","X","X","X"]
["Grass","Virginia Wildrye","Elymus virginicus"," ","X","X","X","X","X","X",1E-4,"X","X","X","X","X","X","X","X","X","X"]
["Grass","Water Sedge","Carex aquatilis "," "," ","X","X"," ","X"," ",1E-4," ","X"," "," "," ","X"," "," "," "," "]
["Grass","Western Wheatgrass","Pascopyrum smithii","X","X"," ","X","X"," "," ",1E-4,"X","X","X","X","X","X","X","X","X","X"]
["Grass","Wheat Sedge","Carex atherodes"," "," ","X","X","X","X"," ",1E-4,"X","X","X","X","X","X","X","X","X","X"]
["Grass","Woolgrass","Scirpus cyperinus"," ","X","X","X"," ","X"," ",1E-4," ","X","X"," ","X"," ","X","X","X"," "]
["Grass","Woolly Sedge","Carex pellita "," ","X","X","X"," ","X"," ",1E-4,"X","X","X","X","X","X","X","X","X","X"]
["Grass","Woollyfruit Sedge","Carex lasiocarpa "," "," ","X","X"," ","X"," ",1E-4," ","X","X"," ","X","X"," ","X"," "," "]
["Grass","Yellow Fox Sedge","Carex annectens","X","X","X","X"," ","X"," ",1E-4," ","X","X"," ","X"," ","X"," ","X","X"]
[]
[]
[]
[]
[]
[]
[]
[]
[]
[]
[]
[]
[]
[]
[]
[]
[]
[]
[]
[null,null,null,null,null,null,null,null,null,null,null,null,null,null,null,null,null,null,null,null,null,null,null,null,20,320]
[]
[]
[]
[]
[]
[]
[]
[]
[]
[]
[]
[]
[]
[null,null,null,null,null,null,null,null,null,null,null,null,null,null,null,null,null,null,null,null,null,null,null,null,80,1280]
[null,null,null,null,null,null,null,null,null,null,null,null,null,null,null,null,null,null,null,null,null,null,null,null,120,1920]
[null,null,null,null,null,null,null,null,null,null,null,null,null,null,null,null,null,null,null,null,null,null,null,null,200,3200]
[null,null,null,null,null,null,null,null,null,null,null,null,null,null,null,null,null,null,null,null,null,null,null,null,40,640]
[null,null,null,null,null,null,null,null,null,null,null,null,null,null,null,null,null,null,null,null,null,null,null,null,200,3200]
[null,null,null,null,null,null,null,null,null,null,null,null,null,null,null,null,null,null,null,null,null,null,null,null,8,120]
[null,null,null,null,null,null,null,null,null,null,null,null,null,null,null,null,null,null,null,null,null,null,null,null,60,960]
[null,null,null,null,null,null,null,null,null,null,null,null,null,null,null,null,null,null,null,null,null,null,null,null,30,480,6200,null,null,null,"Summer, Fall",null,null,"Cold moist stratification"]
[null,null,null,null,null,null,null,null,null,null,null,null,null,null,null,null,null,null,null,null,null,null,null,null,20,300,63000,null,null,null,"Summer, Fall",null,null,"Cold moist stratification"]
[null,null,null,null,null,null,null,null,null,null,null,null,null,null,null,null,null,null,null,null,null,null,null,null,90,1440,13500,null,null,null,"Summer, Fall"]
[null,null,null,null,null,null,null,null,null,null,null,null,null,null,null,null,null,null,null,null,null,null,null,null,133,2124,73000,null,null,null,"Spring",null,null,"Cold moist stratification"]
[null,null,null,null,null,null,null,null,null,null,null,null,null,null,null,null,null,null,null,null,null,null,null,null,333,5333,null,null,null,null,"Summer, Fall",null,null,"Cold moist stratification"]

{"sheet":"ForbsLegumes","index":6,"n_rows":698,"n_cols":35,"rows_kept":698,"cut":false,"hidden":false,"merged":[[0,3,0,5],[0,6,0,9],[0,11,0,20]]}
[null,null,null,"Moisture Regime",null,null,"Habitat",null,null,null,null,"REGION"]
["Plant Type","Common Name","Scientific Name","Dry","Medium","Wet","Prairie","Savanna","Wetland","Woodland","Short-term Program (Y = < $0.0069)","All","C","EC","NC","NE","NW","SC","SE","SW","WC","Pure Stand Seeding Rate PLS lbs/acre","Seeding Rate Oz/ac PLS","Seeds/sq foot","Estimated Cost/oz","Estimated Cost/lb","Seeds/oz","Seeds/sq ft @ 1oz/ac","Seeds/sq ft @ 16oz/ac","% of Mixture","Flowering Period","Coefficient of Conservatism","Functional Group","Germination","monarch"]
["Leave this row blank",null," ","X","X","X","X","X","X","X",1.0000000000000001E-5,"X","X","X","X","X","X","X","X","X","X"]
["Forb","Alfalfa (Intro. Forb)","Medicago sativa L.","X","X"," ","X","X"," "," ",1E-4,"X","X","X","X","X","X","X","X","X","X",{"$f":"35/AC4","v":6.7757590841214537},null,null,null,null,14063,{"$f":"(AA4/43560)","v":0.32284205693296603},{"$f":"AB4*16","v":5.1654729109274564},null,"Spring",0,"Introduced Forb, Perennial"]
["Forb","Alsike Clover (Intro. Forb)","Trifolium hybridum L.","X","X"," ","X","X"," "," ",1E-4,"X","X","X","X","X","X","X","X","X","X",2.2095652173913045,null,null,null,null,43125,0.99001377410468316,15.840220385674931,null,"Spring",0,"Introduced Forb, Perennial"]
["Forb","Alumroot","Heuchera richardsonii  ","X","X"," ","X","X"," ","X",1E-4,"X","X","X","X","X","X","X","X","X","X",0.136125,null,null,null,null,700000,16.069788797061523,257.11662075298437,null,"Spring, Summer ",8,"Perennial Forb","Dry cold storage, Light required for germination or cold moist stratification "]
["Forb","American Germander","Teucrium canadense  "," "," ","X","X","X","X","X",1E-4,"X","X","X","X","X","X","X","X","X","X",4.7643750000000002,null,null,null,null,20000,0.4591368227731864,7.3461891643709825,null,"Summer, Fall",4,"Perennial Forb","Cold moist stratification"]
["Forb","American Vetch","Vicia americana"," "," "," ","X"," "," "," ",1E-4,"X","X","X","X","X","X","X","X","X","X",46.436403508771932,null,null,null,null,2052,4.7107438016528926E-2,0.75371900826446281,null,"Spring",6,"Perennial Forb, Legume"]
["Forb","Aromatic Aster","Symphyotrichum oblongifolium","X"," "," ","X","X"," "," ",1E-4,"X","X","X","X","X","X","X","X","X","X",1.8683823529411765,null,null,null,null,51000,1.1707988980716253,18.732782369146005,null,"Summer, Fall",8,"Perennial Forb","Dry cold storage",1]
["Forb","Arumleaf Arrowhead","Sagittaria cuneata "," "," ","X"," "," ","X"," ",1E-4," "," "," ","X","X","X"," "," "," "," ",1.5125,null,null,null,null,63000,1.4462809917355373,23.140495867768596,null,"Summer, Fall",8,"Perennial Forb","Cold moist stratification"]
["Forb","Baldwin's Ironweed","Vernonia baldwinii  ","X","X"," ","X"," "," ","X",1E-4," "," "," "," "," "," ","X","X","X"," ",3.9703124999999999,null,null,null,null,24000,0.55096418732782371,8.8154269972451793,null,"Summer, Fall",2,"Perennial Forb","Cold moist => warm moist => cold moist sequence",1]
["Forb","Bastard Toadflax","Comandra umbellata","X","X"," ","X","X"," ","X",1E-4,"X","X","X","X","X","X","X","X","X","X",8.5078125,null,null,null,null,11200,0.25711662075298441,4.1138659320477506,null,"Summer",8,"Perennial Forb, Hemiparasite","Parasitic-requires a host plant"]
["Forb","Bearded Beggarticks","Bidens aristosa"," ","X","X","X","X","X"," ",1E-4," ","X"," "," "," "," ","X","X"," "," ",11.079941860465118,null,null,null,null,8600,0.19742883379247014,3.1588613406795223,null,"Summer, Fall",3,"Annual Forb","Cold moist stratification, Light required for germination",1]
["Forb","Biennial Gaura","Gaura biennis  ","X","X"," ","X","X"," "," ",1E-4," ","X","X"," ","X","X","X","X","X","X",35.291666666666664,null,null,null,null,2700,6.1983471074380167E-2,0.99173553719008267,null,"Summer, Fall",3,"Biennial Forb","Cold moist stratification"]
["Forb","Bigleaf Aster","Eurybia macrophylla","X","X"," "," ","X"," ","X",1E-4," "," "," "," ","X"," "," "," "," "," ",3.5291666666666663,null,null,null,null,27000,0.6198347107438017,9.9173553719008272,null,"Summer, Fall",7,"Perennial Forb","Cold Moist stratification"]
["Forb","Bishop's Cap, Miterwort","Mitella diphylla  "," ","X","X"," ","X"," ","X",1E-4," ","X","X","X","X"," ","X","X"," "," ",1.7015625000000001,null,null,null,null,56000,1.2855831037649219,20.569329660238751,null,"Spring, Summer ",9,"Perennial Forb","Cold moist stratification"]
["Forb","Black-eyed Susan","Rudbeckia hirta  ","X","X"," ","X","X"," "," ",1E-4,"X","X","X","X","X","X","X","X","X","X",1.0357336956521739,null,null,null,null,92000,2.1120293847566574,33.792470156106518,null,"Summer, Fall",3,"Biennial Forb","Cold moist stratification or Dry cold storage",1]
["Forb","Blacksamson Echinacea","Echinacea angustifolia  ","X"," "," ","X","X"," "," ",1E-4," ","X"," ","X"," ","X","X"," ","X","X",13.612500000000001,null,null,null,null,7000,0.16069788797061524,2.5711662075298438,null,"Summer",7,"Perennial Forb","Cold moist stratification(90),Light required for germination Fall plant  ",1]
["Forb","Bloodroot","Sanguinaria canadensis  ","X","X"," "," "," "," ","X",1E-4,"X","X","X","X","X","X","X","X","X","X",56.05147058823529,null,null,null,null,1700,3.9026629935720848E-2,0.62442607897153357,null,"Spring",5,"Perennial Forb","Plant fresh seed, Cold moist => warm moist => cold moist sequence  "]
["Forb","Blue Cohosh","Caulophyllum thalictroides "," ","X"," "," "," "," ","X",1E-4," ","X","X","X","X","X","X","X","X"," ",1361.25,null,null,null,null,70,1.6069788797061523E-3,2.5711662075298437E-2,null,"Spring",9,"Perennial Forb","Fall Plant"]
["Forb","Blue Flag Iris","Iris shrevei"," "," ","X","X","X","X","X",1E-4,"X","X","X","X","X","X","X","X","X","X",95.287500000000009,null,null,null,null,1000,2.2956841138659319E-2,0.3673094582185491,null,"Spring, Summer ",6,"Perennial Forb","Fall plant Cold moist stratification(120)   "]
["Forb","Blue Giant Hyssop","Agastache foeniculum","X","X"," ","X","X"," ","X",1E-4," ","X","X","X","X","X"," "," "," "," ",1.0587500000000001,null,null,null,null,90000,2.0661157024793386,33.057851239669418,null,"Summer",10,"Perennial Forb","Cold moist stratification or Dry cold storage, Light required for germination  ",1]
["Forb","Blue Sky Aster","Symphyotrichum oolentangiense","X","X"," ","X","X"," ","X",1E-4,"X","X","X","X","X","X","X","X","X","X",1.1910937500000001,null,null,null,null,80000,1.8365472910927456,29.38475665748393,null,"Summer, Fall",8,"Perennial Forb","Dry cold storage",1]
["Forb","Blue Vervain","Verbena hastata  "," ","X","X","X","X","X"," ",1E-4,"X","X","X","X","X","X","X","X","X","X",1.0245967741935484,null,null,null,null,93000,2.1349862258953167,34.159779614325068,null,"Summer, Fall",4,"Perennial Forb","Cold moist stratification(30),Light required for germination  ",1]
["Forb","Blue Wild Indigo","Baptisia australis","X","X"," ","X","X"," "," ",1E-4," "," "," "," ","X"," ","X"," ","X"," ",63.524999999999999,null,null,null,null,1500,3.4435261707988982E-2,0.55096418732782371,null,"Spring, Summer ",5,"Perennial Forb, Legume","Cold moist stratification(10),Requires scarification, Legume-requires inoculation  "]
["Forb","Bluebell","Mertensia virginica  "," ","X"," "," "," "," ","X",1E-4,"X","X","X","X","X","X","X","X","X","X",9.8234536082474229,null,null,null,null,9700,0.22268135904499542,3.5629017447199267,null,"Spring",5,"Perennial Forb","Cold moist stratification",1]
["Forb","Boneset","Eupatorium perfoliatum  "," ","X","X","X","X","X"," ",1E-4,"X","X","X","X","X","X","X","X","X","X",0.59554687500000003,null,null,null,null,160000,3.6730945821854912,58.76951331496786,null,"Summer, Fall",6,"Perennial Forb","Dry cold storage or Cold moist stratification, Light required for germination  ",1]
["Forb","Bottle Gentian, Closed Gentian","Gentiana andrewsii  "," ","X","X","X","X","X"," ",1E-4,"X","X","X","X","X","X","X","X","X","X",0.34031250000000002,null,null,null,null,280000,6.4279155188246095,102.84664830119375,null,"Summer, Fall",7,"Perennial Forb","Cold moist stratification, Light required for germination  "]
["Forb","Bristly Crowfoot","Ranunculus pensylvanicus  "," "," ","X","X"," ","X"," ",1E-4," ","X","X","X","X","X"," "," "," "," ",60.964491362763916,null,null,null,null,1563,3.5881542699724517E-2,0.57410468319559227,null,"Summer",6,"Annual Forb","Cold moist stratification"]
["Forb","Brown-eyed Susan","Rudbeckia triloba  "," ","X","X","X","X","X","X",1E-4," ","X","X","X","X"," ","X","X","X"," ",2.8025735294117644,null,null,null,null,34000,0.78053259871441694,12.488521579430671,null,"Summer, Fall",4,"Biennial Forb","Cold moist stratification or Dry cold storage  ",1]
["Forb","Bunch-Flower","Veratrum virginicum  "," ","X","X","X","X"," "," ",1E-4," ","X"," "," ","X"," ","X","X"," "," ",10.5875,null,null,null,null,9000,0.20661157024793389,3.3057851239669422,null,"Summer",9,"Perennial Forb","Cold moist stratification"]
["Forb","Bush's Poppymallow","Callirhoe bushii ","X"," "," ","X","X"," ","X",1E-4," "," "," "," "," "," "," "," ","X"," ",23.821875000000002,null,null,null,null,4000,9.1827364554637275E-2,1.4692378328741964,null,"Summer",8,"Perennial Forb","Cold moist stratification"]
["Forb","Butterfly Weed","Asclepias tuberosa","X","X"," ","X","X"," "," ",1E-4,"X","X","X","X","X","X","X","X","X","X",22.159883720930235,null,null,null,null,4300,9.8714416896235072E-2,1.5794306703397611,null,"Summer",7,"Perennial Forb","Cold moist stratification or Dry cold storage  ",1]
["Forb","Calico Aster","Symphyotrichum lateriflorum","X","X"," "," ","X"," ","X",1E-4," ","X","X"," ","X","X"," ","X","X"," ",0.38114999999999999,null,null,null,null,250000,5.7392102846648303,91.827364554637285,null,"Summer, Fall",4,"Perennial Forb",null,1]
["Forb","Canada Anemone","Anemone canadensis"," ","X","X","X","X","X"," ",1E-4,"X","X","X","X","X","X","X","X","X","X",11.910937500000001,null,null,null,null,8000,0.18365472910927455,2.9384756657483928,null,"Spring, Summer ",4,"Perennial Forb","Cold moist => warm moist => cold moist sequence"]
["Forb","Canadian Lousewort","Pedicularis canadensis  ","X","X"," ","X","X"," ","X",1E-4,"X","X","X","X","X","X","X","X","X","X",{"$f":"35/AC36","v":2.8875000000000002},null,null,null,null,33000,0.75757575757575757,12.121212121212121,null,"Spring",8,"Perennial Forb, Hemiparasite","Cold moist stratification(30),Parasitic-requires a host plant  "]
["Forb","Canadian Milkvetch","Astragalus canadensis","X","X","X","X","X"," "," ",1E-4,"X","X","X","X","X","X","X","X","X","X",5.6051470588235288,null,null,null,null,17000,0.39026629935720847,6.2442607897153355,null,"Summer",5,"Perennial Forb, Legume","Cold moist stratification(10),Requires scarification, Legume-requires inoculation  "]
["Forb","Canadian Wildginger","Asarum canadense"," ","X"," "," "," "," ","X",1E-4," ","X","X","X","X","X","X","X"," "," ",21.65625,null,null,null,null,4400,0.10101010101010101,1.6161616161616161,null,"Spring, Summer ",6,"Perennial Forb","Plant fresh seed"]
["Forb","Cardinal Flower","Lobelia cardinalis  "," ","X","X","X","X","X","X",1E-4,"X","X","X","X","X"," ","X","X"," "," ",0.23821875000000001,null,null,null,null,400000,9.1827364554637274,146.92378328741964,null,"Summer, Fall",6,"Perennial Forb","Cold moist stratification, Light required for germination  ",1]
["Forb","Clammy Weed","Polanisia dodecandra  ","X","X"," ","X"," "," "," ",1E-4,"X","X","X","X","X","X","X","X","X","X",14.659615384615385,null,null,null,null,6500,0.14921946740128558,2.3875114784205693,null,"Summer, Fall",3,"Annual Forb","Cold moist stratification or Dry cold storage  "]
["Forb","Clasping Milkweed","Asclepias amplexicaulis","X","X"," ","X","X"," "," ",1E-4," ","X","X"," ","X"," "," ","X"," "," ",39.703125,null,null,null,null,2400,5.5096418732782371E-2,0.88154269972451793,null,"Spring, Summer",6,"Perennial Forb","Cold moist stratification",1]
["Forb","Cliff Goldenrod","Solidago sciaphila ","X","X"," ","X","X"," "," ",1E-4," ","X","X","X","X"," ","X","X","X"," ",1.1910937500000001,null,null,null,null,80000,1.8365472910927456,29.38475665748393,null,"Summer, Fall",10,"Perennial Forb","Cold moist stratification, Light required for germination  "]
["Forb","Cobaea Beardtongue","Penstemon cobaea ","X"," "," ","X","X"," "," ",1E-4," "," "," "," "," "," "," "," ","X"," ",7.9406249999999998,null,null,null,null,12000,0.27548209366391185,4.4077134986225897,null,"Spring, Summer",8,"Perennial Forb","COLD MOIST STRATIFICATION"]
["Forb","Columbine","Aquilegia canadensis","X","X"," "," ","X"," ","X",1E-4,"X","X","X","X","X","X","X","X","X","X",2.5075657894736842,null,null,null,null,38000,0.87235996326905418,13.957759412304867,null,"Spring, Summer ",6,"Perennial Forb","Cold moist stratification"]
["Forb","Common Arrowhead","Sagittaria latifolia  "," "," ","X"," "," ","X"," ",1E-4,"X","X","X","X","X","X","X","X","X","X",1.5620901639344262,null,null,null,null,61000,1.4003673094582185,22.405876951331496,null,"Summer, Fall",5,"Perennial Forb","Cold moist stratification"]
["Forb","Common Blue Wood Aster","Symphyotrichum cordifolium ","X","X"," "," ","X"," ","X",1E-4," ","X","X","X","X"," ","X","X","X"," ",0.68062500000000004,null,null,null,null,140000,3.2139577594123048,51.423324150596876,null,"Fall",7,"Perennial Forb","Cold moist stratification",1]
["Forb","Common Bur Reed","Sparganium eurycarpum  "," "," ","X"," "," ","X"," ",1E-4,"X","X","X","X","X","X","X","X","X","X",190.57500000000002,null,null,null,null,500,1.1478420569329659E-2,0.18365472910927455,null,"Summer",6,"Perennial Forb","Cold moist => warm moist => cold moist sequence"]
["Forb","Common Evening Primrose","Oenothera biennis ","X","X","X","X","X"," "," ",1E-4,"X","X","X","X","X","X","X","X","X","X",1.0587500000000001,null,null,null,null,90000,2.0661157024793386,33.057851239669418,null,"Summer, Fall",2,"Biennial Forb","Dry cold storage, Prefers cool soil, Light required for germination  "]
["Forb","Common Goldstar","Hypoxis hirsuta  ","X","X","X","X","X","X","X",1E-4,"X","X","X","X","X","X","X","X","X","X",1.1910937500000001,null,null,null,null,80000,1.8365472910927456,29.38475665748393,null,"Spring, Summer ",7,"Perennial Forb"," Cold moist stratification, Light required for germination  "]
["Forb","Common Milkweed","Asclepias syriaca","X","X","X","X","X"," ","X",1E-4,"X","X","X","X","X","X","X","X","X","X",22.232267848810082,null,null,null,null,4286,9.8393021120293842E-2,1.5742883379247015,null,"Summer",1,"Perennial Forb","Cold moist stratification (30)",1]
["Forb","Common Yarrow","Achillea millefolium","X","X"," ","X","X"," "," ",1E-4,"X","X","X","X","X","X","X","X","X","X",0.53457223001402521,null,null,null,null,178250,4.0920569329660239,65.472910927456383,null,"Summer",2,"Perennial Forb"]
["Forb","Compass Plant","Silphium laciniatum ","X","X"," ","X","X"," "," ",1E-4,"X","X","X","X","X","X","X","X","X","X",144.375,null,null,null,null,660,1.5151515151515152E-2,0.24242424242424243,null,"Summer, Fall",7,"Perennial Forb","Cold moist stratification",1]
["Forb","Cottonweed","Froelichia floridana  ","X"," "," ","X"," "," "," ",1E-4," ","X","X"," ","X"," "," ","X"," "," ",4.1429347826086955,null,null,null,null,23000,0.52800734618916434,8.4481175390266294,null,"Summer, Fall",8,"Annual Forb","Cold moist stratification"]
["Forb","Cow Parsnip","Heracleum maximum "," ","X","X","X","X"," ","X",1E-4," ","X"," ","X"," ","X","X"," ","X","X",36.64903846153846,null,null,null,null,2600,5.968778696051423E-2,0.95500459136822768,null,"Summer",5,"Biennial Forb","Fall plant, Cold moist => warm moist => cold moist sequence  "]
["Forb","Cowbane","Oxypolis rigidior  "," "," ","X","X","X","X"," ",1E-4,"X","X","X","X","X","X","X","X","X","X",6.5265410958904102,null,null,null,null,14600,0.3351698806244261,5.3627180899908176,null,"Summer, Fall",9,"Perennial Forb"]
["Forb","Cream False Indigo","Baptisia bracteata","X","X"," ","X","X"," "," ",1E-4,"X","X","X","X","X","X","X","X","X","X",68.0625,null,null,null,null,1400,3.2139577594123052E-2,0.51423324150596883,null,"Spring, Summer ",8,"Perennial Forb, Legume","Cold moist stratification(10),Requires scarification, Legume-requires inoculation  "]
["Forb","Cream Gentian","Gentiana alba","X","X"," ","X","X"," ","X",1E-4,"X","X","X","X","X"," ","X","X","X","X",0.68062500000000004,null,null,null,null,140000,3.2139577594123048,51.423324150596876,null,"Summer, Fall",5,"Perennial Forb","Cold moist stratification, Light required for germination  "]
["Forb","Crookedstem Aster","Symphyotrichum prenanthoides"," ","X","X"," ","X"," ","X",1E-4," ","X","X","X","X"," ","X","X"," "," ",0.7940625,null,null,null,null,120000,2.7548209366391183,44.077134986225893,null,"Summer, Fall",7,"Perennial Forb","Cold moist stratification, Light required for germination  ",1]
["Forb","Culver's Root","Veronicastrum virginicum  "," ","X","X","X","X","X"," ",1E-4,"X","X","X","X","X","X","X","X","X","X",0.119109375,null,null,null,null,800000,18.365472910927455,293.84756657483928,null,"Summer",6,"Perennial Forb","Dry cold storage, Light required for germination ",1]
["Forb","Cup Plant","Silphium perfoliatum "," ","X","X","X","X","X","X",1E-4,"X","X","X","X","X","X","X","X","X","X",68.0625,null,null,null,null,1400,3.2139577594123052E-2,0.51423324150596883,null,"Summer, Fall",2,"Perennial Forb","Cold moist stratification",1]
["Forb","Devil's Beggartick","Bidens frondosa"," ","X","X","X","X","X"," ",1E-4," ","X","X","X","X"," ","X","X"," "," ",19.057500000000001,null,null,null,null,5000,0.1147842056932966,1.8365472910927456,null,"Summer, Fall",2,"Annual Forb","Cold moist stratification"]
["Forb","Ditch Stonecrop","Penthorum sedoides  "," "," ","X","X","X","X"," ",1E-4,"X","X","X","X","X","X","X","X","X","X",7.3298076923076924E-2,null,null,null,null,1300000,29.843893480257115,477.50229568411385,null,"Summer, Fall",3,"Perennial Forb","Cold moist stratification, Light required for germination "]
["Forb","Dotted Blazing Star","Liatris punctata  ","X","X"," ","X","X"," "," ",1E-4," ","X"," ","X"," ","X"," "," ","X","X",13.612500000000001,null,null,null,null,7000,0.16069788797061524,2.5711662075298438,null,"Summer, Fall",8,"Perennial Forb","Cold moist stratification",1]
["Forb","Downy Gentian","Gentiana puberulenta  ","X","X"," ","X","X"," ","X",1E-4,"X","X","X","X","X","X","X","X","X","X",0.21905172413793103,null,null,null,null,435000,9.9862258953168048,159.77961432506888,null,"Summer, Fall",9,"Perennial Forb","Cold moist stratification, Light required for germination  "]
["Forb","Downy Pagoda-plant","Blephilia ciliata","X","X"," ","X","X"," ","X",1E-4," "," "," "," ","X"," ","X","X"," "," ",0.23821875000000001,null,null,null,null,400000,9.1827364554637274,146.92378328741964,null,"Summer",5,"Perennial Forb","Cold moist stratification, Light required for germination  ",1]
["Forb","Downy Painted Cup","Castilleja sessiliflora  ","X"," "," ","X"," "," "," ",1E-4," ","X","X","X","X","X"," "," ","X","X",0.47643750000000001,null,null,null,null,200000,4.5913682277318637,73.461891643709819,null,"Spring, Summer ",10,"Perennial Forb, Hemiparasite","Cold moist stratification, Parasitic-requires a host plant, Light required for germination  "]
["Forb","Downy Sunflower","Helianthus mollis  ","X","X"," ","X","X"," "," ",1E-4," ","X"," "," "," "," ","X","X"," "," ",13.612500000000001,null,null,null,null,7000,0.16069788797061524,2.5711662075298438,null,"Summer, Fall",6,"Perennial Forb","Cold moist stratification or Dry cold storage  ",1]
["Forb","Downy Yellow Violet","Viola pubescens "," ","X","X"," "," "," ","X",1E-4," ","X","X","X","X"," ","X","X","X","X",{"$f":"35/AC68","v":11.210294117647058},null,null,null,null,8500,{"$f":"(AA68/43560)","v":0.19513314967860423},{"$f":"AB68*16","v":3.1221303948576677},null,"Spring, Summer, Fall",5,"Perennial Forb","COLD MOIST STRATIFICATION"]
["Forb","Drummond's Aster","Symphyotrichum drummondii","X","X"," "," ","X"," ","X",1E-4," ","X","X"," ","X"," "," ","X","X"," ",1.1910937500000001,null,null,null,null,80000,1.8365472910927456,29.38475665748393,null,"Fall",5,"Perennial Forb","Dry cold storage",1]
["Forb","Dutchman's Breeches","Dicentra cucullaria"," ","X"," "," ","X"," ","X",1E-4,"X","X","X","X","X","X","X","X","X","X",5.4450000000000003,null,null,null,null,17500,0.4017447199265381,6.4279155188246095,null,"Spring",7,"Perennial Forb",null,1]
["Forb","Dwark Larkspur","Delphinium tricorne  "," ","X","X"," "," "," ","X",1E-4," ","X"," "," "," "," ","X","X","X","X",4.3312499999999998,null,null,null,null,22000,0.50505050505050508,8.0808080808080813,null,"Spring, Summer ",7,"Perennial Forb",null,1]
["Forb","Early Buttercup","Ranunculus fascicularis  ","X","X"," ","X","X"," "," ",1E-4," ","X","X","X","X","X","X","X"," "," ",9.5287500000000005,null,null,null,null,10000,0.2295684113865932,3.6730945821854912,null,"Spring, Fall",7,"Perennial Forb","Cold moist stratification"]
["Forb","Early Figwort","Scrophularia lanceolata  ","X","X","X","X","X"," ","X",1E-4," ","X","X","X","X","X"," ","X"," ","X",0.51506756756756755,null,null,null,null,185000,4.2470156106519745,67.952249770431592,null,"Spring, Summer ",5,"Perennial Forb","Cold moist stratification, Light required for germination  "]
["Forb","Early Meadow-Rue","Thalictrum dioicum  "," ","X"," "," "," "," ","X",1E-4," ","X","X","X","X","X","X","X"," ","X",13.05308219178082,null,null,null,null,7300,0.16758494031221305,2.6813590449954088,null,"Spring",7,"Perennial Forb","Cold moist stratification"]
["Forb","Eastern Camass","Camassia scilloides  "," ","X","X","X","X"," ","X",1E-4," ","X"," "," "," "," ","X","X","X"," ",22.6875,null,null,null,null,4200,9.6418732782369149E-2,1.5426997245179064,null,"Spring, Summer ",9,"Perennial Forb","Cold moist stratification"]
["Forb","Eastern Pasqueflower","Pulsatilla patens","X"," "," ","X","X"," "," ",1E-4,"X","X","X","X","X","X","X","X","X","X",5.2937500000000002,null,null,null,null,18000,0.41322314049586778,6.6115702479338845,null,"Spring",8,"Perennial Forb","Cold moist stratification"]
["Forb","Elm-leaved Goldenrod","Solidago ulmifolia ","X","X"," "," ","X"," ","X",1E-4,"X","X","X","X","X","X","X","X","X","X",0.73298076923076927,null,null,null,null,130000,2.9843893480257115,47.750229568411385,null,"Summer, Fall",6,"Perennial Forb","Cold moist stratification, Light required for germination  ",1]
["Forb","Everlasting","Gnaphalium obtusifolium  ","X"," "," ","X","X"," "," ",1E-4," ","X","X","X","X"," ","X","X"," "," ",0.19057499999999999,null,null,null,null,500000,11.478420569329661,183.65472910927457,null,"Summer, Fall",1,"Biennial Forb","Cold moist stratification, Light required for germination  "]
["Forb","False Boneset","Brickellia eupatorioides","X","X"," ","X","X"," "," ",1E-4,"X","X","X","X","X","X","X","X","X","X",2.9777343750000003,null,null,null,null,32000,0.7346189164370982,11.753902662993571,null,"Summer, Fall",4,"Perennial Forb","Dry cold storage",1]
["Forb","False Dragonhead","Physostegia parviflora  "," ","X","X","X","X","X","X",1E-4,"X","X","X","X","X","X","X","X","X","X",8.6624999999999996,null,null,null,null,11000,0.25252525252525254,4.0404040404040407,null,"Summer, Fall",6,"Perennial Forb","Cold moist stratification",1]
["Forb","False Indian Plantain","Hasteola suaveolens"," "," ","X","X"," ","X","X",1E-4," ","X","X","X","X"," ","X","X","X"," ",6.8062500000000004,null,null,null,null,14000,0.32139577594123048,5.1423324150596876,null,"Summer, Fall",7,"Perennial Forb","Cold moist stratification"]
["Forb","False Rue Anemone","Isopyrum biternatum  "," ","X","X"," "," "," ","X",1E-4,"X","X","X","X","X","X","X","X","X","X",8.6624999999999996,null,null,null,null,11000,0.25252525252525254,4.0404040404040407,null,"Spring, Summer ",5,"Perennial Forb","Cold moist stratification"]
["Forb","False Solomon's Seal","Maianthemum racemosum"," ","X"," "," ","X"," ","X",1E-4,"X","X","X","X","X","X","X","X","X","X",238.21875,null,null,null,null,400,9.1827364554637279E-3,0.14692378328741965,null,"Spring, Summer ",5,"Perennial Forb","Plant fresh seed, Cold moist => warm moist => cold moist sequence, Clone  "]
["Forb","Field Sagewort","Artemisia campestris","X"," "," ","X","X"," "," ",1E-4,"X","X","X","X","X","X","X","X","X","X",0.38114999999999999,null,null,null,null,250000,5.7392102846648303,91.827364554637285,null,"Summer, Fall",4,"Biennial Forb"]
["Forb","Fireweed","Epilobium angustifolium  "," ","X","X","X","X"," "," ",1E-4," ","X"," ","X","X"," ","X"," ","X"," ",0.19057499999999999,null,null,null,null,500000,11.478420569329661,183.65472910927457,null,"Summer",1,"Perennial Forb","Cold moist stratification, Light required for germination  "]
["Forb","Flat-Topped Aster, White Aster","Doellingeria umbellata"," "," ","X","X","X","X"," ",1E-4,"X","X","X","X","X","X","X","X","X","X",1.4222014925373134,null,null,null,null,67000,1.5381083562901745,24.609733700642792,null,"Summer, Fall",8,"Perennial Forb","Cold moist stratification",1]
["Forb","Flowering Spurge","Euphorbia corollata  ","X","X"," ","X","X"," "," ",1E-4,"X","X","X","X","X","X","X","X","X","X",11.910937500000001,null,null,null,null,8000,0.18365472910927455,2.9384756657483928,null,"Summer",5,"Perennial Forb","Cold moist stratification(30)  "]
["Forb","Foxglove Beardtongue","Penstemon digitalis ","X","X"," ","X","X"," "," ",1E-4," ","X","X","X","X"," ","X","X","X","X",0.73298076923076927,null,null,null,null,130000,2.9843893480257115,47.750229568411385,null,"Summer",5,"Perennial Forb","Cold moist stratification(30),Prefers cool soil, Light required for germination  "]
["Forb","French-grass","Orbexilum onobrychis "," ","X"," "," ","X"," ","X",1E-4," "," "," "," "," "," "," ","X"," "," ",79.40625,null,null,null,null,1200,2.7548209366391185E-2,0.44077134986225897,null,"Summer",7,"Perennial Forb, Legume","Cold moist stratification, Scarification"]
["Forb","Fringed Gentian","Gentianopsis crinita"," ","X","X","X"," ","X","X",1E-4," ","X"," ","X","X","X"," "," "," "," ",0.47643750000000001,null,null,null,null,200000,4.5913682277318637,73.461891643709819,null,"Summer, Fall",8,"Biennial Forb","Cold moist stratification, Light required for germination  "]
["Forb","Fringed Loosestrife","Lysimachia ciliata  "," "," ","X","X","X","X","X",1E-4,"X","X","X","X","X","X","X","X","X","X",2.4432692307692307,null,null,null,null,39000,0.89531680440771355,14.325068870523417,null,"Summer",5,"Perennial Forb","Cold moist stratification"]
["Forb","Glade Mallow","Napaea dioica  "," "," ","X"," ","X"," ","X",1E-4," ","X"," ","X","X"," "," "," "," "," ",17.97877358490566,null,null,null,null,5300,0.1216712580348944,1.9467401285583104,null,"Summer",7,"Perennial Forb","Cold moist stratification"]
["Forb","Goat's-rue","Tephrosia virginiana  ","X","X"," ","X","X"," "," ",1E-4," ","X","X"," ","X"," "," ","X"," "," ",38.115000000000002,null,null,null,null,2500,5.73921028466483E-2,0.91827364554637281,null,"Summer",7,"Perennial Forb, Legume","Cold moist stratification(10),Requires scarification  "]
["Forb","Golden Alexander's","Zizia aurea  ","X","X","X","X","X"," ","X",1E-4,"X","X","X","X","X","X","X","X","X","X",8.6624999999999996,null,null,null,null,11000,0.25252525252525254,4.0404040404040407,null,"Spring, Summer",7,"Perennial Forb","Fall plant/Cold moist stratification(120),Prefers cool soil "]
["Forb","Golden Ragwort","Packera aurea ","X","X"," ","X","X"," ","X",1E-4," ","X"," ","X","X","X"," "," "," "," ",1.305308219178082,null,null,null,null,73000,1.6758494031221305,26.813590449954088,null,"Spring",4,"Perennial Forb","Cold moist stratification",1]
["Forb","Golden Seal","Hydrastis canadensis  "," ","X"," "," "," "," ","X",1E-4," ","X","X"," ","X"," "," "," "," "," ",36.64903846153846,null,null,null,null,2600,5.968778696051423E-2,0.95500459136822768,null,"Spring",7,"Perennial Forb","Plant fresh seed, Cold moist => warm moist => cold moist sequence  "]
["Forb","Grass Of Parnassus","Parnassia glauca  "," "," ","X","X"," ","X"," ",1E-4," ","X"," ","X","X"," "," "," "," "," ",0.31762499999999999,null,null,null,null,300000,6.887052341597796,110.19283746556474,null,"Summer, Fall",8,"Perennial Forb","Light required for germination  "]
["Forb","Grass-leaved Goldenrod","Euthamia graminifolia"," ","X","X","X"," ","X"," ",1E-4,"X","X","X","X","X","X","X","X","X","X",0.27224999999999999,null,null,null,null,350000,8.0348943985307617,128.55831037649219,null,"Summer, Fall",6,"Perennial Forb"," Cold moist stratification, Light required for germination  ",1]
["Forb","Gray-headed Coneflower","Ratibida pinnata  ","X","X"," ","X","X"," "," ",1E-4,"X","X","X","X","X","X","X","X","X","X",3.17625,null,null,null,null,30000,0.68870523415977958,11.019283746556473,null,"Summer, Fall",4,"Perennial Forb","Cold moist stratification or Dry cold storage  "]
["Forb","Great Blue Lobelia","Lobelia siphilitica  "," ","X","X","X","X","X","X",1E-4,"X","X","X","X","X","X","X","X","X","X",{"$f":"35/AC100","v":0.19057499999999999},null,null,null,null,500000,11.478420569329661,183.65472910927457,null,"Summer, Fall",4,"Perennial Forb","Cold moist stratification, Requires light for germination",1]
["Forb","Great Indian Plaintain","Arnoglossum reniforme "," ","X","X"," ","X"," ","X",1E-4," ","X"," "," "," "," ","X","X","X"," ",23.821875000000002,null,null,null,null,4000,9.1827364554637275E-2,1.4692378328741964,null,"Summer, Fall",8,"Perennial Forb","Cold moist stratification"]
["Forb","Great St. John's Wort","Hypericum ascyron  "," "," ","X","X","X","X"," ",1E-4,"X","X","X","X","X","X","X","X","X","X",0.50151315789473683,null,null,null,null,190000,4.3617998163452709,69.788797061524335,null,"Summer",6,"Perennial Forb"," Cold moist stratification, Light required for germination  "]
["Forb","Great Water Dock","Rumex orbiculatus  "," "," ","X","X","X","X"," ",1E-4,"X","X","X","X","X","X","X","X","X","X",8.007352941176471,null,null,null,null,11900,0.27318640955004592,4.3709825528007347,null,"Summer",9,"Perennial Forb","Cold moist stratification"]
["Forb","Great Waterleaf","Hydrophyllum appendiculatum "," ","X"," "," "," "," ","X",1E-4," ","X","X"," ","X"," ","X","X","X"," ",95.287500000000009,null,null,null,null,1000,2.2956841138659319E-2,0.3673094582185491,null,"Spring, Summer ",7,"Biennial Forb","Plant fresh seed or Warm moist => cool moist sequence  "]
["Forb","Green Comet Milkweed","Asclepias viridiflora","X"," "," ","X"," "," "," ",1E-4," ","X"," ","X","X","X","X","X","X","X",26.46875,null,null,null,null,3600,8.2644628099173556E-2,1.3223140495867769,null,"Summer",7,"Perennial Forb","Cold moist stratification",1]
["Forb","Greenhead Coneflower","Rudbeckia laciniata  "," ","X","X"," ","X","X","X",1E-4,"X","X","X","X","X","X","X","X","X","X",6.8062500000000004,null,null,null,null,14000,0.32139577594123048,5.1423324150596876,null,"Summer, Fall",4,"Perennial Forb","Cold moist stratification or Dry cold storage",1]
["Forb","Groovestem Indian Plaintain","Arnoglossum plantagineum"," ","X","X","X"," "," "," ",1E-4,"X","X","X","X","X","X","X","X","X","X",20.273936170212767,null,null,null,null,4700,0.1078971533516988,1.7263544536271809,null,"Summer",7,"Perennial Forb","Cold moist stratification"]
["Forb","Groundplum Milkvetch","Astragalus crassicarpus","X","X"," ","X","X"," "," ",1E-4," ","X"," ","X","X","X","X","X","X","X",18.32451923076923,null,null,null,null,5200,0.11937557392102846,1.9100091827364554,null,"Spring, Summer ",9,"Perennial Forb, Legume","Cold moist stratification(10),Requires scarification, Legume-requires inoculation  "]
["Forb","Hairy Aster","Symphyotrichum pilosum","X","X"," ","X","X"," "," ",1E-4,"X","X","X","X","X","X","X","X","X","X",0.68062500000000004,null,null,null,null,140000,3.2139577594123048,51.423324150596876,null,"Fall",1,"Perennial Forb","Cold moist stratification, Light required for germination  ",1]
["Forb","Hairy False Goldenaster","Heterotheca villosa ","X"," "," ","X","X"," "," ",1E-4," ","X","X"," ","X","X"," "," "," "," ",1.3612500000000001,null,null,null,null,70000,1.6069788797061524,25.711662075298438,null,"summer, Fall",5,"Perennial Forb","Cold moist stratification"]
["Forb","Hairy Mountain Mint","Pycnanthemum pilosum  ","X","X"," ","X","X"," ","X",1E-4," ","X","X"," "," "," ","X","X"," "," ",0.51506756756756755,null,null,null,null,185000,4.2470156106519745,67.952249770431592,null,"Summer",5,"Perennial Forb","Dry cold storage, Light required for germination  ",1]
["Forb","Hairy Pagoda-plant","Blephilia hirsuta"," ","X"," "," ","X"," ","X",1E-4," ","X","X"," ","X"," "," ","X"," "," ",0.39703125,null,null,null,null,240000,5.5096418732782366,88.154269972451786,null,"Summer, Fall",6,"Perennial Forb","Cold moist stratification, Light required for germination",1]
["Forb","Hairy Rockcress","Arabis hirsuta","X"," "," ","X","X"," ","X",1E-4,"X","X","X","X","X","X","X","X","X","X",0.36649038461538463,null,null,null,null,260000,5.9687786960514231,95.500459136822769,null,"Spring, Summer ",7,"Biennial Forb","Cold moist stratification, Light required for germination  "]
["Forb","Halberd-leaved Rose Mallow","Hibiscus laevis"," "," ","X"," "," ","X"," ",1E-4," ","X","X","X","X"," ","X","X","X"," ",34.03125,null,null,null,null,2800,6.4279155188246104E-2,1.0284664830119377,null,"Summer, Fall",6,"Perennial Forb","Cold moist stratification"]
["Forb","Harebell","Campanula rotundifolia  ","X","X"," ","X","X"," "," ",1E-4," ","X","X"," ","X"," "," ","X"," "," ",0.105875,null,null,null,null,900000,20.66115702479339,330.57851239669424,null,"Summer, Fall",10,"Perennial Forb","Cold moist stratification or Dry cold storage, Light required for germination "]
["Forb","Hawkweed","Hieracium canadense  ","X","X"," ","X","X"," ","X",1E-4," ","X","X"," ","X"," "," "," "," "," ",1.0587500000000001,null,null,null,null,90000,2.0661157024793386,33.057851239669418,null,"Summer, Fall",10,"Perennial Forb","Cold moist stratification, Light required for germination  "]
["Forb","Heartleaf Alexander","Zizia aptera  ","X","X"," ","X","X"," ","X",1E-4," ","X","X","X","X","X","X"," "," ","X",7.9406249999999998,null,null,null,null,12000,0.27548209366391185,4.4077134986225897,null,"Spring",8,"Perennial Forb","Fall plant/Cold moist stratification(120),Prefers cool soil "]
["Forb","Heart-leaved Skullcap","Scutellaria ovata   ","X","X"," "," ","X"," ","X",1E-4," ","X","X"," ","X"," "," ","X"," "," ",3.8115000000000001,null,null,null,null,25000,0.57392102846648296,9.1827364554637274,null,"Summer",8,"Perennial Forb","Cold moist stratification"]
["Forb","Heath Aster","Symphyotrichum ericoides","X","X"," ","X","X"," "," ",1E-4,"X","X","X","X","X","X","X","X","X","X",0.47643750000000001,null,null,null,null,200000,4.5913682277318637,73.461891643709819,null,"Summer, Fall",5,"Perennial Forb","Dry cold storage, Light required for germination  ",1]
["Forb","Hemlock Water Parsnip","Sium suave "," "," ","X"," "," ","X"," ",1E-4,"X","X","X","X","X","X","X","X","X","X",1.9057500000000001,null,null,null,null,50000,1.1478420569329659,18.365472910927455,null,"Summer, Fall",8,"Perennial Forb","Cold moist stratification",1]
["Forb","Hoary Puccoon","Lithospermum canescens","X","X"," ","X","X"," "," ",1E-4,"X","X","X","X","X","X","X","X","X","X",95.287500000000009,null,null,null,null,1000,2.2956841138659319E-2,0.3673094582185491,null,"Spring",8,"Perennial Forb, Hemiparasite",null,1]
["Forb","Hoary Skullcap","Scutellaria incana","X"," "," "," ","X"," ","X",1E-4," "," "," "," "," "," "," ","X"," "," ",7.0583333333333327,null,null,null,null,13500,0.30991735537190085,4.9586776859504136,null,"Summer, Fall",5,"Perennial Forb"]
["Forb","Hoary Vervain","Verbena stricta  ","X","X"," ","X","X"," "," ",1E-4,"X","X","X","X","X","X","X","X","X","X",3.4031250000000002,null,null,null,null,28000,0.64279155188246095,10.284664830119375,null,"Summer, Fall",2,"Perennial Forb","Cold moist stratification, Light required for germination  ",1]
["Forb","Honewort","Cryptotaenia canadensis  "," ","X"," "," "," "," ","X",1E-4,"X","X","X","X","X","X","X","X","X","X",13.612500000000001,null,null,null,null,7000,0.16069788797061524,2.5711662075298438,null,"Summer, Fall",2,"Perennial Forb","Cold moist stratification"]
["Forb","Horseflyweed","Baptisia tinctoria","X"," "," "," ","X"," ","X",1E-4," "," "," "," "," "," ","X"," "," "," ",19.057500000000001,null,null,null,null,5000,0.1147842056932966,1.8365472910927456,null,"Summer","**","Perennial Forb, Legume","Cold moist stratification(10),Requires scarification, Legume-requires inoculation  "]
["Forb","Illinois Bundle Flower","Desmanthus illinoensis  ","X","X"," ","X"," "," "," ",1E-4,"X","X","X","X","X","X","X","X","X","X",22.6875,null,null,null,null,4200,9.6418732782369149E-2,1.5426997245179064,null,"Summer",5,"Perennial Forb, Legume","Dry cold storage, Requires scarification, Legume-requires inoculation  "]
["Forb","Illinois Ticktrefoil","Desmodium illinoense  ","X","X"," ","X","X"," "," ",1E-4,"X","X","X","X","X","X","X","X","X","X",22.159883720930235,null,null,null,null,4300,9.8714416896235072E-2,1.5794306703397611,null,"Summer",6,"Perennial Forb, Legume","Dry cold storage, Legume-requires inoculation  "]
["Forb","Indian Hemp","Apocynum cannabinum "," ","X","X","X","X"," "," ",1E-4,"X","X","X","X","X","X","X","X","X","X",4.7643750000000002,null,null,null,null,20000,0.4591368227731864,7.3461891643709825,null,"Summer",2,"Perennial Forb",null,1]
["Forb","Indian Paintbrush","Castilleja coccinea  ","X","X"," ","X","X"," "," ",1E-4," "," ","X","X","X","X"," "," "," "," ",0.31762499999999999,null,null,null,null,300000,6.887052341597796,110.19283746556474,null,"Spring, Summer, Fall",9,"Annual Forb, Hemiparasite","Cold moist stratification, Parasitic-requires a host plant, Light required for germination  "]
["Forb","Indian Tobacco","Lobelia inflata  ","X","X"," "," ","X"," ","X",1E-4," ","X","X"," ","X","X","X","X","X","X",0.19057499999999999,null,null,null,null,500000,11.478420569329661,183.65472910927457,null,"Summer, Fall",4,"Annual Forb"," Cold moist stratification, Light required for germination  "]
["Forb","Ironweed","Vernonia fasciculata  ","X","X","X","X","X","X"," ",1E-4,"X","X","X","X","X","X","X","X","X","X",3.9703124999999999,null,null,null,null,24000,0.55096418732782371,8.8154269972451793,null,"Summer, Fall",4,"Perennial Forb","Cold moist stratification",1]
["Forb","Jack In The Pulpit","Arisaema triphyllum"," ","X","X"," ","X"," ","X",1E-4,"X","X","X","X","X","X","X","X","X","X",{"$f":"35/AC132","v":190.57500000000002},null,null,null,null,500,{"$f":"(AA132/43560)","v":1.1478420569329659E-2},{"$f":"AB132*16","v":0.18365472910927455},null,"Spring, Summer",5,"Perennial Forb","Plant fresh seed, Cold moist => warm moist => cold moist sequence  "]
["Forb","Jacob's Ladder","Polemonium reptans  "," ","X"," "," ","X"," ","X",1E-4," ","X","X","X","X"," ","X","X"," "," ",5.2937500000000002,null,null,null,null,18000,0.41322314049586778,6.6115702479338845,null,"Spring, Summer ",6,"Perennial Forb","Cold moist stratification"]
["Forb","Jerusalem Artichoke","Helianthus tuberosus  "," ","X","X","X"," "," ","X",1E-4,"X","X","X","X","X","X","X","X","X","X",20.149608796785788,null,null,null,null,4729,0.10856290174471993,1.7370064279155188,null,"Summer, Fall",0,"Perennial Forb","Warm-moist followed by cold moist stratification",1]
["Forb","Jumpseed","Polygonum virginianum "," ","X"," "," ","X"," ","X",1E-4,"X","X","X","X","X","X","X","X","X","X",27.225000000000001,null,null,null,null,3500,8.0348943985307619E-2,1.2855831037649219,null,"Summer, Fall",5,"Perennial Forb","COLD MOIST STRATIFICATION"]
["Forb","Kura Clover (Intro. Forb)","Trifolium ambiguum M.Bieb.","X","X"," ","X","X"," "," ",1E-4,"X","X","X","X","X","X","X","X","X","X",6.9807692307692317,null,null,null,null,13650,0.3133608815426997,5.0137741046831952,null,"Summer",0,"Introduced Forb, Perennial"]
["Forb","Large Indian Breadroot","Pediomelum esculentum ","X"," "," ","X"," "," "," ",1E-4," ","X"," ","X"," ","X","X"," ","X","X",86.625,null,null,null,null,1100,2.5252525252525252E-2,0.40404040404040403,null,"Spring, Summer",8,"Perennial Forb, Legume","COLD MOIST STRATIFICATION"]
["Forb","Large-flowered Beardtongue","Penstemon grandiflorus ","X","X"," ","X","X"," "," ",1E-4," ","X","X"," ","X","X"," ","X","X","X",6.8062500000000004,null,null,null,null,14000,0.32139577594123048,5.1423324150596876,null,"Spring, Summer ",7,"Perennial Forb","Cold moist stratification(30),Prefers cool soil  "]
["Forb","Late Figwort","Scrophularia marilandica  "," ","X","X"," ","X"," ","X",1E-4,"X","X","X","X","X","X","X","X","X","X",0.56051470588235297,null,null,null,null,170000,3.9026629935720845,62.442607897153351,null,"Summer, Fall",4,"Perennial Forb","Cold moist stratification, Light required for germination  "]
["Forb","Late Horse Gentian","Triosteum perfoliatum  "," ","X"," "," ","X"," ","X",1E-4,"X","X","X","X","X","X","X","X","X","X",211.75,null,null,null,null,450,1.0330578512396695E-2,0.16528925619834711,null,"Spring, Summer",4,"Perennial Forb"]
["Forb","Leonard's Skullcap","Scutellaria parvula var. missouriensis ","X","X"," ","X","X"," ","X",1E-4,"X","X","X","X","X","X","X","X","X","X",1.4659615384615385,null,null,null,null,65000,1.4921946740128558,23.875114784205692,null,"Spring, Summer ",7,"Perennial Forb","Cold moist stratification"]
["Forb","Limestone Wild Petunia","Ruellia strepens "," ","X","X"," ","X"," ","X",1E-4," ","X","X"," "," "," ","X","X","X","X",14.012867647058822,null,null,null,null,6800,0.15610651974288339,2.4977043158861343,null,"Spring, Summer, Fall",8,"Perennial Forb","COLD MOIST STRATIFICATION"]
["Forb","Locoweed, Lambert's Crazy Weed","Oxytropis lambertii  ","X"," "," ","X"," "," "," ",1E-4," ","X"," "," "," ","X"," "," ","X","X",7.9406249999999998,null,null,null,null,12000,0.27548209366391185,4.4077134986225897,null,"Spring, Summer ",8,"Perennial Forb, Legume","Dry cold storage"]
["Forb","Long-headed Coneflower","Ratibida columnifera  ","X","X"," ","X"," "," "," ",1E-4," ","X"," "," ","X","X"," "," ","X","X",2.2687500000000003,null,null,null,null,42000,0.96418732782369143,15.426997245179063,null,"Summer",5,"Biennial Forb","Cold moist stratification or Dry cold storage  "]
["Forb","Lopseed","Phryma leptostachya  "," ","X","X"," "," "," ","X",1E-4,"X","X","X","X","X","X","X","X","X","X",23.821875000000002,null,null,null,null,4000,9.1827364554637275E-2,1.4692378328741964,null,"Summer",4,"Perennial Forb","Cold moist stratification"]
["Forb","Mad-dog Skullcap","Scutellaria lateriflora  "," "," ","X","X","X","X"," ",1E-4," ","X","X","X","X"," ","X","X","X"," ",1.4659615384615385,null,null,null,null,65000,1.4921946740128558,23.875114784205692,null,"Summer, Fall",6,"Perennial Forb","Cold moist stratification"]
["Forb","Marsh Cinquefoil","Potentilla palustris  "," "," ","X"," "," ","X"," ",1E-4," "," "," ","X","X"," "," "," "," "," ",13.234375,null,null,null,null,7200,0.16528925619834711,2.6446280991735538,null,"Summer",9,"Perennial Forb","Cold moist stratification, Light required for germination  "]
["Forb","Marsh Fleabane","Senecio congestus  "," "," ","X","X"," ","X"," ",1E-4," ","X"," ","X","X"," "," "," "," "," ",9.5287500000000005,null,null,null,null,10000,0.2295684113865932,3.6730945821854912,null,"Summer",10,"Annual Forb","Cold moist stratification"]
["Forb","Marsh Marigold","Caltha palustris  "," "," ","X","X","X","X","X",1E-4," ","X","X","X","X","X"," ","X","X"," ",3.6649038461538463,null,null,null,null,26000,0.59687786960514233,9.5500459136822773,null,"Spring, Summer ",8,"Perennial Forb","Warm moist => cold moist sequence, Plant fresh seed  "]
["Forb","Marsh St. Johnswort","Triadenum fraseri"," "," ","X","X","X","X"," ",1E-4," ","X","X","X","X","X"," ","X"," "," ",0.41429347826086954,null,null,null,null,230000,5.2800734618916438,84.481175390266301,null,"Summer, Fall",9,"Perennial Forb","Light required for germination  "]
["Forb","Maryland Senna","Senna marilandica","X","X"," "," ","X"," ","X",1E-4," ","X","X","X","X"," ","X","X","X"," ",56.05147058823529,null,null,null,null,1700,3.9026629935720848E-2,0.62442607897153357,null,"Summer",6,"Perennial Forb, Legume","Cold moist stratification(10),Requires scarification, Legume-requires inoculation    "]
["Forb","Maximilian's Sunflower","Helianthus maximiliani","X","X"," ","X","X"," "," ",1E-4," ","X"," ","X","X","X","X"," ","X","X",7.3298076923076927,null,null,null,null,13000,0.29843893480257117,4.7750229568411386,null,"Summer, Fall",5,"Perennial Forb","Cold moist stratification or Dry cold storage  ",1]
["Forb","Mayapple","Podophyllum peltatum "," ","X"," "," ","X"," ","X",1E-4," ","X","X","X","X"," ","X","X"," "," ","PLUGS ONLY",null,null,null,null,903.13867871933735,2.0733211173538508E-2,0.33173137877661613,null,"Spring, Summer",5,"Perennial Forb","Cold moist stratification"]
["Forb","Meadow Blazing Star","Liatris ligulistylis  ","X","X","X","X","X"," "," ",1E-4," ","X"," ","X","X"," "," "," "," ","X",{"$f":"35/AC154","v":9.5287500000000005},null,null,null,null,10000,0.2295684113865932,3.6730945821854912,null,"Summer, Fall",8,"Perennial Forb","Cold moist stratification",1]
["Forb","Meadow Evening Primrose","Oenothera pilosella "," ","X"," ","X","X","X"," ",1E-4," ","X","X"," "," "," ","X","X","X","X",0.35822368421052631,null,null,null,null,266000,6.1065197428833793,97.704315886134069,null,"Spring, Summer",7,"Perennial Forb"]
["Forb","Michigan Lily","Lilium michiganense"," "," ","X","X","X","X"," ",1E-4,"X","X","X","X","X","X","X","X","X","X",9.5287500000000005,null,null,null,null,10000,0.2295684113865932,3.6730945821854912,null,"Summer",7,"Perennial Forb","Warm moist => cold moist sequence"]
["Forb","Missouri Ironweed","Vernonia missurica  "," ","X","X","X","X","X"," ",1E-4," "," "," ","X"," ","X"," ","X","X"," ",4.3312499999999998,null,null,null,null,22000,0.50505050505050508,8.0808080808080813,null,"Summer, Fall",4,"Perennial Forb","Cold moist stratification",1]
["Forb","Narrowleaf Pinweed","Lechea tenuifolia ","X"," "," ","X","X"," ","X",1E-4," ","X"," ","X","X"," ","X","X"," "," ",2.1656249999999999,null,null,null,null,44000,1.0101010101010102,16.161616161616163,null,"Summer",7,"Perennial Forb","COLD MOIST STRATIFICATION"]
["Forb","Narrow-leaved Loosestrife","Lysimachia quadriflora  "," "," ","X","X","X","X"," ",1E-4," ","X","X","X","X","X","X","X"," ","X",1.0587500000000001,null,null,null,null,90000,2.0661157024793386,33.057851239669418,null,"Summer",7,"Perennial Forb","Cold moist stratification, Light required for germination  "]
["Forb","New England Aster","Symphyotrichum novae-angliae"," ","X","X","X","X","X"," ",1E-4,"X","X","X","X","X","X","X","X","X","X",1.4437500000000001,null,null,null,null,66000,1.5151515151515151,24.242424242424242,null,"Summer, Fall",4,"Perennial Forb","Cold moist stratification",1]
["Forb","Nodding Bur Marigold","Bidens cernua"," ","X","X","X","X","X"," ",1E-4,"X","X","X","X","X","X","X","X","X","X",4.5375000000000005,null,null,null,null,21000,0.48209366391184572,7.7134986225895315,null,"Summer, Fall",2,"Annual Forb","SM,MF, SEM",1]
["Forb","Northern Bedstraw","Galium boreale  "," ","X","X","X","X","X"," ",1E-4,"X","X","X","X","X","X","X","X","X","X",1.3612500000000001,null,null,null,null,70000,1.6069788797061524,25.711662075298438,null,"Summer",8,"Perennial Forb","Dry cold storage"]
["Forb","Northern Water Plantain","Alisma triviale"," "," ","X","X","X","X"," ",1E-4,"X","X","X","X","X","X","X","X","X","X",1.4437500000000001,null,null,null,null,66000,1.5151515151515151,24.242424242424242,null,"Summer",5,"Perennial Forb","Cold moist stratification"]
["Forb","Northern Willow Herb","Epilobium ciliatum"," "," ","X","X","X","X"," ",1E-4,"X","X","X","X","X","X","X","X","X","X",1.588125,null,null,null,null,60000,1.3774104683195592,22.038567493112946,null,"Summer, Fall",6,"Perennial Forb"," Cold moist stratification, Light required for germination  "]
["Forb","Obedient Plant","Physostegia virginiana  "," ","X","X","X","X","X"," ",1E-4," ","X","X","X","X"," ","X","X","X"," ",4.3312499999999998,null,null,null,null,22000,0.50505050505050508,8.0808080808080813,null,"Summer, Fall",6,"Perennial Forb","Cold moist stratification"]
["Forb","Ohio Spiderwort","Tradescantia ohiensis  ","X","X","X","X","X"," "," ",1E-4,"X","X","X","X","X","X","X","X","X","X",11.910937500000001,null,null,null,null,8000,0.18365472910927455,2.9384756657483928,null,"Spring, Summer",4,"Perennial Forb","Fall plant/Cold moist stratification(120),Prefers cool soil "]
["Forb","Old Field Goldenrod","Solidago nemoralis  ","X","X"," ","X","X"," "," ",1E-4,"X","X","X","X","X","X","X","X","X","X",0.31762499999999999,null,null,null,null,300000,6.887052341597796,110.19283746556474,null,"Summer, Fall",5,"Perennial Forb","Cold moist stratification, Light required for germination  ",1]
["Forb","Ontario Blazing Star","Liatris cylindracea  ","X","X"," ","X","X"," "," ",1E-4," "," ","X"," ","X","X"," "," "," "," ",6.8062500000000004,null,null,null,null,14000,0.32139577594123048,5.1423324150596876,null,"Summer, Fall",9,"Perennial Forb","Cold moist stratification",1]
["Forb","Oval-leaf Milkweed","Asclepias ovalifolia","X"," "," ","X"," "," "," ",1E-4," "," "," ","X","X","X"," "," "," "," ",19.8515625,null,null,null,null,4800,0.11019283746556474,1.7630853994490359,null,"Summer",6,"Perennial Forb","Cold moist stratification",1]
["Forb","Oxeye, False Sunflower","Heliopsis helianthoides  ","X","X","X","X","X"," "," ",1E-4,"X","X","X","X","X","X","X","X","X","X",15.125000000000002,null,null,null,null,6300,0.14462809917355371,2.3140495867768593,null,"Summer, Fall",4,"Perennial Forb","Cold moist stratification or Dry cold storage  ",1]
["Forb","Pale Beardtongue","Penstemon pallidus ","X","X"," ","X","X"," ","X",1E-4," ","X","X"," ","X"," ","X","X","X"," ",0.52937500000000004,null,null,null,null,180000,4.1322314049586772,66.115702479338836,null,"Spring, Summer ",6,"Perennial Forb","Cold moist stratification(30),Prefers cool soil, Light required for germination  "]
["Forb","Pale Dock","Rumex altissimus  "," ","X","X","X","X"," "," ",1E-4,"X","X","X","X","X","X","X","X","X","X",18.32451923076923,null,null,null,null,5200,0.11937557392102846,1.9100091827364554,null,"Summer",2,"Perennial Forb","Dry cold storage"]
["Forb","Pale Indian Plaintain","Arnoglossum atriplicifolium","X","X"," ","X","X"," ","X",1E-4," ","X","X"," "," ","X","X","X","X","X",15.88125,null,null,null,null,6000,0.13774104683195593,2.2038567493112948,null,"Summer, Fall",4,"Perennial Forb","Cold moist stratification"]
["Forb","Pale Purple Coneflower","Echinacea pallida  ","X","X"," ","X","X"," ","X",1E-4,"X","X","X","X","X","X","X","X","X","X",18.32451923076923,null,null,null,null,5200,0.11937557392102846,1.9100091827364554,null,"Summer",7,"Perennial Forb","Cold moist stratification(90),Light required for germination Fall plant  ",1]
["Forb","Pale Spiked Lobelia","Lobelia spicata","X","X","X","X","X"," ","X",1E-4,"X","X","X","X","X","X","X","X","X","X",0.105875,null,null,null,null,900000,20.66115702479339,330.57851239669424,null,"Summer",6,"Perennial Forb","Cold moist stratification, light required for germination"]
["Forb","Pale Touch-Me-Not, Jewel Weed","Impatiens pallida  "," ","X","X"," ","X"," ","X",1E-4,"X","X","X","X","X","X","X","X","X","X",59.5546875,null,null,null,null,1600,3.6730945821854911E-2,0.58769513314967858,null,"Summer, Fall",4,"Annual Forb","Plant fresh seed, Fall plant or Cold moist => warm moist => cold moist sequence  "]
["Forb","Paleleaf Woodland Sunflower","Helianthus strumosus ","X"," "," ","X","X"," ","X",1E-4,"X","X","X","X","X","X","X","X","X","X",22.6875,null,null,null,null,4200,9.6418732782369149E-2,1.5426997245179064,null,"Summer, Fall",4,"Perennial Forb","COLD MOIST STRATIFICATION",1]
["Forb","Panicledleaf Ticktrefoil","Desmodium paniculatum  ","X","X"," "," ","X"," ","X",1E-4," ","X","X","X","X","X","X","X","X"," ",19.446428571428573,null,null,null,null,4900,0.11248852157943066,1.7998163452708906,null,"Summer, Fall",7,"Perennial Forb, Legume","Dry cold storage, Legume-requires inoculation  "]
["Forb","Partridge Pea","Chamaecrista fasciculata","X","X"," ","X","X"," "," ",1E-4,"X","X","X","X","X","X","X","X","X","X",35.291666666666664,null,null,null,null,2700,6.1983471074380167E-2,0.99173553719008267,null,"Summer, Fall",3,"Annual Forb, Legume","Cold moist stratification(10),Requires scarification, Legume-requires inoculation    "]
["Forb","Pennsylvania Smartweed","Polygonum pensylvanicum "," "," ","X","X","X","X"," ",1E-4,"X","X","X","X","X","X","X","X","X","X",7.3298076923076927,null,null,null,null,13000,0.29843893480257117,4.7750229568411386,null,"Summer, Fall",1,"Annual Forb","Cold moist stratification, Light required for germination  ",1]
["Forb","Pickerel-weed","Pontederia cordata"," "," ","X"," "," ","X"," ",1E-4,"X","X","X","X","X","X","X","X","X","X",305.40865384615387,null,null,null,null,312,7.1625344352617077E-3,0.11460055096418732,null,"Summer, Fall",8,"Perennial Forb"]
["Forb","Pitcher's Sage","Salvia azurea  ","X"," "," ","X","X"," "," ",1E-4," ","X","X"," "," ","X"," "," ","X","X",13.612500000000001,null,null,null,null,7000,0.16069788797061524,2.5711662075298438,null,"Summer, Fall",0,"Perennial Forb","Dry cold storage"]
["Forb","Pointed Ticktrefoil","Desmodium glutinosum  "," ","X"," "," ","X"," ","X",1E-4,"X","X","X","X","X","X","X","X","X","X",113.4375,null,null,null,null,840,1.928374655647383E-2,0.30853994490358128,null,"Summer",6,"Perennial Forb, Legume","Cold moist stratification(10)Legume-requires inoculation  "]
["Forb","Poke Milkweed","Asclepias exaltata"," ","X"," "," ","X"," ","X",1E-4," "," ","X"," ","X"," "," "," "," "," ",31.762499999999999,null,null,null,null,3000,6.8870523415977963E-2,1.1019283746556474,null,"Summer",6,"Perennial Forb","Cold moist stratification or Dry cold storage  ",1]
["Forb","Prairie Blazing Star","Liatris pycnostachya  ","X","X","X","X","X"," "," ",1E-4,"X","X","X","X","X","X","X","X","X","X",8.6624999999999996,null,null,null,null,11000,0.25252525252525254,4.0404040404040407,null,"Summer, Fall",7,"Perennial Forb","Cold moist stratification",1]
["Forb","Prairie Blue-eyed Grass","Sisyrinchium campestre","X","X"," ","X","X"," "," ",1E-4,"X","X","X","X","X","X","X","X","X","X",{"$f":"35/AC186","v":2.1175000000000002},null,null,null,null,45000,1.0330578512396693,16.528925619834709,null,"Spring, Summer ",5,"Perennial Forb"," Fall plant Cold moist stratification, Prefers cool soil, Light required for germination  "]
["Forb","Prairie Buttercup","Ranunculus rhomboideus  ","X","X"," ","X","X"," "," ",1E-4," ","X"," ","X","X","X"," "," "," "," ",4.7643750000000002,null,null,null,null,20000,0.4591368227731864,7.3461891643709825,null,"Spring, Fall",10,"Perennial Forb","Plant fresh seed, Fall plant or Cold moist stratification  "]
["Forb","Prairie Cinquefoil","Potentilla arguta  ","X","X"," ","X","X"," "," ",1E-4,"X","X","X","X","X","X","X","X","X","X",0.41429347826086954,null,null,null,null,230000,5.2800734618916438,84.481175390266301,null,"Summer, Fall",9,"Perennial Forb","Cold moist stratification, Prefers cool soil, Light required for germination  "]
["Forb","Prairie Coreopsis","Coreopsis palmata  ","X","X"," ","X","X"," "," ",1E-4,"X","X","X","X","X","X","X","X","X","X",9.5287500000000005,null,null,null,null,10000,0.2295684113865932,3.6730945821854912,null,"Summer",7,"Perennial Forb","Cold moist stratification",1]
["Forb","Prairie Dodder","Cuscuta pentagona  "," ","X"," ","X"," "," "," ",1E-4," ","X"," "," "," ","X","X","X"," "," ",2.5075657894736842,null,null,null,null,38000,0.87235996326905418,13.957759412304867,null,"Summer, Fall",4,"Annual Forb, Parasitic","Cold moist stratification"]
["Forb","Prairie Larkspur","Delphinium virescens  ","X","X"," ","X","X"," "," ",1E-4,"X","X","X","X","X","X","X","X","X","X",1.588125,null,null,null,null,60000,1.3774104683195592,22.038567493112946,null,"Summer",7,"Perennial Forb","Cold moist stratification"]
["Forb","Prairie Parsley","Polytaenia nuttallii  ","X","X"," ","X","X"," "," ",1E-4," ","X"," "," ","X"," ","X"," "," ","X",23.821875000000002,null,null,null,null,4000,9.1827364554637275E-2,1.4692378328741964,null,"Summer",9,"Biennial Forb","Cold moist stratification(120) Fall plant  "]
["Forb","Prairie Phlox","Phlox pilosa ","X","X"," ","X","X"," "," ",1E-4,"X","X","X","X","X","X","X","X","X","X",5.0151315789473685,null,null,null,null,19000,0.43617998163452709,6.9788797061524335,null,"Spring, Summer ",8,"Perennial Forb","Cold moist stratification",1]
["Forb","Prairie Ragwort","Senecio plattensis  ","X","X"," ","X","X"," ","X",1E-4,"X","X","X","X","X","X","X","X","X","X",0.95287500000000003,null,null,null,null,100000,2.2956841138659319,36.73094582185491,null,"Spring, Summer ",3,"Perennial Forb","Cold moist stratification, Light required for germination  "]
["Forb","Prairie Rosinweed","Silphium terebinthinaceum ","X","X","X","X","X"," "," ",1E-4," ","X","X"," ","X"," "," "," "," "," ",95.287500000000009,null,null,null,null,1000,2.2956841138659319E-2,0.3673094582185491,null,"Summer, Fall",null,"Perennial Forb","COLD MOIST STRATIFICATION",1]
["Forb","Prairie Smoke, Purple Avens","Geum triflorum  ","X","X"," ","X","X"," "," ",1E-4," "," ","X"," ","X","X"," "," "," "," ",3.5291666666666663,null,null,null,null,27000,{"$f":"(AA196/43560)","v":0.6198347107438017},{"$f":"AB196*16","v":9.9173553719008272},null,"Spring, Summer ",9,"Perennial Forb","Cold moist stratification"]
["Forb","Prairie Spiderwort","Tradescantia bracteata  ","X","X"," ","X","X"," "," ",1E-4," ","X"," ","X","X","X"," ","X"," ","X",9.5287500000000005,null,null,null,null,10000,0.2295684113865932,3.6730945821854912,null,"Spring, Summer",5,"Perennial Forb","Fall plant/Cold moist stratification(120),Prefers cool soil "]
["Forb","Prairie Sunflower","Helianthus pauciflorus  ","X","X"," ","X","X"," "," ",1E-4,"X","X","X","X","X","X","X","X","X","X",17.934782608695652,null,null,null,null,5313,0.12196969696969696,1.9515151515151514,null,"Summer, Fall",8,"Perennial Forb","Cold moist stratification or Dry cold storage  "]
["Forb","Prairie Violet","Viola pedatifida  ","X","X"," ","X","X"," "," ",1E-4,"X","X","X","X","X","X","X","X","X","X",3.4031250000000002,null,null,null,null,28000,0.64279155188246095,10.284664830119375,null,"Spring, Summer, Fall",9,"Perennial Forb","Cold moist stratification Fall plant, Light required for germination "]
["Forb","Purple Coneflower","Echinacea purpurea  ","X","X","X","X","X"," "," ",1E-4," ","X"," "," "," "," ","X","X","X"," ",14.4375,null,null,null,null,6600,0.15151515151515152,2.4242424242424243,null,"Summer, Fall",8,"Perennial Forb","Dry cold storage, Light required for germination  ",1]
["Forb","Purple Giant Hyssop","Agastache scrophulariifolia"," ","X"," "," ","X"," ","X",1E-4," ","X","X","X","X"," ","X","X"," "," ",1.0245967741935484,null,null,null,null,93000,2.1349862258953167,34.159779614325068,null,"Summer, Fall",6,"Perennial Forb","Cold moist stratification or Dry cold storage, Light required for germination  ",1]
["Forb","Purple Meadow-rue","Thalictrum dasycarpum  "," ","X","X","X","X","X","X",1E-4,"X","X","X","X","X","X","X","X","X","X",8.6624999999999996,null,null,null,null,11000,0.25252525252525254,4.0404040404040407,null,"Summer",6,"Perennial Forb","Cold moist stratification, Prefers cool soil  "]
["Forb","Purple Milkweed","Asclepias purpurascens","X","X"," ","X","X"," ","X",1E-4,"X","X","X","X","X","X","X","X","X","X",21.175000000000001,null,null,null,null,4500,0.10330578512396695,1.6528925619834711,null,"Summer",7,"Perennial Forb","Cold moist stratification or Dry cold storage  ",1]
["Forb","Purple Poppymallow","Callirhoe involucrata","X","X"," ","X","X"," "," ",1E-4," ","X"," "," "," ","X","X","X","X"," ",45.375,null,null,null,null,2100,4.8209366391184574E-2,0.77134986225895319,null,"Summer",2,"Perennial Forb","Hot water treatment, Cold moist stratification(30)  "]
["Forb","Purple Prairie Clover","Dalea purpurea ","X","X"," ","X","X"," "," ",1E-4,"X","X","X","X","X","X","X","X","X","X",5.2937500000000002,null,null,null,null,18000,0.41322314049586778,6.6115702479338845,null,"Summer, Fall",7,"Perennial Forb, Legume","Dry cold storage, Legume-requires inoculation  ",1]
["Forb","Purple Rattlesnakeroot","Prenanthes racemosa  ","X","X","X","X"," "," "," ",1E-4,"X","X","X","X","X","X","X","X","X","X",4.7643750000000002,null,null,null,null,20000,0.4591368227731864,7.3461891643709825,null,"Summer, Fall",8,"Perennial Forb","Cold moist stratification(120) Fall plant  "]
["Forb","Purpleleaf Willowherb","Epilobium coloratum "," ","X","X"," "," ","X","X",1E-4,"X","X","X","X","X","X","X","X","X","X",0.38114999999999999,null,null,null,null,250000,5.7392102846648303,91.827364554637285,null,"Summer, Fall",4,"Perennial Forb","Cold moist stratification, Requires light for germination"]
["Forb","Purplestem Angelica","Angelica atropurpurea"," ","X","X"," "," ","X","X",1E-4," ","X","X","X","X"," "," ","X"," "," ",17.645833333333332,null,null,null,null,5400,0.12396694214876033,1.9834710743801653,null,"Spring, Summer ",6,"Perennial Forb","Cold moist => warm moist => cold moist sequence"]
["Forb","Purplestem Beggarticks","Bidens connata"," ","X","X","X","X","X"," ",1E-4,"X","X","X","X","X","X","X","X","X","X",9.5287500000000005,null,null,null,null,10000,0.2295684113865932,3.6730945821854912,null,"Fall",3,"Annual Forb","Cold moist stratification"]
["Forb","Rattle Box","Crotalaria sagittalis  ","X"," "," ","X","X"," ","X",1E-4,"X","X","X","X","X","X","X","X","X","X",21.175000000000001,null,null,null,null,4500,0.10330578512396695,1.6528925619834711,null,"Summer, Fall",4,"Annual Forb, Legume","Dry cold storage, Legume-requires inoculation  "]
["Forb","Rattlesnake Master","Eryngium yuccifolium  ","X","X","X","X","X"," "," ",1E-4,"X","X","X","X","X","X","X","X","X","X",12.705,null,null,null,null,7500,0.17217630853994489,2.7548209366391183,null,"Summer, Fall",7,"Perennial Forb","Cold moist stratification",1]
["Forb","Rattlesnake-root, White Lettuce","Prenanthes alba  ","X","X"," ","X","X"," ","X",1E-4,"X","X","X","X","X","X","X","X","X","X",5.2937500000000002,null,null,null,null,18000,0.41322314049586778,6.6115702479338845,null,"Summer, Fall",7,"Perennial Forb","Cold moist stratification"]
["Forb","Red Baneberry","Actaea rubra"," ","X"," "," ","X"," ","X",1E-4,"X","X","X","X","X","X","X","X","X","X",21.412921348314608,null,null,null,null,4450,0.10215794306703398,1.6345270890725436,null,"Spring",7,"Perennial Forb","Cold moist => warm moist => cold moist sequence"]
["Forb","Red Clover (Medium) (Intro. Forb)","Trifolium pratense L.","X","X"," ","X","X"," "," ",1E-4,"X","X","X","X","X","X","X","X","X","X",5.5438387246916454,null,null,null,null,17188,0.39458218549127638,6.3133149678604221,null,"Spring",0,"Introduced Forb, Perennial"]
["Forb","Riddell's Goldenrod","Oligoneuron riddellii "," ","X","X","X"," ","X"," ",1E-4," ","X","X","X","X","X"," ","X"," ","X",1.0245967741935484,null,null,null,null,93000,2.1349862258953167,34.159779614325068,null,"Summer, Fall",9,"Perennial Forb","Cold moist stratification, Light required for germination  ",1]
["Forb","Robin's Plantain","Erigeron pulchellus  "," ","X"," "," ","X"," ","X",1E-4," ","X","X"," ","X"," "," "," "," "," ",0.30249999999999999,null,null,null,null,315000,7.2314049586776861,115.70247933884298,null,"Spring, Summer ",9,"Perennial Forb","Cold moist stratification, Light required for germination  "]
["Forb","Rock Sandwort","Minuartia michauxii","X"," "," ","X","X"," "," ",1E-4," ","X","X"," ","X","X"," "," "," "," ",6.3525,null,null,null,null,15000,0.34435261707988979,5.5096418732782366,null,"Spring, Summer ",1,"Annual Forb","Cold moist stratification, Light required for germination  "]
["Forb","Rosinweed","Silphium integrifolium ","X","X","X","X","X"," "," ",1E-4,"X","X","X","X","X","X","X","X","X","X",{"$f":"35/AC218","v":79.40625},null,null,null,null,1200,2.7548209366391185E-2,0.44077134986225897,null,"Summer, Fall",6,"Perennial Forb","Cold moist stratification",1]
["Forb","Rough Blazing Star","Liatris aspera  ","X","X"," ","X","X"," "," ",1E-4,"X","X","X","X","X","X","X","X","X","X",5.9554687500000005,null,null,null,null,16000,0.3673094582185491,5.8769513314967856,null,"Summer, Fall",8,"Perennial Forb","Cold moist stratification",1]
["Forb","Rough Bugleweed","Lycopus asper"," "," ","X"," "," ","X"," ",1E-4," "," ","X","X","X","X"," ","X","X","X",6.3525,null,null,null,null,15000,0.34435261707988979,5.5096418732782366,null,"Summer",6,"Perennial Forb"]
["Forb","Rough White Lettuce","Prenanthes aspera  ","X","X"," ","X","X"," "," ",1E-4," ","X"," "," "," ","X","X"," ","X","X",6.8062500000000004,null,null,null,null,14000,0.32139577594123048,5.1423324150596876,null,"Summer, Fall",9,"Perennial Forb","Cold moist stratification"]
["Forb","Round-headed Bush Clover","Lespedeza capitata  ","X","X"," ","X","X"," "," ",1E-4,"X","X","X","X","X","X","X","X","X","X",11.910937500000001,null,null,null,null,8000,0.18365472910927455,2.9384756657483928,null,"Summer, Fall",4,"Perennial Forb, Legume","C(10),Legume-requires inoculation"]
["Forb","Roundseed St. Johnswort","Hypericum sphaerocarpum","X","X","  ","X","X"," ","X",1E-4,"X","X","X","X","X","X","X","X","X","X",2.8025735294117644,null,null,null,null,34000,0.78053259871441694,12.488521579430671,null,"Summer, Fall",6,"Perennial Forb","Cold moist stratification"]
["Forb","Rue Anemone","Thalictrum thalictroides"," ","X"," "," ","X"," ","X",1E-4,"X","X","X","X","X","X","X","X","X","X",7.3298076923076927,null,null,null,null,13000,0.29843893480257117,4.7750229568411386,null,"Spring, Summer ",7,"Perennial Forb","Plant fresh seed or Warm moist => cold moist sequence  "]
["Forb","Sand Primrose","Oenothera rhombipetala ","X"," "," ","X"," "," "," ",1E-4," ","X","X"," ","X"," ","X","X"," "," ",0.95287500000000003,null,null,null,null,100000,2.2956841138659319,36.73094582185491,null,"Summer, Fall",8,"Biennial Forb","Requires light for germination"]
["Forb","Saw-tooth Sunflower","Helianthus grosseserratus  "," ","X","X","X","X","X"," ",1E-4,"X","X","X","X","X","X","X","X","X","X",6.3525,null,null,null,null,15000,0.34435261707988979,5.5096418732782366,null,"Summer, Fall",3,"Perennial Forb","Cold moist stratification or Dry cold storage  ",1]
["Forb","Scaly Blazing Star","Liatris squarrosa  ","X","X"," ","X","X"," ","X",1E-4," ","X"," ","X"," ","X","X","X","X","X",13.612500000000001,null,null,null,null,7000,0.16069788797061524,2.5711662075298438,null,"Summer, Fall",8,"Perennial Forb","Cold moist stratification"]
["Forb","Scarlet Gaura","Gaura coccinea  ","X"," "," ","X"," "," "," ",1E-4," ","X"," "," "," ","X","X"," ","X","X",68.0625,null,null,null,null,1400,3.2139577594123052E-2,0.51423324150596883,null,"Spring, Summer",7,"Perennial Forb","Cold moist stratification"]
["Forb","Scurfy Pea","Psoralidium tenuiflorum ","X"," "," ","X","X"," "," ",1E-4," ","X","X","X"," "," ","X","X","X","X",95.287500000000009,null,null,null,null,1000,2.2956841138659319E-2,0.3673094582185491,null,"Summer",7,"Perennial Forb, Legume","Cold moist stratification(10),Requires scarification, Legume-requires inoculation  "]
["Forb","Seedbox","Ludwigia alternifolia"," "," ","X","X"," ","X","X",1E-4," ","X","X"," "," ","X","X","X"," "," ",7.3298076923076924E-2,null,null,null,null,1300000,29.843893480257115,477.50229568411385,null,"Summer",4,"Perennial Forb","Cold moist stratification"]
["Forb","Sessileleaf Ticktrefoil","Desmodium sessilifolium ","X"," "," "," ","X"," ","X",1E-4," ","X"," "," ","X"," "," ","X"," "," ",19.057500000000001,null,null,null,null,5000,0.1147842056932966,1.8365472910927456,null,"Summer, Fall",7,"Perennial Forb, Legume"]
["Forb","Shooting Star","Dodecatheon meadia  ","X","X"," ","X","X"," "," ",1E-4," ","X","X","X","X","X","X","X","X"," ",1.588125,null,null,null,null,60000,1.3774104683195592,22.038567493112946,null,"Spring, Summer ",8,"Perennial Forb","Cold moist stratification(21),Requires light for germination, Prefers cool soil  "]
["Forb","Short's Aster","Symphyotrichum shortii","X","X"," "," ","X"," ","X",1E-4," ","X","X","X","X","X"," ","X","X"," ",1.588125,null,null,null,null,60000,1.3774104683195592,22.038567493112946,null,"Summer, Fall",7,"Perennial Forb","Cold moist stratification or Dry cold storage  ",1]
["Forb","Showy Goldenrod","Solidago speciosa ","X","X"," ","X","X"," ","X",1E-4,"X","X","X","X","X","X","X","X","X","X",1.0030263157894737,null,null,null,null,95000,2.1808999081726355,34.894398530762167,null,"Summer, Fall",7,"Perennial Forb","Cold moist stratification, Light required for germination  ",1]
["Forb","Showy Ticktrefoil","Desmodium canadense  ","X","X","X","X","X"," ","X",1E-4,"X","X","X","X","X","X","X","X","X","X",17.324999999999999,null,null,null,null,5500,0.12626262626262627,2.0202020202020203,null,"Summer",6,"Perennial Forb, Legume","Dry cold storage, Legume-requires inoculation  "]
["Forb","Silky Aster","Symphyotrichum sericeum","X"," "," ","X","X"," "," ",1E-4,"X","X","X","X","X","X","X","X","X","X",1.7015625000000001,null,null,null,null,56000,1.2855831037649219,20.569329660238751,null,"Fall",10,"Perennial Forb","Cold moist stratification",1]
["Forb","Slender Bush Clover","Lespedeza virginica  ","X","X"," ","X","X"," ","X",1E-4," ","X"," "," "," "," ","X","X","X"," ",9.5287500000000005,null,null,null,null,10000,0.2295684113865932,3.6730945821854912,null,"Summer, Fall",6,"Perennial Forb, Legume","Cold moist stratification(10),Legume-requires inoculation  "]
["Forb","Slender Mountain Mint","Pycnanthemum tenuifolium  ","X","X","X","X","X"," "," ",1E-4,"X","X","X","X","X","X","X","X","X","X",0.25208333333333333,null,null,null,null,378000,8.677685950413224,138.84297520661158,null,"Summer, Fall",5,"Perennial Forb","Dry cold storage, Light required for germination  ",1]
["Forb","Slenderleaf False Foxglove","Agalinis tenuifolia"," ","X","X","X","X","X"," ",1E-4,"X","X","X","X","X","X","X","X","X","X",0.119109375,null,null,null,null,800000,18.365472910927455,293.84756657483928,null,"Summer, Fall",6,"Annual Forb, Hemiparasite","Cold moist stratification, Parasitic-requires a host plant, Light required for germination "]
["Forb","Smooth Blue Aster","Symphyotrichum laeve","X","X","X","X","X"," "," ",1E-4,"X","X","X","X","X","X","X","X","X","X",1.7325000000000002,null,null,null,null,55000,1.2626262626262625,20.202020202020201,null,"Summer, Fall",8,"Perennial Forb","Dry cold storage",1]
["Forb","Smooth Carrionflower","Smilax herbacea"," "," "," "," "," "," "," ",1E-4,"X","X","X","X","X","X","X","X","X","X",124.07226562500001,null,null,null,null,768,1.7630853994490357E-2,0.2820936639118457,null,"Spring, Summer",5,"Perennial Forb"]
["Forb","Smooth Goldenrod","Solidago gigantea  "," ","X","X","X","X","X","X",1E-4,"X","X","X","X","X","X","X","X","X","X",0.38114999999999999,null,null,null,null,250000,5.7392102846648303,91.827364554637285,null,"Summer, Fall",3,"Perennial Forb","Cold moist stratification, Light required for germination  "]
["Forb","Smooth Violet Prairie Aster","Symphyotrichum turbinellum ","X","X"," ","X","X"," ","X",1E-4," "," "," "," "," "," "," ","X"," "," ",2.7225000000000001,null,null,null,null,35000,0.80348943985307619,12.855831037649219,null,"Fall",8,"Perennial Forb","Cold moist stratification",1]
["Forb","Sneezeweed","Helenium autumnale  "," ","X","X","X","X","X"," ",1E-4,"X","X","X","X","X","X","X","X","X","X",0.73298076923076927,null,null,null,null,130000,2.9843893480257115,47.750229568411385,null,"Summer, Fall",5,"Perennial Forb","Dry cold storage, Light required for germination  "]
["Forb","Snowy Campion","Silene nivea "," ","X"," ","X","X"," ","X",1E-4," ","X"," "," ","X"," "," ","X"," "," ",0.95287500000000003,null,null,null,null,100000,2.2956841138659319,36.73094582185491,null,"Summer",8,"Perennial Forb","Cold moist stratification"]
["Forb","Soft-hair Marbleseed","Onosmodium bejariense ","X"," "," ","X","X"," "," ",1E-4," ","X","X","X","X"," ","X","X","X","X",63.524999999999999,null,null,null,null,1500,3.4435261707988982E-2,0.55096418732782371,null,"Summer",4,"Perennial Forb","Scarification",1]
["Forb","Solomon's Seal","Polygonatum biflorum  ","X","X"," "," ","X"," ","X",1E-4,"X","X","X","X","X","X","X","X","X","X",119.109375,null,null,null,null,800,1.8365472910927456E-2,0.29384756657483929,null,"Spring, Summer ",5,"Perennial Forb","Plant fresh seed, Cold moist => warm moist => cold moist sequence  "]
["Forb","Spikenard","Aralia racemosa"," ","X"," "," "," "," ","X",1E-4,"X","X","X","X","X","X","X","X","X","X",2.8875000000000002,null,null,null,null,33000,0.75757575757575757,12.121212121212121,null,"Summer",8,"Perennial Forb","Cold moist stratification"]
["Forb","Spotted Horsemint","Monarda punctata ","X","X"," ","X","X"," "," ",1E-4," ","X","X"," ","X"," ","X","X","X"," ",1.0587500000000001,null,null,null,null,90000,2.0661157024793386,33.057851239669418,null,"Summer, Fall",7,"Biennial Forb","Dry cold storage, Light required for germination  ",1]
["Forb","Spotted Joe Pye Weed","Eutrochium maculatum"," ","X","X","X","X","X"," ",1E-4," ","X","X","X","X","X","X","X","X"," ",{"$f":"35/AC250","v":1.0030263157894737},null,null,null,null,95000,2.1808999081726355,34.894398530762167,null,"Summer",6,"Perennial Forb","Dry cold storage or Cold moist stratification, Light required for germination  ",1]
["Forb","Spotted St. Johnswort","Hypericum punctatum  "," ","X","X","X","X"," ","X",1E-4," ","X","X","X","X","X","X","X","X"," ",0.16428879310344827,null,null,null,null,580000,13.314967860422406,213.0394857667585,null,"Summer, Fall",5,"Perennial Forb","Cold moist stratification, Light required for germination  "]
["Forb","Spotted Touch-Me-Not","Impatiens capensis  "," ","X","X"," ","X","X","X",1E-4,"X","X","X","X","X","X","X","X","X","X",23.821875000000002,null,null,null,null,4000,9.1827364554637275E-2,1.4692378328741964,null,"Summer, Fall",4,"Annual Forb","Plant fresh seed, Fall plant or Cold moist => warm moist => cold moist sequence  "]
["Forb","Square-stemmed Monkeyflower","Mimulus ringens  "," ","X","X","X"," ","X","X",1E-4,"X","X","X","X","X","X","X","X","X","X",4.1429347826086954E-2,null,null,null,null,2300000,52.800734618916437,844.81175390266299,null,"Summer, Fall",4,"Perennial Forb","Cold moist stratification, Light required for germination  "]
["Forb","Starry Campion","Silene stellata ","X","X"," ","X","X"," ","X",1E-4," ","X","X","X","X","X","X","X","X"," ",3.17625,null,null,null,null,30000,0.68870523415977958,11.019283746556473,null,"Summer, Fall",6,"Perennial Forb","Cold moist stratification"]
["Forb","Stiff Gentian","Gentianella quinquefolia  ","X","X"," ","X","X"," ","X",1E-4," ","X","X","X","X"," "," "," "," "," ",0.52937500000000004,null,null,null,null,180000,4.1322314049586772,66.115702479338836,null,"Summer, Fall",7,"Biennial Forb","Cold moist stratification, Light required for germination  "]
["Forb","Stiff Goldenrod","Oligoneuron rigidum ","X","X"," ","X","X"," "," ",1E-4,"X","X","X","X","X","X","X","X","X","X",2.3240853658536587,null,null,null,null,41000,0.94123048668503217,15.059687786960515,null,"Summer, Fall",4,"Perennial Forb","Cold moist stratification",1]
["Forb","Stiff Sandwort","Arenaria stricta","X"," "," ","X","X"," "," ",1E-4," "," ","X"," ","X"," "," "," "," "," ",2.4814453125E-2,null,null,null,null,3840000,88.154269972451786,1410.4683195592286,null,"Summer",10,"Perennial Forb","Cold moist stratification (60), Light required for germination"]
["Forb","Stiff Sunflower","Helianthus pauciflorus  ","X","X"," ","X","X"," "," ",1E-4,"X","X","X","X","X","X","X","X","X","X",17.934782608695652,null,null,null,null,5313,0.12196969696969696,1.9515151515151514,null,"Summer, Fall",8,"Perennial Forb","Dry cold storage, Requires scarification, Legume-requires inoculation  ",1]
["Forb","Stinking Clover","Cleome serrulata  ","X"," "," ","X","X"," "," ",1E-4," "," "," "," "," ","X"," "," "," "," ",36.64903846153846,null,null,null,null,2600,5.968778696051423E-2,0.95500459136822768,null,"Summer",3,"Annual Forb","Cold moist stratification or Dry cold storage?  "]
["Forb","Stout Blue-eyed Grass","Sisyrinchium angustifolium  "," ","X","X","X","X"," ","X",1E-4," ","X","X"," ","X"," ","X","X","X","X",3.17625,null,null,null,null,30000,{"$f":"(AA260/43560)","v":0.68870523415977958},{"$f":"AB260*16","v":11.019283746556473},null,"Spring, Summer ",6,"Perennial Forb","Cold moist stratification, Light required for germination  "]
["Forb","Sullivant's Milkweed","Asclepias sullivantii"," ","X","X","X"," "," "," ",1E-4," ","X","X","X","X","X","X"," ","X","X",21.175000000000001,null,null,null,null,4500,0.10330578512396695,1.6528925619834711,null,"Summer",8,"Perennial Forb","Cold moist stratification or Dry cold storage  ",1]
["Forb","Swamp Aster","Symphyotrichum puniceum"," "," ","X","X"," ","X"," ",1E-4," ","X"," ","X","X","X","X","X"," "," ",1.1910937500000001,null,null,null,null,80000,1.8365472910927456,29.38475665748393,null,"Summer, Fall",5,"Perennial Forb","Cold moist stratification",1]
["Forb","Swamp Buttercup","Ranunculus septentrionalis"," ","X","X"," "," "," ","X",1E-4,"X","X","X","X","X","X","X","X","X","X",7.9406249999999998,null,null,null,null,12000,0.27548209366391185,4.4077134986225897,null,"Spring, Summer",6,"Perennial Forb","Cold moist stratification"]
["Forb","Swamp Candle","Lysimachia terrestris  "," "," ","X","X","X"," "," ",1E-4," ","X","X","X","X"," ","X","X","X","X",1.9393937336291609,null,null,null,null,49132.622400346627,1.127929807170492,18.046876914727871,null,"Summer",8,"Perennial Forb","Clone  "]
["Forb","Swamp Lousewort","Pedicularis lanceolata  "," ","X","X","X"," ","X"," ",1E-4,"X","X","X","X","X","X","X","X","X","X",2.1656249999999999,null,null,null,null,44000,1.0101010101010102,16.161616161616163,null,"Summer, Fall",8,"Perennial Forb, Hemiparasite","Cold moist stratification(30),Parasitic-requires a host plant  "]
["Forb","Swamp Milkweed","Asclepias incarnata"," ","X","X","X","X","X"," ",1E-4,"X","X","X","X","X","X","X","X","X","X",19.8515625,null,null,null,null,4800,0.11019283746556474,1.7630853994490359,null,"Summer",4,"Perennial Forb","Cold moist stratification or Dry cold storage  ",1]
["Forb","Swamp Saxifrage","Saxifraga pensylvanica  "," "," ","X"," ","X","X","X",1E-4," ","X","X","X","X"," ","X","X"," "," ",0.13444670597082575,null,null,null,null,708738.078125,16.270387468434343,260.32619949494949,null,"Spring, Summer ",9,"Perennial Forb","Cold moist stratification, Light required for germination  "]
["Forb","Swamp Thistle","Cirsium muticum "," "," ","X","X"," ","X"," ",1E-4," ","X","X","X","X","X"," "," "," "," ",13.612500000000001,null,null,null,null,7000,0.16069788797061524,2.5711662075298438,null,"Summer, Fall",9,"Biennial Forb",null,1]
["Forb","Sweet Cicely","Osmorhiza claytonii  "," ","X"," "," "," "," ","X",1E-4,"X","X","X","X","X","X","X","X","X","X",38.115000000000002,null,null,null,null,2500,5.73921028466483E-2,0.91827364554637281,null,"Spring, Summer ",3,"Perennial Forb","Cold moist stratification"]
["Forb","Sweet Coneflower","Rudbeckia subtomentosa  "," ","X","X","X","X","X"," ",1E-4," ","X","X","X","X"," ","X","X","X"," ",2.2159883720930234,null,null,null,null,43000,0.9871441689623508,15.794306703397613,null,"Summer, Fall",6,"Perennial Forb","Cold moist stratification or Dry cold storage  ",1]
["Forb","Sweet Joe Pye Weed","Eupatorium purpureum  "," ","X"," "," ","X"," ","X",1E-4,"X","X","X","X","X","X","X","X","X","X",2.2687500000000003,null,null,null,null,42000,0.96418732782369143,15.426997245179063,null,"Summer, Fall",6,"Perennial Forb","Dry cold storage or Cold moist stratification  ",1]
["Forb","Sweet William","Phlox divaricata "," ","X"," "," ","X"," ","X",1E-4,"X","X","X","X","X","X","X","X","X","X",7.6230000000000002,null,null,null,null,12500,0.28696051423324148,4.5913682277318637,null,"Spring, Summer ",6,"Perennial Forb","Cold moist stratification",1]
["Forb","Sweetflag","Acorus calamus"," "," ","X","X"," ","X"," ",1E-4," ","X"," "," ","X"," "," "," ","X","X",14.4375,null,null,null,null,6600,0.15151515151515152,2.4242424242424243,null,"Spring, Summer",8,"Perennial Forb","Cold moist stratification"]
["Forb","Tall Bellflower","Campanula americana  "," ","X"," "," ","X"," ","X",1E-4,"X","X","X","X","X","X","X","X","X","X",0.56051470588235297,null,null,null,null,170000,3.9026629935720845,62.442607897153351,null,"Summer, Fall",4,"Biennial Forb","Cold moist stratification or Dry cold storage, Light required for germination  "]
["Forb","Tall Boneset","Eupatorium altissimum  ","X","X"," ","X","X"," ","X",1E-4,"X","X","X","X","X","X","X","X","X","X",1.9057500000000001,null,null,null,null,50000,1.1478420569329659,18.365472910927455,null,"Summer, Fall",3,"Perennial Forb","Cold moist stratification",1]
["Forb","Tall Coreopsis","Coreopsis tripteris  ","X","X"," ","X","X"," "," ",1E-4," ","X"," "," "," "," ","X","X","X"," ",6.8062500000000004,null,null,null,null,14000,0.32139577594123048,5.1423324150596876,null,"Summer, Fall",4,"Perennial Forb","Cold moist stratification",1]
["Forb","Tall Goldenrod","Solidago canadensis","X","X"," ","X","X"," ","X",1E-4,"X","X","X","X","X","X","X","X","X","X",0.33143478260869563,null,null,null,null,287500,6.6000918273645546,105.60146923783287,null,"Summer, Fall",2,"Perennial Forb",null,1]
["Forb","Tall Green Milkweed","Asclepias hirtella","X","X"," ","X"," "," "," ",1E-4," "," ","X","X","X"," ","X","X","X"," ",22.159883720930235,null,null,null,null,4300,9.8714416896235072E-2,1.5794306703397611,null,"Summer",5,"Perennial Forb","Cold moist stratification or Dry cold storage  ",1]
["Forb","Tall Ironweed","Vernonia gigantea  "," ","X","X","X"," "," ","X",1E-4," "," "," "," "," "," ","X"," ","X"," ",3.4031250000000002,null,null,null,null,28000,0.64279155188246095,10.284664830119375,null,"Summer, Fall",4,"Perennial Forb","Cold moist stratification"]
["Forb","Tall Sunflower","Helianthus giganteus"," "," ","X","X"," ","X"," ",1E-4," ","X","X"," "," "," ","X","X"," "," ",9.5287500000000005,null,null,null,null,10000,0.2295684113865932,3.6730945821854912,null,"Summer, Fall","**","Perennial Forb","Cold moist stratification or Dry cold storage  ",1]
["Forb","Tall Thimbleweed","Anemone virginiana","X","X"," ","X","X"," ","X",1E-4,"X","X","X","X","X","X","X","X","X","X",3.4031250000000002,null,null,null,null,28000,0.64279155188246095,10.284664830119375,null,"Summer",5,"Perennial Forb","Dry cold storage"]
["Forb","Thimbleweed","Anemone cylindrica","X","X"," ","X","X"," "," ",1E-4,"X","X","X","X","X","X","X","X","X","X",{"$f":"35/AC282","v":3.6649038461538463},null,null,null,null,26000,0.59687786960514233,9.5500459136822773,null,"Summer",7,"Perennial Forb","Dry cold storage"]
["Forb","Tower Rockcress","Arabis glabra","X","X"," ","X","X"," "," ",1E-4," ","X","X"," ","X"," ","X","X"," "," ",0.27619565217391306,null,null,null,null,345000,7.9201101928374653,126.72176308539945,null,"Spring, Summer ",4,"Biennial Forb","Cold moist stratification, Light required for germination  "]
["Forb","Tufted Loosestrife","Lysimachia thyrsiflora"," "," ","X","X","X","X"," ",1E-4," ","X","X","X","X","X"," ","X"," "," ",1.1620426829268293,null,null,null,null,82000,1.8824609733700643,30.11937557392103,null,"Spring, Summer ",8,"Perennial Forb","Cold moist stratification, Light required for germination  "]
["Forb","Twoflower Dwarfdandelion","Krigia biflora ","X","X"," ","X","X"," ","X",1E-4," ","X","X","X","X","X","X","X"," "," ",2.3821875000000001,null,null,null,null,40000,0.91827364554637281,14.692378328741965,null,"Spring, Summer",7,"Perennial Forb","COLD MOIST STRATIFICATION",1]
["Forb","Upland White Aster","Oligoneuron album ","X"," "," ","X"," "," "," ",1E-4," ","X","X","X","X","X"," ","X","X","X",1.4888671875000001,null,null,null,null,64000,1.4692378328741964,23.507805325987142,null,"Summer, Fall",9,"Perennial Forb","Dry cold storage",1]
["Forb","Upright Burhead","Echinodorus berteroi"," "," ","X"," "," ","X"," ",1E-4," "," "," "," ","X","X"," ","X","X"," ",0.89053738317757003,null,null,null,null,107000,2.4563820018365474,39.302112029384759,null,null,6,"Perennial Forb"]
["Forb","Venus' Looking-glass","Triodanis perfoliata  ","X","X"," ","X","X"," ","X",1E-4," ","X","X","X","X","X"," ","X","X","X",3.1762499999999999E-2,null,null,null,null,3000000,68.870523415977956,1101.9283746556473,null,"Spring, Summer",3,"Annual Forb","Cold moist stratification"]
["Forb","Violet Wood Sorrel","Oxalis violacea  ","X","X"," ","X","X"," ","X",1E-4,"X","X","X","X","X","X","X","X","X","X",1.9057500000000001,null,null,null,null,50000,1.1478420569329659,18.365472910927455,null,"Spring, Summer, Fall",7,"Perennial Forb","Fall plant Cold moist stratification  "]
["Forb","Virginia Mountain Mint","Pycnanthemum virginianum "," ","X","X","X","X","X"," ",1E-4,"X","X","X","X","X","X","X","X","X","X",0.43312500000000004,null,null,null,null,220000,5.0505050505050502,80.808080808080803,null,"Summer, Fall",4,"Perennial Forb","Dry cold storage, Light required for germination  ",1]
["Forb","Virginia Springbeauty","Claytonia virginica ","X","X","X"," ","X"," ","X",1E-4,"X","X","X","X","X","X","X","X","X","X",3.9703124999999999,null,null,null,null,24000,0.55096418732782371,8.8154269972451793,null,"Spring, Summer",5,"Perennial Forb","Warm-moist followed by cold moist stratification"]
["Forb","Virginia Waterleaf","Hydrophyllum virginianum "," ","X","X"," ","X"," ","X",1E-4,"X","X","X","X","X","X","X","X","X","X",34.03125,null,null,null,null,2800,6.4279155188246104E-2,1.0284664830119377,null,"Spring, Summer",4,"Perennial Forb","COLD MOIST STRATIFICATION"]
["Forb","Water Hemlock","Cicuta maculata  "," "," ","X","X","X","X"," ",1E-4,"X","X","X","X","X","X","X","X","X","X",7.9406249999999998,null,null,null,null,12000,0.27548209366391185,4.4077134986225897,null,"Summer, Fall",8,"Biennial Forb","Fall plant Cold moist stratification(120)   "]
["Forb","Water Horehound","Lycopus americanus  "," "," ","X","X"," ","X"," ",1E-4,"X","X","X","X","X","X","X","X","X","X",0.73298076923076927,null,null,null,null,130000,2.9843893480257115,47.750229568411385,null,"Summer, Fall",5,"Perennial Forb","Dry cold storage, Light required for germination  "]
["Forb","Water Plantain","Alisma subcordatum  "," "," ","X"," "," ","X"," ",1E-4,"X","X","X","X","X","X","X","X","X","X",1.588125,null,null,null,null,60000,1.3774104683195592,22.038567493112946,null,"Summer, Fall",5,"Perennial Forb","Cold moist stratification(30),Requires scarification  "]
["Forb","Water Smartweed","Polygonum punctatum "," ","X","X","X","X","X"," ",1E-4,"X","X","X","X","X","X","X","X","X","X",12.216346153846153,null,null,null,null,7800,0.1790633608815427,2.8650137741046833,null,"Summer, Fall",5,"Annual Forb","Cold moist stratification, Light required for germination  "]
["Forb","Western Beardtongue","Penstemon tubiflorus ","X","X"," ","X","X"," ","X",1E-4," ","X","X","X"," "," "," ","X"," "," ",1.1910937500000001,null,null,null,null,80000,1.8365472910927456,29.38475665748393,null,"Spring, Summer ",5,"Perennial Forb","Cold moist stratification(30),Light required for germination  "]
["Forb","Western Spiderwort","Tradescantia occidentalis  "," ","X"," ","X","X"," "," ",1E-4," ","X"," "," ","X","X"," "," ","X","X",10.5875,null,null,null,null,9000,0.20661157024793389,3.3057851239669422,null,"Spring, Summer",7,"Perennial Forb","Fall plant/Cold moist stratification(120),Prefers cool soil "]
["Forb","Western Sunflower","Helianthus occidentalis  ","X","X"," ","X","X"," "," ",1E-4," ","X","X"," ","X"," "," ","X"," ","X",6.8062500000000004,null,null,null,null,14000,0.32139577594123048,5.1423324150596876,null,"Summer, Fall",9,"Perennial Forb","Cold moist stratification or Dry cold storage  ",1]
["Forb","White Arrowleaf Aster","Symphyotrichum urophyllum","X"," "," "," ","X"," ","X",1E-4," ","X","X","X","X"," ","X","X","X","X",0.70583333333333331,null,null,null,null,135000,3.0991735537190084,49.586776859504134,null,"Summer, Fall",6,"Perennial Forb","Cold moist stratification, Light required for germination  ",1]
["Forb","White Baneberry","Actaea pachypoda"," ","X","X"," ","X"," ","X",1E-4," ","X","X","X","X"," ","X","X","X"," ",18.32451923076923,null,null,null,null,5200,0.11937557392102846,1.9100091827364554,null,"Spring, Summer ",7,"Perennial Forb","Cold moist => warm moist => cold moist sequence"]
["Forb","White Camass","Zigadenus elegans  "," "," ","X","X","X"," "," ",1E-4," ","X"," ","X","X","X"," "," "," "," ",2.2687500000000003,null,null,null,null,42000,0.96418732782369143,15.426997245179063,null,"Spring, Summer",9,"Perennial Forb","Fall plant, Cold moist stratification   "]
["Forb","White Clover (Intro. Forb)","Trifolium repens L.","X","X"," ","X","X"," "," ",1E-4,"X","X","X","X","X","X","X","X","X","X",2.1412921348314606,null,null,null,null,44500,1.0215794306703398,16.345270890725438,null,"Spring",0,"Introduced Forb, Perennial"]
["Forb","White Doll's Daisy","Boltonia asteroides"," ","X","X","X","X","X"," ",1E-4," ","X"," ","X"," ","X"," ","X"," "," ",0.59554687500000003,null,null,null,null,160000,3.6730945821854912,58.76951331496786,null,"Summer, Fall",5,"Perennial Forb","Cold moist stratification, Light required for germination  ",1]
["Forb","White Fawnlily","Erythronium albidum ","  ","X","X","  ","X","  ","X",1E-4,"X","X","X","X","X","X","X","X","X","X",47.643750000000004,null,null,null,null,2000,4.5913682277318638E-2,0.7346189164370982,null,"Spring",6,"Perennial Forb","Warm moist => cold moist sequence"]
["Forb","White Panicle Aster","Symphyotrichum lanceolatum"," ","X","X","X"," ","X","X",1E-4,"X","X","X","X","X","X","X","X","X","X",2.1779999999999999,null,null,null,null,43750,1.0043617998163452,16.069788797061523,null,"Summer, Fall",4,"Perennial Forb",null,1]
["Forb","White Prairie Blue-eyed Grass","Sisyrinchium campestre alba","X","X"," ","X","X"," "," ",1E-4,"X","X","X","X","X","X","X","X","X","X",2.8875000000000002,null,null,null,null,33000,0.75757575757575757,12.121212121212121,null,"Spring, Summer, Fall",4,"Perennial Forb","Fall plant Cold moist stratification, Prefers cool soil, Light required for germination  "]
["Forb","White Prairie Clover","Dalea candida ","X","X"," ","X","X"," "," ",1E-4,"X","X","X","X","X","X","X","X","X","X",5.0151315789473685,null,null,null,null,19000,0.43617998163452709,6.9788797061524335,null,"Summer, Fall",9,"Perennial Forb, Legume","Dry cold storage, Legume-requires inoculation  ",1]
["Forb","White Sage","Artemisia ludoviciana","X","X"," ","X","X"," "," ",1E-4,"X","X","X","X","X","X","X","X","X","X",0.38114999999999999,null,null,null,null,250000,5.7392102846648303,91.827364554637285,null,"Summer, Fall",4,"Perennial Forb","Dry cold storage or Cold moist stratification, Light required for germination  "]
["Forb","White Snakeroot","Ageratina altissima","X","X"," "," ","X"," ","X",1E-4,"X","X","X","X","X","X","X","X","X","X",0.63524999999999998,null,null,null,null,150000,3.443526170798898,55.096418732782368,null,"Summer, Fall",2,"Perennial Forb","Cold moist stratification, Light required for germination  ",1]
["Forb","White Turtlehead","Chelone glabra  "," ","X","X","X","X","X","X",1E-4,"X","X","X","X","X","X","X","X","X","X",1.0357336956521739,null,null,null,null,92000,2.1120293847566574,33.792470156106518,null,"Summer, Fall",9,"Perennial Forb","Fall plant Cold moist stratification(120)  "]
["Forb","White Wild Indigo","Baptisia alba","X","X","X","X","X"," "," ",1E-4,"X","X","X","X","X","X","X","X","X","X",56.05147058823529,null,null,null,null,1700,3.9026629935720848E-2,0.62442607897153357,null,"Summer",7,"Perennial Forb, Legume","Cold moist stratification(10),Requires scarification, Legume-requires inoculation  "]
["Forb","Whiteflower Leafcup","Polymnia canadensis "," ","X"," "," ","X"," ","X",1E-4," "," ","X"," ","X"," "," ","X"," "," ",15.368951612903224,null,null,null,null,6200,0.1423324150596878,2.2773186409550048,null,"Summer, Fall",6,"Perennial Forb","Cold moist stratification"]
["Forb","Whorled Milkweed","Asclepias verticillata","X","X"," ","X","X"," "," ",1E-4,"X","X","X","X","X","X","X","X","X","X",{"$f":"35/AC314","v":8.6624999999999996},null,null,null,null,11000,0.25252525252525254,4.0404040404040407,null,"Summer, Fall",1,"Perennial Forb","Cold moist stratification or Dry cold storage  ",1]
["Forb","Wild Bergamot","Monarda fistulosa ","X","X","X","X","X"," ","X",1E-4,"X","X","X","X","X","X","X","X","X","X",1.3612500000000001,null,null,null,null,70000,1.6069788797061524,25.711662075298438,null,"Summer, Fall",3,"Perennial Forb","Dry cold storage",1]
["Forb","Wild Blue Larkspur","Delphinium carolinianum  ","X"," "," ","X","X"," "," ",1E-4," ","X","X"," "," "," ","X","X"," "," ",2.3240853658536587,null,null,null,null,41000,0.94123048668503217,15.059687786960515,null,"Spring, Summer ",8,"Perennial Forb","Cold moist stratification"]
["Forb","Wild Flax","Linum sulcatum  ","X"," "," ","X"," "," "," ",1E-4,"X","X","X","X","X","X","X","X","X","X",2.2687500000000003,null,null,null,null,42000,0.96418732782369143,15.426997245179063,null,"Summer, Fall",8,"Biennial Forb","Dry cold storage or Cold moist stratification  "]
["Forb","Wild Four-O'clock","Mirabilis nyctaginea  ","X","X"," ","X","X"," "," ",1E-4,"X","X","X","X","X","X","X","X","X","X",27.225000000000001,null,null,null,null,3500,8.0348943985307619E-2,1.2855831037649219,null,"Summer, Fall",2,"Perennial Forb","Dry cold storage"]
["Forb","Wild Garlic","Allium canadense","X","X","X","X","X"," "," ",1E-4,"X","X","X","X","X","X","X","X","X","X",170.15625,null,null,null,null,560,1.2855831037649219E-2,0.2056932966023875,null,"Spring, Summer ",4,"Perennial Forb","Dry cold storage"]
["Forb","Wild Geranium","Geranium maculatum  "," ","X"," "," ","X"," ","X",1E-4,"X","X","X","X","X","X","X","X","X","X",19.057500000000001,null,null,null,null,5000,0.1147842056932966,1.8365472910927456,null,"Spring, Summer",7,"Perennial Forb","Cold moist stratification Fall plant  "]
["Forb","Wild Leek","Allium tricoccum"," ","X"," "," ","X"," ","X",1E-4,"X","X","X","X","X","X","X","X","X","X",68.0625,null,null,null,null,1400,3.2139577594123052E-2,0.51423324150596883,null,"Summer",7,"Perennial Forb","Warm moist => cold moist sequence"]
["Forb","Wild Licorice","Glycyrrhiza lepidota  "," ","X","X","X"," "," "," ",1E-4,"X","X","X","X","X","X","X","X","X","X",24.432692307692307,null,null,null,null,3900,8.9531680440771352E-2,1.4325068870523416,null,"Summer",4,"Perennial Forb, Legume","Dry cold storage, Requires scarification, Legume-requires inoculation  "]
["Forb","Wild Mint","Mentha arvensis  "," "," ","X","X","X","X"," ",1E-4,"X","X","X","X","X","X","X","X","X","X",0.31762499999999999,null,null,null,null,300000,6.887052341597796,110.19283746556474,null,"Summer, Fall",4,"Perennial Forb"," Dry cold storage, Light required for germination  "]
["Forb","Wild Petunia","Ruellia humilis  ","X","X"," ","X"," "," ","X",1E-4,"X","X","X","X","X","X","X","X","X","X",18.32451923076923,null,null,null,null,5200,{"$f":"(AA324/43560)","v":0.11937557392102846},{"$f":"AB324*16","v":1.9100091827364554},null,"Summer",5,"Perennial Forb","Cold moist stratification(70)  "]
["Forb","Wild Prairie Onion","Allium stellatum","X","X"," ","X","X"," "," ",1E-4," ","X"," ","X","X","X"," "," "," "," ",8.6624999999999996,null,null,null,null,11000,0.25252525252525254,4.0404040404040407,null,"Summer",9,"Perennial Forb","Cold moist stratification"]
["Forb","Wild Quinine","Parthenium integrifolium  ","X","X","X","X","X"," "," ",1E-4," ","X","X","X","X"," ","X","X"," "," ",13.612500000000001,null,null,null,null,7000,0.16069788797061524,2.5711662075298438,null,"Summer, Fall",9,"Perennial Forb","Cold moist stratification"]
["Forb","Wild Stonecrop","Sedum ternatum  "," ","X"," "," ","X"," ","X",1E-4," ","X","X"," ","X"," "," ","X"," "," ",3.8115000000000001,null,null,null,null,25000,0.57392102846648296,9.1827364554637274,null,"Spring",6,"Perennial Forb","Clone  "]
["Forb","Wild Sweet William","Phlox maculata "," ","X","X"," "," "," ","X",1E-4," ","X","X","X","X","X","X","X"," "," ",8.6624999999999996,null,null,null,null,11000,0.25252525252525254,4.0404040404040407,null,"Summer",8,"Perennial Forb","Cold moist stratification",1]
["Forb","Willow Aster","Symphyotrichum praealtum"," ","X","X","X"," ","X"," ",1E-4," ","X","X","X","X"," ","X","X"," "," ",1.7810747663551401,null,null,null,null,53500,1.2281910009182737,19.651056014692379,null,"Summer, Fall",4,"Perennial Forb","Cold moist stratification",1]
["Forb","Winged Loosestrife","Lythrum alatum  "," ","X","X","X"," ","X"," ",1E-4,"X","X","X","X","X","X","X","X","X","X",3.1762499999999999E-2,null,null,null,null,3000000,68.870523415977956,1101.9283746556473,null,"Summer, Fall",6,"Perennial Forb","Cold moist stratification, Light required for germination  "]
["Forb","Wingstem","Verbesina alternifolia"," ","X","X"," ","X"," ","X",1E-4," ","X"," ","X"," "," ","X","X"," "," ",10.5875,null,null,null,null,9000,0.20661157024793389,3.3057851239669422,null,"Summer, Fall",5,"Perennial Forb","Cold moist stratification or Dry cold storage  ",1]
["Forb","Woman's Tobacco","Antennaria plantaginifolia","X","X"," ","X","X"," ","X",1E-4,"X","X","X","X","X","X","X","X","X","X",0.34649999999999997,null,null,null,null,275000,6.3131313131313131,101.01010101010101,null,"Spring, Summer ",3,"Perennial Forb","Cold moist stratification, Light required for germination  "]
["Forb","Wood Lily","Lilium philadelphicum  "," ","X","X","X","X"," "," ",1E-4,"X","X","X","X","X","X","X","X","X","X",6.3525,null,null,null,null,15000,0.34435261707988979,5.5096418732782366,null,"Summer",9,"Perennial Forb","Cold moist stratification"]
["Forb","Woodland Sunflower","Helianthus divaricatus ","X","X"," "," ","X"," ","X",1E-4," ","X","X"," ","X","X"," ","X","X"," ",19.8515625,null,null,null,null,4800,0.11019283746556474,1.7630853994490359,null,"Summer, Fall",5,"Perennial Forb","COLD MOIST STRATIFICATION",1]
["Forb","Wooly Plantain","Plantago patagonica","X"," "," ","X"," "," "," ",1E-4,"X","X","X","X","X","X","X","X","X","X",2.7225000000000001,null,null,null,null,35000,0.80348943985307619,12.855831037649219,null,"Summer",3,"Annual Forb","Cold moist stratification(30)  "]
["Forb","Woundwort","Stachys palustris   "," "," ","X","X","X","X"," ",1E-4,"X","X","X","X","X","X","X","X","X","X",5.9554687500000005,null,null,null,null,16000,0.3673094582185491,5.8769513314967856,null,"Summer, Fall",4,"Perennial Forb"]
["Forb","Yellow Avens","Geum aleppicum"," ","X","X"," "," ","X","X",1E-4," "," ","X","X","X","X"," "," ","X"," ",4.7643750000000002,null,null,null,null,20000,0.4591368227731864,7.3461891643709825,null,"Summer",6,"Perennial Forb","Cold moist stratification"]
["Forb","Yellow Giant Hyssop","Agastache nepetoides"," ","X","X"," "," "," ","X",1E-4," ","X","X"," ","X","X","X","X"," "," ",1.0587500000000001,null,null,null,null,90000,2.0661157024793386,33.057851239669418,null,"Summer, Fall",5,"Perennial Forb","Cold moist stratification or Dry cold storage, Light required for germination  ",1]
["Forb","Yellow Pimpernel","Taenidia integerrima  ","X"," "," ","X","X"," ","X",1E-4,"X","X","X","X","X","X","X","X","X","X",15.88125,null,null,null,null,6000,0.13774104683195593,2.2038567493112948,null,"Spring, Summer ",9,"Perennial Forb","Cold moist stratification Fall plant  "]
["Forb","Zigzag Goldenrod","Solidago flexicaulis  "," ","X","X"," "," "," ","X",1E-4," ","X","X","X","X"," ","X","X","X","X",1.1343750000000001,null,null,null,null,84000,1.9283746556473829,30.853994490358126,null,"Summer, Fall",7,"Perennial Forb","Cold moist stratification, Light required for germination  ",1]
[null,null,null," "," "," "," "," "," "," ",null," "," "," "," "," "," "," "," "," "," ",{"$f":"35/AC341","v":{"$error":"#DIV/0!"}},null,null,null,null,null,{"$f":"(AA341/43560)","v":0},{"$f":"AB341*16","v":0}]
[null,null,null," "," "," "," "," "," "," ",null," "," "," "," "," "," "," "," "," "," ",{"$error":"#DIV/0!"},null,null,null,null,null,0,0]
[null,null,null," "," "," "," "," "," "," ",null," "," "," "," "," "," "," "," "," "," ",{"$error":"#DIV/0!"},null,null,null,null,null,0,0]
[null,null,null," "," "," "," "," "," "," ",null," "," "," "," "," "," "," "," "," "," ",{"$error":"#DIV/0!"},null,null,null,null,null,0,0]
[null,null,null," "," "," "," "," "," "," ",null," "," "," "," "," "," "," "," "," "," ",{"$error":"#DIV/0!"},null,null,null,null,null,0,0]
[null,null,null," "," "," "," "," "," "," ",null," "," "," "," "," "," "," "," "," "," ",{"$error":"#DIV/0!"},null,null,null,null,null,0,0]
[null,null,null," "," "," "," "," "," "," ",null," "," "," "," "," "," "," "," "," "," ",{"$error":"#DIV/0!"},null,null,null,null,null,0,0]
[null,null,null," "," "," "," "," "," "," ",null," "," "," "," "," "," "," "," "," "," ",{"$error":"#DIV/0!"},null,null,null,null,null,0,0]
[null,null,null," "," "," "," "," "," "," ",null," "," "," "," "," "," "," "," "," "," ",{"$error":"#DIV/0!"},null,null,null,null,null,0,0]
[null,null,null," "," "," "," "," "," "," ",null," "," "," "," "," "," "," "," "," "," ",{"$error":"#DIV/0!"},null,null,null,null,null,0,0]
[null,null,null," "," "," "," "," "," "," ",null," "," "," "," "," "," "," "," "," "," ",{"$error":"#DIV/0!"},null,null,null,null,null,0,0]
[]
[]
[]
["Plant Type","Common Name","Scientific Name","Dry","Medium","Wet","Prairie","Savanna","Wetland","Woodland","Short-term Program (Y = < $0.0069)","All","C","EC","NC","NE","NW","SC","SE","SW","WC"]
[null,null,null,{"$f":"IF(Calculator!$A$4=1,\"X\",\"\")","v":""},{"$f":"IF(Calculator!$A$4=2,\"X\",\"\")","v":""},{"$f":"IF(Calculator!$A$4=3,\"X\",\"\")","v":""},{"$f":"IF(Calculator!$A$6=1,\"X\",\"\")","v":""},{"$f":"IF(Calculator!$A$6=2,\"X\",\"\")","v":""},{"$f":"IF(Calculator!$A$6=3,\"X\",\"\")","v":""},{"$f":"IF(Calculator!$A$6=4,\"X\",\"\")","v":""},{"$f":"IF(Calculator!$A$8=2,\"<.0069\",\">0\")","v":">0"},{"$f":"IF(Calculator!$C$2=\"ALL\",\"X\",\"\")","v":""},{"$f":"IF(Calculator!$C$2=\"C\",\"X\",\"\")","v":""},{"$f":"IF(Calculator!$C$2=\"EC\",\"X\",\"\")","v":""},{"$f":"IF(Calculator!$C$2=\"NC\",\"X\",\"\")","v":""},{"$f":"IF(Calculator!$C$2=\"NE\",\"X\",\"\")","v":""},{"$f":"IF(Calculator!$C$2=\"NW\",\"X\",\"\")","v":""},{"$f":"IF(Calculator!$C$2=\"SC\",\"X\",\"\")","v":""},{"$f":"IF(Calculator!$C$2=\"SE\",\"X\",\"\")","v":""},{"$f":"IF(Calculator!$C$2=\"SW\",\"X\",\"\")","v":""},{"$f":"IF(Calculator!$C$2=\"WC\",\"X\",\"\")","v":""}]
[]
[]
[]
["Plant Type","Common Name","Scientific Name","Dry","Medium","Wet","Prairie","Savanna","Wetland","Woodland","Short-term Program (Y = < $0.0069)","All","C","EC","NC","NE","NW","SC","SE","SW","WC"]
["Leave this row blank",null," ","X","X","X","X","X","X","X",1.0000000000000001E-5,"X","X","X","X","X","X","X","X","X","X"]
["Forb","Alfalfa (Intro. Forb)","Medicago sativa L.","X","X"," ","X","X"," "," ",1E-4,"X","X","X","X","X","X","X","X","X","X"]
["Forb","Alsike Clover (Intro. Forb)","Trifolium hybridum L.","X","X"," ","X","X"," "," ",1E-4,"X","X","X","X","X","X","X","X","X","X"]
["Forb","Alumroot","Heuchera richardsonii  ","X","X"," ","X","X"," ","X",1E-4,"X","X","X","X","X","X","X","X","X","X"]
["Forb","American Germander","Teucrium canadense  "," "," ","X","X","X","X","X",1E-4,"X","X","X","X","X","X","X","X","X","X"]
["Forb","American Vetch","Vicia americana"," "," "," ","X"," "," "," ",1E-4,"X","X","X","X","X","X","X","X","X","X"]
["Forb","Aromatic Aster","Symphyotrichum oblongifolium","X"," "," ","X","X"," "," ",1E-4,"X","X","X","X","X","X","X","X","X","X"]
["Forb","Arumleaf Arrowhead","Sagittaria cuneata "," "," ","X"," "," ","X"," ",1E-4," "," "," ","X","X","X"," "," "," "," "]
["Forb","Baldwin's Ironweed","Vernonia baldwinii  ","X","X"," ","X"," "," ","X",1E-4," "," "," "," "," "," ","X","X","X"," "]
["Forb","Bastard Toadflax","Comandra umbellata","X","X"," ","X","X"," ","X",1E-4,"X","X","X","X","X","X","X","X","X","X"]
["Forb","Bearded Beggarticks","Bidens aristosa"," ","X","X","X","X","X"," ",1E-4," ","X"," "," "," "," ","X","X"," "," "]
["Forb","Biennial Gaura","Gaura biennis  ","X","X"," ","X","X"," "," ",1E-4," ","X","X"," ","X","X","X","X","X","X"]
["Forb","Bigleaf Aster","Eurybia macrophylla","X","X"," "," ","X"," ","X",1E-4," "," "," "," ","X"," "," "," "," "," "]
["Forb","Bishop's Cap, Miterwort","Mitella diphylla  "," ","X","X"," ","X"," ","X",1E-4," ","X","X","X","X"," ","X","X"," "," "]
["Forb","Black-eyed Susan","Rudbeckia hirta  ","X","X"," ","X","X"," "," ",1E-4,"X","X","X","X","X","X","X","X","X","X"]
["Forb","Blacksamson Echinacea","Echinacea angustifolia  ","X"," "," ","X","X"," "," ",1E-4," ","X"," ","X"," ","X","X"," ","X","X"]
["Forb","Bloodroot","Sanguinaria canadensis  ","X","X"," "," "," "," ","X",1E-4,"X","X","X","X","X","X","X","X","X","X"]
["Forb","Blue Cohosh","Caulophyllum thalictroides "," ","X"," "," "," "," ","X",1E-4," ","X","X","X","X","X","X","X","X"," "]
["Forb","Blue Flag Iris","Iris shrevei"," "," ","X","X","X","X","X",1E-4,"X","X","X","X","X","X","X","X","X","X"]
["Forb","Blue Giant Hyssop","Agastache foeniculum","X","X"," ","X","X"," ","X",1E-4," ","X","X","X","X","X"," "," "," "," "]
["Forb","Blue Sky Aster","Symphyotrichum oolentangiense","X","X"," ","X","X"," ","X",1E-4,"X","X","X","X","X","X","X","X","X","X"]
["Forb","Blue Vervain","Verbena hastata  "," ","X","X","X","X","X"," ",1E-4,"X","X","X","X","X","X","X","X","X","X"]
["Forb","Blue Wild Indigo","Baptisia australis","X","X"," ","X","X"," "," ",1E-4," "," "," "," ","X"," ","X"," ","X"," "]
["Forb","Bluebell","Mertensia virginica  "," ","X"," "," "," "," ","X",1E-4,"X","X","X","X","X","X","X","X","X","X"]
["Forb","Boneset","Eupatorium perfoliatum  "," ","X","X","X","X","X"," ",1E-4,"X","X","X","X","X","X","X","X","X","X"]
["Forb","Bottle Gentian, Closed Gentian","Gentiana andrewsii  "," ","X","X","X","X","X"," ",1E-4,"X","X","X","X","X","X","X","X","X","X"]
["Forb","Bristly Crowfoot","Ranunculus pensylvanicus  "," "," ","X","X"," ","X"," ",1E-4," ","X","X","X","X","X"," "," "," "," "]
["Forb","Brown-eyed Susan","Rudbeckia triloba  "," ","X","X","X","X","X","X",1E-4," ","X","X","X","X"," ","X","X","X"," "]
["Forb","Bunch-Flower","Veratrum virginicum  "," ","X","X","X","X"," "," ",1E-4," ","X"," "," ","X"," ","X","X"," "," "]
["Forb","Bush's Poppymallow","Callirhoe bushii ","X"," "," ","X","X"," ","X",1E-4," "," "," "," "," "," "," "," ","X"," "]
["Forb","Butterfly Weed","Asclepias tuberosa","X","X"," ","X","X"," "," ",1E-4,"X","X","X","X","X","X","X","X","X","X"]
["Forb","Calico Aster","Symphyotrichum lateriflorum","X","X"," "," ","X"," ","X",1E-4," ","X","X"," ","X","X"," ","X","X"," "]
["Forb","Canada Anemone","Anemone canadensis"," ","X","X","X","X","X"," ",1E-4,"X","X","X","X","X","X","X","X","X","X"]
["Forb","Canadian Lousewort","Pedicularis canadensis  ","X","X"," ","X","X"," ","X",1E-4,"X","X","X","X","X","X","X","X","X","X"]
["Forb","Canadian Milkvetch","Astragalus canadensis","X","X","X","X","X"," "," ",1E-4,"X","X","X","X","X","X","X","X","X","X"]
["Forb","Canadian Wildginger","Asarum canadense"," ","X"," "," "," "," ","X",1E-4," ","X","X","X","X","X","X","X"," "," "]
["Forb","Cardinal Flower","Lobelia cardinalis  "," ","X","X","X","X","X","X",1E-4,"X","X","X","X","X"," ","X","X"," "," "]
["Forb","Clammy Weed","Polanisia dodecandra  ","X","X"," ","X"," "," "," ",1E-4,"X","X","X","X","X","X","X","X","X","X"]
["Forb","Clasping Milkweed","Asclepias amplexicaulis","X","X"," ","X","X"," "," ",1E-4," ","X","X"," ","X"," "," ","X"," "," "]
["Forb","Cliff Goldenrod","Solidago sciaphila ","X","X"," ","X","X"," "," ",1E-4," ","X","X","X","X"," ","X","X","X"," "]
["Forb","Cobaea Beardtongue","Penstemon cobaea ","X"," "," ","X","X"," "," ",1E-4," "," "," "," "," "," "," "," ","X"," "]
["Forb","Columbine","Aquilegia canadensis","X","X"," "," ","X"," ","X",1E-4,"X","X","X","X","X","X","X","X","X","X"]
["Forb","Common Arrowhead","Sagittaria latifolia  "," "," ","X"," "," ","X"," ",1E-4,"X","X","X","X","X","X","X","X","X","X"]
["Forb","Common Blue Wood Aster","Symphyotrichum cordifolium ","X","X"," "," ","X"," ","X",1E-4," ","X","X","X","X"," ","X","X","X"," "]
["Forb","Common Bur Reed","Sparganium eurycarpum  "," "," ","X"," "," ","X"," ",1E-4,"X","X","X","X","X","X","X","X","X","X"]
["Forb","Common Evening Primrose","Oenothera biennis ","X","X","X","X","X"," "," ",1E-4,"X","X","X","X","X","X","X","X","X","X"]
["Forb","Common Goldstar","Hypoxis hirsuta  ","X","X","X","X","X","X","X",1E-4,"X","X","X","X","X","X","X","X","X","X"]
["Forb","Common Milkweed","Asclepias syriaca","X","X","X","X","X"," ","X",1E-4,"X","X","X","X","X","X","X","X","X","X"]
["Forb","Common Yarrow","Achillea millefolium","X","X"," ","X","X"," "," ",1E-4,"X","X","X","X","X","X","X","X","X","X"]
["Forb","Compass Plant","Silphium laciniatum ","X","X"," ","X","X"," "," ",1E-4,"X","X","X","X","X","X","X","X","X","X"]
["Forb","Cottonweed","Froelichia floridana  ","X"," "," ","X"," "," "," ",1E-4," ","X","X"," ","X"," "," ","X"," "," "]
["Forb","Cow Parsnip","Heracleum maximum "," ","X","X","X","X"," ","X",1E-4," ","X"," ","X"," ","X","X"," ","X","X"]
["Forb","Cowbane","Oxypolis rigidior  "," "," ","X","X","X","X"," ",1E-4,"X","X","X","X","X","X","X","X","X","X"]
["Forb","Cream False Indigo","Baptisia bracteata","X","X"," ","X","X"," "," ",1E-4,"X","X","X","X","X","X","X","X","X","X"]
["Forb","Cream Gentian","Gentiana alba","X","X"," ","X","X"," ","X",1E-4,"X","X","X","X","X"," ","X","X","X","X"]
["Forb","Crookedstem Aster","Symphyotrichum prenanthoides"," ","X","X"," ","X"," ","X",1E-4," ","X","X","X","X"," ","X","X"," "," "]
["Forb","Culver's Root","Veronicastrum virginicum  "," ","X","X","X","X","X"," ",1E-4,"X","X","X","X","X","X","X","X","X","X"]
["Forb","Cup Plant","Silphium perfoliatum "," ","X","X","X","X","X","X",1E-4,"X","X","X","X","X","X","X","X","X","X"]
["Forb","Devil's Beggartick","Bidens frondosa"," ","X","X","X","X","X"," ",1E-4," ","X","X","X","X"," ","X","X"," "," "]
["Forb","Ditch Stonecrop","Penthorum sedoides  "," "," ","X","X","X","X"," ",1E-4,"X","X","X","X","X","X","X","X","X","X"]
["Forb","Dotted Blazing Star","Liatris punctata  ","X","X"," ","X","X"," "," ",1E-4," ","X"," ","X"," ","X"," "," ","X","X"]
["Forb","Downy Gentian","Gentiana puberulenta  ","X","X"," ","X","X"," ","X",1E-4,"X","X","X","X","X","X","X","X","X","X"]
["Forb","Downy Pagoda-plant","Blephilia ciliata","X","X"," ","X","X"," ","X",1E-4," "," "," "," ","X"," ","X","X"," "," "]
["Forb","Downy Painted Cup","Castilleja sessiliflora  ","X"," "," ","X"," "," "," ",1E-4," ","X","X","X","X","X"," "," ","X","X"]
["Forb","Downy Sunflower","Helianthus mollis  ","X","X"," ","X","X"," "," ",1E-4," ","X"," "," "," "," ","X","X"," "," "]
["Forb","Downy Yellow Violet","Viola pubescens "," ","X","X"," "," "," ","X",1E-4," ","X","X","X","X"," ","X","X","X","X"]
["Forb","Drummond's Aster","Symphyotrichum drummondii","X","X"," "," ","X"," ","X",1E-4," ","X","X"," ","X"," "," ","X","X"," "]
["Forb","Dutchman's Breeches","Dicentra cucullaria"," ","X"," "," ","X"," ","X",1E-4,"X","X","X","X","X","X","X","X","X","X"]
["Forb","Dwark Larkspur","Delphinium tricorne  "," ","X","X"," "," "," ","X",1E-4," ","X"," "," "," "," ","X","X","X","X"]
["Forb","Early Buttercup","Ranunculus fascicularis  ","X","X"," ","X","X"," "," ",1E-4," ","X","X","X","X","X","X","X"," "," "]
["Forb","Early Figwort","Scrophularia lanceolata  ","X","X","X","X","X"," ","X",1E-4," ","X","X","X","X","X"," ","X"," ","X"]
["Forb","Early Meadow-Rue","Thalictrum dioicum  "," ","X"," "," "," "," ","X",1E-4," ","X","X","X","X","X","X","X"," ","X"]
["Forb","Eastern Camass","Camassia scilloides  "," ","X","X","X","X"," ","X",1E-4," ","X"," "," "," "," ","X","X","X"," "]
["Forb","Eastern Pasqueflower","Pulsatilla patens","X"," "," ","X","X"," "," ",1E-4,"X","X","X","X","X","X","X","X","X","X"]
["Forb","Elm-leaved Goldenrod","Solidago ulmifolia ","X","X"," "," ","X"," ","X",1E-4,"X","X","X","X","X","X","X","X","X","X"]
["Forb","Everlasting","Gnaphalium obtusifolium  ","X"," "," ","X","X"," "," ",1E-4," ","X","X","X","X"," ","X","X"," "," "]
["Forb","False Boneset","Brickellia eupatorioides","X","X"," ","X","X"," "," ",1E-4,"X","X","X","X","X","X","X","X","X","X"]
["Forb","False Dragonhead","Physostegia parviflora  "," ","X","X","X","X","X","X",1E-4,"X","X","X","X","X","X","X","X","X","X"]
["Forb","False Indian Plantain","Hasteola suaveolens"," "," ","X","X"," ","X","X",1E-4," ","X","X","X","X"," ","X","X","X"," "]
["Forb","False Rue Anemone","Isopyrum biternatum  "," ","X","X"," "," "," ","X",1E-4,"X","X","X","X","X","X","X","X","X","X"]
["Forb","False Solomon's Seal","Maianthemum racemosum"," ","X"," "," ","X"," ","X",1E-4,"X","X","X","X","X","X","X","X","X","X"]
["Forb","Field Sagewort","Artemisia campestris","X"," "," ","X","X"," "," ",1E-4,"X","X","X","X","X","X","X","X","X","X"]
["Forb","Fireweed","Epilobium angustifolium  "," ","X","X","X","X"," "," ",1E-4," ","X"," ","X","X"," ","X"," ","X"," "]
["Forb","Flat-Topped Aster, White Aster","Doellingeria umbellata"," "," ","X","X","X","X"," ",1E-4,"X","X","X","X","X","X","X","X","X","X"]
["Forb","Flowering Spurge","Euphorbia corollata  ","X","X"," ","X","X"," "," ",1E-4,"X","X","X","X","X","X","X","X","X","X"]
["Forb","Foxglove Beardtongue","Penstemon digitalis ","X","X"," ","X","X"," "," ",1E-4," ","X","X","X","X"," ","X","X","X","X"]
["Forb","French-grass","Orbexilum onobrychis "," ","X"," "," ","X"," ","X",1E-4," "," "," "," "," "," "," ","X"," "," "]
["Forb","Fringed Gentian","Gentianopsis crinita"," ","X","X","X"," ","X","X",1E-4," ","X"," ","X","X","X"," "," "," "," "]
["Forb","Fringed Loosestrife","Lysimachia ciliata  "," "," ","X","X","X","X","X",1E-4,"X","X","X","X","X","X","X","X","X","X"]
["Forb","Glade Mallow","Napaea dioica  "," "," ","X"," ","X"," ","X",1E-4," ","X"," ","X","X"," "," "," "," "," "]
["Forb","Goat's-rue","Tephrosia virginiana  ","X","X"," ","X","X"," "," ",1E-4," ","X","X"," ","X"," "," ","X"," "," "]
["Forb","Golden Alexander's","Zizia aurea  ","X","X","X","X","X"," ","X",1E-4,"X","X","X","X","X","X","X","X","X","X"]
["Forb","Golden Ragwort","Packera aurea ","X","X"," ","X","X"," ","X",1E-4," ","X"," ","X","X","X"," "," "," "," "]
["Forb","Golden Seal","Hydrastis canadensis  "," ","X"," "," "," "," ","X",1E-4," ","X","X"," ","X"," "," "," "," "," "]
["Forb","Grass Of Parnassus","Parnassia glauca  "," "," ","X","X"," ","X"," ",1E-4," ","X"," ","X","X"," "," "," "," "," "]
["Forb","Grass-leaved Goldenrod","Euthamia graminifolia"," ","X","X","X"," ","X"," ",1E-4,"X","X","X","X","X","X","X","X","X","X"]
["Forb","Gray-headed Coneflower","Ratibida pinnata  ","X","X"," ","X","X"," "," ",1E-4,"X","X","X","X","X","X","X","X","X","X"]
["Forb","Great Blue Lobelia","Lobelia siphilitica  "," ","X","X","X","X","X","X",1E-4,"X","X","X","X","X","X","X","X","X","X"]
["Forb","Great Indian Plaintain","Arnoglossum reniforme "," ","X","X"," ","X"," ","X",1E-4," ","X"," "," "," "," ","X","X","X"," "]
["Forb","Great St. John's Wort","Hypericum ascyron  "," "," ","X","X","X","X"," ",1E-4,"X","X","X","X","X","X","X","X","X","X"]
["Forb","Great Water Dock","Rumex orbiculatus  "," "," ","X","X","X","X"," ",1E-4,"X","X","X","X","X","X","X","X","X","X"]
["Forb","Great Waterleaf","Hydrophyllum appendiculatum "," ","X"," "," "," "," ","X",1E-4," ","X","X"," ","X"," ","X","X","X"," "]
["Forb","Green Comet Milkweed","Asclepias viridiflora","X"," "," ","X"," "," "," ",1E-4," ","X"," ","X","X","X","X","X","X","X"]
["Forb","Greenhead Coneflower","Rudbeckia laciniata  "," ","X","X"," ","X","X","X",1E-4,"X","X","X","X","X","X","X","X","X","X"]
["Forb","Groovestem Indian Plaintain","Arnoglossum plantagineum"," ","X","X","X"," "," "," ",1E-4,"X","X","X","X","X","X","X","X","X","X"]
["Forb","Groundplum Milkvetch","Astragalus crassicarpus","X","X"," ","X","X"," "," ",1E-4," ","X"," ","X","X","X","X","X","X","X"]
["Forb","Hairy Aster","Symphyotrichum pilosum","X","X"," ","X","X"," "," ",1E-4,"X","X","X","X","X","X","X","X","X","X"]
["Forb","Hairy False Goldenaster","Heterotheca villosa ","X"," "," ","X","X"," "," ",1E-4," ","X","X"," ","X","X"," "," "," "," "]
["Forb","Hairy Mountain Mint","Pycnanthemum pilosum  ","X","X"," ","X","X"," ","X",1E-4," ","X","X"," "," "," ","X","X"," "," "]
["Forb","Hairy Pagoda-plant","Blephilia hirsuta"," ","X"," "," ","X"," ","X",1E-4," ","X","X"," ","X"," "," ","X"," "," "]
["Forb","Hairy Rockcress","Arabis hirsuta","X"," "," ","X","X"," ","X",1E-4,"X","X","X","X","X","X","X","X","X","X"]
["Forb","Halberd-leaved Rose Mallow","Hibiscus laevis"," "," ","X"," "," ","X"," ",1E-4," ","X","X","X","X"," ","X","X","X"," "]
["Forb","Harebell","Campanula rotundifolia  ","X","X"," ","X","X"," "," ",1E-4," ","X","X"," ","X"," "," ","X"," "," "]
["Forb","Hawkweed","Hieracium canadense  ","X","X"," ","X","X"," ","X",1E-4," ","X","X"," ","X"," "," "," "," "," "]
["Forb","Heartleaf Alexander","Zizia aptera  ","X","X"," ","X","X"," ","X",1E-4," ","X","X","X","X","X","X"," "," ","X"]
["Forb","Heart-leaved Skullcap","Scutellaria ovata   ","X","X"," "," ","X"," ","X",1E-4," ","X","X"," ","X"," "," ","X"," "," "]
["Forb","Heath Aster","Symphyotrichum ericoides","X","X"," ","X","X"," "," ",1E-4,"X","X","X","X","X","X","X","X","X","X"]
["Forb","Hemlock Water Parsnip","Sium suave "," "," ","X"," "," ","X"," ",1E-4,"X","X","X","X","X","X","X","X","X","X"]
["Forb","Hoary Puccoon","Lithospermum canescens","X","X"," ","X","X"," "," ",1E-4,"X","X","X","X","X","X","X","X","X","X"]
["Forb","Hoary Skullcap","Scutellaria incana","X"," "," "," ","X"," ","X",1E-4," "," "," "," "," "," "," ","X"," "," "]
["Forb","Hoary Vervain","Verbena stricta  ","X","X"," ","X","X"," "," ",1E-4,"X","X","X","X","X","X","X","X","X","X"]
["Forb","Honewort","Cryptotaenia canadensis  "," ","X"," "," "," "," ","X",1E-4,"X","X","X","X","X","X","X","X","X","X"]
["Forb","Horseflyweed","Baptisia tinctoria","X"," "," "," ","X"," ","X",1E-4," "," "," "," "," "," ","X"," "," "," "]
["Forb","Illinois Bundle Flower","Desmanthus illinoensis  ","X","X"," ","X"," "," "," ",1E-4,"X","X","X","X","X","X","X","X","X","X"]
["Forb","Illinois Ticktrefoil","Desmodium illinoense  ","X","X"," ","X","X"," "," ",1E-4,"X","X","X","X","X","X","X","X","X","X"]
["Forb","Indian Hemp","Apocynum cannabinum "," ","X","X","X","X"," "," ",1E-4,"X","X","X","X","X","X","X","X","X","X"]
["Forb","Indian Paintbrush","Castilleja coccinea  ","X","X"," ","X","X"," "," ",1E-4," "," ","X","X","X","X"," "," "," "," "]
["Forb","Indian Tobacco","Lobelia inflata  ","X","X"," "," ","X"," ","X",1E-4," ","X","X"," ","X","X","X","X","X","X"]
["Forb","Ironweed","Vernonia fasciculata  ","X","X","X","X","X","X"," ",1E-4,"X","X","X","X","X","X","X","X","X","X"]
["Forb","Jack In The Pulpit","Arisaema triphyllum"," ","X","X"," ","X"," ","X",1E-4,"X","X","X","X","X","X","X","X","X","X"]
["Forb","Jacob's Ladder","Polemonium reptans  "," ","X"," "," ","X"," ","X",1E-4," ","X","X","X","X"," ","X","X"," "," "]
["Forb","Jerusalem Artichoke","Helianthus tuberosus  "," ","X","X","X"," "," ","X",1E-4,"X","X","X","X","X","X","X","X","X","X"]
["Forb","Jumpseed","Polygonum virginianum "," ","X"," "," ","X"," ","X",1E-4,"X","X","X","X","X","X","X","X","X","X"]
["Forb","Kura Clover (Intro. Forb)","Trifolium ambiguum M.Bieb.","X","X"," ","X","X"," "," ",1E-4,"X","X","X","X","X","X","X","X","X","X"]
["Forb","Large Indian Breadroot","Pediomelum esculentum ","X"," "," ","X"," "," "," ",1E-4," ","X"," ","X"," ","X","X"," ","X","X"]
["Forb","Large-flowered Beardtongue","Penstemon grandiflorus ","X","X"," ","X","X"," "," ",1E-4," ","X","X"," ","X","X"," ","X","X","X"]
["Forb","Late Figwort","Scrophularia marilandica  "," ","X","X"," ","X"," ","X",1E-4,"X","X","X","X","X","X","X","X","X","X"]
["Forb","Late Horse Gentian","Triosteum perfoliatum  "," ","X"," "," ","X"," ","X",1E-4,"X","X","X","X","X","X","X","X","X","X"]
["Forb","Leonard's Skullcap","Scutellaria parvula var. missouriensis ","X","X"," ","X","X"," ","X",1E-4,"X","X","X","X","X","X","X","X","X","X"]
["Forb","Limestone Wild Petunia","Ruellia strepens "," ","X","X"," ","X"," ","X",1E-4," ","X","X"," "," "," ","X","X","X","X"]
["Forb","Locoweed, Lambert's Crazy Weed","Oxytropis lambertii  ","X"," "," ","X"," "," "," ",1E-4," ","X"," "," "," ","X"," "," ","X","X"]
["Forb","Long-headed Coneflower","Ratibida columnifera  ","X","X"," ","X"," "," "," ",1E-4," ","X"," "," ","X","X"," "," ","X","X"]
["Forb","Lopseed","Phryma leptostachya  "," ","X","X"," "," "," ","X",1E-4,"X","X","X","X","X","X","X","X","X","X"]
["Forb","Mad-dog Skullcap","Scutellaria lateriflora  "," "," ","X","X","X","X"," ",1E-4," ","X","X","X","X"," ","X","X","X"," "]
["Forb","Marsh Cinquefoil","Potentilla palustris  "," "," ","X"," "," ","X"," ",1E-4," "," "," ","X","X"," "," "," "," "," "]
["Forb","Marsh Fleabane","Senecio congestus  "," "," ","X","X"," ","X"," ",1E-4," ","X"," ","X","X"," "," "," "," "," "]
["Forb","Marsh Marigold","Caltha palustris  "," "," ","X","X","X","X","X",1E-4," ","X","X","X","X","X"," ","X","X"," "]
["Forb","Marsh St. Johnswort","Triadenum fraseri"," "," ","X","X","X","X"," ",1E-4," ","X","X","X","X","X"," ","X"," "," "]
["Forb","Maryland Senna","Senna marilandica","X","X"," "," ","X"," ","X",1E-4," ","X","X","X","X"," ","X","X","X"," "]
["Forb","Maximilian's Sunflower","Helianthus maximiliani","X","X"," ","X","X"," "," ",1E-4," ","X"," ","X","X","X","X"," ","X","X"]
["Forb","Mayapple","Podophyllum peltatum "," ","X"," "," ","X"," ","X",1E-4," ","X","X","X","X"," ","X","X"," "," "]
["Forb","Meadow Blazing Star","Liatris ligulistylis  ","X","X","X","X","X"," "," ",1E-4," ","X"," ","X","X"," "," "," "," ","X"]
["Forb","Meadow Evening Primrose","Oenothera pilosella "," ","X"," ","X","X","X"," ",1E-4," ","X","X"," "," "," ","X","X","X","X"]
["Forb","Michigan Lily","Lilium michiganense"," "," ","X","X","X","X"," ",1E-4,"X","X","X","X","X","X","X","X","X","X"]
["Forb","Missouri Ironweed","Vernonia missurica  "," ","X","X","X","X","X"," ",1E-4," "," "," ","X"," ","X"," ","X","X"," "]
["Forb","Narrowleaf Pinweed","Lechea tenuifolia ","X"," "," ","X","X"," ","X",1E-4," ","X"," ","X","X"," ","X","X"," "," "]
["Forb","Narrow-leaved Loosestrife","Lysimachia quadriflora  "," "," ","X","X","X","X"," ",1E-4," ","X","X","X","X","X","X","X"," ","X"]
["Forb","New England Aster","Symphyotrichum novae-angliae"," ","X","X","X","X","X"," ",1E-4,"X","X","X","X","X","X","X","X","X","X"]
["Forb","Nodding Bur Marigold","Bidens cernua"," ","X","X","X","X","X"," ",1E-4,"X","X","X","X","X","X","X","X","X","X"]
["Forb","Northern Bedstraw","Galium boreale  "," ","X","X","X","X","X"," ",1E-4,"X","X","X","X","X","X","X","X","X","X"]
["Forb","Northern Water Plantain","Alisma triviale"," "," ","X","X","X","X"," ",1E-4,"X","X","X","X","X","X","X","X","X","X"]
["Forb","Northern Willow Herb","Epilobium ciliatum"," "," ","X","X","X","X"," ",1E-4,"X","X","X","X","X","X","X","X","X","X"]
["Forb","Obedient Plant","Physostegia virginiana  "," ","X","X","X","X","X"," ",1E-4," ","X","X","X","X"," ","X","X","X"," "]
["Forb","Ohio Spiderwort","Tradescantia ohiensis  ","X","X","X","X","X"," "," ",1E-4,"X","X","X","X","X","X","X","X","X","X"]
["Forb","Old Field Goldenrod","Solidago nemoralis  ","X","X"," ","X","X"," "," ",1E-4,"X","X","X","X","X","X","X","X","X","X"]
["Forb","Ontario Blazing Star","Liatris cylindracea  ","X","X"," ","X","X"," "," ",1E-4," "," ","X"," ","X","X"," "," "," "," "]
["Forb","Oval-leaf Milkweed","Asclepias ovalifolia","X"," "," ","X"," "," "," ",1E-4," "," "," ","X","X","X"," "," "," "," "]
["Forb","Oxeye, False Sunflower","Heliopsis helianthoides  ","X","X","X","X","X"," "," ",1E-4,"X","X","X","X","X","X","X","X","X","X"]
["Forb","Pale Beardtongue","Penstemon pallidus ","X","X"," ","X","X"," ","X",1E-4," ","X","X"," ","X"," ","X","X","X"," "]
["Forb","Pale Dock","Rumex altissimus  "," ","X","X","X","X"," "," ",1E-4,"X","X","X","X","X","X","X","X","X","X"]
["Forb","Pale Indian Plaintain","Arnoglossum atriplicifolium","X","X"," ","X","X"," ","X",1E-4," ","X","X"," "," ","X","X","X","X","X"]
["Forb","Pale Purple Coneflower","Echinacea pallida  ","X","X"," ","X","X"," ","X",1E-4,"X","X","X","X","X","X","X","X","X","X"]
["Forb","Pale Spiked Lobelia","Lobelia spicata","X","X","X","X","X"," ","X",1E-4,"X","X","X","X","X","X","X","X","X","X"]
["Forb","Pale Touch-Me-Not, Jewel Weed","Impatiens pallida  "," ","X","X"," ","X"," ","X",1E-4,"X","X","X","X","X","X","X","X","X","X"]
["Forb","Paleleaf Woodland Sunflower","Helianthus strumosus ","X"," "," ","X","X"," ","X",1E-4,"X","X","X","X","X","X","X","X","X","X"]
["Forb","Panicledleaf Ticktrefoil","Desmodium paniculatum  ","X","X"," "," ","X"," ","X",1E-4," ","X","X","X","X","X","X","X","X"," "]
["Forb","Partridge Pea","Chamaecrista fasciculata","X","X"," ","X","X"," "," ",1E-4,"X","X","X","X","X","X","X","X","X","X"]
["Forb","Pennsylvania Smartweed","Polygonum pensylvanicum "," "," ","X","X","X","X"," ",1E-4,"X","X","X","X","X","X","X","X","X","X"]
["Forb","Pickerel-weed","Pontederia cordata"," "," ","X"," "," ","X"," ",1E-4,"X","X","X","X","X","X","X","X","X","X"]
["Forb","Pitcher's Sage","Salvia azurea  ","X"," "," ","X","X"," "," ",1E-4," ","X","X"," "," ","X"," "," ","X","X"]
["Forb","Pointed Ticktrefoil","Desmodium glutinosum  "," ","X"," "," ","X"," ","X",1E-4,"X","X","X","X","X","X","X","X","X","X"]
["Forb","Poke Milkweed","Asclepias exaltata"," ","X"," "," ","X"," ","X",1E-4," "," ","X"," ","X"," "," "," "," "," "]
["Forb","Prairie Blazing Star","Liatris pycnostachya  ","X","X","X","X","X"," "," ",1E-4,"X","X","X","X","X","X","X","X","X","X"]
["Forb","Prairie Blue-eyed Grass","Sisyrinchium campestre","X","X"," ","X","X"," "," ",1E-4,"X","X","X","X","X","X","X","X","X","X"]
["Forb","Prairie Buttercup","Ranunculus rhomboideus  ","X","X"," ","X","X"," "," ",1E-4," ","X"," ","X","X","X"," "," "," "," "]
["Forb","Prairie Cinquefoil","Potentilla arguta  ","X","X"," ","X","X"," "," ",1E-4,"X","X","X","X","X","X","X","X","X","X"]
["Forb","Prairie Coreopsis","Coreopsis palmata  ","X","X"," ","X","X"," "," ",1E-4,"X","X","X","X","X","X","X","X","X","X"]
["Forb","Prairie Dodder","Cuscuta pentagona  "," ","X"," ","X"," "," "," ",1E-4," ","X"," "," "," ","X","X","X"," "," "]
["Forb","Prairie Larkspur","Delphinium virescens  ","X","X"," ","X","X"," "," ",1E-4,"X","X","X","X","X","X","X","X","X","X"]
["Forb","Prairie Parsley","Polytaenia nuttallii  ","X","X"," ","X","X"," "," ",1E-4," ","X"," "," ","X"," ","X"," "," ","X"]
["Forb","Prairie Phlox","Phlox pilosa ","X","X"," ","X","X"," "," ",1E-4,"X","X","X","X","X","X","X","X","X","X"]
["Forb","Prairie Ragwort","Senecio plattensis  ","X","X"," ","X","X"," ","X",1E-4,"X","X","X","X","X","X","X","X","X","X"]
["Forb","Prairie Rosinweed","Silphium terebinthinaceum ","X","X","X","X","X"," "," ",1E-4," ","X","X"," ","X"," "," "," "," "," "]
["Forb","Prairie Smoke, Purple Avens","Geum triflorum  ","X","X"," ","X","X"," "," ",1E-4," "," ","X"," ","X","X"," "," "," "," "]
["Forb","Prairie Spiderwort","Tradescantia bracteata  ","X","X"," ","X","X"," "," ",1E-4," ","X"," ","X","X","X"," ","X"," ","X"]
["Forb","Prairie Sunflower","Helianthus pauciflorus  ","X","X"," ","X","X"," "," ",1E-4,"X","X","X","X","X","X","X","X","X","X"]
["Forb","Prairie Violet","Viola pedatifida  ","X","X"," ","X","X"," "," ",1E-4,"X","X","X","X","X","X","X","X","X","X"]
["Forb","Purple Coneflower","Echinacea purpurea  ","X","X","X","X","X"," "," ",1E-4," ","X"," "," "," "," ","X","X","X"," "]
["Forb","Purple Giant Hyssop","Agastache scrophulariifolia"," ","X"," "," ","X"," ","X",1E-4," ","X","X","X","X"," ","X","X"," "," "]
["Forb","Purple Meadow-rue","Thalictrum dasycarpum  "," ","X","X","X","X","X","X",1E-4,"X","X","X","X","X","X","X","X","X","X"]
["Forb","Purple Milkweed","Asclepias purpurascens","X","X"," ","X","X"," ","X",1E-4,"X","X","X","X","X","X","X","X","X","X"]
["Forb","Purple Poppymallow","Callirhoe involucrata","X","X"," ","X","X"," "," ",1E-4," ","X"," "," "," ","X","X","X","X"," "]
["Forb","Purple Prairie Clover","Dalea purpurea ","X","X"," ","X","X"," "," ",1E-4,"X","X","X","X","X","X","X","X","X","X"]
["Forb","Purple Rattlesnakeroot","Prenanthes racemosa  ","X","X","X","X"," "," "," ",1E-4,"X","X","X","X","X","X","X","X","X","X"]
["Forb","Purpleleaf Willowherb","Epilobium coloratum "," ","X","X"," "," ","X","X",1E-4,"X","X","X","X","X","X","X","X","X","X"]
["Forb","Purplestem Angelica","Angelica atropurpurea"," ","X","X"," "," ","X","X",1E-4," ","X","X","X","X"," "," ","X"," "," "]
["Forb","Purplestem Beggarticks","Bidens connata"," ","X","X","X","X","X"," ",1E-4,"X","X","X","X","X","X","X","X","X","X"]
["Forb","Rattle Box","Crotalaria sagittalis  ","X"," "," ","X","X"," ","X",1E-4,"X","X","X","X","X","X","X","X","X","X"]
["Forb","Rattlesnake Master","Eryngium yuccifolium  ","X","X","X","X","X"," "," ",1E-4,"X","X","X","X","X","X","X","X","X","X"]
["Forb","Rattlesnake-root, White Lettuce","Prenanthes alba  ","X","X"," ","X","X"," ","X",1E-4,"X","X","X","X","X","X","X","X","X","X"]
["Forb","Red Baneberry","Actaea rubra"," ","X"," "," ","X"," ","X",1E-4,"X","X","X","X","X","X","X","X","X","X"]
["Forb","Red Clover (Medium) (Intro. Forb)","Trifolium pratense L.","X","X"," ","X","X"," "," ",1E-4,"X","X","X","X","X","X","X","X","X","X"]
["Forb","Riddell's Goldenrod","Oligoneuron riddellii "," ","X","X","X"," ","X"," ",1E-4," ","X","X","X","X","X"," ","X"," ","X"]
["Forb","Robin's Plantain","Erigeron pulchellus  "," ","X"," "," ","X"," ","X",1E-4," ","X","X"," ","X"," "," "," "," "," "]
["Forb","Rock Sandwort","Minuartia michauxii","X"," "," ","X","X"," "," ",1E-4," ","X","X"," ","X","X"," "," "," "," "]
["Forb","Rosinweed","Silphium integrifolium ","X","X","X","X","X"," "," ",1E-4,"X","X","X","X","X","X","X","X","X","X"]
["Forb","Rough Blazing Star","Liatris aspera  ","X","X"," ","X","X"," "," ",1E-4,"X","X","X","X","X","X","X","X","X","X"]
["Forb","Rough Bugleweed","Lycopus asper"," "," ","X"," "," ","X"," ",1E-4," "," ","X","X","X","X"," ","X","X","X"]
["Forb","Rough White Lettuce","Prenanthes aspera  ","X","X"," ","X","X"," "," ",1E-4," ","X"," "," "," ","X","X"," ","X","X"]
["Forb","Round-headed Bush Clover","Lespedeza capitata  ","X","X"," ","X","X"," "," ",1E-4,"X","X","X","X","X","X","X","X","X","X"]
["Forb","Roundseed St. Johnswort","Hypericum sphaerocarpum","X","X","  ","X","X"," ","X",1E-4,"X","X","X","X","X","X","X","X","X","X"]
["Forb","Rue Anemone","Thalictrum thalictroides"," ","X"," "," ","X"," ","X",1E-4,"X","X","X","X","X","X","X","X","X","X"]
["Forb","Sand Primrose","Oenothera rhombipetala ","X"," "," ","X"," "," "," ",1E-4," ","X","X"," ","X"," ","X","X"," "," "]
["Forb","Saw-tooth Sunflower","Helianthus grosseserratus  "," ","X","X","X","X","X"," ",1E-4,"X","X","X","X","X","X","X","X","X","X"]
["Forb","Scaly Blazing Star","Liatris squarrosa  ","X","X"," ","X","X"," ","X",1E-4," ","X"," ","X"," ","X","X","X","X","X"]
["Forb","Scarlet Gaura","Gaura coccinea  ","X"," "," ","X"," "," "," ",1E-4," ","X"," "," "," ","X","X"," ","X","X"]
["Forb","Scurfy Pea","Psoralidium tenuiflorum ","X"," "," ","X","X"," "," ",1E-4," ","X","X","X"," "," ","X","X","X","X"]
["Forb","Seedbox","Ludwigia alternifolia"," "," ","X","X"," ","X","X",1E-4," ","X","X"," "," ","X","X","X"," "," "]
["Forb","Sessileleaf Ticktrefoil","Desmodium sessilifolium ","X"," "," "," ","X"," ","X",1E-4," ","X"," "," ","X"," "," ","X"," "," "]
["Forb","Shooting Star","Dodecatheon meadia  ","X","X"," ","X","X"," "," ",1E-4," ","X","X","X","X","X","X","X","X"," "]
["Forb","Short's Aster","Symphyotrichum shortii","X","X"," "," ","X"," ","X",1E-4," ","X","X","X","X","X"," ","X","X"," "]
["Forb","Showy Goldenrod","Solidago speciosa ","X","X"," ","X","X"," ","X",1E-4,"X","X","X","X","X","X","X","X","X","X"]
["Forb","Showy Ticktrefoil","Desmodium canadense  ","X","X","X","X","X"," ","X",1E-4,"X","X","X","X","X","X","X","X","X","X"]
["Forb","Silky Aster","Symphyotrichum sericeum","X"," "," ","X","X"," "," ",1E-4,"X","X","X","X","X","X","X","X","X","X"]
["Forb","Slender Bush Clover","Lespedeza virginica  ","X","X"," ","X","X"," ","X",1E-4," ","X"," "," "," "," ","X","X","X"," "]
["Forb","Slender Mountain Mint","Pycnanthemum tenuifolium  ","X","X","X","X","X"," "," ",1E-4,"X","X","X","X","X","X","X","X","X","X"]
["Forb","Slenderleaf False Foxglove","Agalinis tenuifolia"," ","X","X","X","X","X"," ",1E-4,"X","X","X","X","X","X","X","X","X","X"]
["Forb","Smooth Blue Aster","Symphyotrichum laeve","X","X","X","X","X"," "," ",1E-4,"X","X","X","X","X","X","X","X","X","X"]
["Forb","Smooth Carrionflower","Smilax herbacea"," "," "," "," "," "," "," ",1E-4,"X","X","X","X","X","X","X","X","X","X"]
["Forb","Smooth Goldenrod","Solidago gigantea  "," ","X","X","X","X","X","X",1E-4,"X","X","X","X","X","X","X","X","X","X"]
["Forb","Smooth Violet Prairie Aster","Symphyotrichum turbinellum ","X","X"," ","X","X"," ","X",1E-4," "," "," "," "," "," "," ","X"," "," "]
["Forb","Sneezeweed","Helenium autumnale  "," ","X","X","X","X","X"," ",1E-4,"X","X","X","X","X","X","X","X","X","X"]
["Forb","Snowy Campion","Silene nivea "," ","X"," ","X","X"," ","X",1E-4," ","X"," "," ","X"," "," ","X"," "," "]
["Forb","Soft-hair Marbleseed","Onosmodium bejariense ","X"," "," ","X","X"," "," ",1E-4," ","X","X","X","X"," ","X","X","X","X"]
["Forb","Solomon's Seal","Polygonatum biflorum  ","X","X"," "," ","X"," ","X",1E-4,"X","X","X","X","X","X","X","X","X","X"]
["Forb","Spikenard","Aralia racemosa"," ","X"," "," "," "," ","X",1E-4,"X","X","X","X","X","X","X","X","X","X"]
["Forb","Spotted Horsemint","Monarda punctata ","X","X"," ","X","X"," "," ",1E-4," ","X","X"," ","X"," ","X","X","X"," "]
["Forb","Spotted Joe Pye Weed","Eutrochium maculatum"," ","X","X","X","X","X"," ",1E-4," ","X","X","X","X","X","X","X","X"," "]
["Forb","Spotted St. Johnswort","Hypericum punctatum  "," ","X","X","X","X"," ","X",1E-4," ","X","X","X","X","X","X","X","X"," "]
["Forb","Spotted Touch-Me-Not","Impatiens capensis  "," ","X","X"," ","X","X","X",1E-4,"X","X","X","X","X","X","X","X","X","X"]
["Forb","Square-stemmed Monkeyflower","Mimulus ringens  "," ","X","X","X"," ","X","X",1E-4,"X","X","X","X","X","X","X","X","X","X"]
["Forb","Starry Campion","Silene stellata ","X","X"," ","X","X"," ","X",1E-4," ","X","X","X","X","X","X","X","X"," "]
["Forb","Stiff Gentian","Gentianella quinquefolia  ","X","X"," ","X","X"," ","X",1E-4," ","X","X","X","X"," "," "," "," "," "]
["Forb","Stiff Goldenrod","Oligoneuron rigidum ","X","X"," ","X","X"," "," ",1E-4,"X","X","X","X","X","X","X","X","X","X"]
["Forb","Stiff Sandwort","Arenaria stricta","X"," "," ","X","X"," "," ",1E-4," "," ","X"," ","X"," "," "," "," "," "]
["Forb","Stiff Sunflower","Helianthus pauciflorus  ","X","X"," ","X","X"," "," ",1E-4,"X","X","X","X","X","X","X","X","X","X"]
["Forb","Stinking Clover","Cleome serrulata  ","X"," "," ","X","X"," "," ",1E-4," "," "," "," "," ","X"," "," "," "," "]
["Forb","Stout Blue-eyed Grass","Sisyrinchium angustifolium  "," ","X","X","X","X"," ","X",1E-4," ","X","X"," ","X"," ","X","X","X","X"]
["Forb","Sullivant's Milkweed","Asclepias sullivantii"," ","X","X","X"," "," "," ",1E-4," ","X","X","X","X","X","X"," ","X","X"]
["Forb","Swamp Aster","Symphyotrichum puniceum"," "," ","X","X"," ","X"," ",1E-4," ","X"," ","X","X","X","X","X"," "," "]
["Forb","Swamp Buttercup","Ranunculus septentrionalis"," ","X","X"," "," "," ","X",1E-4,"X","X","X","X","X","X","X","X","X","X"]
["Forb","Swamp Candle","Lysimachia terrestris  "," "," ","X","X","X"," "," ",1E-4," ","X","X","X","X"," ","X","X","X","X"]
["Forb","Swamp Lousewort","Pedicularis lanceolata  "," ","X","X","X"," ","X"," ",1E-4,"X","X","X","X","X","X","X","X","X","X"]
["Forb","Swamp Milkweed","Asclepias incarnata"," ","X","X","X","X","X"," ",1E-4,"X","X","X","X","X","X","X","X","X","X"]
["Forb","Swamp Saxifrage","Saxifraga pensylvanica  "," "," ","X"," ","X","X","X",1E-4," ","X","X","X","X"," ","X","X"," "," "]
["Forb","Swamp Thistle","Cirsium muticum "," "," ","X","X"," ","X"," ",1E-4," ","X","X","X","X","X"," "," "," "," "]
["Forb","Sweet Cicely","Osmorhiza claytonii  "," ","X"," "," "," "," ","X",1E-4,"X","X","X","X","X","X","X","X","X","X"]
["Forb","Sweet Coneflower","Rudbeckia subtomentosa  "," ","X","X","X","X","X"," ",1E-4," ","X","X","X","X"," ","X","X","X"," "]
["Forb","Sweet Joe Pye Weed","Eupatorium purpureum  "," ","X"," "," ","X"," ","X",1E-4,"X","X","X","X","X","X","X","X","X","X"]
["Forb","Sweet William","Phlox divaricata "," ","X"," "," ","X"," ","X",1E-4,"X","X","X","X","X","X","X","X","X","X"]
["Forb","Sweetflag","Acorus calamus"," "," ","X","X"," ","X"," ",1E-4," ","X"," "," ","X"," "," "," ","X","X"]
["Forb","Tall Bellflower","Campanula americana  "," ","X"," "," ","X"," ","X",1E-4,"X","X","X","X","X","X","X","X","X","X"]
["Forb","Tall Boneset","Eupatorium altissimum  ","X","X"," ","X","X"," ","X",1E-4,"X","X","X","X","X","X","X","X","X","X"]
["Forb","Tall Coreopsis","Coreopsis tripteris  ","X","X"," ","X","X"," "," ",1E-4," ","X"," "," "," "," ","X","X","X"," "]
["Forb","Tall Goldenrod","Solidago canadensis","X","X"," ","X","X"," ","X",1E-4,"X","X","X","X","X","X","X","X","X","X"]
["Forb","Tall Green Milkweed","Asclepias hirtella","X","X"," ","X"," "," "," ",1E-4," "," ","X","X","X"," ","X","X","X"," "]
["Forb","Tall Ironweed","Vernonia gigantea  "," ","X","X","X"," "," ","X",1E-4," "," "," "," "," "," ","X"," ","X"," "]
["Forb","Tall Sunflower","Helianthus giganteus"," "," ","X","X"," ","X"," ",1E-4," ","X","X"," "," "," ","X","X"," "," "]
["Forb","Tall Thimbleweed","Anemone virginiana","X","X"," ","X","X"," ","X",1E-4,"X","X","X","X","X","X","X","X","X","X"]
["Forb","Thimbleweed","Anemone cylindrica","X","X"," ","X","X"," "," ",1E-4,"X","X","X","X","X","X","X","X","X","X"]
["Forb","Tower Rockcress","Arabis glabra","X","X"," ","X","X"," "," ",1E-4," ","X","X"," ","X"," ","X","X"," "," "]
["Forb","Tufted Loosestrife","Lysimachia thyrsiflora"," "," ","X","X","X","X"," ",1E-4," ","X","X","X","X","X"," ","X"," "," "]
["Forb","Twoflower Dwarfdandelion","Krigia biflora ","X","X"," ","X","X"," ","X",1E-4," ","X","X","X","X","X","X","X"," "," "]
["Forb","Upland White Aster","Oligoneuron album ","X"," "," ","X"," "," "," ",1E-4," ","X","X","X","X","X"," ","X","X","X"]
["Forb","Upright Burhead","Echinodorus berteroi"," "," ","X"," "," ","X"," ",1E-4," "," "," "," ","X","X"," ","X","X"," "]
["Forb","Venus' Looking-glass","Triodanis perfoliata  ","X","X"," ","X","X"," ","X",1E-4," ","X","X","X","X","X"," ","X","X","X"]
["Forb","Violet Wood Sorrel","Oxalis violacea  ","X","X"," ","X","X"," ","X",1E-4,"X","X","X","X","X","X","X","X","X","X"]
["Forb","Virginia Mountain Mint","Pycnanthemum virginianum "," ","X","X","X","X","X"," ",1E-4,"X","X","X","X","X","X","X","X","X","X"]
["Forb","Virginia Springbeauty","Claytonia virginica ","X","X","X"," ","X"," ","X",1E-4,"X","X","X","X","X","X","X","X","X","X"]
["Forb","Virginia Waterleaf","Hydrophyllum virginianum "," ","X","X"," ","X"," ","X",1E-4,"X","X","X","X","X","X","X","X","X","X"]
["Forb","Water Hemlock","Cicuta maculata  "," "," ","X","X","X","X"," ",1E-4,"X","X","X","X","X","X","X","X","X","X"]
["Forb","Water Horehound","Lycopus americanus  "," "," ","X","X"," ","X"," ",1E-4,"X","X","X","X","X","X","X","X","X","X"]
["Forb","Water Plantain","Alisma subcordatum  "," "," ","X"," "," ","X"," ",1E-4,"X","X","X","X","X","X","X","X","X","X"]
["Forb","Water Smartweed","Polygonum punctatum "," ","X","X","X","X","X"," ",1E-4,"X","X","X","X","X","X","X","X","X","X"]
["Forb","Western Beardtongue","Penstemon tubiflorus ","X","X"," ","X","X"," ","X",1E-4," ","X","X","X"," "," "," ","X"," "," "]
["Forb","Western Spiderwort","Tradescantia occidentalis  "," ","X"," ","X","X"," "," ",1E-4," ","X"," "," ","X","X"," "," ","X","X"]
["Forb","Western Sunflower","Helianthus occidentalis  ","X","X"," ","X","X"," "," ",1E-4," ","X","X"," ","X"," "," ","X"," ","X"]
["Forb","White Arrowleaf Aster","Symphyotrichum urophyllum","X"," "," "," ","X"," ","X",1E-4," ","X","X","X","X"," ","X","X","X","X"]
["Forb","White Baneberry","Actaea pachypoda"," ","X","X"," ","X"," ","X",1E-4," ","X","X","X","X"," ","X","X","X"," "]
["Forb","White Camass","Zigadenus elegans  "," "," ","X","X","X"," "," ",1E-4," ","X"," ","X","X","X"," "," "," "," "]
["Forb","White Clover (Intro. Forb)","Trifolium repens L.","X","X"," ","X","X"," "," ",1E-4,"X","X","X","X","X","X","X","X","X","X"]
["Forb","White Doll's Daisy","Boltonia asteroides"," ","X","X","X","X","X"," ",1E-4," ","X"," ","X"," ","X"," ","X"," "," "]
["Forb","White Fawnlily","Erythronium albidum ","  ","X","X","  ","X","  ","X",1E-4,"X","X","X","X","X","X","X","X","X","X"]
["Forb","White Panicle Aster","Symphyotrichum lanceolatum"," ","X","X","X"," ","X","X",1E-4,"X","X","X","X","X","X","X","X","X","X"]
["Forb","White Prairie Blue-eyed Grass","Sisyrinchium campestre alba","X","X"," ","X","X"," "," ",1E-4,"X","X","X","X","X","X","X","X","X","X"]
["Forb","White Prairie Clover","Dalea candida ","X","X"," ","X","X"," "," ",1E-4,"X","X","X","X","X","X","X","X","X","X"]
["Forb","White Sage","Artemisia ludoviciana","X","X"," ","X","X"," "," ",1E-4,"X","X","X","X","X","X","X","X","X","X"]
["Forb","White Snakeroot","Ageratina altissima","X","X"," "," ","X"," ","X",1E-4,"X","X","X","X","X","X","X","X","X","X"]
["Forb","White Turtlehead","Chelone glabra  "," ","X","X","X","X","X","X",1E-4,"X","X","X","X","X","X","X","X","X","X"]
["Forb","White Wild Indigo","Baptisia alba","X","X","X","X","X"," "," ",1E-4,"X","X","X","X","X","X","X","X","X","X"]
["Forb","Whiteflower Leafcup","Polymnia canadensis "," ","X"," "," ","X"," ","X",1E-4," "," ","X"," ","X"," "," ","X"," "," "]
["Forb","Whorled Milkweed","Asclepias verticillata","X","X"," ","X","X"," "," ",1E-4,"X","X","X","X","X","X","X","X","X","X"]
["Forb","Wild Bergamot","Monarda fistulosa ","X","X","X","X","X"," ","X",1E-4,"X","X","X","X","X","X","X","X","X","X"]
["Forb","Wild Blue Larkspur","Delphinium carolinianum  ","X"," "," ","X","X"," "," ",1E-4," ","X","X"," "," "," ","X","X"," "," "]
["Forb","Wild Flax","Linum sulcatum  ","X"," "," ","X"," "," "," ",1E-4,"X","X","X","X","X","X","X","X","X","X"]
["Forb","Wild Four-O'clock","Mirabilis nyctaginea  ","X","X"," ","X","X"," "," ",1E-4,"X","X","X","X","X","X","X","X","X","X"]
["Forb","Wild Garlic","Allium canadense","X","X","X","X","X"," "," ",1E-4,"X","X","X","X","X","X","X","X","X","X"]
["Forb","Wild Geranium","Geranium maculatum  "," ","X"," "," ","X"," ","X",1E-4,"X","X","X","X","X","X","X","X","X","X"]
["Forb","Wild Leek","Allium tricoccum"," ","X"," "," ","X"," ","X",1E-4,"X","X","X","X","X","X","X","X","X","X"]
["Forb","Wild Licorice","Glycyrrhiza lepidota  "," ","X","X","X"," "," "," ",1E-4,"X","X","X","X","X","X","X","X","X","X"]
["Forb","Wild Mint","Mentha arvensis  "," "," ","X","X","X","X"," ",1E-4,"X","X","X","X","X","X","X","X","X","X"]
["Forb","Wild Petunia","Ruellia humilis  ","X","X"," ","X"," "," ","X",1E-4,"X","X","X","X","X","X","X","X","X","X"]
["Forb","Wild Prairie Onion","Allium stellatum","X","X"," ","X","X"," "," ",1E-4," ","X"," ","X","X","X"," "," "," "," "]
["Forb","Wild Quinine","Parthenium integrifolium  ","X","X","X","X","X"," "," ",1E-4," ","X","X","X","X"," ","X","X"," "," "]
["Forb","Wild Stonecrop","Sedum ternatum  "," ","X"," "," ","X"," ","X",1E-4," ","X","X"," ","X"," "," ","X"," "," "]
["Forb","Wild Sweet William","Phlox maculata "," ","X","X"," "," "," ","X",1E-4," ","X","X","X","X","X","X","X"," "," "]
["Forb","Willow Aster","Symphyotrichum praealtum"," ","X","X","X"," ","X"," ",1E-4," ","X","X","X","X"," ","X","X"," "," "]
["Forb","Winged Loosestrife","Lythrum alatum  "," ","X","X","X"," ","X"," ",1E-4,"X","X","X","X","X","X","X","X","X","X"]
["Forb","Wingstem","Verbesina alternifolia"," ","X","X"," ","X"," ","X",1E-4," ","X"," ","X"," "," ","X","X"," "," "]
["Forb","Woman's Tobacco","Antennaria plantaginifolia","X","X"," ","X","X"," ","X",1E-4,"X","X","X","X","X","X","X","X","X","X"]
["Forb","Wood Lily","Lilium philadelphicum  "," ","X","X","X","X"," "," ",1E-4,"X","X","X","X","X","X","X","X","X","X"]
["Forb","Woodland Sunflower","Helianthus divaricatus ","X","X"," "," ","X"," ","X",1E-4," ","X","X"," ","X","X"," ","X","X"," "]
["Forb","Wooly Plantain","Plantago patagonica","X"," "," ","X"," "," "," ",1E-4,"X","X","X","X","X","X","X","X","X","X"]
["Forb","Woundwort","Stachys palustris   "," "," ","X","X","X","X"," ",1E-4,"X","X","X","X","X","X","X","X","X","X"]
["Forb","Yellow Avens","Geum aleppicum"," ","X","X"," "," ","X","X",1E-4," "," ","X","X","X","X"," "," ","X"," "]
["Forb","Yellow Giant Hyssop","Agastache nepetoides"," ","X","X"," "," "," ","X",1E-4," ","X","X"," ","X","X","X","X"," "," "]
["Forb","Yellow Pimpernel","Taenidia integerrima  ","X"," "," ","X","X"," ","X",1E-4,"X","X","X","X","X","X","X","X","X","X"]
["Forb","Zigzag Goldenrod","Solidago flexicaulis  "," ","X","X"," "," "," ","X",1E-4," ","X","X","X","X"," ","X","X","X","X"]

{"sheet":"Woody","index":7,"n_rows":162,"n_cols":35,"rows_kept":162,"cut":false,"hidden":false,"merged":[[0,3,0,5],[0,6,0,9],[0,11,0,20]]}
[null,null,null,"Moisture Regime",null,null,"Habitat",null,null,null,null,"REGION"]
["Plant Type","Common Name","Scientific Name","Dry","Medium","Wet","Prairie","Savanna","Wetland","Woodland","Short-term Program (Y = < $0.3)","All","C","EC","NC","NE","NW","SC","SE","SW","WC","Pure Stand Seeding Rate PLS lbs/acre","Seeding Rate Oz/ac PLS","Seeds/sq foot","Estimated Cost/oz","Estimated Cost/lb","Seeds/oz","Seeds/sq ft @ 1oz/ac","Seeds/sq ft @ 16oz/ac","% of Mixture","Flowering Period","Coefficient of Conservatism","Functional Group","Germination","monarch"]
["Leave this row blank",null," ","X","X","X","X","X","X","X",1.0000000000000001E-5,"X","X","X","X","X","X","X","X","X","X"]
["Woody","American Cranberrybush  ","Viburnum opulus  "," ","X"," "," ","X"," ","X",1E-4," ","X"," "," ","X"," "," ","X"," "," ",{"$f":"35/AC4","v":139.92290748898679},null,null,null,null,681,{"$f":"AA4/43560","v":1.5633608815426997E-2},{"$f":"AB4*16","v":0.25013774104683195},null,"Spring, Summer",0,"Shrub","Cold Moist, Warm Moist, Cold Moist Stratification"]
["Woody","American Cranberrybush  ","Viburnum trilobum"," ","X"," "," ","X"," ","X",1E-4," "," "," "," ","X"," "," "," "," "," ",139.92290748898679,null,null,null,null,681,1.5633608815426997E-2,0.25013774104683195,null,"Spring, Summer",0,"Shrub","Cold Period Required, Clone"]
["Woody","American Hazelnut  ","Corylus americana  ","X","X"," "," ","X"," ","X",1E-4,"X","X","X","X","X","X","X","X","X","X",4537.5,null,null,null,null,21,4.8209366391184575E-4,7.7134986225895321E-3,null,"Spring",5,"Shrub","Fall Plant Seed"]
["Woody","American Linden, Basswood","Tilia americana"," ","X"," "," "," "," ","X",1E-4,"X","X","X","X","X","X","X","X","X","X",20.98843612334802,null,null,null,null,4540,0.10422405876951331,1.6675849403122129,null,"Summer",5,"Tree"]
["Woody","American Plum","Prunus americana "," ","X"," "," ","X"," ","X",1E-4,"X","X","X","X","X","X","X","X","X","X",1764.5833333333333,null,null,null,null,54,1.2396694214876034E-3,1.9834710743801654E-2,null,"Spring",3,"Shrub","Cold Moist Stratification",1]
["Woody","Arrowwood Viburnum  ","Viburnum dentatum  ","X","X"," "," ","X"," ","X",1E-4," ","X"," "," ","X"," "," "," ","X"," ",79.076763485477173,null,null,null,null,1205,2.7662993572084481E-2,0.44260789715335169,null,"Summer","**","Shrub","Cold Period Required, Clone"]
["Woody","Big-tooth Aspen","Populus grandidentata","X","X"," "," "," "," ","X",1E-4," ","X","X","X","X"," "," ","X"," "," ",0.33581497797356824,null,null,null,null,283750,6.5140036730945825,104.22405876951332,null,"Spring",5,"Tree"]
["Woody","Bitternut Hickory","Carya cordiformis","X","X"," "," "," "," ","X",1E-4,"X","X","X","X","X","X","X","X","X","X",19057.5,null,null,null,null,5,1.147842056932966E-4,1.8365472910927456E-3,null,"Spring",4,"Tree"]
["Woody","Bittersweet","Celastrus scandens","X","X"," "," "," "," ","X",1E-4,"X","X","X","X","X","X","X","X","X","X",52.9375,null,null,null,null,1800,4.1322314049586778E-2,0.66115702479338845,null,"Spring, Summer",3,"Woody Vine","Cold Moist Stratification"]
["Woody","Black Cherry","Prunus serotina ","X","X"," "," ","X"," ","X",1E-4,"X","X","X","X","X","X","X","X","X","X",305.40865384615387,null,null,null,null,312,7.1625344352617077E-3,0.11460055096418732,null,"Spring, Summer",3,"Tree","Cold Moist Stratification",1]
["Woody","Black Chokeberry","Photinia melanocarpa","X","X"," ","X","X"," ","X",1E-4," "," "," "," ","X"," "," "," "," "," ",0.67772048364153625,null,null,null,null,140600,3.2277318640955004,51.643709825528006,null,"Spring, Summer",10,"Shrub","Cold Moist Stratification"]
["Woody","Black Elderberry","Sambucus canadensis "," ","X"," ","X","X"," ","X",1E-4,"X","X","X","X","X","X","X","X","X","X",5.5050840603154434,null,null,null,null,17309,0.39735996326905415,6.3577594123048664,null,"Summer",3,"Shrub"]
["Woody","Black Oak","Quercus velutina","X","X"," "," ","X"," ","X",1E-4,"X","X","X","X","X","X","X","X","X","X",4764.375,null,null,null,null,20,4.591368227731864E-4,7.3461891643709825E-3,null,"Spring",5,"Tree"]
["Woody","Black Walnut","Juglans nigra"," ","X"," "," "," "," ","X",1E-4,"X","X","X","X","X","X","X","X","X","X",47643.75,null,null,null,null,2,4.5913682277318639E-5,7.3461891643709823E-4,null,"Spring",4,"Tree"]
["Woody","Blackhaw","Viburnum prunifolium ","X","X"," "," "," "," ","X",1E-4," ","X","X"," ","X"," "," ","X","X"," ",231.84306569343067,null,null,null,null,411,9.4352617079889803E-3,0.15096418732782368,null,"Spring",7,"Shrub","Cold Moist, Warm Moist, Cold Moist Stratification"]
["Woody","Bladdernut  ","Staphylea trifolia  "," ","X"," "," "," "," ","X",1E-4,"X","X","X","X","X","X","X","X","X","X",224.20588235294116,null,null,null,null,425,9.7566574839302121E-3,0.15610651974288339,null,"Spring,",8,"Shrub","Cold Period Required",1]
["Woody","Blue Ridge Carrionflower","Smilax lasioneura "," ","X"," "," "," "," ","X",1E-4,"X","X","X","X","X","X","X","X","X","X",190.57500000000002,null,null,null,null,500,1.1478420569329659E-2,0.18365472910927455,null,"Spring, Summer",5,"Herbaceous Vine","Cold Moist Stratification"]
["Woody","Bur Cucumber  ","Sicyos angulatus  "," ","X","X"," ","X","X","X",1E-4," ","X","X"," ","X"," "," ","X","X","X",346.5,null,null,null,null,275,6.313131313131313E-3,0.10101010101010101,null,"Summer, Fall",2,"Herbaceous Vine, Annual","Cold Moist Stratification"]
["Woody","Bur Oak  ","Quercus macrocarpa  ","X","X","X","X","X","X","X",1E-4,"X","X","X","X","X","X","X","X","X","X",23821.875,null,null,null,null,4,9.1827364554637278E-5,1.4692378328741965E-3,null,"Spring, Summer",5,"Tree","Plant Fresh Seed"]
["Woody","Butternut","Juglans cinerea","X","X"," "," "," "," ","X",1E-4," ","X","X","X","X"," ","X","X","X"," ",47643.75,null,null,null,null,2,4.5913682277318639E-5,7.3461891643709823E-4,null,"Spring, Summer",5,"Tree"]
["Woody","Buttonbush  ","Cephalanthus occidentalis  "," "," ","X","X","X","X","X",1E-4," ","X","X"," ","X"," ","X","X"," "," ",15.88125,null,null,null,null,6000,0.13774104683195593,2.2038567493112948,null,"Summer",6,"Shrub","Dry Cold Storage",1]
["Woody","Chinkapin Oak","Quercus muehlenbergii ","X","X"," "," ","X"," ","X",1E-4," ","X","X"," ","X"," ","X","X","X"," ",3811.5,null,null,null,null,25,5.7392102846648299E-4,9.1827364554637279E-3,null,"Spring",8,"Tree"]
["Woody","Chokecherry","Prunus virginiana"," ","X"," "," ","X"," ","X",1E-4,"X","X","X","X","X","X","X","X","X","X",335.5193661971831,null,null,null,null,284,6.5197428833792467E-3,0.10431588613406795,null,"Spring",4,"Shrub"]
["Woody","Common Hop Tree  ","Ptelea trifoliata  ","X","X"," "," ","X"," ","X",1E-4," "," ","X","X","X"," "," ","X"," "," ",158.8125,null,null,null,null,600,1.3774104683195593E-2,0.22038567493112948,null,"Spring, Summer",5,"Shrub","Cold Moist Stratification, Cold Period Required"]
["Woody","Common Witch Hazel  ","Hamamelis virginiana  "," ","X"," "," "," "," ","X",1E-4," "," ","X"," ","X"," "," ","X"," "," ",167.75968309859155,null,null,null,null,568,1.3039485766758493E-2,0.2086317722681359,null,"Fall",10,"Shrub","Fall Plant Seed"]
["Woody","Coralberry","Symphoricarpos orbiculatus ","X","X"," ","X","X"," "," ",1E-4," ","X"," ","X","X","X","X","X","X","X",17.015625,null,null,null,null,5600,0.12855831037649221,2.0569329660238753,null,"Summer",3,"Shrub",""]
["Woody","Cottonwood","Populus deltoides"," ","X","X"," ","X","X","X",1E-4,"X","X","X","X","X","X","X","X","X","X",3.587226593381772,null,null,null,null,26563,0.60980257116620751,9.7568411386593201,null,"Spring",2,"Tree"]
["Woody","Devil's-tongue","Opuntia humifusa ","X"," "," ","X","X"," "," ",1E-4," ","X","X"," ","X"," ","X","X","X"," ",68.0625,null,null,null,null,1400,3.2139577594123052E-2,0.51423324150596883,null,"Summer",6,"Cactus",""]
["Woody","Downy Serviceberry  ","Amelanchier arborea  "," ","X"," "," ","X"," ","X",1E-4," ","X","X","X","X"," ","X","X","X","X",209.88436123348018,null,null,null,null,454,1.0422405876951332E-2,0.16675849403122131,null,"Spring",7,"Tree","Fall Plant Seed"]
["Woody","Early Wild Rose  ","Rosa blanda  ","X","X","X","X","X"," ","X",1E-4,"X","X","X","X","X","X","X","X","X","X",36.64903846153846,null,null,null,null,2600,5.968778696051423E-2,0.95500459136822768,null,"Summer",5,"Sub-Shrub","Cold Moist Stratification, Scarification, Cold Period Required"]
["Woody","Fragrant False Indigo  ","Amorpha fruticosa  "," ","X","X","X"," ","X","X",1E-4,"X","X","X","X","X","X","X","X","X","X",25.753378378378379,null,null,null,null,3700,8.4940312213039479E-2,1.3590449954086317,null,"Summer",6,"Sub-Shrub, Legume","Cold Moist Stratification(10)"]
["Woody","Fragrant Sumac","Rhus aromatica ","X"," "," ","X","X"," "," ",1E-4," ","X","X"," ","X"," "," ","X"," "," ",105.875,null,null,null,null,900,2.0661157024793389E-2,0.33057851239669422,null,"Spring",7,"Shrub","Cold Moist Stratification, Scarification"]
["Woody","Gray Dogwood","Cornus racemosa"," ","X","X"," ","X"," ","X",1E-4,"X","X","X","X","X","X","X","X","X","X",{"$f":"35/AC36","v":134.39703808180536},null,null,null,null,709,{"$f":"AA36/43560","v":1.6276400367309457E-2},{"$f":"AB36*16","v":0.26042240587695131},null,"Spring",3,"Shrub","Cold Moist Stratification",1]
["Woody","Hackberry","Celtis occidentalis"," ","X","X"," ","X"," ","X",1E-4,"X","X","X","X","X","X","X","X","X","X",397.03125,null,null,null,null,240,5.5096418732782371E-3,8.8154269972451793E-2,null,"Spring",3,"Tree"]
["Woody","Illinois Rose  ","Rosa setigera  ","X","X","X","X","X"," ","X",1E-4," "," "," "," "," "," "," ","X","X"," ",9.5287500000000005,null,null,null,null,10000,0.2295684113865932,3.6730945821854912,null,"Summer",5,"Sub-Shrub","Cold Moist Stratification"]
["Woody","Kentucky Coffeetree","Gymnocladus dioicus"," ","X"," "," "," "," ","X",1E-4,"X","X","X","X","X","X","X","X","X","X",441.14583333333331,null,null,null,null,216,4.9586776859504135E-3,7.9338842975206617E-2,null,"Spring, Summer",6,"Tree"]
["Woody","Lead Plant  ","Amorpha canescens  ","X","X"," ","X","X"," "," ",1E-4,"X","X","X","X","X","X","X","X","X","X",5.9554687500000005,null,null,null,null,16000,0.3673094582185491,5.8769513314967856,null,"Summer",8,"Sub-Shrub, Legume","Cold Moist Stratification(10)",1]
["Woody","Mockernut Hickory","Carya alba","X","X"," "," "," "," ","X",1E-4," "," "," "," "," "," ","X","X","X"," ",19057.5,null,null,null,null,5,1.147842056932966E-4,1.8365472910927456E-3,null,"Spring",7,"Tree"]
["Woody","Nannyberry  ","Viburnum lentago  ","X","X"," "," ","X"," ","X",1E-4,"X","X","X","X","X","X","X","X","X","X",292.29294478527606,null,null,null,null,326,7.4839302112029386E-3,0.11974288337924702,null,"Spring, Summer",6,"Shrub","Cold Period Required, Clone",1]
["Woody","New Jersey Tea  ","Ceanothus americanus  ","X","X"," ","X","X"," "," ",1E-4,"X","X","X","X","X","X","X","X","X","X",12.537828947368421,null,null,null,null,7600,0.17447199265381083,2.7915518824609733,null,"Summer",8,"Sub-Shrub","Hot Water Treatment Or Scarification Needed, Cold Moist Stratification(70)"]
["Woody","Northern Dewberry","Rubus flagellaris","X","X"," ","X","X"," ","X",1E-4," "," ","X"," ","X"," "," ","X","X"," ",8.9682352941176475,null,null,null,null,10625,0.24391643709825528,3.9026629935720845,null,"Spring, Summer",5,"Sub-Shrub",null,1]
["Woody","Northern Pecan","Carya illinoinensis"," ","X"," "," "," "," ","X",1E-4," "," "," "," ","X"," "," ","X"," "," ",11910.9375,null,null,null,null,8,1.8365472910927456E-4,2.9384756657483929E-3,null,"Spring",6,"Tree"]
["Woody","Northern Pin Oak","Quercus ellipsoidalis ","X"," "," "," "," "," ","X",1E-4," "," ","X"," ","X"," "," ","X","X"," ",5293.75,null,null,null,null,18,4.1322314049586776E-4,6.6115702479338841E-3,null,"Spring",4,"Tree"]
["Woody","Pagoda Dogwood  ","Cornus alternifolia  "," ","X"," "," "," "," ","X",1E-4," ","X","X","X","X"," ","X","X"," "," ",173.25,null,null,null,null,550,1.2626262626262626E-2,0.20202020202020202,null,"Spring, Summer",8,"Tree","Cold Moist Stratification, Seeds Need Cold Period"]
["Woody","Pasture Rose  ","Rosa carolina  ","X","X"," ","X","X"," ","X",1E-4,"X","X","X","X","X","X","X","X","X","X",38.115000000000002,null,null,null,null,2500,5.73921028466483E-2,0.91827364554637281,null,"Summer",4,"Sub-Shrub","Cold Moist Stratification, Scarification, Cold Period Required"]
["Woody","Pawpaw","Asimina triloba"," ","X","X"," "," "," ","X",1E-4," "," ","X"," "," "," "," ","X","X"," ",3176.25,null,null,null,null,30,6.8870523415977963E-4,1.1019283746556474E-2,null,"Spring",7,"Shrub"]
["Woody","Pin Oak","Quercus palustris"," ","X","X"," ","X"," ","X",1E-4," "," ","X"," ","X"," ","X","X","X"," ",8662.5,null,null,null,null,11,2.5252525252525253E-4,4.0404040404040404E-3,null,"Spring",8,"Tree"]
["Woody","Prairie Ninebark  ","Physocarpus opulifolius  ","X","X","X"," ","X"," ","X",1E-4," ","X","X","X","X"," ","X","X"," "," ",2.8025735294117644,null,null,null,null,34000,0.78053259871441694,12.488521579430671,null,"Summer",5,"Shrub","Cold Moist Stratification",1]
["Woody","Prairie Rose  ","Rosa arkansana  ","X","X"," ","X","X"," "," ",1E-4,"X","X","X","X","X","X","X","X","X","X",38.115000000000002,null,null,null,null,2500,5.73921028466483E-2,0.91827364554637281,null,"Summer",5,"Sub-Shrub","Cold Moist Stratification, Scarification, Cold Period Required"]
["Woody","Quaking Aspen","Populus tremuloides"," ","X"," "," "," "," ","X",1E-4,"X","X","X","X","X","X","X","X","X","X",0.40169255738465104,null,null,null,null,237215,5.4457070707070709,87.131313131313135,null,"Spring",4,"Tree"]
["Woody","Red Oak","Quercus rubra","X","X"," "," ","X"," ","X",1E-4,"X","X","X","X","X","X","X","X","X","X",11910.9375,null,null,null,null,8,1.8365472910927456E-4,2.9384756657483929E-3,null,"Spring",6,"Tree"]
["Woody","Red Root  ","Ceanothus herbaceus","X","X"," ","X","X"," "," ",1E-4," ","X"," "," ","X","X"," "," ","X","X",9.5287500000000005,null,null,null,null,10000,0.2295684113865932,3.6730945821854912,null,"Spring, Summer",8,"Sub-Shrub","Hot Water Treatment Or Scarification Needed, Cold Moist Stratification(70)"]
["Woody","Redosier Dogwood  ","Cornus sericea"," "," ","X"," "," ","X"," ",1E-4," ","X","X","X","X","X","X","X"," "," ",88.392857142857139,null,null,null,null,1078,2.4747474747474747E-2,0.39595959595959596,null,"Summer, Fall",7,"Shrub","Cold Moist Stratification"]
["Woody","River Birch","Betula nigra"," ","X","X"," ","X"," ","X",1E-4,"X","X","X","X","X","X","X","X","X","X",7.6671628580624391,null,null,null,null,12428,0.28530762167125806,4.564921946740129,null,"Spring",6,"Tree"]
["Woody","Riverbank Grape","Vitis riparia "," ","X","X"," ","X","X","X",1E-4,"X","X","X","X","X","X","X","X","X","X",1003.0263157894736,null,null,null,null,95,2.1808999081726357E-3,3.489439853076217E-2,null,"Spring",3,"Woody Vine",""]
["Woody","Roundseed St. Johnswort","Hypericum sphaerocarpum "," ","X","X","X","X"," ","X",1E-4," ","X","X","X","X"," ","X","X"," ","X",2.8025735294117644,null,null,null,null,34000,0.78053259871441694,12.488521579430671,null,"Summer",7,"Sub-Shrub","Cold Moist Stratification"]
["Woody","Running Serviceberry","Amelanchier stolonifera ","X"," "," ","X"," "," "," ",1E-4," "," "," ","X","X"," "," "," "," "," ",16.623778785764131,null,null,null,null,5732,0.13158861340679523,2.1054178145087237,null,"Spring",10,"Shrub","Cold Moist Stratification"]
["Woody","Sandbar Willow","Salix interior"," "," ","X"," ","X","X","X",1E-4,"X","X","X","X","X","X","X","X","X","X",0.13780783047847139,null,null,null,null,691452,15.873553719008264,253.97685950413222,null,"Spring, Summer",1,"Shrub",null,1]
["Woody","Shagbark Hickory","Carya ovata"," ","X"," "," "," "," ","X",1E-4,"X","X","X","X","X","X","X","X","X","X",15881.250000000002,null,null,null,null,6,1.3774104683195591E-4,2.2038567493112946E-3,null,"Spring",5,"Tree"]
["Woody","Shellbark Hickory","Carya laciniosa"," ","X"," "," ","X"," ","X",1E-4," "," "," "," ","X"," "," ","X"," "," ",47643.75,null,null,null,null,2,4.5913682277318639E-5,7.3461891643709823E-4,null,"Spring",8,"Tree"]
["Woody","Shrubby St. Johnswort  ","Hypericum prolificum  ","X","X"," ","X","X"," ","X",1E-4," "," "," "," "," "," ","X","X","X"," ",0.68062500000000004,null,null,null,null,140000,3.2139577594123048,51.423324150596876,null,"Summer, Fall",6,"Shrub","Dry Cold Storage, Light Required For Germination"]
["Woody","Silky Dogwood  ","Cornus amomum"," "," ","X","X","X","X","X",1E-4,"X","X","X","X","X","X","X","X","X","X",129.11585365853659,null,null,null,null,738,1.6942148760330577E-2,0.27107438016528923,null,"Spring, Summer",6,"Shrub","Cold Moist Stratification",1]
["Woody","Silver Maple","Acer saccharinum"," ","X","X"," "," "," ","X",1E-4,"X","X","X","X","X","X","X","X","X","X",943.44059405940595,null,null,null,null,101,2.3186409550045913E-3,3.7098255280073461E-2,null,"Spring",3,"Tree"]
["Woody","Soapweed  ","Yucca glauca  ","X"," "," ","X"," "," "," ",1E-4," "," "," "," "," ","X"," "," ","X","X",52.9375,null,null,null,null,1800,4.1322314049586778E-2,0.66115702479338845,null,"Spring, Summer",10,"Sub-Shrub","Dry Cold Storage"]
["Woody","Sugar Maple  ","Acer saccharum  "," ","X"," "," "," "," ","X",1E-4," ","X","X"," ","X"," ","X","X"," "," ",{"$f":"35/AC68","v":317.625},null,null,null,null,300,{"$f":"AA68/43560","v":6.8870523415977963E-3},{"$f":"AB68*16","v":0.11019283746556474},null,"Spring",6,"Tree","Plant Fresh Seed"]
["Woody","Swamp Rose  ","Rosa palustris  "," "," ","X","X"," ","X"," ",1E-4," "," "," "," "," "," "," "," ","X"," ",59.5546875,null,null,null,null,1600,3.6730945821854911E-2,0.58769513314967858,null,"Summer",0,"Sub-Shrub","Cold Moist Stratification, Scarification, Cold Period Required"]
["Woody","Swamp White Oak  ","Quercus bicolor  "," ","X","X","X","X","X","X",1E-4," ","X","X","X","X"," ","X","X"," "," ",13612.5,null,null,null,null,7,1.6069788797061523E-4,2.5711662075298437E-3,null,"Spring",8,"Tree","Plant Fresh Seed"]
["Woody","Sycamore","Platanus occidentalis"," ","X","X"," ","X"," ","X",1E-4," ","X","X"," ","X"," ","X","X","X","X",12.817796610169491,null,null,null,null,7434,0.1706611570247934,2.7305785123966944,null,"Spring",5,"Tree"]
["Woody","Trailing Wild Bean  ","Strophostyles helvola  ","X","X"," "," ","X"," "," ",1E-4,"X","X","X","X","X","X","X","X","X","X",238.21875,null,null,null,null,400,9.1827364554637279E-3,0.14692378328741965,null,"Summer, Fall",5,"Herbaceous Vine, Legume, Annual","Dry Cold Storage Or Cold Moist Stratification"]
["Woody","Veiny Pea  ","Lathyrus venosus  ","X"," "," ","X","X"," "," ",1E-4," ","X"," ","X"," ","X"," "," "," "," ",123.75,null,null,null,null,770,1.7676767676767676E-2,0.28282828282828282,null,"Spring, Summer",7,"Herbaceous Vine, Legume","Legume-Requires Inoculation"]
["Woody","Virgin's Bower","Clematis virginiana"," ","X"," "," "," "," ","X",1E-4,"X","X","X","X","X","X","X","X","X","X",5.9554687500000005,null,null,null,null,16000,0.3673094582185491,5.8769513314967856,null,"Summer, Fall",3,"Woody Vine","Cold Moist Stratification"]
["Woody","White Oak","Quercus alba","X","X"," "," ","X"," ","X",1E-4," ","X","X","X","X"," ","X","X","X","X",19057.5,null,null,null,null,5,1.147842056932966E-4,1.8365472910927456E-3,null,"Spring",6,"Tree"]
["Woody","Wild Cucumber  ","Echinocystis lobata  "," ","X","X"," "," "," ","X",1E-4," ","X","X"," "," ","X"," "," "," ","X",529.375,null,null,null,null,180,4.1322314049586778E-3,6.6115702479338845E-2,null,"Summer, Fall",4,"Herbaceous Vine, Annual","Cold Moist Stratification"]
["Woody","Wild Yam  ","Dioscorea villosa  ","X","X"," "," ","X"," ","X",1E-4," ","X","X"," "," ","X","X","X"," "," ",34.03125,null,null,null,null,2800,6.4279155188246104E-2,1.0284664830119377,null,"Summer",5,"Herbaceous Vine","Cold Moist Stratification"]
["Woody","Winterberry","Ilex verticillata "," ","X","X"," ","X","X","X",1E-4," "," ","X","X","X"," "," "," "," "," ",16.068718381112983,null,null,null,null,5930,0.13613406795224978,2.1781450872359964,null,"Spring, Summer",7,"Shrub"]
["Woody",null,null," "," "," "," "," "," "," ",null," "," "," "," "," "," "," "," "," "," "]
[]
[]
[]
["Plant Type","Common Name","Scientific Name","Dry","Medium","Wet","Prairie","Savanna","Wetland","Woodland","Short-term Program (Y = < $0.3)","All","C","EC","NC","NE","NW","SC","SE","SW","WC"]
[null,null,null,{"$f":"IF(Calculator!$A$4=1,\"X\",\"\")","v":""},{"$f":"IF(Calculator!$A$4=2,\"X\",\"\")","v":""},{"$f":"IF(Calculator!$A$4=3,\"X\",\"\")","v":""},{"$f":"IF(Calculator!$A$6=1,\"X\",\"\")","v":""},{"$f":"IF(Calculator!$A$6=2,\"X\",\"\")","v":""},{"$f":"IF(Calculator!$A$6=3,\"X\",\"\")","v":""},{"$f":"IF(Calculator!$A$6=4,\"X\",\"\")","v":""},{"$f":"IF(Calculator!$A$8=2,\"<.3\",\">0\")","v":">0"},{"$f":"IF(Calculator!$C$2=\"ALL\",\"X\",\"\")","v":""},{"$f":"IF(Calculator!$C$2=\"C\",\"X\",\"\")","v":""},{"$f":"IF(Calculator!$C$2=\"EC\",\"X\",\"\")","v":""},{"$f":"IF(Calculator!$C$2=\"NC\",\"X\",\"\")","v":""},{"$f":"IF(Calculator!$C$2=\"NE\",\"X\",\"\")","v":""},{"$f":"IF(Calculator!$C$2=\"NW\",\"X\",\"\")","v":""},{"$f":"IF(Calculator!$C$2=\"SC\",\"X\",\"\")","v":""},{"$f":"IF(Calculator!$C$2=\"SE\",\"X\",\"\")","v":""},{"$f":"IF(Calculator!$C$2=\"SW\",\"X\",\"\")","v":""},{"$f":"IF(Calculator!$C$2=\"WC\",\"X\",\"\")","v":""}]
[]
["Plant Type","Common Name","Scientific Name","Dry","Medium","Wet","Prairie","Savanna","Wetland","Woodland","Short-term Program (Y = < $0.3)","All","C","EC","NC","NE","NW","SC","SE","SW","WC"]
["Leave this row blank",null," ","X","X","X","X","X","X","X",1.0000000000000001E-5,"X","X","X","X","X","X","X","X","X","X"]
["Woody","American Cranberrybush  ","Viburnum opulus  "," ","X"," "," ","X"," ","X",1E-4," ","X"," "," ","X"," "," ","X"," "," "]
["Woody","American Cranberrybush  ","Viburnum trilobum"," ","X"," "," ","X"," ","X",1E-4," "," "," "," ","X"," "," "," "," "," "]
["Woody","American Hazelnut  ","Corylus americana  ","X","X"," "," ","X"," ","X",1E-4,"X","X","X","X","X","X","X","X","X","X"]
["Woody","American Linden, Basswood","Tilia americana"," ","X"," "," "," "," ","X",1E-4,"X","X","X","X","X","X","X","X","X","X"]
["Woody","American Plum","Prunus americana "," ","X"," "," ","X"," ","X",1E-4,"X","X","X","X","X","X","X","X","X","X"]
["Woody","Arrowwood Viburnum  ","Viburnum dentatum  ","X","X"," "," ","X"," ","X",1E-4," ","X"," "," ","X"," "," "," ","X"," "]
["Woody","Big-tooth Aspen","Populus grandidentata","X","X"," "," "," "," ","X",1E-4," ","X","X","X","X"," "," ","X"," "," "]
["Woody","Bitternut Hickory","Carya cordiformis","X","X"," "," "," "," ","X",1E-4,"X","X","X","X","X","X","X","X","X","X"]
["Woody","Bittersweet","Celastrus scandens","X","X"," "," "," "," ","X",1E-4,"X","X","X","X","X","X","X","X","X","X"]
["Woody","Black Cherry","Prunus serotina ","X","X"," "," ","X"," ","X",1E-4,"X","X","X","X","X","X","X","X","X","X"]
["Woody","Black Chokeberry","Photinia melanocarpa","X","X"," ","X","X"," ","X",1E-4," "," "," "," ","X"," "," "," "," "," "]
["Woody","Black Elderberry","Sambucus canadensis "," ","X"," ","X","X"," ","X",1E-4,"X","X","X","X","X","X","X","X","X","X"]
["Woody","Black Oak","Quercus velutina","X","X"," "," ","X"," ","X",1E-4,"X","X","X","X","X","X","X","X","X","X"]
["Woody","Black Walnut","Juglans nigra"," ","X"," "," "," "," ","X",1E-4,"X","X","X","X","X","X","X","X","X","X"]
["Woody","Blackhaw","Viburnum prunifolium ","X","X"," "," "," "," ","X",1E-4," ","X","X"," ","X"," "," ","X","X"," "]
["Woody","Bladdernut  ","Staphylea trifolia  "," ","X"," "," "," "," ","X",1E-4,"X","X","X","X","X","X","X","X","X","X"]
["Woody","Blue Ridge Carrionflower","Smilax lasioneura "," ","X"," "," "," "," ","X",1E-4,"X","X","X","X","X","X","X","X","X","X"]
["Woody","Bur Cucumber  ","Sicyos angulatus  "," ","X","X"," ","X","X","X",1E-4," ","X","X"," ","X"," "," ","X","X","X"]
["Woody","Bur Oak  ","Quercus macrocarpa  ","X","X","X","X","X","X","X",1E-4,"X","X","X","X","X","X","X","X","X","X"]
["Woody","Butternut","Juglans cinerea","X","X"," "," "," "," ","X",1E-4," ","X","X","X","X"," ","X","X","X"," "]
["Woody","Buttonbush  ","Cephalanthus occidentalis  "," "," ","X","X","X","X","X",1E-4," ","X","X"," ","X"," ","X","X"," "," "]
["Woody","Chinkapin Oak","Quercus muehlenbergii ","X","X"," "," ","X"," ","X",1E-4," ","X","X"," ","X"," ","X","X","X"," "]
["Woody","Chokecherry","Prunus virginiana"," ","X"," "," ","X"," ","X",1E-4,"X","X","X","X","X","X","X","X","X","X"]
["Woody","Common Hop Tree  ","Ptelea trifoliata  ","X","X"," "," ","X"," ","X",1E-4," "," ","X","X","X"," "," ","X"," "," "]
["Woody","Common Witch Hazel  ","Hamamelis virginiana  "," ","X"," "," "," "," ","X",1E-4," "," ","X"," ","X"," "," ","X"," "," "]
["Woody","Coralberry","Symphoricarpos orbiculatus ","X","X"," ","X","X"," "," ",1E-4," ","X"," ","X","X","X","X","X","X","X"]
["Woody","Cottonwood","Populus deltoides"," ","X","X"," ","X","X","X",1E-4,"X","X","X","X","X","X","X","X","X","X"]
["Woody","Devil's-tongue","Opuntia humifusa ","X"," "," ","X","X"," "," ",1E-4," ","X","X"," ","X"," ","X","X","X"," "]
["Woody","Downy Serviceberry  ","Amelanchier arborea  "," ","X"," "," ","X"," ","X",1E-4," ","X","X","X","X"," ","X","X","X","X"]
["Woody","Early Wild Rose  ","Rosa blanda  ","X","X","X","X","X"," ","X",1E-4,"X","X","X","X","X","X","X","X","X","X"]
["Woody","Fragrant False Indigo  ","Amorpha fruticosa  "," ","X","X","X"," ","X","X",1E-4,"X","X","X","X","X","X","X","X","X","X"]
["Woody","Fragrant Sumac","Rhus aromatica ","X"," "," ","X","X"," "," ",1E-4," ","X","X"," ","X"," "," ","X"," "," "]
["Woody","Gray Dogwood","Cornus racemosa"," ","X","X"," ","X"," ","X",1E-4,"X","X","X","X","X","X","X","X","X","X"]
["Woody","Hackberry","Celtis occidentalis"," ","X","X"," ","X"," ","X",1E-4,"X","X","X","X","X","X","X","X","X","X"]
["Woody","Illinois Rose  ","Rosa setigera  ","X","X","X","X","X"," ","X",1E-4," "," "," "," "," "," "," ","X","X"," "]
["Woody","Kentucky Coffeetree","Gymnocladus dioicus"," ","X"," "," "," "," ","X",1E-4,"X","X","X","X","X","X","X","X","X","X"]
["Woody","Lead Plant  ","Amorpha canescens  ","X","X"," ","X","X"," "," ",1E-4,"X","X","X","X","X","X","X","X","X","X"]
["Woody","Mockernut Hickory","Carya alba","X","X"," "," "," "," ","X",1E-4," "," "," "," "," "," ","X","X","X"," "]
["Woody","Nannyberry  ","Viburnum lentago  ","X","X"," "," ","X"," ","X",1E-4,"X","X","X","X","X","X","X","X","X","X"]
["Woody","New Jersey Tea  ","Ceanothus americanus  ","X","X"," ","X","X"," "," ",1E-4,"X","X","X","X","X","X","X","X","X","X"]
["Woody","Northern Dewberry","Rubus flagellaris","X","X"," ","X","X"," ","X",1E-4," "," ","X"," ","X"," "," ","X","X"," "]
["Woody","Northern Pecan","Carya illinoinensis"," ","X"," "," "," "," ","X",1E-4," "," "," "," ","X"," "," ","X"," "," "]
["Woody","Northern Pin Oak","Quercus ellipsoidalis ","X"," "," "," "," "," ","X",1E-4," "," ","X"," ","X"," "," ","X","X"," "]
["Woody","Pagoda Dogwood  ","Cornus alternifolia  "," ","X"," "," "," "," ","X",1E-4," ","X","X","X","X"," ","X","X"," "," "]
["Woody","Pasture Rose  ","Rosa carolina  ","X","X"," ","X","X"," ","X",1E-4,"X","X","X","X","X","X","X","X","X","X"]
["Woody","Pawpaw","Asimina triloba"," ","X","X"," "," "," ","X",1E-4," "," ","X"," "," "," "," ","X","X"," ",null,null,null,null,null,null,null,null,null,null,null,null,"CM"]
["Woody","Pin Oak","Quercus palustris"," ","X","X"," ","X"," ","X",1E-4," "," ","X"," ","X"," ","X","X","X"," ",null,null,null,null,null,null,null,null,null,null,null,null,"CM"]
["Woody","Prairie Ninebark  ","Physocarpus opulifolius  ","X","X","X"," ","X"," ","X",1E-4," ","X","X","X","X"," ","X","X"," "," ",null,null,null,null,null,null,null,null,null,null,null,null,"CM"]
["Woody","Prairie Rose  ","Rosa arkansana  ","X","X"," ","X","X"," "," ",1E-4,"X","X","X","X","X","X","X","X","X","X",null,null,null,null,null,null,null,null,null,null,null,null,"CM"]
["Woody","Quaking Aspen","Populus tremuloides"," ","X"," "," "," "," ","X",1E-4,"X","X","X","X","X","X","X","X","X","X",null,null,null,null,null,null,null,null,null,null,null,null,"CM"]
["Woody","Red Oak","Quercus rubra","X","X"," "," ","X"," ","X",1E-4,"X","X","X","X","X","X","X","X","X","X"]
["Woody","Red Root  ","Ceanothus herbaceus","X","X"," ","X","X"," "," ",1E-4," ","X"," "," ","X","X"," "," ","X","X",null,null,null,null,null,null,null,null,null,null,null,null,"CM"]
["Woody","Redosier Dogwood  ","Cornus sericea"," "," ","X"," "," ","X"," ",1E-4," ","X","X","X","X","X","X","X"," "," "]
["Woody","River Birch","Betula nigra"," ","X","X"," ","X"," ","X",1E-4,"X","X","X","X","X","X","X","X","X","X"]
["Woody","Riverbank Grape","Vitis riparia "," ","X","X"," ","X","X","X",1E-4,"X","X","X","X","X","X","X","X","X","X"]
["Woody","Roundseed St. Johnswort","Hypericum sphaerocarpum "," ","X","X","X","X"," ","X",1E-4," ","X","X","X","X"," ","X","X"," ","X"]
["Woody","Running Serviceberry","Amelanchier stolonifera ","X"," "," ","X"," "," "," ",1E-4," "," "," ","X","X"," "," "," "," "," "]
["Woody","Sandbar Willow","Salix interior"," "," ","X"," ","X","X","X",1E-4,"X","X","X","X","X","X","X","X","X","X"]
["Woody","Shagbark Hickory","Carya ovata"," ","X"," "," "," "," ","X",1E-4,"X","X","X","X","X","X","X","X","X","X"]
["Woody","Shellbark Hickory","Carya laciniosa"," ","X"," "," ","X"," ","X",1E-4," "," "," "," ","X"," "," ","X"," "," "]
["Woody","Shrubby St. Johnswort  ","Hypericum prolificum  ","X","X"," ","X","X"," ","X",1E-4," "," "," "," "," "," ","X","X","X"," "]
["Woody","Silky Dogwood  ","Cornus amomum"," "," ","X","X","X","X","X",1E-4,"X","X","X","X","X","X","X","X","X","X"]
["Woody","Silver Maple","Acer saccharinum"," ","X","X"," "," "," ","X",1E-4,"X","X","X","X","X","X","X","X","X","X"]
["Woody","Soapweed  ","Yucca glauca  ","X"," "," ","X"," "," "," ",1E-4," "," "," "," "," ","X"," "," ","X","X"]
["Woody","Sugar Maple  ","Acer saccharum  "," ","X"," "," "," "," ","X",1E-4," ","X","X"," ","X"," ","X","X"," "," "]
["Woody","Swamp Rose  ","Rosa palustris  "," "," ","X","X"," ","X"," ",1E-4," "," "," "," "," "," "," "," ","X"," "]
["Woody","Swamp White Oak  ","Quercus bicolor  "," ","X","X","X","X","X","X",1E-4," ","X","X","X","X"," ","X","X"," "," "]
["Woody","Sycamore","Platanus occidentalis"," ","X","X"," ","X"," ","X",1E-4," ","X","X"," ","X"," ","X","X","X","X"]
["Woody","Trailing Wild Bean  ","Strophostyles helvola  ","X","X"," "," ","X"," "," ",1E-4,"X","X","X","X","X","X","X","X","X","X"]
["Woody","Veiny Pea  ","Lathyrus venosus  ","X"," "," ","X","X"," "," ",1E-4," ","X"," ","X"," ","X"," "," "," "," "]
["Woody","Virgin's Bower","Clematis virginiana"," ","X"," "," "," "," ","X",1E-4,"X","X","X","X","X","X","X","X","X","X"]
["Woody","White Oak","Quercus alba","X","X"," "," ","X"," ","X",1E-4," ","X","X","X","X"," ","X","X","X","X"]
["Woody","Wild Cucumber  ","Echinocystis lobata  "," ","X","X"," "," "," ","X",1E-4," ","X","X"," "," ","X"," "," "," ","X"]
["Woody","Wild Yam  ","Dioscorea villosa  ","X","X"," "," ","X"," ","X",1E-4," ","X","X"," "," ","X","X","X"," "," "]
["Woody","Winterberry","Ilex verticillata "," ","X","X"," ","X","X","X",1E-4," "," ","X","X","X"," "," "," "," "," "]

{"sheet":"Counties","index":8,"n_rows":101,"n_cols":3,"rows_kept":101,"cut":false,"hidden":false,"merged":[]}
[1]
[2,"Statewide","ALL"]
[3,"Adair","SW"]
[4,"Adams","SW"]
[5,"Allamakee","NE"]
[6,"Appanoose","SC"]
[7,"Audubon","WC"]
[8,"Benton","EC"]
[9,"Black Hawk","NE"]
[10,"Boone","C"]
[11,"Bremer","NE"]
[12,"Buchanan","NE"]
[13,"Buena Vista","NW"]
[14,"Butler","NC"]
[15,"Calhoun","WC"]
[16,"Carroll","WC"]
[17,"Cass","SW"]
[18,"Cedar","EC"]
[19,"Cerro Gordo","NC"]
[20,"Cherokee","NW"]
[21,"Chickasaw","NE"]
[22,"Clarke","SC"]
[23,"Clay","NW"]
[24,"Clayton","NE"]
[25,"Clinton","EC"]
[26,"Crawford","WC"]
[27,"Dallas","C"]
[28,"Davis","SE"]
[29,"Decatur","SC"]
[30,"Delaware","NE"]
[31,"Des Moines","SE"]
[32,"Dickinson","NW"]
[33,"Dubuque","NE"]
[34,"Emmet","NW"]
[35,"Fayette","NE"]
[36,"Floyd","NC"]
[37,"Franklin","NC"]
[38,"Fremont","SW"]
[39,"Greene","WC"]
[40,"Grundy","C"]
[41,"Guthrie","WC"]
[42,"Hamilton","C"]
[43,"Hancock","NC"]
[44,"Hardin","C"]
[45,"Harrison","WC"]
[46,"Henry","SE"]
[47,"Howard","NE"]
[48,"Humboldt","NC"]
[49,"Ida","WC"]
[50,"Iowa","EC"]
[51,"Jackson","EC"]
[52,"Jasper","C"]
[53,"Jefferson","SE"]
[54,"Johnson","EC"]
[55,"Jones","EC"]
[56,"Keokuk","SE"]
[57,"Kossuth","NC"]
[58,"Lee","SE"]
[59,"Linn","EC"]
[60,"Louisa","SE"]
[61,"Lucas","SC"]
[62,"Lyon","NW"]
[63,"Madison","SC"]
[64,"Mahaska","SC"]
[65,"Marion","SC"]
[66,"Marshall","C"]
[67,"Mills","SW"]
[68,"Mitchell","NC"]
[69,"Monona","WC"]
[70,"Monroe","SC"]
[71,"Montgomery","SW"]
[72,"Muscatine","SE"]
[73,"O'Brien","NW"]
[74,"Osceola","NW"]
[75,"Page","SW"]
[76,"Palo Alto","NW"]
[77,"Plymouth","NW"]
[78,"Pocahontas","NW"]
[79,"Polk","C"]
[80,"Pottawattamie","SW"]
[81,"Poweshiek","C"]
[82,"Ringgold","SW"]
[83,"Sac","WC"]
[84,"Scott","EC"]
[85,"Shelby","WC"]
[86,"Sioux","NW"]
[87,"Story","C"]
[88,"Tama","C"]
[89,"Taylor","SW"]
[90,"Union","SW"]
[91,"Van Buren","SE"]
[92,"Wapello","SE"]
[93,"Warren","SC"]
[94,"Washington","SE"]
[95,"Wayne","SC"]
[96,"Webster","C"]
[97,"Winnebago","NC"]
[98,"Winneshiek","NE"]
[99,"Woodbury","WC"]
[100,"Worth","NC"]
[101,"Wright","NC"]

{"sheet":"NameLookup","index":9,"n_rows":337,"n_cols":8,"rows_kept":337,"cut":false,"hidden":false,"merged":[[3,0,3,1],[3,3,3,4],[3,6,3,7],[0,1,2,5]]}
[null,"To search for a speceis on this page, press the control and the F keys at the same time to open the find and replace box. In the find what box, type the name (or portion thereof) of the species you're looking for and click the find next button. "]
[]
[]
["GRASSES",null,null,"FORBES/LEGUMES",null,null,"WOODY & VINE"]
["Scientific Name","Common Name",null,"Scientific Name","Common Name",null,"Scientific Name","Common Name"]
["Andropogon gerardii","Big Bluestem",null,"Achillea millefolium","Common Yarrow",null,"Acer saccharinum","Silver Maple"]
["Andropogon virginicus","Broomsedge Bluestem",null,"Acorus calamus","Sweetflag",null,"Acer saccharum  ","Sugar Maple  "]
["Beckmannia syzigachne ","American Sloughgrass",null,"Actaea pachypoda","White Baneberry",null,"Amelanchier arborea  ","Downy Serviceberry  "]
["Bouteloua curtipendula","Sideoats Grama",null,"Actaea rubra","Red Baneberry",null,"Amelanchier stolonifera ","Running Serviceberry"]
["Bouteloua gracilis","Blue Grama",null,"Agalinis tenuifolia","Slenderleaf False Foxglove",null,"Amorpha canescens  ","Lead Plant  "]
["Bouteloua hirsuta","Hairy Grama",null,"Agastache foeniculum","Blue Giant Hyssop",null,"Amorpha fruticosa  ","Fragrant False Indigo  "]
["Bromus ciliatus","Fringed Brome",null,"Agastache nepetoides","Yellow Giant Hyssop",null,"Asimina triloba","Pawpaw"]
["Bromus kalmii","Arctic Brome",null,"Agastache scrophulariifolia","Purple Giant Hyssop",null,"Betula nigra","River Birch"]
["Bromus pubescens","Hairy Woodland Brome",null,"Ageratina altissima","White Snakeroot",null,"Carya alba","Mockernut Hickory"]
["Calamagrostis canadensis","Bluejoint",null,"Alisma subcordatum  ","Water Plantain",null,"Carya cordiformis","Bitternut Hickory"]
["Calamovilfa longifolia","Prairie Sandreed",null,"Alisma triviale","Northern Water Plantain",null,"Carya illinoinensis","Northern Pecan"]
["Carex amphibola","Eastern Narrowleaf Sedge",null,"Allium canadense","Wild Garlic",null,"Carya laciniosa","Shellbark Hickory"]
["Carex annectens","Yellow Fox Sedge",null,"Allium stellatum","Wild Prairie Onion",null,"Carya ovata","Shagbark Hickory"]
["Carex aquatilis ","Water Sedge",null,"Allium tricoccum","Wild Leek",null,"Ceanothus americanus  ","New Jersey Tea  "]
["Carex atherodes","Wheat Sedge",null,"Anemone canadensis","Canada Anemone",null,"Ceanothus herbaceus","Red Root  "]
["Carex bebbii","Bebb's Sedge",null,"Anemone cylindrica","Thimbleweed",null,"Celastrus scandens","Bittersweet"]
["Carex bicknellii","Bicknell's Sedge",null,"Anemone virginiana","Tall Thimbleweed",null,"Celtis occidentalis","Hackberry"]
["Carex blanda ","Eastern Woodland Sedge",null,"Angelica atropurpurea","Purplestem Angelica",null,"Cephalanthus occidentalis  ","Buttonbush  "]
["Carex brevior","Prairie Oval Sedge",null,"Antennaria plantaginifolia","Woman's Tobacco",null,"Clematis virginiana","Virgin's Bower"]
["Carex buxbaumii","Buxbaum's Sedge",null,"Apocynum cannabinum ","Indian Hemp",null,"Cornus alternifolia  ","Pagoda Dogwood  "]
["Carex cephaloidea ","Thinleaf Sedge",null,"Aquilegia canadensis","Columbine",null,"Cornus amomum","Silky Dogwood  "]
["Carex comosa","Longhair Sedge",null,"Arabis glabra","Tower Rockcress",null,"Cornus racemosa","Gray Dogwood"]
["Carex conjuncta ","Soft Fox Sedge",null,"Arabis hirsuta","Hairy Rockcress",null,"Cornus sericea","Redosier Dogwood  "]
["Carex crinita","Fringed Sedge",null,"Aralia racemosa","Spikenard",null,"Corylus americana  ","American Hazelnut  "]
["Carex cristatella","Crested Sedge",null,"Arenaria stricta","Stiff Sandwort",null,"Dioscorea villosa  ","Wild Yam  "]
["Carex crus-corvi","Ravenfoot Sedge",null,"Arisaema triphyllum","Jack In The Pulpit",null,"Echinocystis lobata  ","Wild Cucumber  "]
["Carex diandra ","Lesser Panicled Sedge",null,"Arnoglossum atriplicifolium","Pale Indian Plaintain",null,"Gymnocladus dioicus","Kentucky Coffeetree"]
["Carex echinata ","Star Sedge",null,"Arnoglossum plantagineum","Groovestem Indian Plaintain",null,"Hamamelis virginiana  ","Common Witch Hazel  "]
["Carex frankii","Frank's Sedge",null,"Arnoglossum reniforme ","Great Indian Plaintain",null,"Hypericum prolificum  ","Shrubby St. Johnswort  "]
["Carex gracilescens ","Slender Looseflower Sedge",null,"Artemisia campestris","Field Sagewort",null,"Hypericum sphaerocarpum ","Roundseed St. Johnswort"]
["Carex gracillima ","Graceful Sedge",null,"Artemisia ludoviciana","White Sage",null,"Ilex verticillata ","Winterberry"]
["Carex granularis ","Limestone Meadow Sedge",null,"Asarum canadense","Canadian Wildginger",null,"Juglans cinerea","Butternut"]
["Carex gravida ","Heavy Sedge",null,"Asclepias amplexicaulis","Clasping Milkweed",null,"Juglans nigra","Black Walnut"]
["Carex grayi","Gray's Sedge",null,"Asclepias exaltata","Poke Milkweed",null,"Lathyrus venosus  ","Veiny Pea  "]
["Carex grisea","Inflated Narrow-Leaf Sedge",null,"Asclepias hirtella","Tall Green Milkweed",null,"Opuntia humifusa ","Devil's-tongue"]
["Carex haydenii","Hayden's Sedge",null,"Asclepias incarnata","Swamp Milkweed",null,"Photinia melanocarpa","Black Chokeberry"]
["Carex hirsutella","Fuzzy Wuzzy Sedge",null,"Asclepias ovalifolia","Oval-leaf Milkweed",null,"Physocarpus opulifolius  ","Prairie Ninebark  "]
["Carex hystericina","Porcupine Sedge",null,"Asclepias purpurascens","Purple Milkweed",null,"Platanus occidentalis","Sycamore"]
["Carex interior","Inland Sedge",null,"Asclepias sullivantii","Sullivant's Milkweed",null,"Populus deltoides","Cottonwood"]
["Carex jamesii ","James Sedge",null,"Asclepias syriaca","Common Milkweed",null,"Populus grandidentata","Big-tooth Aspen"]
["Carex lacustris","Hairy Sedge",null,"Asclepias tuberosa","Butterfly Weed",null,"Populus tremuloides","Quaking Aspen"]
["Carex laeviconica","Smoothcone Sedge",null,"Asclepias verticillata","Whorled Milkweed",null,"Prunus americana ","American Plum"]
["Carex lasiocarpa ","Woollyfruit Sedge",null,"Asclepias viridiflora","Green Comet Milkweed",null,"Prunus serotina ","Black Cherry"]
["Carex leptalea","Bristlystalked Sedge",null,"Astragalus canadensis","Canadian Milkvetch",null,"Prunus virginiana","Chokecherry"]
["Carex lupulina","Hop Sedge",null,"Astragalus crassicarpus","Groundplum Milkvetch",null,"Ptelea trifoliata  ","Common Hop Tree  "]
["Carex lurida","Lurid Sedge",null,"Baptisia alba","White Wild Indigo",null,"Quercus alba","White Oak"]
["Carex molesta","Troublesome Sedge",null,"Baptisia australis","Blue Wild Indigo",null,"Quercus bicolor  ","Swamp White Oak  "]
["Carex muehlenbergii","Muhlenberg's Sedge",null,"Baptisia bracteata","Cream False Indigo",null,"Quercus ellipsoidalis ","Northern Pin Oak"]
["Carex muskingumensis","Muskingum Sedge",null,"Baptisia tinctoria","Horseflyweed",null,"Quercus macrocarpa  ","Bur Oak  "]
["Carex normalis ","Greater Straw Sedge",null,"Bidens aristosa","Bearded Beggarticks",null,"Quercus muehlenbergii ","Chinkapin Oak"]
["Carex pellita ","Woolly Sedge",null,"Bidens cernua","Nodding Bur Marigold",null,"Quercus palustris","Pin Oak"]
["Carex pensylvanica","Pennsylvania Sedge",null,"Bidens connata","Purplestem Beggarticks",null,"Quercus rubra","Red Oak"]
["Carex praegracilis","Clustered Field Sedge",null,"Bidens frondosa","Devil's Beggartick",null,"Quercus velutina","Black Oak"]
["Carex prairea","Prairie Sedge",null,"Blephilia ciliata","Downy Pagoda-plant",null,"Rhus aromatica ","Fragrant Sumac"]
["Carex retrorsa ","Knotsheath Sedge",null,"Blephilia hirsuta","Hairy Pagoda-plant",null,"Rosa arkansana  ","Prairie Rose  "]
["Carex rosea","Rosy Sedge",null,"Boltonia asteroides","White Doll's Daisy",null,"Rosa blanda  ","Early Wild Rose  "]
["Carex sartwellii","Sartwell's Sedge",null,"Brickellia eupatorioides","False Boneset",null,"Rosa carolina  ","Pasture Rose  "]
["Carex scoparia","Broom Sedge",null,"Callirhoe bushii ","Bush's Poppymallow",null,"Rosa palustris  ","Swamp Rose  "]
["Carex shortiana ","Short's Sedge",null,"Callirhoe involucrata","Purple Poppymallow",null,"Rosa setigera  ","Illinois Rose  "]
["Carex sparganioides ","Burr Reed Sedge",null,"Caltha palustris  ","Marsh Marigold",null,"Rubus flagellaris","Northern Dewberry"]
["Carex sprengelii","Sprengel's Sedge",null,"Camassia scilloides  ","Eastern Camass",null,"Salix interior","Sandbar Willow"]
["Carex squarrosa","Squarrose Sedge",null,"Campanula americana  ","Tall Bellflower",null,"Sambucus canadensis ","Black Elderberry"]
["Carex sterilis","Dioecious Sedge",null,"Campanula rotundifolia  ","Harebell",null,"Sicyos angulatus  ","Bur Cucumber  "]
["Carex stipata","Owlfruit Sedge",null,"Castilleja coccinea  ","Indian Paintbrush",null,"Smilax lasioneura ","Blue Ridge Carrionflower"]
["Carex stricta","Upright Sedge",null,"Castilleja sessiliflora  ","Downy Painted Cup",null,"Staphylea trifolia  ","Bladdernut  "]
["Carex suberecta","Prairie Straw Sedge",null,"Caulophyllum thalictroides ","Blue Cohosh",null,"Strophostyles helvola  ","Trailing Wild Bean  "]
["Carex tenera","Quill Sedge",null,"Chamaecrista fasciculata","Partridge Pea",null,"Symphoricarpos orbiculatus ","Coralberry"]
["Carex tribuloides","Blunt Broom Sedge",null,"Chelone glabra  ","White Turtlehead",null,"Tilia americana","American Linden, Basswood"]
["Carex trichocarpa ","Hairyfruit Sedge",null,"Cicuta maculata  ","Water Hemlock",null,"Viburnum dentatum  ","Arrowwood Viburnum  "]
["Carex tuckermanii ","Tuckerman's Sedge",null,"Cirsium muticum ","Swamp Thistle",null,"Viburnum lentago  ","Nannyberry  "]
["Carex typhina ","Cattail Sedge",null,"Claytonia virginica ","Virginia Springbeauty",null,"Viburnum opulus  ","American Cranberrybush  "]
["Carex utriculata","Northwest Territory Sedge",null,"Cleome serrulata  ","Stinking Clover",null,"Viburnum prunifolium ","Blackhaw"]
["Carex vesicaria","Blister Sedge",null,"Comandra umbellata","Bastard Toadflax",null,"Viburnum trilobum","American Cranberrybush  "]
["Carex vulpinoidea","Fox Sedge",null,"Coreopsis palmata  ","Prairie Coreopsis",null,"Vitis riparia ","Riverbank Grape"]
["Chasmanthium latifolium","Indian Woodoats",null,"Coreopsis tripteris  ","Tall Coreopsis",null,"Yucca glauca  ","Soapweed  "]
["Cyperus lupulinus","Great Plains Flatsedge",null,"Crotalaria sagittalis  ","Rattle Box"]
["Cyperus schweinitzii","Schweinitz's Flatsedge",null,"Cryptotaenia canadensis  ","Honewort"]
["Danthonia spicata","Poverty Oatgrass",null,"Cuscuta pentagona  ","Prairie Dodder"]
["Diarrhena americana ","American Beakgrain",null,"Dalea candida ","White Prairie Clover"]
["Dichanthelium oligosanthes var. scribnerianum","Scribner's Rosette Grass",null,"Dalea purpurea ","Purple Prairie Clover"]
["Dulichium arundinaceum ","Threeway Sedge",null,"Delphinium carolinianum  ","Wild Blue Larkspur"]
["Eleocharis acicularis","Needle Spikerush",null,"Delphinium tricorne ","Dwark Larkspur"]
["Eleocharis erythropoda","Bald Spikerush",null,"Delphinium virescens  ","Prairie Larkspur"]
["Eleocharis obtusa ","Blunt Spikerush",null,"Desmanthus illinoensis  ","Illinois Bundle Flower"]
["Eleocharis palustris","Common Spikerush",null,"Desmodium canadense  ","Showy Ticktrefoil"]
["Elymus canadensis","Canada Wildrye",null,"Desmodium glutinosum  ","Pointed Ticktrefoil"]
["Elymus hystrix","Bottlebrush Grass",null,"Desmodium illinoense  ","Illinois Ticktrefoil"]
["Elymus riparius","Riverbank Wildrye",null,"Desmodium paniculatum  ","Panicledleaf Ticktrefoil"]
["Elymus trachycaulus","Slender Wheatgrass",null,"Desmodium sessilifolium ","Sessileleaf Ticktrefoil"]
["Elymus villosus","Hairy Wildrye",null,"Dicentra cucullaria","Dutchman's Breeches"]
["Elymus virginicus","Virginia Wildrye",null,"Dodecatheon meadia  ","Shooting Star"]
["Eragrostis spectabilis","Purple Lovegrass",null,"Doellingeria umbellata","Flat-Topped Aster, White Aster"]
["Eragrostis trichodes","Sand Lovegrass",null,"Echinacea angustifolia  ","Blacksamson Echinacea"]
["Festuca subverticillata","Nodding Fescue",null,"Echinacea pallida  ","Pale Purple Coneflower"]
["Glyceria grandis","American Mannagrass",null,"Echinacea purpurea  ","Purple Coneflower"]
["Glyceria septentrionalis","Floating Mannagrass",null,"Echinodorus berteroi","Upright Burhead"]
["Glyceria striata","Fowl Mannagrass",null,"Epilobium angustifolium  ","Fireweed"]
["Hesperostipa comata ","Needle And Thread",null,"Epilobium ciliatum","Northern Willow Herb"]
["Hesperostipa spartea","Porcupinegrass",null,"Epilobium coloratum ","Purpleleaf Willowherb"]
["Hierochloe odorata ","Sweetgrass",null,"Erigeron pulchellus  ","Robin's Plantain"]
["Hordeum jubatum","Foxtail Barley",null,"Eryngium yuccifolium  ","Rattlesnake Master"]
["Juncus arcticus ssp. littoralis","Baltic Rush",null,"Erythronium albidum","White Fawnlily"]
["Juncus canadensis ","Canadian Rush",null,"Eupatorium altissimum","Tall Boneset"]
["Juncus dudleyi","Dudley's Rush",null,"Eupatorium perfoliatum","Boneset"]
["Juncus effusus","Common Rush",null,"Eupatorium purpureum","Sweet Joe Pye Weed"]
["Juncus interior","Inland Rush",null,"Euphorbia corollata","Flowering Spurge"]
["Juncus nodosus ","Knotted Rush",null,"Eurybia macrophylla","Bigleaf Aster"]
["Juncus tenuis","Poverty Rush",null,"Euthamia graminifolia","Grass-leaved Goldenrod"]
["Juncus torreyi","Torrey's Rush",null,"Eutrochium maculatum","Spotted Joe Pye Weed"]
["Koeleria macrantha","Junegrass",null,"Froelichia floridana  ","Cottonweed"]
["Leersia lenticularis ","Catchfly Grass",null,"Galium boreale  ","Northern Bedstraw"]
["Leersia oryzoides","Rice Cutgrass",null,"Gaura biennis  ","Biennial Gaura"]
["Muhlenbergia cuspidata","Plains Muhly",null,"Gaura coccinea  ","Scarlet Gaura"]
["Muhlenbergia glomerata","Spiked Muhly",null,"Gentiana alba","Cream Gentian"]
["Muhlenbergia mexicana","Mexican Muhly",null,"Gentiana andrewsii  ","Bottle Gentian, Closed Gentian"]
["Muhlenbergia racemosa","Marsh Muhly",null,"Gentiana puberulenta  ","Downy Gentian"]
["Nassella viridula","Green Needlegrass",null,"Gentianella quinquefolia  ","Stiff Gentian"]
["Panicum virgatum","Switchgrass",null,"Gentianopsis crinita","Fringed Gentian"]
["Pascopyrum smithii","Western Wheatgrass",null,"Geranium maculatum  ","Wild Geranium"]
["Paspalum setaceum","Thin Paspalum",null,"Geum aleppicum","Yellow Avens"]
["Poa palustris","Fowl Bluegrass",null,"Geum triflorum  ","Prairie Smoke, Purple Avens"]
["Schizachyrium scoparium","Little Bluestem",null,"Glycyrrhiza lepidota  ","Wild Licorice"]
["Schoenoplectus acutus","Hardstem Bulrush",null,"Gnaphalium obtusifolium  ","Everlasting"]
["Schoenoplectus fluviatilis","River Bulrush",null,"Hasteola suaveolens","False Indian Plantain"]
["Schoenoplectus pungens","Common Threesquare",null,"Helenium autumnale  ","Sneezeweed"]
["Schoenoplectus tabernaemontani","Softstem Bulrush",null,"Helianthus divaricatus ","Woodland Sunflower"]
["Scirpus atrovirens","Dark Green Bulrush",null,"Helianthus giganteus","Tall Sunflower"]
["Scirpus cyperinus","Woolgrass",null,"Helianthus grosseserratus  ","Saw-tooth Sunflower"]
["Scirpus microcarpus ","Panicled Bulrush",null,"Helianthus maximiliani","Maximilian's Sunflower"]
["Scirpus pendulus ","Rufous Bulrush",null,"Helianthus mollis  ","Downy Sunflower"]
["Scolochloa festucacea ","Common Rivergrass",null,"Helianthus occidentalis  ","Western Sunflower"]
["Sorghastrum nutans","Indiangrass",null,"Helianthus pauciflorus","Prairie Sunflower"]
["Spartina pectinata","Prairie Cordgrass",null,"Helianthus pauciflorus","Stiff Sunflower"]
["Sphenopholis obtusata","Prairie Wedgescale",null,"Helianthus strumosus ","Paleleaf Woodland Sunflower"]
["Sporobolus clandestinus","Composite Dropseed",null,"Helianthus tuberosus ","Jerusalem Artichoke"]
["Sporobolus compositus","Rough Dropseed",null,"Heliopsis helianthoides  ","Ox-eye, False Sunflower"]
["Sporobolus cryptandrus","Sand Dropseed",null,"Heracleum maximum ","Cow Parsnip"]
["Sporobolus heterolepis","Prairie Dropseed",null,"Heterotheca villosa ","Hairy False Goldenaster"]
["Tridens flavus","Purple Top",null,"Heuchera richardsonii  ","Alumroot"]
["Tripsacum dactyloides","Eastern Gamagrass",null,"Hibiscus laevis","Halberd-leaved Rose Mallow"]
[null,null,null,"Hieracium canadense  ","Hawkweed"]
[null,null,null,"Hydrastis canadensis  ","Golden Seal"]
[null,null,null,"Hydrophyllum appendiculatum ","Great Waterleaf"]
[null,null,null,"Hydrophyllum virginianum ","Virginia Waterleaf"]
[null,null,null,"Hypericum ascyron  ","Great St. John's Wort"]
[null,null,null,"Hypericum punctatum  ","Spotted St. Johnswort"]
[null,null,null,"Hypericum sphaerocarpum ","Roundseed St. Johnswort"]
[null,null,null,"Hypoxis hirsuta  ","Common Goldstar"]
[null,null,null,"Impatiens capensis  ","Spotted Touch-Me-Not"]
[null,null,null,"Impatiens pallida  ","Pale Touch-Me-Not, Jewel Weed"]
[null,null,null,"Iris shrevei","Blue Flag Iris"]
[null,null,null,"Isopyrum biternatum  ","False Rue Anemone"]
[null,null,null,"Krigia biflora ","Twoflower Dwarfdandelion"]
[null,null,null,"Lechea tenuifolia ","Narrowleaf Pinweed"]
[null,null,null,"Lespedeza capitata  ","Round-headed Bush Clover"]
[null,null,null,"Lespedeza virginica  ","Slender Bush Clover"]
[null,null,null,"Liatris aspera  ","Rough Blazing Star"]
[null,null,null,"Liatris cylindracea  ","Ontario Blazing Star"]
[null,null,null,"Liatris ligulistylis  ","Meadow Blazing Star"]
[null,null,null,"Liatris punctata  ","Dotted Blazing Star"]
[null,null,null,"Liatris pycnostachya  ","Prairie Blazing Star"]
[null,null,null,"Liatris squarrosa  ","Scaly Blazing Star"]
[null,null,null,"Lilium michiganense","Michigan Lily"]
[null,null,null,"Lilium philadelphicum  ","Wood Lily"]
[null,null,null,"Linum sulcatum  ","Wild Flax"]
[null,null,null,"Lithospermum canescens","Hoary Puccoon"]
[null,null,null,"Lobelia cardinalis  ","Cardinal Flower"]
[null,null,null,"Lobelia inflata  ","Indian Tobacco"]
[null,null,null,"Lobelia siphilitica  ","Great Blue Lobelia"]
[null,null,null,"Lobelia spicata","Pale Spiked Lobelia"]
[null,null,null,"Ludwigia alternifolia","Seedbox"]
[null,null,null,"Lycopus americanus  ","Water Horehound"]
[null,null,null,"Lycopus asper","Rough Bugleweed"]
[null,null,null,"Lysimachia ciliata  ","Fringed Loosestrife"]
[null,null,null,"Lysimachia quadriflora  ","Narrow-leaved Loosestrife"]
[null,null,null,"Lysimachia terrestris  ","Swamp Candle"]
[null,null,null,"Lysimachia thyrsiflora","Tufted Loosestrife"]
[null,null,null,"Lythrum alatum  ","Winged Loosestrife"]
[null,null,null,"Maianthemum racemosum","False Solomon's Seal"]
[null,null,null,"Mentha arvensis  ","Wild Mint"]
[null,null,null,"Mertensia virginica  ","Bluebell"]
[null,null,null,"Mimulus ringens  ","Square-stemmed Monkeyflower"]
[null,null,null,"Minuartia michauxii","Rock Sandwort"]
[null,null,null,"Mirabilis nyctaginea  ","Wild Four-O'clock"]
[null,null,null,"Mitella diphylla  ","Bishop's Cap, Miterwort"]
[null,null,null,"Monarda fistulosa ","Wild Bergamot"]
[null,null,null,"Monarda punctata ","Spotted Horsemint"]
[null,null,null,"Napaea dioica  ","Glade Mallow"]
[null,null,null,"Oenothera biennis ","Common Evening Primrose"]
[null,null,null,"Oenothera pilosella ","Meadow Evening Primrose"]
[null,null,null,"Oenothera rhombipetala ","Sand Primrose"]
[null,null,null,"Oligoneuron album ","Upland White Aster"]
[null,null,null,"Oligoneuron riddellii ","Riddell's Goldenrod"]
[null,null,null,"Oligoneuron rigidum ","Stiff Goldenrod"]
[null,null,null,"Onosmodium bejariense ","Soft-hair Marbleseed"]
[null,null,null,"Orbexilum onobrychis ","French-grass"]
[null,null,null,"Osmorhiza claytonii  ","Sweet Cicely"]
[null,null,null,"Oxalis violacea  ","Violet Wood Sorrel"]
[null,null,null,"Oxypolis rigidior  ","Cowbane"]
[null,null,null,"Oxytropis lambertii  ","Locoweed, Lambert's Crazy Weed"]
[null,null,null,"Packera aurea ","Golden Ragwort"]
[null,null,null,"Parnassia glauca  ","Grass Of Parnassus"]
[null,null,null,"Parthenium integrifolium  ","Wild Quinine"]
[null,null,null,"Pedicularis canadensis  ","Canadian Lousewort"]
[null,null,null,"Pedicularis lanceolata  ","Swamp Lousewort"]
[null,null,null,"Pediomelum esculentum ","Large Indian Breadroot"]
[null,null,null,"Penstemon cobaea ","Cobaea Beardtongue"]
[null,null,null,"Penstemon digitalis ","Foxglove Beardtongue"]
[null,null,null,"Penstemon grandiflorus ","Large-flowered Beardtongue"]
[null,null,null,"Penstemon pallidus ","Pale Beardtongue"]
[null,null,null,"Penstemon tubiflorus ","Western Beardtongue"]
[null,null,null,"Penthorum sedoides  ","Ditch Stonecrop"]
[null,null,null,"Phlox divaricata ","Sweet William"]
[null,null,null,"Phlox maculata ","Wild Sweet William"]
[null,null,null,"Phlox pilosa ","Prairie Phlox"]
[null,null,null,"Phryma leptostachya  ","Lopseed"]
[null,null,null,"Physostegia parviflora  ","False Dragonhead"]
[null,null,null,"Physostegia virginiana  ","Obedient Plant"]
[null,null,null,"Plantago patagonica","Wooly Plantain"]
[null,null,null,"Podophyllum peltatum ","Mayapple"]
[null,null,null,"Polanisia dodecandra  ","Clammy Weed"]
[null,null,null,"Polemonium reptans  ","Jacob's Ladder"]
[null,null,null,"Polygonatum biflorum  ","Solomon's Seal"]
[null,null,null,"Polygonum pensylvanicum ","Pennsylvania Smartweed"]
[null,null,null,"Polygonum punctatum ","Water Smartweed"]
[null,null,null,"Polygonum virginianum ","Jumpseed"]
[null,null,null,"Polymnia canadensis ","Whiteflower Leafcup"]
[null,null,null,"Polytaenia nuttallii  ","Prairie Parsley"]
[null,null,null,"Pontederia cordata","Pickerel-weed"]
[null,null,null,"Potentilla arguta  ","Prairie Cinquefoil"]
[null,null,null,"Potentilla palustris  ","Marsh Cinquefoil"]
[null,null,null,"Prenanthes alba  ","Rattlesnake-root, White Lettuce"]
[null,null,null,"Prenanthes aspera  ","Rough White Lettuce"]
[null,null,null,"Prenanthes racemosa  ","Purple Rattlesnakeroot"]
[null,null,null,"Psoralidium tenuiflorum ","Scurfy Pea"]
[null,null,null,"Pulsatilla patens","Eastern Pasqueflower"]
[null,null,null,"Pycnanthemum pilosum  ","Hairy Mountain Mint"]
[null,null,null,"Pycnanthemum tenuifolium  ","Slender Mountain Mint"]
[null,null,null,"Pycnanthemum virginianum ","Virginia Mountain Mint"]
[null,null,null,"Ranunculus fascicularis  ","Early Buttercup"]
[null,null,null,"Ranunculus pensylvanicus  ","Bristly Crowfoot"]
[null,null,null,"Ranunculus rhomboideus  ","Prairie Buttercup"]
[null,null,null,"Ranunculus septentrionalis","Swamp Buttercup"]
[null,null,null,"Ratibida columnifera  ","Long-headed Coneflower"]
[null,null,null,"Ratibida pinnata  ","Gray-headed Coneflower"]
[null,null,null,"Rudbeckia hirta  ","Black-eyed Susan"]
[null,null,null,"Rudbeckia laciniata  ","Greenhead Coneflower"]
[null,null,null,"Rudbeckia subtomentosa  ","Sweet Coneflower"]
[null,null,null,"Rudbeckia triloba  ","Brown-eyed Susan"]
[null,null,null,"Ruellia humilis  ","Wild Petunia"]
[null,null,null,"Ruellia strepens ","Limestone Wild Petunia"]
[null,null,null,"Rumex altissimus  ","Pale Dock"]
[null,null,null,"Rumex orbiculatus  ","Great Water Dock"]
[null,null,null,"Sagittaria cuneata ","Arumleaf Arrowhead"]
[null,null,null,"Sagittaria latifolia  ","Common Arrowhead"]
[null,null,null,"Salvia azurea  ","Pitcher's Sage"]
[null,null,null,"Sanguinaria canadensis  ","Bloodroot"]
[null,null,null,"Saxifraga pensylvanica  ","Swamp Saxifrage"]
[null,null,null,"Scrophularia lanceolata  ","Early Figwort"]
[null,null,null,"Scrophularia marilandica  ","Late Figwort"]
[null,null,null,"Scutellaria incana","Hoary Skullcap"]
[null,null,null,"Scutellaria lateriflora  ","Mad-dog Skullcap"]
[null,null,null,"Scutellaria ovata   ","Heart-leaved Skullcap"]
[null,null,null,"Scutellaria parvula var. missouriensis ","Leonard's Skullcap"]
[null,null,null,"Sedum ternatum  ","Wild Stonecrop"]
[null,null,null,"Senecio congestus  ","Marsh Fleabane"]
[null,null,null,"Senecio plattensis  ","Prairie Ragwort"]
[null,null,null,"Senna marilandica","Maryland Senna"]
[null,null,null,"Silene nivea ","Snowy Campion"]
[null,null,null,"Silene stellata ","Starry Campion"]
[null,null,null,"Silphium integrifolium ","Rosinweed"]
[null,null,null,"Silphium laciniatum ","Compass Plant"]
[null,null,null,"Silphium perfoliatum ","Cup Plant"]
[null,null,null,"Silphium terebinthinaceum ","Prairie Rosinweed"]
[null,null,null,"Sisyrinchium angustifolium  ","Stout Blue-eyed Grass"]
[null,null,null,"Sisyrinchium campestre","Prairie Blue-eyed Grass"]
[null,null,null,"Sisyrinchium campestre alba","White Prairie Blue-eyed Grass"]
[null,null,null,"Sium suave ","Hemlock Water Parsnip"]
[null,null,null,"Smilax herbacea","Smooth Carrionflower"]
[null,null,null,"Solidago canadensis","Tall Goldenrod"]
[null,null,null,"Solidago flexicaulis  ","Zigzag Goldenrod"]
[null,null,null,"Solidago gigantea  ","Smooth Goldenrod"]
[null,null,null,"Solidago nemoralis  ","Old Field Goldenrod"]
[null,null,null,"Solidago sciaphila ","Cliff Goldenrod"]
[null,null,null,"Solidago speciosa ","Showy Goldenrod"]
[null,null,null,"Solidago ulmifolia ","Elm-leaved Goldenrod"]
[null,null,null,"Sparganium eurycarpum  ","Common Bur Reed"]
[null,null,null,"Stachys palustris   ","Woundwort"]
[null,null,null,"Symphyotrichum cordifolium ","Common Blue Wood Aster"]
[null,null,null,"Symphyotrichum drummondii","Drummond's Aster"]
[null,null,null,"Symphyotrichum ericoides","Heath Aster"]
[null,null,null,"Symphyotrichum laeve","Smooth Blue Aster"]
[null,null,null,"Symphyotrichum lanceolatum","White Panicle Aster"]
[null,null,null,"Symphyotrichum lateriflorum","Calico Aster"]
[null,null,null,"Symphyotrichum novae-angliae","New England Aster"]
[null,null,null,"Symphyotrichum oblongifolium","Aromatic Aster"]
[null,null,null,"Symphyotrichum oolentangiense","Blue Sky Aster"]
[null,null,null,"Symphyotrichum pilosum","Hairy Aster"]
[null,null,null,"Symphyotrichum praealtum","Willow Aster"]
[null,null,null,"Symphyotrichum prenanthoides","Crookedstem Aster"]
[null,null,null,"Symphyotrichum puniceum","Swamp Aster"]
[null,null,null,"Symphyotrichum sericeum","Silky Aster"]
[null,null,null,"Symphyotrichum shortii","Short's Aster"]
[null,null,null,"Symphyotrichum turbinellum ","Smooth Violet Prairie Aster"]
[null,null,null,"Symphyotrichum urophyllum","White Arrowleaf Aster"]
[null,null,null,"Taenidia integerrima  ","Yellow Pimpernel"]
[null,null,null,"Tephrosia virginiana  ","Goat's-rue"]
[null,null,null,"Teucrium canadense  ","American Germander"]
[null,null,null,"Thalictrum dasycarpum  ","Purple Meadow-rue"]
[null,null,null,"Thalictrum dioicum  ","Early Meadow-Rue"]
[null,null,null,"Thalictrum thalictroides","Rue Anemone"]
[null,null,null,"Tradescantia bracteata  ","Prairie Spiderwort"]
[null,null,null,"Tradescantia occidentalis  ","Western Spiderwort"]
[null,null,null,"Tradescantia ohiensis  ","Ohio Spiderwort"]
[null,null,null,"Triadenum fraseri","Marsh St. Johnswort"]
[null,null,null,"Triodanis perfoliata  ","Venus' Looking-glass"]
[null,null,null,"Triosteum perfoliatum  ","Late Horse Gentian"]
[null,null,null,"Veratrum virginicum  ","Bunch-Flower"]
[null,null,null,"Verbena hastata  ","Blue Vervain"]
[null,null,null,"Verbena stricta  ","Hoary Vervain"]
[null,null,null,"Verbesina alternifolia","Wingstem"]
[null,null,null,"Vernonia baldwinii  ","Baldwin's Ironweed"]
[null,null,null,"Vernonia fasciculata  ","Ironweed"]
[null,null,null,"Vernonia gigantea  ","Tall Ironweed"]
[null,null,null,"Vernonia missurica  ","Missouri Ironweed"]
[null,null,null,"Veronicastrum virginicum  ","Culver's Root"]
[null,null,null,"Vicia americana","American Vetch"]
[null,null,null,"Viola pedatifida  ","Prairie Violet"]
[null,null,null,"Viola pubescens ","Downy Yellow Violet"]
[null,null,null,"Zigadenus elegans  ","White Camass"]
[null,null,null,"Zizia aptera  ","Heartleaf Alexander"]
[null,null,null,"Zizia aurea  ","Golden Alexander's"]

{"sheet":"CommonNameUpdates","index":10,"n_rows":60,"n_cols":5,"rows_kept":60,"cut":false,"hidden":false,"merged":[]}
["Plant Type","2022 Native Seeding Calculator Name","Scientific Name","2020 Native Seeding Calculator Name","Other Common Names"]
["F","Blue flag iris","Iris shrevei","Blue Flag / Iris shrevei","Virginia Iris; Blue flag, southern blue flag, blue iris"]
["F","Blue sky aster","Symphyotrichum oolentangiense","Skyblue Aster"]
["G","Bottlebrush grass","Elymus hystrix","Eastern Bottlebrush Grass"]
["F","Butterfly weed","Asclepias tuberosa","Butterfly Milkweed"]
["F","Calico aster","Symphyotrichum lateriflorum","Side-flowered Aster "]
["F","Canada anemone","Anemone canadensis","Canadian Anemone"]
["F","Columbine","Aquilegia canadensis","Red Columbine"]
["F","Common yarrow","Achillea millefolium ","Western Yarrow"]
["G","Composite dropseed","Sporobolus clandestinus","Rough Dropseed"]
["F","Cream false indigo","Baptisia bracteata ","Longbract Wild Indigo "]
["F","Cream gentian","Gentiana alba","Pale Gentian, Yellow Gentian ","Plain gentian"]
["G","Dark green bulrush","Scirpus atrovirens","Green Bulrush"]
["F","False Dragonhead","Physostegia parviflora ","False Dragonhead / Physostegia virginiana "]
["F","Foxglove beardtongue","Penstemon digitalis","Foxglove Penstemon"]
["W","Fragrant false indigo","Amorpha fruticosa","False Indigo  ","False indigo bush"]
["F","Great blue lobelia","Lobelia siphilitica","Great Lobelia"]
["F","Great St. John's wort","Hypericum ascyron","Giant St. Johnswort"]
["F","Greenhead coneflower","Rudbeckia laciniata","Tall Coneflower ","Cutleaf coneflower"]
["F","Hairy aster","Symphyotrichum pilosum","Hairy White Oldfield Aster"]
["F","Heartleaf alexander","Zizia aptera","Heart-leaved Meadow Parsnip ","Meadow zizia"]
["F","Heath aster","Symphyotrichum ericoides","White Heath Aster"]
["F","Illinois bundle flower","Desmanthus illinoensis","Prairie Mimosa "]
["G","Junegrass","Koeleria macrantha","Prairie Junegrass"]
["G","Lurid sedge","Carex lurida","Shallow Sedge"]
["F","Meadow  blazing star","Liatris ligulistylis","Rocky Mountain Blazing Star "]
["F","Nodding bur marigold","Bidens cernua","Nodding Beggartick"]
["F","Obedient plant","Physostegia virginiana","Obedient Plant / Physostegia parviflora"]
["F","Ohio spiderwort","Tradescantia ohiensis","Common spiderwort","Bluejacket"]
["F","Old field goldenrod","Solidago nemoralis","Field Goldenrod","Gray goldenrod, Old Field Goldenrod, Prairie Goldenrod, Dwarf Goldenrod "]
["F","Oxeye/false sunflower","Heliopsis helianthoides","Ox-eye","Smooth oxeye; Early sunflower, Smooth sunflower, False sunflower, Oxeye daisy, Oxeye, Oxeye sunflower"]
["F","Pale purple coneflower","Echinacea pallida","Pale Coneflower "]
["F","Pale spiked lobelia","Lobelia spicata","Spiked lobelia","Palespike lobelia"]
["G","Porcupine sedge","Carex hystericina","Bottlebrush Sedge"]
["G","Prairie oval sedge","Carex brevior","Shortbeak Sedge"]
["W","Prairie rose","Rosa arkansana","Prairie Wild Rose  "]
["F","Prairie spiderwort","Tradescantia bracteata","Longbract Spiderwort "]
["F","Prairie sunflower","Helianthus pauciflorus","Prairie sunflower / Helianthus rigidum ","Stiff sunflower\t"]
["G","Purple top","Tridens flavus","Purpletop Tridens"]
["F","Rough blazing star","Liatris aspera","Tall Blazing Star ","Rough blazing star, Blazing star, Gayfeather,Button \nsnakeroot, and Button blazing star"]
["G","Rough dropseed","Sporobolus compositus","Composite Dropseed "]
["F","Silky aster","Symphyotrichum sericeum","Western Silver Aster "]
["F","Spotted joe pye weed","Eutrochium maculatum","Spotted Trumpetweed / Eupatoriadelphus maculatus "]
["F","Square-stemmed monkeyflower","Mimulus ringens","Monkey Flower","Allegheny monkeyflower"]
["F","Sullivant's milkweed","Asclepias sullivantii","Prairie Milkweed"]
["F","Sweet coneflower","Rudbeckia subtomentosa","Fragrant Coneflower"]
["F","Sweet joe-pye weed","Eupatorium purpureum","Sweetscented Joe Pye Weed"]
["F","Sweet william","Phlox divaricata","Blue Phlox","Wild blue phlox"]
["F","Tall boneset","Eupatorium altissimum","Tall Thoroughwort "]
["F","Tall coreopsis","Coreopsis tripteris","Tall Tickseed "]
["F","Tall green milkweed","Asclepias hirtella","Green Milkweed"]
["F","Thimbleweed","Anemone cylindrica","Candle Anemone"]
["F","Upland white aster","Oligoneuron album","Stiff Aster ","Prairie goldenrod"]
["F","Virginia mountain mint","Pycnanthemum virginianum","Common mountain mint"]
["F","White sage","Artemisia ludoviciana","White Sagebrush "]
["F","Wild garlic","Allium canadense","Meadow Garlic "]
["F","Wild prairie onion","Allium stellatum","Autumn Onion"]
["F","Wild quinine","Parthenium integrifolium","Feverfew, Wild Quinine","American feverfew, Eastern feverfew, Eastern parthenium"]
["F","Willow aster","Symphyotrichum praealtum","Willowleaf Aster"]
["G","Yellow fox sedge","Carex annectens","Yellowfruit Sedge"]

{"sheet":"Plant Name Synonyms","index":11,"n_rows":5179,"n_cols":11,"rows_kept":5179,"cut":false,"hidden":true,"merged":[[4,0,4,1],[4,3,4,4],[4,6,4,7],[4,9,4,10],[0,0,2,5]]}
["To search for a speceis on this page, press the control and the F keys at the same time to open the find and replace box. In the find what box, type the name (or portion thereof) of the species you're looking for and click the find next button. "]
[]
[]
[]
["Gramnoids (Grasses and Grass-like Plants)",null,null,"Forbs, Legumes, Herbs",null,null,"Trees, Shrubs, and Subshrubs",null,null,"Vines"]
["Scientific Name                             ","Common Name",null,"Scientific Name                  ","Common Name",null,"Scientific Name               ","Common Name",null,"Scientific Name","Common Name"]
["Agrostis hyemalis","winter bentgrass",null,"Acalypha deamii","Deam's threeseed mercury",null,"Abies balsamea","balsam fir",null,"Adlumia fungosa","allegheny vine"]
["Agrostis antecedens",null,null,"Acalypha rhomboidea var. deamii",null,null,"Abies balsamea var. balsamea","balsam fir",null,"Ampelopsis cordata","heartleaf peppervine"]
["Cornucopiae hyemalis",null,null,"Acalypha virginica var. deamii",null,null,"Pinus balsamea",null,null,"Cissus ampelopsis"]
["Agrostis perennans","upland bentgrass",null,"Acalypha gracilens","slender threeseed mercury",null,"Acer negundo","boxelder",null,"Amphicarpaea bracteata","American hogpeanut"]
["Agrostis altissima",null,null,"Acalypha gracilens var. delzii",null,null,"Acer negundo var. negundo","boxelder",null,"Amphicarpaea bracteata var. bracteata","American hogpeanut"]
["Agrostis elata",null,null,"Acalypha gracilens var. fraseri",null,null,"Acer negundo var. variegatum",null,null,"Amphicarpaea monoica"]
["Agrostis oreophila",null,null,"Acalypha virginica var. gracilens",null,null,"Negundo aceroides",null,null,"Amphicarpaea bracteata var. comosa","American hogpeanut"]
["Agrostis perennans var. aestivalis",null,null,"Acalypha ostryifolia","pineland threeseed mercury",null,"Negundo negundo",null,null,"Amphicarpaea comosa"]
["Agrostis perennans var. elata",null,null,"Acalypha caroliniana",null,null,"Acer negundo var. violaceum","boxelder",null,"Amphicarpaea pitcheri"]
["Agrostis schweinitzii",null,null,"Acalypha rhomboidea","common threeseed mercury",null,"Negundo aceroides ssp. violaceum",null,null,"Falcata comosa"]
["Cornucopiae perennans",null,null,"Acalypha virginica var. rhomboidea",null,null,"Acer nigrum","black maple",null,"Falcata pitcheri"]
["Agrostis scabra","rough bentgrass",null,"Acalypha virginica","Virginia threeseed mercury",null,"Acer nigrum var. palmeri",null,null,"Glycine comosa"]
["Agrostis geminata",null,null,"Achillea millefolium","common yarrow",null,"Acer saccharum ssp. nigrum",null,null,"Apios americana","groundnut"]
["Agrostis hyemalis var. geminata",null,null,"Achillea millefolium var. occidentalis","western yarrow",null,"Acer saccharum var. nigrum",null,null,"Apios americana var. turrigera"]
["Agrostis hyemalis var. scabra",null,null,"Achillea angustissima",null,null,"Acer saccharum var. viride",null,null,"Glycine apios"]
["Agrostis hyemalis var. tenuis",null,null,"Achillea aspleniifolia",null,null,"Saccharodendron nigrum",null,null,"Calystegia macounii","Macoun's false bindweed"]
["Agrostis scabra ssp. septentrionalis",null,null,"Achillea eradiata",null,null,"Acer rubrum","red maple",null,"Convolvulus interior"]
["Agrostis scabra var. geminata",null,null,"Achillea gracilis",null,null,"Acer rubrum var. rubrum","red maple",null,"Calystegia sepium","hedge false bindweed"]
["Agrostis scabra var. septentrionalis",null,null,"Achillea lanulosa",null,null,"Acer rubrum var. tomentosum",null,null,"Calystegia sepium ssp. americana","hedge false bindweed"]
["Alopecurus aequalis","shortawn foxtail",null,"Achillea lanulosa ssp. typica",null,null,"Acer stenocarpum",null,null,"Calystegia inflata"]
["Alopecurus aequalis var. aequalis","shortawn foxtail",null,"Achillea lanulosa var. arachnoidea",null,null,"Rufacer rubrum",null,null,"Calystegia sepium var. americana"]
["Alopecurus aequalis var. natans",null,null,"Achillea lanulosa var. eradiata",null,null,"Acer saccharinum","silver maple",null,"Convolvulus americanus"]
["Alopecurus aristulatus",null,null,"Achillea laxiflora",null,null,"Acer dasycarpum",null,null,"Convolvulus sepium var. americanus"]
["Alopecurus geniculatus var. aristulatus",null,null,"Achillea millefolium ssp. lanulosa",null,null,"Acer saccharinum var. laciniatum",null,null,"Calystegia sepium ssp. angulata","hedge false bindweed"]
["Alopecurus carolinianus","Carolina foxtail",null,"Achillea millefolium ssp. occidentalis",null,null,"Acer saccharinum var. wieri",null,null,"Calystegia sepium var. angulata"]
["Alopecurus macounii",null,null,"Achillea millefolium ssp. pallidotegula",null,null,"Argentacer saccharinum",null,null,"Calystegia sepium var. repens"]
["Alopecurus ramosus",null,null,"Achillea millefolium var. aspleniifolia",null,null,"Acer saccharum","sugar maple",null,"Convolvulus repens"]
["Andropogon gerardii","big bluestem",null,"Achillea millefolium var. gracilis",null,null,"Acer saccharum var. saccharum","sugar maple",null,"Convolvulus sepium var. repens"]
["Andropogon chrysocomus",null,null,"Achillea millefolium var. lanulosa",null,null,"Acer nigrum var. glaucum",null,null,"Calystegia silvatica","shortstalk false bindweed"]
["Andropogon furcatus",null,null,"Achillea millefolium var. rosea",null,null,"Acer nigrum var. saccharophorum",null,null,"Calystegia silvatica ssp. fraterniflora","shortstalk false bindweed"]
["Andropogon gerardii var. chrysocomus",null,null,"Achillea millefolium var. russeolata",null,null,"Acer saccharum var. glaucum",null,null,"Calystegia fraterniflora"]
["Andropogon provincialis",null,null,"Achillea occidentalis",null,null,"Acer saccharum var. rugellii",null,null,"Calystegia sepium var. fraterniflora"]
["Andropogon hallii","sand bluestem",null,"Achillea rosea",null,null,"Saccharodendron saccharum",null,null,"Convolvulus fraterniflorus"]
["Andropogon gerardii var. incanescens",null,null,"Achillea tomentosa",null,null,"Acer spicatum","mountain maple",null,"Convolvulus sepium var. fraterniflorus"]
["Andropogon gerardii var. paucipilus",null,null,"Aconitum columbianum","Columbian monkshood",null,"Aesculus glabra","Ohio buckeye",null,"Calystegia spithamaea","low false bindweed"]
["Andropogon hallii var. incanescens",null,null,"Aconitum columbianum ssp. columbianum","Columbian monkshood",null,"Aesculus glabra var. arguta","Ohio buckeye",null,"Calystegia spithamaea ssp. spithamaea","low false bindweed"]
["Andropogon paucipilus",null,null,"Aconitum columbianum ssp. pallidum",null,null,"Aesculus arguta",null,null,"Convolvulus spithamaeus"]
["Andropogon virginicus","broomsedge bluestem",null,"Aconitum columbianum var. bakeri",null,null,"Aesculus glabra var. buckleyi",null,null,"Calystegia spithamaea ssp. stans","low false bindweed"]
["Andropogon virginicus var. virginicus","broomsedge bluestem",null,"Aconitum columbianum var. ochroleucum",null,null,"Aesculus glabra var. glabra","Ohio buckeye",null,"Campsis radicans","trumpet creeper"]
["Andropogon virginicus var. tetrastachyus",null,null,"Aconitum geranioides",null,null,"Aesculus glabra var. leucodermis",null,null,"Bignonia radicans"]
["Anatherum virginicum subvar. tetrastachyum",null,null,"Aconitum leibergii",null,null,"Aesculus glabra var. micrantha",null,null,"Tecoma radicans"]
["Aristida basiramea","forked threeawn",null,"Aconitum mogollonicum",null,null,"Aesculus glabra var. monticola",null,null,"Celastrus scandens","American bittersweet"]
["Aristida dichotoma","churchmouse threeawn",null,"Aconitum noveboracense","northern blue monkshood",null,"Aesculus glabra var. pallida",null,null,"Clematis occidentalis","western blue virginsbower"]
["Aristida dichotoma var. curtissii","Curtis' threeawn",null,"Aconitum noveboracense var. quasiciliatum",null,null,"Aesculus glabra var. sargentii",null,null,"Clematis occidentalis var. occidentalis","western blue virginsbower"]
["Aristida basiramea var. curtissii",null,null,"Aconitum uncinatum ssp. noveboracense",null,null,"Aesculus ×marylandica",null,null,"Atragene americana"]
["Aristida curtissii",null,null,"Acorus americanus","sweetflag",null,"Agastache foeniculum","blue giant hyssop",null,"Atragene occidentalis"]
["Aristida dichotoma var. dichotoma","churchmouse threeawn",null,"Acorus calamus",null,null,"Agastache anethiodora",null,null,"Clematis verticillaris"]
["Aristida longespica","slimspike threeawn",null,"Acorus calamus var. americanus",null,null,"Agastache nepetoides","yellow giant hyssop",null,"Clematis verticillaris var. cacuminis"]
["Aristida longispica",null,null,"Acorus calamus","calamus",null,"Agastache scrophulariifolia","purple giant hyssop",null,"Clematis verticillaris var. grandiflora"]
["Aristida longespica var. geniculata","slimspike threeawn",null,"Actaea pachypoda","white baneberry",null,"Agastache scrophulariifolia var. mollis",null,null,"Clematis pitcheri","bluebill"]
["Aristida geniculata",null,null,"Actaea alba",null,null,"Agoseris glauca","pale agoseris",null,"Clematis pitcheri var. pitcheri","bluebill"]
["Aristida intermedia",null,null,"Actaea racemosa","black baneberry",null,"Alnus incana","gray alder",null,"Clematis filifera"]
["Aristida intermedia var. necopina",null,null,"Actaea racemosa var. racemosa","black bugbane",null,"Alnus incana ssp. rugosa","speckled alder",null,"Clematis pitcheri var. filifera"]
["Aristida longispica var. geniculata",null,null,"Cimicifuga racemosa",null,null,"Alnus incana var. americana",null,null,"Coriflora pitcheri"]
["Aristida necopina",null,null,"Actaea rubra","red baneberry",null,"Alnus rugosa",null,null,"Viorna pitcheri"]
["Aristida longespica var. longespica","slimspike threeawn",null,"Actaea rubra ssp. rubra","red baneberry",null,"Alnus rugosa var. americana",null,null,"Clematis virginiana","devil's darning needles"]
["Aristida gracilis",null,null,"Actaea spicata ssp. rubra",null,null,"Ambrosia trifida","great ragweed",null,"Clematis virginiana var. missouriensis"]
["Aristida longispica var. longispica",null,null,"Adiantum pedatum","northern maidenhair",null,"Ambrosia trifida var. trifida","great ragweed",null,"Clitoria mariana","Atlantic pigeonwings"]
["Aristida oligantha","prairie threeawn",null,"Adlumia fungosa","allegheny vine",null,"Ambrosia trifida var. integrifolia",null,null,"Martiusia mariana"]
["Aristida ramosissima var. chaseana",null,null,"Adoxa moschatellina","muskroot",null,"Amelanchier alnifolia","Saskatoon serviceberry",null,"Cucurbita foetidissima","Missouri gourd"]
["Aristida purpurea","purple threeawn",null,"Agalinis aspera","tall false foxglove",null,"Amelanchier alnifolia var. alnifolia","Saskatoon serviceberry",null,"Pepo foetidissima"]
["Aristida purpurea var. longiseta","Fendler threeawn",null,"Gerardia aspera",null,null,"Amelanchier arborea","common serviceberry",null,"Cuscuta cephalanthi","buttonbush dodder"]
["Aristida longiseta",null,null,"Agalinis auriculata","earleaf false foxglove",null,"Amelanchier arborea var. arborea","common serviceberry",null,"Grammica cephalanthi"]
["Aristida longiseta var. rariflora",null,null,"Aureolaria auriculata",null,null,"Amelanchier oblongifolia",null,null,"Cuscuta compacta","compact dodder"]
["Aristida longiseta var. robusta",null,null,"Gerardia auriculata",null,null,"Amelanchier humilis","low serviceberry",null,"Cuscuta compacta var. compacta","compact dodder"]
["Aristida purpurea var. robusta",null,null,"Otophylla auriculata",null,null,"Amelanchier humilis var. campestris",null,null,"Cuscuta coryli","hazel dodder"]
["Aristida ramosissima","s-curve threeawn",null,"Tomanthera auriculata",null,null,"Amelanchier humilis var. compacta",null,null,"Grammica coryli"]
["Aristida tuberculosa","seaside threeawn",null,"Agalinis gattingeri","roundstem false foxglove",null,"Amelanchier humilis var. exserrata",null,null,"Cuscuta cuspidata","cusp dodder"]
["Beckmannia syzigachne","American sloughgrass",null,"Gerardia gattingeri",null,null,"Amelanchier mucronata",null,null,"Grammica cuspidata"]
["Beckmannia eruciformis",null,null,"Agalinis paupercula","smallflower false foxglove",null,"Amelanchier stolonifera",null,null,"Cuscuta glomerata","rope dodder"]
["Beckmannia eruciformis ssp. baicalensis",null,null,"Agalinis paupercula var. borealis","smallflower false foxglove",null,"Amelanchier interior","Pacific serviceberry",null,"Cuscuta gronovii","scaldweed"]
["Beckmannia eruciformis var. uniflora",null,null,"Agalinis purpurea var. parviflora",null,null,"Amelanchier wiegandii",null,null,"Cuscuta gronovii var. gronovii","scaldweed"]
["Beckmannia syzigachne ssp. baicalensis",null,null,"Gerardia paupercula ssp. borealis",null,null,"Amelanchier laevis","Allegheny serviceberry",null,"Cuscuta gronovii var. latiflora"]
["Beckmannia syzigachne var. uniflora",null,null,"Gerardia paupercula var. borealis",null,null,"Amelanchier arborea ssp. laevis",null,null,"Cuscuta gronovii var. saururi"]
["Bouteloua curtipendula","sideoats grama",null,"Gerardia purpurea var. parviflora",null,null,"Amelanchier arborea var. cordifolia",null,null,"Cuscuta umbrosa"]
["Bouteloua curtipendula var. curtipendula","sideoats grama",null,"Agalinis paupercula var. paupercula","smallflower false foxglove",null,"Amelanchier arborea var. laevis",null,null,"Grammica gronovii"]
["Atheropogon curtipendulus",null,null,"Gerardia paupercula",null,null,"Amelanchier ×grandiflora",null,null,"Grammica umbrosa"]
["Chloris curtipendula",null,null,"Gerardia paupercula var. typica",null,null,"Amelanchier laevis var. nitida",null,null,"Cuscuta indecora","bigseed alfalfa dodder"]
["Bouteloua dactyloides","buffalograss",null,"Gerardia purpurea var. paupercula",null,null,"Amelanchier sanguinea","roundleaf serviceberry",null,"Cuscuta indecora var. neuropetala","bigseed dodder"]
["Buchloe dactyloides",null,null,"Agalinis purpurea","purple false foxglove",null,"Amelanchier sanguinea var. sanguinea","roundleaf serviceberry",null,"Grammica indecora ssp. neuropetala"]
["Buchloe dactyloides",null,null,"Agalinis purpurea var. carteri",null,null,"Amelanchier amabilis",null,null,"Cuscuta pentagona","fiveangled dodder"]
["Bulbilis dactyloides",null,null,"Gerardia purpurea",null,null,"Amelanchier grandiflora",null,null,"Cuscuta pentagona var. pentagona","fiveangled dodder"]
["Sesleria dactyloides",null,null,"Gerardia purpurea ssp. parvula",null,null,"Amelanchier huronensis",null,null,"Cuscuta arvensis"]
["Bouteloua gracilis","blue grama",null,"Gerardia purpurea var. carteri",null,null,"Amelanchier sanguinea var. grandiflora",null,null,"Cuscuta campestris"]
["Bouteloua gracilis var. stricta",null,null,"Gerardia purpurea var. grandiflora",null,null,"Amelanchier stolonifera","running serviceberry",null,"Cuscuta pentagona var. calycina"]
["Bouteloua oligostachya",null,null,"Agalinis skinneriana","Skinner's false foxglove",null,"Amelanchier spicata",null,null,"Grammica campestris"]
["Chondrosum gracile",null,null,"Gerardia skinneriana",null,null,"Ammannia coccinea","valley redstem",null,"Grammica pentagona"]
["Chondrosum oligostachyum",null,null,"Agalinis tenuifolia","slenderleaf false foxglove",null,"Ammannia coccinea ssp. purpurea",null,null,"Cuscuta polygonorum","smartweed dodder"]
["Bouteloua hirsuta","hairy grama",null,"Agalinis tenuifolia var. macrophylla","slenderleaf false foxglove",null,"Ammannia teres",null,null,"Cynanchum laeve","honeyvine"]
["Bouteloua hirsuta var. hirsuta","hairy grama",null,"Agalinis besseyana",null,null,"Amorpha canescens","leadplant",null,"Ampelamus albidus"]
["Bouteloua glandulosa",null,null,"Gerardia besseyana",null,null,"Amorpha brachycarpa",null,null,"Ampelamus laevis"]
["Bouteloua hirsuta var. glandulosa",null,null,"Gerardia tenuifolia ssp. macrophylla",null,null,"Amorpha fruticosa","desert false indigo",null,"Gonolobus laevis"]
["Chondrosum hirsutum",null,null,"Gerardia tenuifolia var. macrophylla",null,null,"Amorpha angustifolia",null,null,"Dioscorea quaternata","fourleaf yam"]
["Brachyelytrum aristosum","northern shorthusk",null,"Agalinis tenuifolia var. parviflora","slenderleaf false foxglove",null,"Amorpha bushii",null,null,"Dioscorea glauca"]
["Brachyelytrum aristosum var. glabratum",null,null,"Gerardia tenuifolia ssp. parviflora",null,null,"Amorpha croceolanata",null,null,"Dioscorea quaternata var. glauca"]
["Brachyelytrum erectum var. glabratum",null,null,"Gerardia tenuifolia var. parviflora",null,null,"Amorpha curtissii",null,null,"Dioscorea villosa var. glabrifolia"]
["Brachyelytrum erectum var. septentrionale",null,null,"Agastache foeniculum","blue giant hyssop",null,"Amorpha dewinkeleri",null,null,"Dioscorea villosa","wild yam"]
["Brachyelytrum septentrionale",null,null,"Agastache anethiodora",null,null,"Amorpha fruticosa var. angustifolia",null,null,"Dioscorea hirticaulis"]
["Brachyelytrum erectum","bearded shorthusk",null,"Agastache nepetoides","yellow giant hyssop",null,"Amorpha fruticosa var. croceolanata",null,null,"Dioscorea villosa var. hirticaulis"]
["Bromus ciliatus","fringed brome",null,"Agastache scrophulariifolia","purple giant hyssop",null,"Amorpha fruticosa var. emarginata",null,null,"Echinocystis lobata","wild cucumber"]
["Bromus ciliatus var. ciliatus","fringed brome",null,"Agastache scrophulariifolia var. mollis",null,null,"Amorpha fruticosa var. oblongifolia",null,null,"Micrampelis lobata"]
["Bromopsis canadensis",null,null,"Ageratina altissima","white snakeroot",null,"Amorpha fruticosa var. occidentalis",null,null,"Sicyos lobata"]
["Bromopsis ciliata",null,null,"Ageratina altissima var. altissima","white snakeroot",null,"Amorpha fruticosa var. tennesseensis",null,null,"Galium aparine","stickywilly"]
["Bromus canadensis",null,null,"Ageratum altissimum",null,null,"Amorpha occidentalis",null,null,"Galium agreste var. echinospermum"]
["Bromus ciliatus var. genuinus",null,null,"Eupatorium rugosum",null,null,"Amorpha occidentalis var. arizonica",null,null,"Galium aparine ssp. spurium"]
["Bromus ciliatus var. intonsus",null,null,"Eupatorium rugosum var. chlorolepis",null,null,"Amorpha occidentalis var. emarginata",null,null,"Galium aparine var. echinospermum"]
["Bromus dudleyi",null,null,"Eupatorium rugosum var. tomentellum",null,null,"Amorpha tennesseensis",null,null,"Galium aparine var. intermedium"]
["Bromus richardsonii var. pallidus",null,null,"Eupatorium rugosum var. villicaule",null,null,"Amorpha virgata",null,null,"Galium aparine var. minor"]
["Bromus inermis","smooth brome",null,"Eupatorium urticifolium var. tomentellum",null,null,"Amorpha nana","dwarf false indigo",null,"Galium aparine var. vaillantii"]
["Bromus kalmii","arctic brome",null,"Agoseris glauca","pale agoseris",null,"Aralia nudicaulis","wild sarsaparilla",null,"Galium spurium"]
["Bromopsis kalmii",null,null,"Agoseris glauca var. glauca","pale agoseris",null,"Aralia racemosa","American spikenard",null,"Galium spurium var. echinospermum"]
["Bromus purgans",null,null,"Agoseris turbinata",null,null,"Aralia racemosa ssp. racemosa","American spikenard",null,"Galium spurium var. vaillantii"]
["Bromus purgans",null,null,"Troximon glaucum",null,null,"Arctostaphylos uva-ursi","kinnikinnick",null,"Galium spurium var. vaillantii"]
["Bromus latiglumis","earlyleaf brome",null,"Agrimonia gryposepala","tall hairy agrimony",null,"Arctostaphylos adenotricha",null,null,"Galium vaillantii"]
["Bromus altissimus",null,null,"Agrimonia parviflora","harvestlice",null,"Arctostaphylos uva-ursi ssp. adenotricha",null,null,"Galium trifidum","threepetal bedstraw"]
["Bromus purgans",null,null,"Agrimonia pubescens","soft agrimony",null,"Arctostaphylos uva-ursi ssp. coactilis",null,null,"Galium trifidum ssp. trifidum","threepetal bedstraw"]
["Bromus marginatus","mountain brome",null,"Agrimonia bicknellii",null,null,"Arctostaphylos uva-ursi ssp. longipilosa",null,null,"Galium brandegeei"]
["Bromus breviaristatus",null,null,"Agrimonia mollis",null,null,"Arctostaphylos uva-ursi ssp. monoensis",null,null,"Galium triflorum","fragrant bedstraw"]
["Bromus carinatus var. linearis",null,null,"Agrimonia striata","roadside agrimony",null,"Arctostaphylos uva-ursi ssp. stipitata",null,null,"Galium brachiatum"]
["Bromus marginatus var. breviaristatus",null,null,"Alisma gramineum","narrowleaf water plantain",null,"Arctostaphylos uva-ursi var. adenotricha",null,null,"Galium pennsylvanicum"]
["Bromus marginatus var. latior",null,null,"Alisma geyeri",null,null,"Arctostaphylos uva-ursi var. coactilis",null,null,"Galium triflorum var. asprelliforme"]
["Bromus marginatus var. seminudus",null,null,"Alisma gramineum var. angustissimum",null,null,"Arctostaphylos uva-ursi var. leobreweri",null,null,"Galium triflorum var. viridiflorum"]
["Bromus sitchensis var. marginatus",null,null,"Alisma gramineum var. geyeri",null,null,"Arctostaphylos uva-ursi var. marinensis",null,null,"Humulus lupulus","common hop"]
["Ceratochloa marginata",null,null,"Alisma gramineum var. graminifolium",null,null,"Arctostaphylos uva-ursi var. pacifica",null,null,"Humulus lupulus var. lupuloides","common hop"]
["Ceratochloa marginata",null,null,"Alisma gramineum var. wahlenbergii",null,null,"Arctostaphylos uva-ursi var. stipitata",null,null,"Humulus americanus"]
["Bromus nottowayanus","Nottoway Valley brome",null,"Alisma lanceolatum",null,null,"Arctostaphylos uva-ursi var. suborbiculata",null,null,"Humulus lupulus ssp. americanus"]
["Bromopsis nottowayana",null,null,"Alisma subcordatum","American water plantain",null,"Uva-Ursi uva-ursi",null,null,"Humulus lupulus var. pubescens","common hop"]
["Bromus pubescens","hairy woodland brome",null,"Alisma plantago-aquatica ssp. subcordatum",null,null,"Artemisia dracunculus","tarragon",null,"Ipomoea cristulata","Trans-Pecos morning-glory"]
["Bromopsis pubescens",null,null,"Alisma plantago-aquatica var. parviflorum",null,null,"Artemisia dracunculoides",null,null,"Ipomoea hederacea","ivyleaf morning-glory"]
["Bromus ciliatus var. laeviglumis",null,null,"Alisma triviale","northern water plantain",null,"Artemisia dracunculoides var. dracunculina",null,null,"Ipomoea barbigera"]
["Bromus pubescens var. laeviglumis",null,null,"Alisma brevipes",null,null,"Artemisia dracunculus ssp. glauca",null,null,"Ipomoea desertorum"]
["Bromus purgans",null,null,"Alisma plantago-aquatica ssp. brevipes",null,null,"Artemisia dracunculus var. glauca",null,null,"Ipomoea hederacea var. integriuscula"]
["Bromus purgans var. laeviglumis",null,null,"Alisma plantago-aquatica var. americanum",null,null,"Artemisia glauca",null,null,"Ipomoea hirsutula"]
["Bulbostylis capillaris","densetuft hairsedge",null,"Alisma plantago-aquatica var. brevipes",null,null,"Artemisia glauca var. dracunculina",null,null,"Ipomoea nil"]
["Bulbostylis capillaris ssp. capillaris","densetuft hairsedge",null,"Allium burdickii","narrowleaf wild leek",null,"Oligosporus dracunculus",null,null,"Pharbitis barbigera"]
["Bulbostylis capillaris var. crebra",null,null,"Allium tricoccum var. burdickii",null,null,"Oligosporus dracunculus ssp. dracunculinus",null,null,"Pharbitis hederacea"]
["Bulbostylis capillaris var. isopoda",null,null,"Allium canadense","meadow garlic",null,"Oligosporus dracunculus ssp. glaucus",null,null,"Ipomoea lacunosa","whitestar"]
["Fimbristylis capillaris",null,null,"Allium canadense var. canadense","meadow garlic",null,"Artemisia frigida","prairie sagewort",null,"Ipomoea pandurata","man of the earth"]
["Scirpus capillaris",null,null,"Allium acetabulum",null,null,"Artemisia ludoviciana","white sagebrush",null,"Ipomoea pandurata var. rubescens"]
["Stenophyllus capillaris",null,null,"Allium canadense var. ovoideum",null,null,"Artemisia ludoviciana ssp. ludoviciana","white sagebrush",null,"Lathyrus ochroleucus","cream pea"]
["Calamagrostis canadensis","bluejoint",null,"Allium canadense var. robustum",null,null,"Artemisia diversifolia",null,null,"Lathyrus palustris","marsh pea"]
["Calamagrostis canadensis var. canadensis","bluejoint",null,"Allium continuum",null,null,"Artemisia gnaphalodes",null,null,"Lathyrus myrtifolius"]
["Calamagrostis anomala",null,null,"Allium canadense var. lavandulare","meadow garlic",null,"Artemisia herriotii",null,null,"Lathyrus palustris ssp. pilosus"]
["Calamagrostis atropurpurea",null,null,"Allium canadense ssp. lavandulare",null,null,"Artemisia ludoviciana ssp. typica",null,null,"Lathyrus palustris var. linearifolius"]
["Calamagrostis canadensis var. imberbis",null,null,"Allium lavandulare",null,null,"Artemisia ludoviciana var. americana",null,null,"Lathyrus palustris var. macranthus"]
["Calamagrostis canadensis var. pallida",null,null,"Allium canadense var. mobilense","meadow garlic",null,"Artemisia ludoviciana var. brittonii",null,null,"Lathyrus palustris var. meridionalis"]
["Calamagrostis canadensis var. robusta",null,null,"Allium arenicola",null,null,"Artemisia ludoviciana var. gnaphalodes",null,null,"Lathyrus palustris var. myrtifolius"]
["Calamagrostis canadensis var. typica",null,null,"Allium canadense ssp. mobilense",null,null,"Artemisia ludoviciana var. latifolia",null,null,"Lathyrus palustris var. pilosus"]
["Calamagrostis expansa var. robusta",null,null,"Allium microscordion",null,null,"Artemisia ludoviciana var. pabularis",null,null,"Lathyrus palustris var. retusus"]
["Calamagrostis hyperborea",null,null,"Allium mobilense",null,null,"Artemisia pabularis",null,null,"Orobus myrtifolius"]
["Calamagrostis inexpansa var. cuprea",null,null,"Allium mutabile",null,null,"Artemisia purshiana",null,null,"Lathyrus venosus","veiny pea"]
["Calamagrostis inexpansa var. robusta",null,null,"Allium zenobine",null,null,"Artemisia vulgaris ssp. ludoviciana",null,null,"Lathyrus oreophilus"]
["Calamagrostis scribneri",null,null,"Allium cernuum","nodding onion",null,"Artemisia vulgaris var. ludoviciana",null,null,"Lathyrus venosus ssp. arkansanus"]
["Calamagrostis canadensis var. macouniana","Macoun's reedgrass",null,"Allium cernuum var. cernuum","nodding onion",null,"Artemisia vulgaris","common wormwood",null,"Lathyrus venosus var. arkansanus"]
["Calamagrostis macouniana",null,null,"Allium perdulce","plains onion",null,"Asclepias stenophylla","slimleaf milkweed",null,"Lathyrus venosus var. intonsus"]
["Calamagrostis stricta","slimstem reedgrass",null,"Allium perdulce var. perdulce","plains onion",null,"Acerates angustifolia",null,null,"Lathyrus venosus var. meridionalis"]
["Calamagrostis stricta ssp. inexpansa","northern reedgrass",null,"Allium stellatum","autumn onion",null,"Polyotus angustifolius",null,null,"Lonicera dioica","limber honeysuckle"]
["Calamagrostis californica",null,null,"Allium textile","textile onion",null,"Asimina triloba","pawpaw",null,"Lonicera dioica var. dasygyna"]
["Calamagrostis canadensis var. acuminata",null,null,"Allium aridum",null,null,"Astragalus missouriensis","Missouri milkvetch",null,"Lonicera dioica var. glaucescens"]
["Calamagrostis canadensis var. arcta",null,null,"Allium geyeri var. textile",null,null,"Astragalus missouriensis var. missouriensis","Missouri milkvetch",null,"Lonicera dioica var. orientalis"]
["Calamagrostis chordorrhiza",null,null,"Allium reticulatum",null,null,"Xylophacos missouriensis",null,null,"Lonicera glaucescens"]
["Calamagrostis crassiglumis",null,null,"Allium reticulatum var. playanum",null,null,"Betula alleghaniensis","yellow birch",null,"Lonicera glaucescens var. dasygyna"]
["Calamagrostis expansa",null,null,"Allium tricoccum","ramp",null,"Betula alleghaniensis var. alleghaniensis","yellow birch",null,"Lonicera reticulata","grape honeysuckle"]
["Calamagrostis fernaldii",null,null,"Validallium tricoccum",null,null,"Betula alleghaniensis var. fallax",null,null,"Lonicera prolifera"]
["Calamagrostis hyperborea var. americana",null,null,"Amaranthus arenicola","sandhill amaranth",null,"Betula lutea",null,null,"Lonicera prolifera var. glabra"]
["Calamagrostis hyperborea var. elongata",null,null,"Amaranthus torreyi",null,null,"Betula lutea var. fallax",null,null,"Lonicera sullivantii"]
["Calamagrostis hyperborea var. stenodes",null,null,"Amaranthus hybridus","slim amaranth",null,"Betula nigra","river birch",null,"Lonicera sempervirens","trumpet honeysuckle"]
["Calamagrostis inexpansa",null,null,"Amaranthus chlorostachys",null,null,"Betula papyrifera","paper birch",null,"Lonicera sempervirens var. hirsutula"]
["Calamagrostis inexpansa var. barbulata",null,null,"Amaranthus incurvatus",null,null,"Betula papyrifera var. cordifolia","mountain paper birch",null,"Lonicera sempervirens var. minor"]
["Calamagrostis inexpansa var. brevior",null,null,"Amaranthus patulus",null,null,"Betula alba var. cordifolia",null,null,"Lonicera sempervirens var. sempervirens"]
["Calamagrostis inexpansa var. novae-angliae",null,null,"Amaranthus powellii","Powell's amaranth",null,"Betula cordifolia",null,null,"Phenianthus sempervirens"]
["Calamagrostis labradorica",null,null,"Amaranthus powellii ssp. powellii","Powell's amaranth",null,"Betula papyrifera var. papyrifera","paper birch",null,"Menispermum canadense","common moonseed"]
["Calamagrostis lacustris",null,null,"Amaranthus bracteosus",null,null,"Betula alba var. commutata",null,null,"Parthenocissus quinquefolia","Virginia creeper"]
["Calamagrostis lapponica var. brevipilis",null,null,"Amaranthus retroflexus var. powellii",null,null,"Betula papyrifera var. commutata",null,null,"Ampelopsis hederacea var. murorum"]
["Calamagrostis pickeringii var. lacustris",null,null,"Amaranthus viscidulus",null,null,"Betula papyrifera var. elobata",null,null,"Ampelopsis latifolia"]
["Calamagrostis robertii",null,null,"Amaranthus retroflexus","redroot amaranth",null,"Betula papyrifera var. macrostachya",null,null,"Ampelopsis quinquefolia"]
["Calamagrostis stricta var. brevior",null,null,"Amaranthus retroflexus var. salicifolius",null,null,"Betula papyrifera var. pensilis",null,null,"Hedera quinquefolia"]
["Calamagrostis stricta var. lacustris",null,null,"Amaranthus spinosus","spiny amaranth",null,"Betula pumila","bog birch",null,"Parthenocissus hirsuta"]
["Calamovilfa longifolia","prairie sandreed",null,"Amaranthus tuberculatus","roughfruit amaranth",null,"Betula pumila var. glandulifera","bog birch",null,"Parthenocissus inserta"]
["Calamovilfa longifolia var. longifolia","prairie sandreed",null,"Acnida altissima",null,null,"Betula glandulifera",null,null,"Parthenocissus quinquefolia var. hirsuta"]
["Calamovilfa longifolia var. magna","prairie sandreed",null,"Acnida altissima var. prostrata",null,null,"Betula glandulosa var. glandulifera",null,null,"Parthenocissus quinquefolia var. murorum"]
["Carex aggregata","glomerate sedge",null,"Acnida altissima var. subnuda",null,null,"Betula glandulosa var. hallii",null,null,"Parthenocissus quinquefolia var. saintpaulii"]
["Carex sparganioides var. aggregata",null,null,"Acnida concatenata",null,null,"Betula nana var. glandulifera",null,null,"Psedera quinquefolia"]
["Carex albicans","whitetinge sedge",null,"Acnida subnuda",null,null,"Betula ×sandbergii",null,null,"Psedera quinquefolia var. murorum"]
["Carex albicans var. albicans","whitetinge sedge",null,"Acnida tamariscina",null,null,"Brickellia eupatorioides","false boneset",null,"Vitis inserta"]
["Carex artitecta",null,null,"Acnida tamariscina var. prostrata",null,null,"Brickellia eupatorioides var. corymbulosa","false boneset",null,"Vitis quinquefolia"]
["Carex artitecta var. subtilirostris",null,null,"Acnida tuberculata",null,null,"Kuhnia eupatorioides var. corymbulosa",null,null,"Parthenocissus vitacea","woodbine"]
["Carex emmonsii var. muehlenbergii",null,null,"Amaranthus altissimus",null,null,"Kuhnia hitchcockii",null,null,"Phaseolus polystachios","thicket bean"]
["Carex nigromarginata var. muehlenbergii",null,null,"Amaranthus ambigens",null,null,"Calylophus serrulatus","yellow sundrops",null,"Phaseolus polystachios var. polystachios","thicket bean"]
["Carex varia",null,null,"Amaranthus rudis",null,null,"Calylophus australis",null,null,"Phaseolus polystachios var. aquilonius"]
["Carex albursina","white bear sedge",null,"Amaranthus tamariscinus",null,null,"Meriolix intermedia",null,null,"Phaseolus smilacifolius"]
["Carex laxiflora var. latifolia",null,null,"Amaranthus tuberculatus var. prostratus",null,null,"Meriolix oblanceolata",null,null,"Polygonum sagittatum","arrowleaf tearthumb"]
["Carex alopecoidea","foxtail sedge",null,"Amaranthus tuberculatus var. subnudus",null,null,"Meriolix serrulata",null,null,"Persicaria sagittata"]
["Carex annectens","yellowfruit sedge",null,"Ambrosia artemisiifolia","annual ragweed",null,"Oenothera serrulata",null,null,"Polygonum sagittatum var. gracilentum"]
["Carex annectens var. xanthocarpa",null,null,"Ambrosia artemisiifolia var. elatior","annual ragweed",null,"Oenothera serrulata var. typica",null,null,"Tracaulon sagittatum"]
["Carex brachyglossa",null,null,"Ambrosia elatior",null,null,"Carpinus caroliniana","American hornbeam",null,"Tracaulon sagittatum var. gracilentum"]
["Carex setacea var. ambigua",null,null,"Ambrosia bidentata","lanceleaf ragweed",null,"Carpinus caroliniana ssp. virginiana","American hornbeam",null,"Truellum sagittatum"]
["Carex aquatilis","water sedge",null,"Ambrosia ×helenae",null,null,"Carpinus betulus var. virginiana",null,null,"Polygonum scandens","climbing false buckwheat"]
["Carex aquatilis var. aquatilis","water sedge",null,"Ambrosia psilostachya","Cuman ragweed",null,"Carpinus caroliniana var. virginiana",null,null,"Polygonum scandens var. cristatum","climbing false buckwheat"]
["Carex acutinella",null,null,"Ambrosia californica",null,null,"Carya alba","mockernut hickory",null,"Bilderdykia cristata"]
["Carex aquatilis ssp. altior",null,null,"Ambrosia coronopifolia",null,null,"Carya tomentosa",null,null,"Bilderdykia scandens var. cristata"]
["Carex aquatilis var. altior",null,null,"Ambrosia cumanensis",null,null,"Carya tomentosa var. subcoriacea",null,null,"Polygonum cristatum"]
["Carex aquatilis var. substricta",null,null,"Ambrosia psilostachya var. californica",null,null,"Hicoria tomentosa",null,null,"Reynoutria scandens var. cristata"]
["Carex substricta",null,null,"Ambrosia psilostachya var. coronopifolia",null,null,"Juglans alba",null,null,"Tiniaria cristata"]
["Carex suksdorfii",null,null,"Ambrosia psilostachya var. lindheimeriana",null,null,"Carya cordiformis","bitternut hickory",null,"Polygonum scandens var. dumetorum","climbing false buckwheat"]
["Carex assiniboinensis","Assiniboia sedge",null,"Ambrosia rugelii",null,null,"Carya cordiformis var. latifolia",null,null,"Bilderdykia dumetorum"]
["Carex atherodes","wheat sedge",null,"Ambrosia tomentosa","skeletonleaf bur ragweed",null,"Hicoria cordiformis",null,null,"Polygonum dumetorum"]
["Carex austrina","southern sedge",null,"Franseria discolor",null,null,"Carya illinoinensis","pecan",null,"Reynoutria scandens var. dumetorum"]
["Carex muehlenbergii var. australis",null,null,"Franseria tomentosa",null,null,"Carya oliviformis",null,null,"Tiniaria dumetorum"]
["Carex muehlenbergii var. austrina",null,null,"Gaertneria discolor",null,null,"Carya pecan",null,null,"Rosa setigera","climbing rose"]
["Carex backii","Back's sedge",null,"Gaertneria tomentosa",null,null,"Hicoria pecan",null,null,"Rosa setigera var. tomentosa","climbing rose"]
["Carex backii var. subrostrata",null,null,"Ambrosia trifida","great ragweed",null,"Carya laciniosa","shellbark hickory",null,"Sicyos angulatus","oneseed bur cucumber"]
["Carex durifolia",null,null,"Ambrosia trifida var. trifida","great ragweed",null,"Hicoria laciniosa",null,null,"Smilax ecirrhata","upright carrionflower"]
["Carex durifolia var. subrostrata",null,null,"Ambrosia trifida var. integrifolia",null,null,"Carya ×nussbaumeri",null,null,"Nemexia ecirrhata"]
["Carex bebbii","Bebb's sedge",null,"Ammannia coccinea","valley redstem",null,"Carya ovalis","red hickory",null,"Smilax herbacea","smooth carrionflower"]
["Carex bicknellii","Bicknell's sedge",null,"Ammannia coccinea ssp. purpurea",null,null,"Carya glabra var. odorata",null,null,"Nemexia herbacea"]
["Carex bicknellii var. bicknellii",null,null,"Ammannia teres",null,null,"Carya ovalis var. mollis",null,null,"Smilax illinoensis","Illinois greenbrier"]
["Carex brevior var. crawei",null,null,"Ammannia robusta","grand redstem",null,"Carya ovalis var. obcordata",null,null,"Smilax lasioneura","Blue Ridge carrionflower"]
["Carex blanda","eastern woodland sedge",null,"Ammannia coccinea ssp. robusta",null,null,"Carya ovalis var. obovalis",null,null,"Nemexia lasioneura"]
["Carex laxiflora var. blanda",null,null,"Ludwigia scabriuscula",null,null,"Carya ovalis var. odorata",null,null,"Smilax herbacea var. lasioneura"]
["Carex brevior","shortbeak sedge",null,"Amphiachyris dracunculoides","prairie broomweed",null,"Carya ×ovalis var. odorata",null,null,"Smilax rotundifolia","roundleaf greenbrier"]
["Carex festucacea var. brevior",null,null,"Brachyris dracunculoides",null,null,"Hicoria ovalis",null,null,"Smilax rotundifolia var. crenulata"]
["Carex bushii","Bush's sedge",null,"Gutierrezia dracunculoides",null,null,"Carya ovata","shagbark hickory",null,"Smilax rotundifolia var. quadrangularis"]
["Carex caroliniana var. cuspidata",null,null,"Xanthocephalum dracunculoides",null,null,"Carya ovata var. fraxinifolia",null,null,"Smilax tamnoides","bristly greenbrier"]
["Carex buxbaumii","Buxbaum's sedge",null,"Amphicarpaea bracteata","American hogpeanut",null,"Carya ovata var. nuttallii",null,null,"Smilax hispida"]
["Carex careyana","Carey's sedge",null,"Amphicarpaea bracteata var. bracteata","American hogpeanut",null,"Carya ovata var. pubescens",null,null,"Smilax hispida var. australis"]
["Carex cephaloidea","thinleaf sedge",null,"Amphicarpaea monoica",null,null,"Hicoria alba",null,null,"Smilax hispida var. montana"]
["Carex sparganioides var. cephaloidea",null,null,"Amphicarpaea bracteata var. comosa","American hogpeanut",null,"Hicoria borealis",null,null,"Smilax tamnoides var. hispida"]
["Carex cephalophora","oval-leaf sedge",null,"Amphicarpaea comosa",null,null,"Hicoria ovata",null,null,"Strophostyles helvola","amberique-bean"]
["Carex chordorrhiza","creeping sedge",null,"Amphicarpaea pitcheri",null,null,"Carya ×schneckii",null,null,"Strophostyles helvula"]
["Carex communis","fibrousroot sedge",null,"Falcata comosa",null,null,"Castanea dentata","American chestnut",null,"Strophostyles helvula var. missouriensis"]
["Carex communis var. communis","fibrousroot sedge",null,"Falcata pitcheri",null,null,"Castanea americana",null,null,"Strophostyles leiosperma","slickseed fuzzybean"]
["Carex comosa","longhair sedge",null,"Glycine comosa",null,null,"Castilleja sessiliflora","downy paintedcup",null,"Phaseolus leiospermus"]
["Carex conjuncta","soft fox sedge",null,"Anagallis arvensis","scarlet pimpernel",null,"Catalpa bignonioides","southern catalpa",null,"Strophostyles pauciflora"]
["Carex conoidea","openfield sedge",null,"Anagallis arvensis ssp. foemina","poorman's weatherglass",null,"Catalpa catalpa",null,null,"Stylisma pickeringii","Pickering's dawnflower"]
["Carex katahdinensis",null,null,"Anagallis arvensis var. caerulea",null,null,"Catalpa speciosa","northern catalpa",null,"Stylisma pickeringii var. pattersonii","Patterson's dawnflower"]
["Carex crawei","Crawe's sedge",null,"Anagallis caerulea",null,null,"Ceanothus americanus","New Jersey tea",null,"Breweria pickeringii var. pattersonii"]
["Carex crawfordii","Crawford's sedge",null,"Anagallis foemina",null,null,"Ceanothus americanus var. intermedius",null,null,"Stylisma pattersonii"]
["Carex crawfordii var. vigens",null,null,"Anaphalis margaritacea","western pearly everlasting",null,"Ceanothus americanus var. pitcheri",null,null,"Toxicodendron radicans","eastern poison ivy"]
["Carex crinita","fringed sedge",null,"Anaphalis margaritacea var. angustior",null,null,"Ceanothus intermedius",null,null,"Toxicodendron radicans ssp. negundo","eastern poison ivy"]
["Carex crinita var. crinita","fringed sedge",null,"Anaphalis margaritacea var. intercedens",null,null,"Ceanothus herbaceus","Jersey tea",null,"Toxicodendron radicans var. negundo"]
["Carex crinita var. minor",null,null,"Anaphalis margaritacea var. occidentalis",null,null,"Ceanothus herbaceus var. pubescens",null,null,"Toxicodendron rydbergii","western poison ivy"]
["Carex crinita var. simulans",null,null,"Anaphalis margaritacea var. revoluta",null,null,"Ceanothus ovatus",null,null,"Rhus radicans var. rydbergii"]
["Carex cristatella","crested sedge",null,"Anaphalis margaritacea var. subalpina",null,null,"Ceanothus ovatus var. pubescens",null,null,"Rhus radicans var. vulgaris"]
["Carex crus-corvi","ravenfoot sedge",null,"Anaphalis occidentalis",null,null,"Ceanothus pubescens",null,null,"Rhus toxicodendron var. vulgaris"]
["Carex bayardii",null,null,"Gnaphalium margaritaceum",null,null,"Celtis occidentalis","common hackberry",null,"Toxicodendron desertorum"]
["Carex davisii","Davis' sedge",null,"Androsace occidentalis","western rockjasmine",null,"Celtis canina",null,null,"Toxicodendron radicans var. rydbergii"]
["Carex deweyana","Dewey sedge",null,"Androsace arizonica",null,null,"Celtis occidentalis var. canina",null,null,"Vicia americana","American vetch"]
["Carex deweyana var. deweyana","Dewey sedge",null,"Androsace occidentalis var. arizonica",null,null,"Celtis occidentalis var. cordata",null,null,"Vicia americana ssp. americana","American vetch"]
["Carex diandra","lesser panicled sedge",null,"Androsace occidentalis var. simplex",null,null,"Celtis occidentalis var. crassifolia",null,null,"Vicia americana ssp. oregana"]
["Carex douglasii","Douglas' sedge",null,"Anemone canadensis","Canadian anemone",null,"Celtis occidentalis var. occidentalis",null,null,"Vicia americana var. americana"]
["Carex duriuscula","needleleaf sedge",null,"Anemonidium canadense",null,null,"Celtis occidentalis var. pumila",null,null,"Vicia americana var. oregana"]
["Carex eleocharis",null,null,"Anemone caroliniana","Carolina anemone",null,"Celtis pumila",null,null,"Vicia americana var. truncata"]
["Carex stenophylla",null,null,"Anemone cylindrica","candle anemone",null,"Celtis pumila var. deamii",null,null,"Vicia americana var. villosa"]
["Carex stenophylla ssp. eleocharis",null,null,"Anemone quinquefolia","wood anemone",null,"Cephalanthus occidentalis","common buttonbush",null,"Vicia californica"]
["Carex stenophylla var. enervis",null,null,"Anemone quinquefolia var. bifolia","twoleaf anemone",null,"Cephalanthus occidentalis var. californicus",null,null,"Vicia californica var. madrensis"]
["Carex eburnea","bristleleaf sedge",null,"Anemone nemorosa var. bifolia",null,null,"Cephalanthus occidentalis var. pubescens",null,null,"Vicia oregana"]
["Carex echinata","star sedge",null,"Anemone quinquefolia var. interior",null,null,"Cercis canadensis","eastern redbud",null,"Vicia sparsifolia var. truncata"]
["Carex echinata ssp. echinata","star sedge",null,"Anemone virginiana","tall thimbleweed",null,"Cercis canadensis var. canadensis","eastern redbud",null,"Vicia americana ssp. minor","mat vetch"]
["Carex angustior",null,null,"Anemone virginiana var. virginiana","tall thimbleweed",null,"Chamaedaphne calyculata","leatherleaf",null,"Lathyrus linearis"]
["Carex angustior var. gracilenta",null,null,"Angelica atropurpurea","purplestem angelica",null,"Cassandra calyculata var. angustifolia",null,null,"Vicia americana var. angustifolia"]
["Carex cephalantha",null,null,"Angelica atropurpurea var. occidentalis",null,null,"Cassandra calyculata var. latifolia",null,null,"Vicia americana var. linearis"]
["Carex echinata var. angustata",null,null,"Anoda cristata","crested anoda",null,"Chamaedaphne calyculata var. angustifolia",null,null,"Vicia americana var. minor"]
["Carex hawaiiensis",null,null,"Anoda acerifolia",null,null,"Chamaedaphne calyculata var. latifolia",null,null,"Vicia linearis"]
["Carex josselynii",null,null,"Anoda cristata var. brachyantha",null,null,"Chamaedaphne calyculata var. nana",null,null,"Vicia sparsifolia"]
["Carex laricina",null,null,"Anoda cristata var. digitata",null,null,"Chimaphila umbellata","pipsissewa",null,"Vicia trifida"]
["Carex leersii",null,null,"Anoda lavaterioides",null,null,"Chimaphila umbellata ssp. cisatlantica","pipsissewa",null,"Vicia trifida"]
["Carex muricata var. angustata",null,null,"Sida cristata",null,null,"Chimaphila corymbosa",null,null,"Vitis aestivalis","summer grape"]
["Carex muricata var. cephalantha",null,null,"Antennaria howellii","Howell's pussytoes",null,"Chimaphila umbellata var. cisatlantica",null,null,"Vitis aestivalis var. aestivalis","summer grape"]
["Carex muricata var. laricina",null,null,"Antennaria howellii ssp. neodioica","Howell's pussytoes",null,"Cladrastis kentukea","Kentucky yellowwood",null,"Vitis lincecumii var. glauca"]
["Carex ormantha",null,null,"Antennaria grandis",null,null,"Cladrastis lutea",null,null,"Vitis lincecumii var. lactea"]
["Carex phyllomanica var. angustata",null,null,"Antennaria neglecta var. attenuata",null,null,"Sophora kentukea",null,null,"Vitis rufotomentosa"]
["Carex phyllomanica var. ormantha",null,null,"Antennaria neglecta var. neodioica",null,null,"Cleome hassleriana","pink queen",null,"Vitis simpsonii"]
["Carex svensonis",null,null,"Antennaria neodioica",null,null,"Cleome arborea",null,null,"Vitis ×slavinii"]
["Carex emoryi","Emory's sedge",null,"Antennaria neodioica var. attenuata",null,null,"Cleome hasslerana",null,null,"Vitis smalliana"]
["Carex stricta var. elongata",null,null,"Antennaria neodioica var. chlorophylla",null,null,"Cleome houtteana",null,null,"Vitis aestivalis var. bicolor","summer grape"]
["Carex festucacea","fescue sedge",null,"Antennaria neodioica var. grandis",null,null,"Cleome pungens",null,null,"Vitis aestivalis var. argentifolia"]
["Carex formosa","handsome sedge",null,"Antennaria neodioica var. interjecta",null,null,"Cleome spinosa",null,null,"Vitis argentifolia"]
["Carex frankii","Frank's sedge",null,"Antennaria neodioica var. rupicola",null,null,"Comandra umbellata","bastard toadflax",null,"Vitis bicolor"]
["Carex gracilescens","slender looseflower sedge",null,"Antennaria obovata",null,null,"Comandra umbellata ssp. umbellata","bastard toadflax",null,"Vitis lecontiana"]
["Carex laxiflora var. gracillima",null,null,"Antennaria rhodantha",null,null,"Comandra richardsiana",null,null,"Vitis cinerea","graybark grape"]
["Carex gracillima","graceful sedge",null,"Antennaria rupicola",null,null,"Cornus alternifolia","alternateleaf dogwood",null,"Vitis cinerea var. cinerea","graybark grape"]
["Carex gracillima var. macerrima",null,null,"Antennaria russellii",null,null,"Swida alternifolia",null,null,"Vitis aestivalis var. canescens"]
["Carex granularis","limestone meadow sedge",null,"Antennaria neglecta","field pussytoes",null,"Cornus amomum","silky dogwood",null,"Vitis aestivalis var. cinerea"]
["Carex granularis var. granularis",null,null,"Antennaria angustiarum",null,null,"Swida amomum",null,null,"Vitis cinerea var. canescens"]
["Carex granularis var. haleana",null,null,"Antennaria athabascensis",null,null,"Cornus canadensis","bunchberry dogwood",null,"Vitis riparia","riverbank grape"]
["Carex granularis var. recta",null,null,"Antennaria campestris",null,null,"Chamaepericlymenum canadense",null,null,"Vitis riparia var. praecox"]
["Carex haleana",null,null,"Antennaria campestris var. athabascensis",null,null,"Cornella canadensis",null,null,"Vitis riparia var. syrticola"]
["Carex rectior",null,null,"Antennaria chelonica",null,null,"Cornus canadensis var. dutillyi",null,null,"Vitis vulpina ssp. riparia"]
["Carex shriveri",null,null,"Antennaria erosa",null,null,"Cornus drummondii","roughleaf dogwood",null,"Vitis vulpina var. praecox"]
["Carex gravida","heavy sedge",null,"Antennaria howellii var. athabascensis",null,null,"Cornus priceae",null,null,"Vitis vulpina var. syrticola"]
["Carex gravida var. gravida","heavy sedge",null,"Antennaria howellii var. campestris",null,null,"Swida priceae",null,null,"Vitis vulpina","frost grape"]
["Carex gravida var. lunelliana","heavy sedge",null,"Antennaria longifolia",null,null,"Cornus obliqua","silky dogwood",null,"Vitis cordifolia"]
["Carex lunelliana",null,null,"Antennaria lunellii",null,null,"Cornus amomum ssp. obliqua",null,null,"Vitis cordifolia var. foetida"]
["Carex grayi","Gray's sedge",null,"Antennaria nebraskensis",null,null,"Cornus amomum var. schuetzeana",null,null,"Vitis cordifolia var. sempervirens"]
["Carex asa-grayi",null,null,"Antennaria neglecta var. athabascensis",null,null,"Cornus purpusii",null,null,"Vitis illex"]
["Carex grayi var. hispidula",null,null,"Antennaria neglecta var. campestris",null,null,"Cornus racemosa","gray dogwood",null,"Wisteria frutescens","American wisteria"]
["Carex grisea","inflated narrow-leaf sedge",null,"Antennaria parvula",null,null,"Cornus foemina ssp. racemosa",null,null,"Kraunhia frutescens"]
["Carex amphibola var. turgida",null,null,"Antennaria wilsonii",null,null,"Cornus paniculata",null,null,"Kraunhia macrostachya"]
["Carex haydenii","Hayden's sedge",null,"Antennaria parlinii","Parlin's pussytoes",null,"Cornus rugosa","roundleaf dogwood",null,"Wisteria frutescens var. macrostachya"]
["Carex rousseaui",null,null,"Antennaria parlinii ssp. fallax","Parlin's pussytoes",null,"Cornus sericea","redosier dogwood",null,"Wisteria macrostachya"]
["Carex stricta var. decora",null,null,"Antennaria ambigens",null,null,"Cornus sericea ssp. sericea","redosier dogwood"]
["Carex hirsutella","fuzzy wuzzy sedge",null,"Antennaria ampla",null,null,"Cornus alba"]
["Carex complanata var. hirsuta",null,null,"Antennaria arkansana",null,null,"Cornus alba ssp. stolonifera"]
["Carex triceps",null,null,"Antennaria arnoglossa var. ambigens",null,null,"Cornus alba var. baileyi"]
["Carex hirtifolia","pubescent sedge",null,"Antennaria bifrons",null,null,"Cornus alba var. interior"]
["Carex hitchcockiana","Hitchcock's sedge",null,"Antennaria brainerdii",null,null,"Cornus alba var. sibirica"]
["Carex hyalinolepis","shoreline sedge",null,"Antennaria calophylla",null,null,"Cornus baileyi"]
["Carex impressa",null,null,"Antennaria fallax",null,null,"Cornus instolonea"]
["Carex lacustris var. laxiflora",null,null,"Antennaria fallax var. calophylla",null,null,"Cornus interior"]
["Carex riparia",null,null,"Antennaria farwellii",null,null,"Cornus sericea ssp. stolonifera"]
["Carex riparia var. impressa",null,null,"Antennaria greenei",null,null,"Cornus sericea var. interior"]
["Carex hystericina","bottlebrush sedge",null,"Antennaria mesochora",null,null,"Cornus stolonifera"]
["Carex inops","long-stolon sedge",null,"Antennaria munda",null,null,"Cornus stolonifera var. baileyi"]
["Carex inops ssp. heliophila","sun sedge",null,"Antennaria occidentalis",null,null,"Cornus stolonifera var. coloradensis"]
["Carex erxlebeniana",null,null,"Antennaria parlinii var. farwellii",null,null,"Cornus stolonifera var. interior"]
["Carex heliophila",null,null,"Antennaria plantaginifolia var. ambigens",null,null,"Cornus stolonifera var. stolonifera"]
["Carex pensylvanica ssp. heliophila",null,null,"Antennaria umbellata",null,null,"Swida instolonea"]
["Carex pensylvanica var. digyna",null,null,"Antennaria parlinii ssp. parlinii","Parlin's pussytoes",null,"Swida sericea"]
["Carex interior","inland sedge",null,"Antennaria arnoglossa",null,null,"Swida stolonifera"]
["Carex interior ssp. charlestonensis",null,null,"Antennaria parlinii var. arnoglossa",null,null,"Corylus americana","American hazelnut"]
["Carex interior var. keweenawensis",null,null,"Antennaria plantaginifolia var. arnoglossa",null,null,"Corylus americana var. indehiscens"]
["Carex intumescens","greater bladder sedge",null,"Antennaria plantaginifolia var. parlinii",null,null,"Corylus cornuta","beaked hazelnut"]
["Carex intumescens var. fernaldii",null,null,"Antennaria plantaginifolia","woman's tobacco",null,"Corylus cornuta var. cornuta","beaked hazelnut"]
["Carex jamesii","James' sedge",null,"Antennaria caroliniana",null,null,"Corylus rostrata"]
["Carex steudelii",null,null,"Antennaria decipiens",null,null,"Crataegus calpodendron","pear hawthorn"]
["Carex lacustris","hairy sedge",null,"Antennaria denikeana",null,null,"Crataegus acanthacolonensis"]
["Carex riparia var. lacustris",null,null,"Antennaria nemoralis",null,null,"Crataegus calpodendron var. gigantea"]
["Carex laeviconica","smoothcone sedge",null,"Antennaria petiolata",null,null,"Crataegus calpodendron var. globosa"]
["Carex laevivaginata","smoothsheath sedge",null,"Antennaria pinetorum",null,null,"Crataegus calpodendron var. hispida"]
["Carex stipata var. laevivaginata",null,null,"Antennaria plantaginifolia var. petiolata",null,null,"Crataegus calpodendron var. hispidula"]
["Carex lasiocarpa","woollyfruit sedge",null,"Gnaphalium plantaginifolium",null,null,"Crataegus calpodendron var. microcarpa"]
["Carex lasiocarpa var. americana","American woollyfruit sedge",null,"Apios americana","groundnut",null,"Crataegus calpodendron var. mollicula"]
["Carex lanuginosa var. americana",null,null,"Apios americana var. turrigera",null,null,"Crataegus calpodendron var. obesa"]
["Carex lasiocarpa ssp. americana",null,null,"Glycine apios",null,null,"Crataegus chapmanii"]
["Carex laxiculmis","spreading sedge",null,"Aplectrum hyemale","Adam and Eve",null,"Crataegus fontanesiana"]
["Carex laxiculmis var. copulata","spreading sedge",null,"Apocynum androsaemifolium","spreading dogbane",null,"Crataegus globosa"]
["Carex ×copulata",null,null,"Apocynum ambigens",null,null,"Crataegus chrysocarpa","fireberry hawthorn"]
["Carex laxiculmis var. laxiculmis","spreading sedge",null,"Apocynum androsaemifolium ssp. pumilum",null,null,"Crataegus chrysocarpa var. chrysocarpa","red haw"]
["Carex absconditiformis",null,null,"Apocynum androsaemifolium var. glabrum",null,null,"Crataegus aboriginum"]
["Carex ×absconditiformis",null,null,"Apocynum androsaemifolium var. griseum",null,null,"Crataegus brunetiana"]
["Carex leavenworthii","Leavenworth's sedge",null,"Apocynum androsaemifolium var. incanum",null,null,"Crataegus brunetiana var. fernaldii"]
["Carex cephalophora var. angustifolia",null,null,"Apocynum androsaemifolium var. intermedium",null,null,"Crataegus caliciglabrata"]
["Carex cephalophora var. leavenworthii",null,null,"Apocynum androsaemifolium var. pumilum",null,null,"Crataegus chrysocarpa var. aboriginum"]
["Carex leptalea","bristlystalked sedge",null,"Apocynum androsaemifolium var. tomentellum",null,null,"Crataegus chrysocarpa var. longiacuminata"]
["Carex leptalea ssp. leptalea","bristlystalked sedge",null,"Apocynum androsaemifolium var. woodsonii",null,null,"Crataegus chrysocarpa var. phoenicea"]
["Carex leptalea var. tayloris",null,null,"Apocynum pumilum",null,null,"Crataegus chrysocarpa var. rotundifolia"]
["Carex limosa","mud sedge",null,"Apocynum pumilum var. rhomboideum",null,null,"Crataegus coccinata"]
["Carex lupuliformis","false hop sedge",null,"Apocynum scopulorum",null,null,"Crataegus coccinea"]
["Carex lupulina","hop sedge",null,"Apocynum cannabinum","Indianhemp",null,"Crataegus columbiana var. chrysocarpa"]
["Carex lupulina var. pedunculata",null,null,"Apocynum cannabinum var. angustifolium",null,null,"Crataegus doddsii"]
["Carex ×macounii",null,null,"Apocynum cannabinum var. glaberrimum",null,null,"Crataegus faxonii"]
["Carex lurida","shallow sedge",null,"Apocynum cannabinum var. greeneanum",null,null,"Crataegus faxonii var. durifrucata"]
["Carex meadii","Mead's sedge",null,"Apocynum cannabinum var. hypericifolium",null,null,"Crataegus faxonii var. praecoqua"]
["Carex tetanica var. meadii",null,null,"Apocynum cannabinum var. nemorale",null,null,"Crataegus faxonii var. praetermissa"]
["Carex mesochorea","midland sedge",null,"Apocynum cannabinum var. pubescens",null,null,"Crataegus illuminata"]
["Carex cephalophora var. mesochorea",null,null,"Apocynum cannabinum var. suksdorfii",null,null,"Crataegus jackii"]
["Carex missouriensis","Missouri sedge",null,"Apocynum hypericifolium",null,null,"Crataegus laurentiana var. brunetiana"]
["Carex molesta","troublesome sedge",null,"Apocynum pubescens",null,null,"Crataegus laurentiana var. dissimilifolia"]
["Carex muehlenbergii","Muhlenberg's sedge",null,"Apocynum sibiricum",null,null,"Crataegus mercerensis"]
["Carex muehlenbergii var. enervis","Muhlenberg's sedge",null,"Apocynum sibiricum var. cordigerum",null,null,"Crataegus putnamiana"]
["Carex plana",null,null,"Apocynum sibiricum var. farwellii",null,null,"Crataegus rotundifolia"]
["Carex muehlenbergii var. muehlenbergii","Muhlenberg's sedge",null,"Apocynum sibiricum var. salignum",null,null,"Crataegus sicca"]
["Carex muskingumensis","Muskingum sedge",null,"Apocynum suksdorfii",null,null,"Crataegus sicca var. glabrifolia"]
["Carex normalis","greater straw sedge",null,"Apocynum suksdorfii var. angustifolium",null,null,"Crataegus subrotundifolia"]
["Carex norvegica","Norway sedge",null,"Apocynum ×floribundum",null,null,"Crataegus coccinioides","Kansas hawthorn"]
["Carex norvegica ssp. inferalpina","closedhead sedge",null,"Apocynum jonesii",null,null,"Crataegus crus-galli","cockspur hawthorn"]
["Carex angarae",null,null,"Apocynum medium",null,null,"Crataegus acutifolia"]
["Carex media",null,null,"Apocynum medium var. floribundum",null,null,"Crataegus acutifolia var. insignis"]
["Carex norvegica var. inferalpina",null,null,"Apocynum medium var. leuconeuron",null,null,"Crataegus algens"]
["Carex vahlii var. inferalpina",null,null,"Apocynum medium var. lividum",null,null,"Crataegus barrettiana"]
["Carex oligocarpa","richwoods sedge",null,"Apocynum medium var. sarniense",null,null,"Crataegus bushii"]
["Carex peckii","Peck's sedge",null,"Apocynum medium var. vestitum",null,null,"Crataegus canbyi"]
["Carex albicans",null,null,"Apocynum milleri",null,null,"Crataegus cherokeensis"]
["Carex nigromarginata var. elliptica",null,null,"Aquilegia canadensis","red columbine",null,"Crataegus cocksii"]
["Carex nigromarginata var. minor",null,null,"Aquilegia australis",null,null,"Crataegus crus-galli var. barrettiana"]
["Carex pedunculata","longstalk sedge",null,"Aquilegia canadensis var. australis",null,null,"Crataegus crus-galli var. bellica"]
["Carex pellita","woolly sedge",null,"Aquilegia canadensis var. coccinea",null,null,"Crataegus crus-galli var. capillata"]
["Carex lanuginosa",null,null,"Aquilegia canadensis var. eminens",null,null,"Crataegus crus-galli var. exigua"]
["Carex lasiocarpa var. latifolia",null,null,"Aquilegia canadensis var. hybrida",null,null,"Crataegus crus-galli var. leptophylla"]
["Carex pensylvanica","Pennsylvania sedge",null,"Aquilegia canadensis var. latiuscula",null,null,"Crataegus crus-galli var. macra"]
["Carex marginata",null,null,"Aquilegia coccinea",null,null,"Crataegus crus-galli var. oblongata"]
["Carex pensylvanica var. glumabunda",null,null,"Aquilegia latiuscula",null,null,"Crataegus crus-galli var. pachyphylla"]
["Carex pensylvanica var. marginata",null,null,"Aquilegia phoenicantha",null,null,"Crataegus crus-galli var. pyracanthifolia"]
["Carex pensylvanica var. vespertina",null,null,"Arabis canadensis","sicklepod",null,"Crataegus danielsii"]
["Carex stolonifera",null,null,"Arabis ×divaricarpa","spreadingpod rockcress",null,"Crataegus denaria"]
["Carex plantaginea","plantainleaf sedge",null,"Arabis acutina",null,null,"Crataegus fecunda"]
["Carex praegracilis","clustered field sedge",null,"Arabis confinis var. interposita",null,null,"Crataegus fontanesiana"]
["Carex camporum",null,null,"Arabis divaricarpa var. dechamplainii",null,null,"Crataegus hannibalensis"]
["Carex prairea","prairie sedge",null,"Arabis divaricarpa var. interposita",null,null,"Crataegus mohrii"]
["Carex projecta","necklace sedge",null,"Arabis divaricarpa var. stenocarpa",null,null,"Crataegus operta"]
["Carex retroflexa","reflexed sedge",null,"Arabis divaricarpa var. typica",null,null,"Crataegus palliata"]
["Carex retrorsa","knotsheath sedge",null,"Arabis interposita",null,null,"Crataegus palmeri"]
["Carex richardsonii","Richardson's sedge",null,"Boechera divaricarpa",null,null,"Crataegus permixta"]
["Carex rosea","rosy sedge",null,"Arabis drummondii","Drummond's rockcress",null,"Crataegus pyracanthoides"]
["Carex convoluta",null,null,"Arabis brachycarpa",null,null,"Crataegus regalis"]
["Carex flaccidula",null,null,"Arabis confinis",null,null,"Crataegus regalis var. paradoxa"]
["Carex rosea var. pusilla",null,null,"Arabis connexa",null,null,"Crataegus sabineana"]
["Carex sartwellii","Sartwell's sedge",null,"Arabis drummondii var. connexa",null,null,"Crataegus schizophylla"]
["Carex sartwellii var. sartwellii","Sartwell's sedge",null,"Arabis drummondii var. oxyphylla",null,null,"Crataegus signata"]
["Carex saximontana","Rocky Mountain sedge",null,"Arabis oxyphylla",null,null,"Crataegus subpilosa"]
["Carex backii var. saximontana",null,null,"Boechera angustifolia",null,null,"Crataegus tantula"]
["Carex scoparia","broom sedge",null,"Boechera brachycarpa",null,null,"Crataegus tenax"]
["Carex scoparia var. scoparia","broom sedge",null,"Boechera drummondii",null,null,"Crataegus triumphalis"]
["Carex scoparia var. condensa",null,null,"Erysimum drummondii",null,null,"Crataegus uniqua"]
["Carex scoparia var. moniliformis",null,null,"Turritis drummondii",null,null,"Crataegus vallicola"]
["Carex tribuloides var. moniliformis",null,null,"Arabis glabra","tower rockcress",null,"Crataegus disperma","spreading hawthorn"]
["Carex shortiana","Short's sedge",null,"Arabis glabra var. furcatipilis",null,null,"Crataegus ×collicola"]
["Carex siccata","dryspike sedge",null,"Arabis glabra var. glabra",null,null,"Crataegus collina var. collicola"]
["Carex aenea",null,null,"Turritis glabra",null,null,"Crataegus cuneiformis"]
["Carex foenea",null,null,"Arabis hirsuta","hairy rockcress",null,"Crataegus disperma var. peoriensis"]
["Carex foenea var. enervis",null,null,"Arabis hirsuta var. pycnocarpa","creamflower rockcress",null,"Crataegus ×pausiaca"]
["Carex foenea var. foenea",null,null,"Arabis hirsuta ssp. pycnocarpa",null,null,"Crataegus peoriensis"]
["Carex foenea var. tuberculata",null,null,"Arabis hirsuta var. adpressipilis",null,null,"Crataegus punctata var. pausiaca"]
["Carex sparganioides","bur-reed sedge",null,"Arabis ovata",null,null,"Crataegus margarettiae","Margarett's hawthorn"]
["Carex sprengelii","Sprengel's sedge",null,"Arabis pycnocarpa",null,null,"Crataegus evansiana"]
["Carex squarrosa","squarrose sedge",null,"Arabis pycnocarpa var. adpressipilis",null,null,"Crataegus margarettiae var. angustifolia"]
["Carex sterilis","dioecious sedge",null,"Arabis laevigata","smooth rockcress",null,"Crataegus margarettiae var. brownii"]
["Carex elachycarpa",null,null,"Arabis laevigata var. laevigata","smooth rockcress",null,"Crataegus margarettiae var. meiophylla"]
["Carex ×minganinsularum",null,null,"Arabis heterophylla",null,null,"Crataegus mollis","downy hawthorn"]
["Carex muricata var. sterilis",null,null,"Arabis lyrifolia",null,null,"Crataegus albicans"]
["Kobresia elachycarpa",null,null,"Turritis laevigata",null,null,"Crataegus arkansana"]
["Carex stipata","awlfruit sedge",null,"Arabis lyrata","lyrate rockcress",null,"Crataegus brachyphylla"]
["Carex stipata var. stipata","owlfruit sedge",null,"Arabidopsis lyrata",null,null,"Crataegus cibaria"]
["Carex stricta","upright sedge",null,"Arabis lyrata var. glabra",null,null,"Crataegus gravida"]
["Carex stricta var. strictior",null,null,"Arabis missouriensis","green rockcress",null,"Crataegus induta"]
["Carex strictior",null,null,"Arabis laevigata var. missouriensis",null,null,"Crataegus invisa"]
["Carex suberecta","prairie straw sedge",null,"Arabis missouriensis var. deamii",null,null,"Crataegus lacera"]
["Carex sychnocephala","manyhead sedge",null,"Arabis viridis",null,null,"Crataegus limaria"]
["Carex tenera","quill sedge",null,"Arabis viridis var. deamii",null,null,"Crataegus mollis var. dumetosa"]
["Carex tenera var. echinodes",null,null,"Arabis viridis var. heterophylla",null,null,"Crataegus mollis var. gigantea"]
["Carex tetanica","rigid sedge",null,"Arabis shortii","Short's rockcress",null,"Crataegus mollis var. incisifolia"]
["Carex tonsa","shaved sedge",null,"Arabis dentata",null,null,"Crataegus mollis var. sera"]
["Carex tonsa var. tonsa","shaved sedge",null,"Arabis dentata var. phalacrocarpa",null,null,"Crataegus noelensis"]
["Carex rugosperma var. tonsa",null,null,"Arabis perstellata var. phalacrocarpa",null,null,"Crataegus pedicellata var. albicans"]
["Carex umbellata var. tonsa",null,null,"Arabis perstellata var. shortii",null,null,"Crataegus placens"]
["Carex tribuloides","blunt broom sedge",null,"Arabis shortii var. phalacrocarpa",null,null,"Crataegus pruinosa","waxyfruit hawthorn"]
["Carex tribuloides var. tribuloides","blunt broom sedge",null,"Iodanthus dentatus",null,null,"Crataegus aspera"]
["Carex trichocarpa","hairyfruit sedge",null,"Sisymbrium dentatum",null,null,"Crataegus cognata"]
["Carex tuckermanii","Tuckerman's sedge",null,"Aralia nudicaulis","wild sarsaparilla",null,"Crataegus congesta"]
["Carex typhina","cattail sedge",null,"Aralia racemosa","American spikenard",null,"Crataegus crawfordiana"]
["Carex squarrosa var. typhina",null,null,"Aralia racemosa ssp. racemosa","American spikenard",null,"Crataegus deltoides"]
["Carex umbellata","parasol sedge",null,"Argemone albiflora","bluestem pricklypoppy",null,"Crataegus formosa"]
["Carex abdita",null,null,"Argemone albiflora ssp. albiflora","bluestem pricklypoppy",null,"Crataegus gattingeri"]
["Carex utriculata","Northwest Territory sedge",null,"Argemone alba",null,null,"Crataegus gattingeri var. rigida"]
["Carex inflata var. utriculata",null,null,"Argemone mexicana","Mexican pricklypoppy",null,"Crataegus gaudens"]
["Carex rhynchophysa",null,null,"Argemone leiocarpa",null,null,"Crataegus georgiana"]
["Carex rostrata var. utriculata",null,null,"Argemone polyanthemos","crested pricklypoppy",null,"Crataegus lecta"]
["Carex vesicaria","blister sedge",null,"Argemone intermedia",null,null,"Crataegus leiophylla"]
["Carex vesicaria var. monile","blister sedge",null,"Argemone intermedia var. polyanthemos",null,null,"Crataegus littoralis"]
["Carex monile",null,null,"Argemone platyceras",null,null,"Crataegus mackenziei"]
["Carex vulpinoidea","fox sedge",null,"Argentina anserina","silverweed cinquefoil",null,"Crataegus mackenziei var. aspera"]
["Carex vulpinoidea var. vulpinoidea","fox sedge",null,"Argentina anserina var. concolor",null,null,"Crataegus mackenziei var. bracteata"]
["Carex setacea",null,null,"Argentina argentea",null,null,"Crataegus parvula"]
["Carex woodii","pretty sedge",null,"Potentilla anserina",null,null,"Crataegus platycarpa"]
["Carex colorata",null,null,"Potentilla anserina ssp. anserina",null,null,"Crataegus porteri"]
["Carex tetanica var. woodii",null,null,"Potentilla anserina var. concolor",null,null,"Crataegus porteri var. caerulescens"]
["Catabrosa aquatica","water whorlgrass",null,"Potentilla anserina var. sericea",null,null,"Crataegus pruinosa var. cognata"]
["Catabrosa aquatica var. aquatica","water whorlgrass",null,"Potentilla anserina var. yukonensis",null,null,"Crataegus pruinosa var. congesta"]
["Aira aquatica",null,null,"Potentilla egedii ssp. yukonensis",null,null,"Crataegus pruinosa var. conjuncta"]
["Catabrosa aquatica var. uniflora",null,null,"Potentilla yukonensis",null,null,"Crataegus pruinosa var. grandiflora"]
["Cenchrus longispinus","mat sandbur",null,"Arisaema dracontium","green dragon",null,"Crataegus pruinosa var. latisepala"]
["Cenchrus carolinianus",null,null,"Muricauda dracontium",null,null,"Crataegus pruinosa var. leiophylla"]
["Chasmanthium latifolium","Indian woodoats",null,"Arisaema triphyllum","Jack in the pulpit",null,"Crataegus pruinosa var. pachypoda"]
["Uniola latifolia",null,null,"Arisaema triphyllum ssp. pusillum","Jack in the pulpit",null,"Crataegus pruinosa var. parvula"]
["Chloris verticillata","tumble windmill grass",null,"Arisaema acuminatum",null,null,"Crataegus pruinosa var. porteri"]
["Cinna arundinacea","sweet woodreed",null,"Arisaema pusillum",null,null,"Crataegus pruinosa var. rugosa"]
["Cinna arundinacea var. inexpansa",null,null,"Arisaema triphyllum ssp. triphyllum","Jack in the pulpit",null,"Crataegus pruinosa var. virella"]
["Cyperus acuminatus","tapertip flatsedge",null,"Arisaema atrorubens",null,null,"Crataegus rugosa"]
["Cyperus bipartitus","slender flatsedge",null,"Aristolochia serpentaria","Virginia snakeroot",null,"Crataegus vicinalis"]
["Cyperus niger var. rivularis",null,null,"Aristolochia convolvulacea",null,null,"Crataegus virella"]
["Cyperus rivularis",null,null,"Aristolochia hastata",null,null,"Crataegus punctata","dotted hawthorn"]
["Pycreus rivularis",null,null,"Aristolochia nashii",null,null,"Crataegus collina"]
["Cyperus diandrus","umbrella flatsedge",null,"Aristolochia serpentaria var. hastata",null,null,"Crataegus collina var. secta"]
["Cyperus erythrorhizos","redroot flatsedge",null,"Aristolochia serpentaria var. nashii",null,null,"Crataegus collina var. sordida"]
["Cyperus halei",null,null,"Endodeca serpentaria var. hastata",null,null,"Crataegus collina var. succincta"]
["Cyperus esculentus","yellow nutsedge",null,"Arnoglossum atriplicifolium","pale Indian plantain",null,"Crataegus fastosa"]
["Cyperus esculentus",null,null,"Cacalia atriplicifolia",null,null,"Crataegus punctata var. aurea"]
["Cyperus lupulinus","Great Plains flatsedge",null,"Cacalia rotundifolia",null,null,"Crataegus punctata var. canescens"]
["Cyperus lupulinus ssp. lupulinus","Great Plains flatsedge",null,"Mesadenia atriplicifolia",null,null,"Crataegus punctata var. microphylla"]
["Cyperus filiculmis",null,null,"Arnoglossum plantagineum","groovestem Indian plantain",null,"Crataegus verruculosa"]
["Cyperus martindalei",null,null,"Cacalia paniculata",null,null,"Crataegus succulenta","fleshy hawthorn"]
["Mariscus filiculmis",null,null,"Cacalia plantaginea",null,null,"Crataegus ambrosia"]
["Cyperus lupulinus ssp. macilentus","Great Plains flatsedge",null,"Cacalia pteranthes",null,null,"Crataegus ardula"]
["Cyperus bushii",null,null,"Cacalia tuberosa",null,null,"Crataegus bicknellii"]
["Cyperus filiculmis var. macilentus",null,null,"Mesadenia tuberosa",null,null,"Crataegus celsa"]
["Cyperus odoratus","fragrant flatsedge",null,"Arnoglossum reniforme","great Indian plantain",null,"Crataegus chrysocarpa var. bicknellii"]
["Cyperus acicularis",null,null,"Arnoglossum muehlenbergii",null,null,"Crataegus columbiana var. occidentalis"]
["Cyperus eggersii",null,null,"Cacalia muehlenbergii",null,null,"Crataegus divida"]
["Cyperus engelmannii",null,null,"Cacalia reniformis",null,null,"Crataegus ferta"]
["Cyperus ferax",null,null,"Mesadenia reniformis",null,null,"Crataegus florifera"]
["Cyperus ferruginescens",null,null,"Senecio muehlenbergii",null,null,"Crataegus florifera var. celsa"]
["Cyperus longispicatus",null,null,"Artemisia biennis","biennial wormwood",null,"Crataegus florifera var. mortonis"]
["Cyperus macrocephalus",null,null,"Artemisia campestris","field sagewort",null,"Crataegus florifera var. shirleyensis"]
["Cyperus macrocephalus var. eggersii",null,null,"Artemisia campestris ssp. caudata","field sagewort",null,"Crataegus florifera var. virilis"]
["Cyperus odoratus var. acicularis",null,null,"Artemisia campestris var. caudata",null,null,"Crataegus gemmosa"]
["Cyperus odoratus var. engelmannii",null,null,"Artemisia caudata",null,null,"Crataegus incerta"]
["Cyperus odoratus var. squarrosus",null,null,"Artemisia caudata var. calvens",null,null,"Crataegus integriloba"]
["Cyperus speciosus",null,null,"Artemisia forwoodii",null,null,"Crataegus laxiflora"]
["Cyperus speciosus var. squarrosus",null,null,"Oligosporus campestris ssp. caudatus",null,null,"Crataegus leucantha"]
["Mariscus huarmensis",null,null,"Oligosporus caudatus",null,null,"Crataegus macracantha"]
["Torulinium confertum",null,null,"Artemisia dracunculus","tarragon",null,"Crataegus macracantha var. colorado"]
["Torulinium eggersii",null,null,"Artemisia dracunculoides",null,null,"Crataegus macracantha var. divida"]
["Torulinium odoratum",null,null,"Artemisia dracunculoides var. dracunculina",null,null,"Crataegus macracantha var. integriloba"]
["Cyperus schweinitzii","Schweinitz's flatsedge",null,"Artemisia dracunculus ssp. glauca",null,null,"Crataegus macracantha var. occidentalis"]
["Cyperus ×mesochoreus",null,null,"Artemisia dracunculus var. glauca",null,null,"Crataegus macracantha var. pertomentosa"]
["Cyperus schweinitzii var. uberior",null,null,"Artemisia glauca",null,null,"Crataegus mortonis"]
["Mariscus schweinitzii",null,null,"Artemisia glauca var. dracunculina",null,null,"Crataegus neofluvialis"]
["Cyperus squarrosus","bearded flatsedge",null,"Oligosporus dracunculus",null,null,"Crataegus pertomentosa"]
["Cyperus aristatus",null,null,"Oligosporus dracunculus ssp. dracunculinus",null,null,"Crataegus pisifera"]
["Cyperus aristatus var. runyonii",null,null,"Oligosporus dracunculus ssp. glaucus",null,null,"Crataegus saeva"]
["Cyperus inflexus",null,null,"Artemisia ludoviciana","white sagebrush",null,"Crataegus shirleyensis"]
["Cyperus squarrosus var. runyonii",null,null,"Artemisia ludoviciana ssp. ludoviciana","white sagebrush",null,"Crataegus silvestris"]
["Cyperus strigosus","strawcolored flatsedge",null,"Artemisia diversifolia",null,null,"Crataegus succulenta var. gemmosa"]
["Cyperus hansenii",null,null,"Artemisia gnaphalodes",null,null,"Crataegus succulenta var. laxiflora"]
["Cyperus stenolepis",null,null,"Artemisia herriotii",null,null,"Crataegus succulenta var. macracantha"]
["Cyperus strigosus var. capitatus",null,null,"Artemisia ludoviciana ssp. typica",null,null,"Crataegus succulenta var. michiganensis"]
["Cyperus strigosus var. multiflorus",null,null,"Artemisia ludoviciana var. americana",null,null,"Crataegus succulenta var. neofluvialis"]
["Cyperus strigosus var. robustior",null,null,"Artemisia ludoviciana var. brittonii",null,null,"Crataegus succulenta var. occidentalis"]
["Cyperus strigosus var. stenolepis",null,null,"Artemisia ludoviciana var. gnaphalodes",null,null,"Crataegus succulenta var. pertomentosa"]
["Danthonia spicata","poverty oatgrass",null,"Artemisia ludoviciana var. latifolia",null,null,"Crataegus succulenta var. pisifera"]
["Danthonia spicata var. longipila",null,null,"Artemisia ludoviciana var. pabularis",null,null,"Crataegus succulenta var. rutila"]
["Danthonia spicata var. pinetorum",null,null,"Artemisia pabularis",null,null,"Crataegus sylvestris"]
["Danthonia thermalis",null,null,"Artemisia purshiana",null,null,"Crataegus venulosa"]
["Diarrhena obovata","obovate beakgrain",null,"Artemisia vulgaris ssp. ludoviciana",null,null,"Crataegus virilis"]
["Diarrhena americana var. obovata",null,null,"Artemisia vulgaris var. ludoviciana",null,null,"Crotalaria sagittalis","arrowhead rattlebox"]
["Dichanthelium acuminatum","tapered rosette grass",null,"Artemisia serrata","sawtooth wormwood",null,"Crotalaria pilosa"]
["Dichanthelium acuminatum var. acuminatum","tapered rosette grass",null,"Artemisia vulgaris","common wormwood",null,"Crotalaria sagittalis var. blumeriana"]
["Dichanthelium auburne",null,null,"Aruncus dioicus","bride's feathers",null,"Crotalaria sagittalis var. fruticosa"]
["Panicum acuminatum",null,null,"Aruncus dioicus var. pubescens","bride's feathers",null,"Crotalaria sagittalis var. oblonga"]
["Panicum acuminatum var. acuminatum",null,null,"Aruncus allegheniensis var. pubescens",null,null,"Croton glandulosus","vente conmigo"]
["Panicum auburne",null,null,"Aruncus pubescens",null,null,"Croton glandulosus var. septentrionalis","vente conmigo"]
["Panicum benneri",null,null,"Asarum canadense","Canadian wildginger",null,"Dalea candida","white prairie clover"]
["Panicum chrysopsidifolium",null,null,"Asarum acuminatum",null,null,"Dalea candida var. candida","white prairie clover"]
["Dichanthelium acuminatum var. fasciculatum","western panicgrass",null,"Asarum canadense var. acuminatum",null,null,"Petalostemon candidus"]
["Dichanthelium acuminatum var. implicatum",null,null,"Asarum canadense var. ambiguum",null,null,"Dalea candida var. oligophylla","white prairie clover"]
["Dichanthelium lanuginosum",null,null,"Asarum canadense var. reflexum",null,null,"Dalea occidentalis"]
["Dichanthelium lanuginosum var. fasciculatum",null,null,"Asarum reflexum",null,null,"Dalea oligophylla"]
["Dichanthelium subvillosum",null,null,"Asarum rubrocinctum",null,null,"Petalostemon candidus var. oligophyllus"]
["Panicum acuminatum var. fasciculatum",null,null,"Asclepias amplexicaulis","clasping milkweed",null,"Petalostemon occidentalis"]
["Panicum acuminatum var. implicatum",null,null,"Asclepias engelmanniana","Engelmann's milkweed",null,"Petalostemon oligophyllus"]
["Panicum brodiei",null,null,"Acerates auriculata",null,null,"Dalea purpurea","purple prairie clover"]
["Panicum curtifolium",null,null,"Asclepias auriculata",null,null,"Dalea purpurea var. purpurea","purple prairie clover"]
["Panicum glutinoscabrum",null,null,"Asclepias exaltata","poke milkweed",null,"Petalostemon mollis"]
["Panicum huachucae",null,null,"Asclepias bicknellii",null,null,"Petalostemon purpureus"]
["Panicum huachucae var. fasciculatum",null,null,"Asclepias phytolaccoides",null,null,"Petalostemon purpureus var. mollis"]
["Panicum implicatum",null,null,"Asclepias hirtella","green milkweed",null,"Dalea villosa","silky prairie clover"]
["Panicum languidum",null,null,"Acerates hirtella",null,null,"Dalea villosa var. villosa","silky prairie clover"]
["Panicum lanuginosum",null,null,"Asclepias longifolia var. hirtella",null,null,"Petalostemon villosus"]
["Panicum lanuginosum var. fasciculatum",null,null,"Asclepias incarnata","swamp milkweed",null,"Dasiphora fruticosa","shrubby cinquefoil"]
["Panicum lanuginosum var. huachucae",null,null,"Asclepias incarnata ssp. incarnata","swamp milkweed",null,"Dasiphora fruticosa ssp. floribunda","shrubby cinquefoil"]
["Panicum lanuginosum var. implicatum",null,null,"Asclepias lanuginosa","sidecluster milkweed",null,"Dasiphora floribunda"]
["Panicum lanuginosum var. tennesseense",null,null,"Acerates lanuginosa",null,null,"Dasiphora fruticosa"]
["Panicum lassenianum",null,null,"Asclepias otarioides",null,null,"Pentaphylloides floribunda"]
["Panicum lindheimeri var. fasciculatum",null,null,"Asclepias meadii","Mead's milkweed",null,"Pentaphylloides fruticosa"]
["Panicum occidentale",null,null,"Asclepias ovalifolia","oval-leaf milkweed",null,"Potentilla floribunda"]
["Panicum pacificum",null,null,"Asclepias pumila","plains milkweed",null,"Potentilla fruticosa"]
["Panicum subvillosum",null,null,"Asclepias purpurascens","purple milkweed",null,"Potentilla fruticosa ssp. floribunda"]
["Panicum tennesseense",null,null,"Asclepias quadrifolia","fourleaf milkweed",null,"Potentilla fruticosa var. farreri"]
["Dichanthelium acuminatum var. lindheimeri","Lindheimer panicgrass",null,"Asclepias speciosa","showy milkweed",null,"Potentilla fruticosa var. tenuifolia"]
["Dichanthelium lanuginosum var. lindheimeri",null,null,"Asclepias giffordii",null,null,"Datura wrightii","sacred thorn-apple"]
["Dichanthelium lindheimeri",null,null,"Asclepias stenophylla","slimleaf milkweed",null,"Datura inoxia ssp. quinquecuspida"]
["Panicum acuminatum var. lindheimeri",null,null,"Acerates angustifolia",null,null,"Datura metel var. quinquecuspida"]
["Panicum lanuginosum var. lindheimeri",null,null,"Polyotus angustifolius",null,null,"Datura meteloides"]
["Panicum lanuginosum var. septentrionale",null,null,"Asclepias sullivantii","prairie milkweed",null,"Decodon verticillatus","swamp loosestrife"]
["Panicum lindheimeri",null,null,"Asclepias syriaca","common milkweed",null,"Decodon verticillatus var. laevigatus"]
["Dichanthelium boreale","northern panicgrass",null,"Asclepias intermedia",null,null,"Desmanthus illinoensis","Illinois bundleflower"]
["Panicum bicknellii",null,null,"Asclepias kansana",null,null,"Acuan illinoense"]
["Panicum bicknellii var. bushii",null,null,"Asclepias syriaca var. kansana",null,null,"Mimosa illinoensis"]
["Panicum boreale",null,null,"Asclepias tuberosa","butterfly milkweed",null,"Diervilla lonicera","northern bush honeysuckle"]
["Panicum boreale var. michiganense",null,null,"Asclepias tuberosa ssp. interior","butterfly milkweed",null,"Diervilla diervilla"]
["Panicum bushii",null,null,"Asclepias tuberosa ssp. terminalis",null,null,"Diervilla lonicera var. hypomalaca"]
["Panicum calliphyllum",null,null,"Asclepias tuberosa var. interior",null,null,"Diospyros virginiana","common persimmon"]
["Dichanthelium clandestinum","deertongue",null,"Asclepias verticillata","whorled milkweed",null,"Diospyros mosieri"]
["Panicum clandestinum",null,null,"Asclepias viridiflora","green comet milkweed",null,"Diospyros virginiana var. mosieri"]
["Dichanthelium consanguineum","blood panicgrass",null,"Acerates viridiflora",null,null,"Diospyros virginiana var. platycarpa"]
["Panicum acuminatum var. consanguineum",null,null,"Acerates viridiflora var. ivesii",null,null,"Diospyros virginiana var. pubescens"]
["Panicum consanguineum",null,null,"Acerates viridiflora var. linearis",null,null,"Diospyros virginiana var. virginiana"]
["Panicum deamii",null,null,"Asclepias viridiflora var. lanceolata",null,null,"Dirca palustris","eastern leatherwood"]
["Panicum georgianum",null,null,"Asclepias viridiflora var. linearis",null,null,"Epigaea repens","trailing arbutus"]
["Dichanthelium depauperatum","starved panicgrass",null,"Asplenium platyneuron","ebony spleenwort",null,"Epigaea repens var. glabrifolia"]
["Panicum depauperatum",null,null,"Asplenium platyneuron var. platyneuron","ebony spleenwort",null,"Eriodictyon angustifolium","narrowleaf yerba santa"]
["Panicum depauperatum var. involutum",null,null,"Asplenium platyneuron var. incisum",null,null,"Eriodictyon angustifolium var. amplifolium"]
["Panicum depauperatum var. psilophyllum",null,null,"Asplenium rhizophyllum","walking fern",null,"Erysimum capitatum","sanddune wallflower"]
["Panicum strictum var. psilophyllum",null,null,"Camptosorus rhizophyllus",null,null,"Escobaria missouriensis","Missouri foxtail cactus"]
["Dichanthelium dichotomum","cypress panicgrass",null,"Astragalus agrestis","purple milkvetch",null,"Coryphantha missouriensis"]
["Dichanthelium dichotomum var. dichotomum","cypress panicgrass",null,"Astragalus danicus var. dasyglottis",null,null,"Coryphantha missouriensis var. caespitosa"]
["Dichanthelium annulum",null,null,"Astragalus dasyglottis",null,null,"Coryphantha missouriensis var. robustior"]
["Dichanthelium caerulescens",null,null,"Astragalus goniatus",null,null,"Coryphantha similis"]
["Dichanthelium dichotomum ssp. mattamuskeetense",null,null,"Astragalus hypoglottis",null,null,"Escobaria missouriensis ssp. navajoensis"]
["Dichanthelium dichotomum var. barbulatum",null,null,"Astragalus canadensis","Canadian milkvetch",null,"Escobaria missouriensis var. caespitosa"]
["Dichanthelium dichotomum var. nitidum",null,null,"Astragalus canadensis var. canadensis","Canadian milkvetch",null,"Escobaria missouriensis var. missouriensis"]
["Dichanthelium dichotomum var. ramylosum",null,null,"Astragalus canadensis var. carolinianus",null,null,"Escobaria missouriensis var. robustior"]
["Dichanthelium dichotomum var. roanokense",null,null,"Astragalus canadensis var. longilobus",null,null,"Escobaria missouriensis var. similis"]
["Dichanthelium lucidum",null,null,"Astragalus carolinianus",null,null,"Mammillaria missouriensis"]
["Dichanthelium mattamuskeetense",null,null,"Astragalus halei",null,null,"Mammillaria roseiflora"]
["Dichanthelium microcarpon",null,null,"Astragalus crassicarpus","groundplum milkvetch",null,"Mammillaria similis"]
["Dichanthelium nitidum",null,null,"Astragalus crassicarpus var. crassicarpus","groundplum milkvetch",null,"Mammillaria similis var. robustior"]
["Dichanthelium nudicaule",null,null,"Astragalus caryocarpus",null,null,"Neobesseya missouriensis"]
["Dichanthelium sphagnicola",null,null,"Astragalus succulentus",null,null,"Neobesseya wissmannii"]
["Dichanthelium yadkinense",null,null,"Geoprumnon crassicarpum",null,null,"Neomammillaria similis"]
["Panicum annulum",null,null,"Geoprumnon succulentum",null,null,"Euonymus atropurpureus","burningbush"]
["Panicum annulum var. glabrescens",null,null,"Astragalus distortus","Ozark milkvetch",null,"Euonymus atropurpurea"]
["Panicum barbulatum",null,null,"Astragalus distortus var. distortus","Ozark milkvetch",null,"Euonymus atropurpureus var. atropurpureus","eastern wahoo"]
["Panicum caerulescens",null,null,"Holcophacos distortus",null,null,"Euonymus atropurpurea var. atropurpurea"]
["Panicum clutei",null,null,"Astragalus flexuosus","flexile milkvetch",null,"Eupatoriadelphus maculatus","spotted trumpetweed"]
["Panicum dichotomum",null,null,"Astragalus flexuosus var. flexuosus","flexile milkvetch",null,"Eupatoriadelphus maculatus var. bruneri","spotted joe pye weed"]
["Panicum dichotomum var. barbulatum",null,null,"Astragalus flexuosus var. elongatus",null,null,"Eupatorium bruneri"]
["Panicum dichotomum var. clutei",null,null,"Astragalus flexuosus var. sierrae-blancae",null,null,"Eupatorium maculatum ssp. bruneri"]
["Panicum dichotomum var. lucidum",null,null,"Pisophaca flexuosa",null,null,"Eupatorium maculatum var. bruneri"]
["Panicum dichotomum var. mattamuskeetense",null,null,"Astragalus laxmannii","Laxmann's milkvetch",null,"Eupatoriadelphus maculatus var. maculatus","spotted trumpetweed"]
["Panicum dichotomum var. ramulosum",null,null,"Astragalus laxmannii var. robustior","prairie milkvetch",null,"Eupatorium maculatum"]
["Panicum dichotomum var. roanokense",null,null,"Astragalus adsurgens",null,null,"Eupatorium maculatum var. maculatum"]
["Panicum dichotomum var. yadkinense",null,null,"Astragalus adsurgens ssp. robustior",null,null,"Eupatorium purpureum var. maculatum"]
["Panicum lucidum",null,null,"Astragalus adsurgens var. robustior",null,null,"Frangula alnus","glossy buckthorn"]
["Panicum lucidum var. opacum",null,null,"Astragalus striatus",null,null,"Rhamnus frangula"]
["Panicum mattamuskeetense",null,null,"Astragalus sulphurescens",null,null,"Rhamnus frangula ssp. columnaris"]
["Panicum mattamuskeetense var. clutei",null,null,"Astragalus lotiflorus","lotus milkvetch",null,"Rhamnus frangula var. angustifolia"]
["Panicum microcarpon",null,null,"Astragalus elatiocarpus",null,null,"Fraxinus americana","white ash"]
["Panicum nitidum",null,null,"Astragalus lotiflorus var. nebraskensis",null,null,"Fraxinus americana var. biltmoreana"]
["Panicum nudicaule",null,null,"Astragalus lotiflorus var. reverchonii",null,null,"Fraxinus americana var. crassifolia"]
["Panicum roanokense",null,null,"Astragalus reverchonii",null,null,"Fraxinus americana var. curtissii"]
["Panicum sphagnicola",null,null,"Batidophaca lotiflorus",null,null,"Fraxinus americana var. juglandifolia"]
["Panicum yadkinense",null,null,"Astragalus missouriensis","Missouri milkvetch",null,"Fraxinus americana var. microcarpa"]
["Dichanthelium latifolium","broadleaf rosette grass",null,"Astragalus missouriensis var. missouriensis","Missouri milkvetch",null,"Fraxinus biltmoreana"]
["Panicum latifolium",null,null,"Xylophacos missouriensis",null,null,"Fraxinus nigra","black ash"]
["Dichanthelium leibergii","Leiberg's panicum",null,"Athyrium filix-femina","common ladyfern",null,"Fraxinus pennsylvanica","green ash"]
["Panicum leibergii",null,null,"Athyrium filix-femina ssp. angustum","subarctic ladyfern",null,"Fraxinus campestris"]
["Panicum leibergii var. baldwinii",null,null,"Athyrium angustum",null,null,"Fraxinus darlingtonii"]
["Panicum scoparium var. leibergii",null,null,"Athyrium angustum var. rubellum",null,null,"Fraxinus lanceolata"]
["Panicum scribnerianum var. leibergii",null,null,"Athyrium angustum var. subtripinnatum",null,null,"Fraxinus pennsylvanica var. austinii"]
["Dichanthelium linearifolium","slimleaf panicgrass",null,"Athyrium filix-femina var. angustum",null,null,"Fraxinus pennsylvanica var. integerrima"]
["Dichanthelium depauperatum var. perlorgum",null,null,"Athyrium filix-femina var. michauxii",null,null,"Fraxinus pennsylvanica var. lanceolata"]
["Dichanthelium linearifolium var. werneri",null,null,"Athyrium filix-femina var. rubellum",null,null,"Fraxinus pennsylvanica var. subintegerrima"]
["Dichanthelium perlongum",null,null,"Atriplex prostrata","triangle orache",null,"Fraxinus smallii"]
["Panicum linearifolium",null,null,"Atriplex hastata",null,null,"Fraxinus quadrangulata","blue ash"]
["Panicum linearifolium var. werneri",null,null,"Atriplex latifolia",null,null,"Gaillardia pulchella","firewheel"]
["Panicum perlongum",null,null,"Atriplex patula ssp. hastata",null,null,"Gaillardia pulchella var. pulchella","firewheel"]
["Panicum strictum var. linearifolium",null,null,"Atriplex patula var. hastata",null,null,"Gaillardia drummondii"]
["Panicum strictum var. perlongum",null,null,"Atriplex patula var. triangularis",null,null,"Gaillardia neomexicana"]
["Panicum werneri",null,null,"Atriplex prostrata var. triangularis",null,null,"Gaillardia villosa"]
["Dichanthelium longiligulatum","coastal plain panicgrass",null,"Atriplex triangularis",null,null,"Galium boreale","northern bedstraw"]
["Dichanthelium acuminatum var. longiligulatum",null,null,"Aureolaria grandiflora","largeflower yellow false foxglove",null,"Galium boreale ssp. septentrionale"]
["Panicum acuminatum var. longiligulatum",null,null,"Aureolaria grandiflora var. pulchra","largeflower yellow false foxglove",null,"Galium boreale ssp. septentrionale"]
["Panicum longiligulatum",null,null,"Aureolaria grandiflora ssp. pulchra",null,null,"Galium boreale var. hyssopifolium"]
["Dichanthelium oligosanthes","Heller's rosette grass",null,"Gerardia grandiflora var. pulchra",null,null,"Galium boreale var. intermedium"]
["Dichanthelium oligosanthes var. oligosanthes","Heller's rosette grass",null,"Aureolaria pedicularia","fernleaf yellow false foxglove",null,"Galium boreale var. linearifolium"]
["Panicum oligosanthes",null,null,"Aureolaria pedicularia var. ambigens","fernleaf yellow false foxglove",null,"Galium boreale var. scabrum"]
["Dichanthelium oligosanthes var. scribnerianum","Scribner's rosette grass",null,"Agalinis pedicularia var. ambigens",null,null,"Galium boreale var. typicum"]
["Dichanthelium oligosanthes var. helleri",null,null,"Aureolaria pedicularia ssp. ambigens",null,null,"Galium hyssopifolium"]
["Panicum helleri",null,null,"Gerardia pedicularia var. ambigens",null,null,"Galium septentrionale"]
["Panicum macrocarpon",null,null,"Azolla mexicana","Mexican mosquitofern",null,"Galium strictum"]
["Panicum oligosanthes var. helleri",null,null,"Bacopa rotundifolia","disk waterhyssop",null,"Galium circaezans","licorice bedstraw"]
["Panicum oligosanthes var. scribnerianum",null,null,"Bacopa nobsiana",null,null,"Gaura coccinea","scarlet beeblossom"]
["Panicum scoparium",null,null,"Bacopa simulans",null,null,"Gaura coccinea var. arizonica"]
["Panicum scribnerianum",null,null,"Bramia rotundifolia",null,null,"Gaura coccinea var. epilobioides"]
["Dichanthelium ovale","eggleaf rosette grass",null,"Hydranthelium rotundifolium",null,null,"Gaura coccinea var. glabra"]
["Dichanthelium ovale var. addisonii","Addison's rosette grass",null,"Macuillamia rotundifolia",null,null,"Gaura coccinea var. parvifolia"]
["Dichanthelium commonsianum",null,null,"Baptisia alba","white wild indigo",null,"Gaura coccinea var. typica"]
["Panicum addisonii",null,null,"Baptisia alba var. macrophylla","largeleaf wild indigo",null,"Gaura glabra"]
["Panicum alabamense",null,null,"Baptisia lactea",null,null,"Gaura odorata"]
["Panicum columbianum var. commonsianum",null,null,"Baptisia leucantha",null,null,"Gaylussacia baccata","black huckleberry"]
["Panicum commonsianum",null,null,"Baptisia leucantha var. divaricata",null,null,"Decachaena baccata"]
["Panicum commonsianum var. addisonii",null,null,"Baptisia leucantha var. pauciflora",null,null,"Gleditsia triacanthos","honeylocust"]
["Panicum commonsianum var. addisonii",null,null,"Baptisia pendula var. macrophylla",null,null,"Gleditsia triacanthos var. inermis"]
["Panicum mundum",null,null,"Baptisia australis","blue wild indigo",null,"Gymnocladus dioicus","Kentucky coffeetree"]
["Panicum ovale var. addisonii",null,null,"Baptisia australis var. minor","blue wild indigo",null,"Hamamelis virginiana","American witchhazel"]
["Panicum owenae",null,null,"Baptisia minor",null,null,"Hamamelis macrophylla"]
["Panicum wilmingtonense",null,null,"Baptisia texana",null,null,"Hamamelis virginiana var. henryi"]
["Dichanthelium ravenelii","Ravenel's rosette grass",null,"Baptisia vespertina",null,null,"Hamamelis virginiana var. macrophylla"]
["Panicum ravenelii",null,null,"Baptisia bracteata","longbract wild indigo",null,"Hamamelis virginiana var. parvifolia"]
["Dichanthelium sabulorum","hemlock rosette grass",null,"Baptisia bracteata var. leucophaea","longbract wild indigo",null,"Helianthemum bicknellii","hoary frostweed"]
["Dichanthelium sabulorum var. patulum","hemlock rosette grass",null,"Baptisia bracteata var. glabrescens",null,null,"Crocanthemum bicknellii"]
["Dichanthelium commonsianum var. euchlamydeum",null,null,"Baptisia leucophaea",null,null,"Crocanthemum majus"]
["Panicum columbianum var. siccanum",null,null,"Baptisia leucophaea var. glabrescens",null,null,"Helianthemum canadense","longbranch frostweed"]
["Panicum commonsianum var. euchlamydeum",null,null,"Baptisia tinctoria","horseflyweed",null,"Crocanthemum canadense"]
["Panicum euchlamydeum",null,null,"Baptisia gibbesii",null,null,"Helianthemum canadense var. sabulonum"]
["Panicum lancearium",null,null,"Baptisia tinctoria var. crebra",null,null,"Heterotheca stenophylla","stiffleaf false goldenaster"]
["Panicum lancearium var. patulum",null,null,"Baptisia tinctoria var. projecta",null,null,"Heterotheca stenophylla var. stenophylla","stiffleaf false goldenaster"]
["Panicum lanuginosum var. siccanum",null,null,"Berula erecta","cutleaf waterparsnip",null,"Chrysopsis hispida var. stenophylla"]
["Panicum nashianum",null,null,"Berula erecta var. incisa",null,null,"Chrysopsis scabrifolia"]
["Panicum nashianum var. patulum",null,null,"Berula incisa",null,null,"Chrysopsis stenophylla"]
["Panicum onslowense",null,null,"Berula pusilla",null,null,"Chrysopsis villosa var. stenophylla"]
["Panicum patentifolium",null,null,"Siella erecta",null,null,"Heterotheca villosa","hairy false goldenaster"]
["Panicum patulum",null,null,"Besseya bullii","Bull's coraldrops",null,"Heterotheca villosa var. minor","hairy false goldenaster"]
["Panicum portoricense var. nashianum",null,null,"Synthyris bullii",null,null,"Chrysopsis arida"]
["Panicum sabulorum var. patulum",null,null,"Wulfenia bullii",null,null,"Chrysopsis bakeri"]
["Panicum tsugetorum",null,null,"Bidens aristosa","bearded beggarticks",null,"Chrysopsis columbiana"]
["Panicum webberianum",null,null,"Bidens aristosa var. fritcheyi",null,null,"Chrysopsis hispida"]
["Dichanthelium sabulorum var. thinium","hemlock rosette grass",null,"Bidens aristosa var. mutica",null,null,"Chrysopsis villosa var. hispida"]
["Dichanthelium columbianum",null,null,"Bidens aristosa var. retrorsa",null,null,"Chrysopsis wisconsinensis"]
["Dichanthelium portoricense",null,null,"Bidens involucrata",null,null,"Heterotheca villosa var. hispida"]
["Panicum acuminatum var. columbianum",null,null,"Bidens polylepis",null,null,"Heterotheca wisconsinensis"]
["Panicum columbianum",null,null,"Bidens polylepis var. retrorsa",null,null,"Heterotheca villosa var. villosa","hairy false goldenaster"]
["Panicum columbianum var. oricola",null,null,"Bidens beckii","Beck's water-marigold",null,"Chrysopsis mollis"]
["Panicum columbianum var. thinium",null,null,"Megalodonta beckii",null,null,"Chrysopsis villosa"]
["Panicum heterophyllum",null,null,"Megalodonta beckii var. beckii",null,null,"Hudsonia tomentosa","woolly beachheather"]
["Panicum heterophyllum var. thinium",null,null,"Megalodonta beckii var. hendersonii",null,null,"Hudsonia tomentosa var. tomentosa","woolly beachheather"]
["Panicum oricola",null,null,"Megalodonta beckii var. oregonensis",null,null,"Hudsonia ericoides ssp. tomentosa"]
["Panicum portoricense",null,null,"Bidens bipinnata","Spanish needles",null,"Huperzia ×bartleyi"]
["Panicum sabulorum var. thinium",null,null,"Bidens bipinnata var. biternatoides",null,null,"Lycopodium ×bartleyi"]
["Panicum unciphyllum var. thinium",null,null,"Bidens cernua","nodding beggartick",null,"Huperzia lucidula","shining clubmoss"]
["Dichanthelium ×scoparioides","Shasta panicgrass",null,"Bidens cernua var. cernua",null,null,"Huperzia lucidula var. tryonii"]
["Panicum scoparioides",null,null,"Bidens cernua var. dentata",null,null,"Huperzia selago ssp. lucidula"]
["Panicum shastense",null,null,"Bidens cernua var. elliptica",null,null,"Lycopodium lucidulum"]
["Panicum villosissimum var. scoparioides",null,null,"Bidens cernua var. integra",null,null,"Lycopodium lucidulum var. tryonii"]
["Dichanthelium villosissimum","whitehair rosette grass",null,"Bidens cernua var. minima",null,null,"Lycopodium reflexum"]
["Dichanthelium villosissimum var. praecocius","whitehair rosette grass",null,"Bidens cernua var. oligodonta",null,null,"Urostachys lucidulus"]
["Dichanthelium praecocius",null,null,"Bidens cernua var. radiata",null,null,"Huperzia porophila","rock clubmoss"]
["Panicum lanuginosum var. praecocius",null,null,"Bidens glaucescens",null,null,"Huperzia selago var. patens"]
["Panicum praecocius",null,null,"Bidens connata","purplestem beggarticks",null,"Huperzia selago var. porophila"]
["Dichanthelium villosissimum var. villosissimum","whitehair rosette grass",null,"Bidens connata var. ambiversa",null,null,"Lycopodium lucidulum var. porophilum"]
["Dichanthelium acuminatum var. villosum",null,null,"Bidens connata var. anomala",null,null,"Lycopodium porophilum"]
["Dichanthelium lanuginosum var. villosissimum",null,null,"Bidens connata var. fallax",null,null,"Lycopodium selago ssp. patens"]
["Dichanthelium ovale ssp. pseudopubescens",null,null,"Bidens connata var. gracilipes",null,null,"Lycopodium selago var. patens"]
["Dichanthelium villosissimum var. pseudopubescens",null,null,"Bidens connata var. inundata",null,null,"Lycopodium selago var. porophilum"]
["Panicum acuminatum var. villosissimum",null,null,"Bidens connata var. petiolata",null,null,"Urostachys lucidulus var. porophilus"]
["Panicum acuminatum var. villosum",null,null,"Bidens connata var. pinnata",null,null,"Urostachys porophilus"]
["Panicum nitidum var. villosum",null,null,"Bidens connata var. submutica",null,null,"Hypericum prolificum","shrubby St. Johnswort"]
["Panicum ovale var. pseudopubescens",null,null,"Bidens coronata","crowned beggarticks",null,"Hypericum spathulatum"]
["Panicum ovale var. villosum",null,null,"Bidens coronata var. brachyodonta",null,null,"Hypericum sphaerocarpum","roundseed St. Johnswort"]
["Panicum pseudopubescens",null,null,"Bidens coronata var. tenuiloba",null,null,"Hypericum sphaerocarpum var. turgidum"]
["Panicum villosissimum",null,null,"Bidens coronata var. trichosperma",null,null,"Hypericum turgidum"]
["Panicum villosissimum var. pseudopubescens",null,null,"Bidens trichosperma",null,null,"Ilex verticillata","common winterberry"]
["Dichanthelium wilcoxianum","fall rosette grass",null,"Bidens discoidea","small beggarticks",null,"Ilex bronxensis"]
["Dichanthelium oligosanthes var. wilcoxianum",null,null,"Bidens frondosa","devil's beggartick",null,"Ilex fastigiata"]
["Panicum wilcoxianum",null,null,"Bidens frondosa var. anomala",null,null,"Ilex verticillata var. cyclophylla"]
["Panicum wilcoxianum var. breitungii",null,null,"Bidens frondosa var. caudata",null,null,"Ilex verticillata var. fastigiata"]
["Dichanthelium xanthophysum","slender rosette grass",null,"Bidens frondosa var. pallida",null,null,"Ilex verticillata var. padifolia"]
["Panicum xanthophysum",null,null,"Bidens frondosa var. stenodonta",null,null,"Ilex verticillata var. tenuifolia"]
["Digitaria bicornis","Asian crabgrass",null,"Bidens tripartita","threelobe beggarticks",null,"Juglans cinerea","butternut"]
["Digitaria diversiflora",null,null,"Bidens acuta",null,null,"Wallia cinerea"]
["Paspalum bicorne",null,null,"Bidens comosa",null,null,"Juglans nigra","black walnut"]
["Digitaria ciliaris","southern crabgrass",null,"Bidens vulgata","big devils beggartick",null,"Wallia nigra"]
["Digitaria adscendens",null,null,"Bidens frondosa var. puberula",null,null,"Juniperus communis","common juniper"]
["Digitaria sanguinalis var. ciliaris",null,null,"Bidens puberula",null,null,"Juniperus communis var. depressa","common juniper"]
["Digitaria sanguinalis var. marginata",null,null,"Bidens vulgata var. puberula",null,null,"Juniperus canadensis"]
["Digitaria sanguinalis var. rhachiseta",null,null,"Bidens vulgata var. schizantha",null,null,"Juniperus communis ssp. depressa"]
["Panicum adscendens",null,null,"Blephilia ciliata","downy pagoda-plant",null,"Juniperus depressa"]
["Panicum ciliare",null,null,"Blephilia hirsuta","hairy pagoda-plant",null,"Juniperus horizontalis","creeping juniper"]
["Syntherisma marginata",null,null,"Blephilia hirsuta var. hirsuta","hairy pagoda-plant",null,"Juniperus horizontalis var. argentea"]
["Digitaria cognata","fall witchgrass",null,"Boehmeria cylindrica","smallspike false nettle",null,"Juniperus horizontalis var. douglasii"]
["Digitaria cognata var. cognata",null,null,"Boehmeria austrina",null,null,"Juniperus horizontalis var. glauca"]
["Leptoloma cognatum",null,null,"Boehmeria cylindrica var. drummondiana",null,null,"Juniperus horizontalis var. variegata"]
["Digitaria filiformis","slender crabgrass",null,"Boehmeria cylindrica var. scabra",null,null,"Juniperus hudsonica"]
["Digitaria laeviglumis",null,null,"Boehmeria decurrens",null,null,"Juniperus prostrata"]
["Digitaria leucocoma",null,null,"Boehmeria drummondiana",null,null,"Juniperus repens"]
["Panicum filiforme",null,null,"Boehmeria scabra",null,null,"Juniperus virginiana var. prostrata"]
["Syntherisma filiformis",null,null,"Urtica cylindrica",null,null,"Sabina horizontalis"]
["Digitaria sanguinalis","hairy crabgrass",null,"Boltonia asteroides","white doll's daisy",null,"Sabina prostrata"]
["Panicum sanguinale",null,null,"Boltonia asteroides var. latisquama","white doll's daisy",null,"Juniperus virginiana","eastern redcedar"]
["Syntherisma sanguinalis",null,null,"Boltonia latisquama",null,null,"Juniperus virginiana var. virginiana","eastern redcedar"]
["Distichlis spicata","saltgrass",null,"Boltonia asteroides var. recognita","white doll's daisy",null,"Juniperus virginiana ssp. crebra"]
["Distichlis spicata ssp. stricta",null,null,"Boltonia latisquama var. microcephala",null,null,"Juniperus virginiana var. crebra"]
["Distichlis spicata var. borealis",null,null,"Boltonia latisquama var. occidentalis",null,null,"Sabina virginiana"]
["Distichlis spicata var. divaricata",null,null,"Boltonia latisquama var. recognita",null,null,"Lindera benzoin","northern spicebush"]
["Distichlis spicata var. nana",null,null,"Boltonia recognita",null,null,"Lindera benzoin var. pubescens","northern spicebush"]
["Distichlis spicata var. stolonifera",null,null,"Boltonia decurrens","claspingleaf doll's daisy",null,"Benzoin aestivale var. pubescens"]
["Distichlis spicata var. stricta",null,null,"Boltonia asteroides var. decurrens",null,null,"Linnaea borealis","twinflower"]
["Distichlis stricta",null,null,"Boltonia latisquama var. decurrens",null,null,"Linnaea borealis ssp. americana","twinflower"]
["Distichlis stricta var. dentata",null,null,"Botrychium campestre","Iowa moonwort",null,"Linnaea americana"]
["Uniola spicata",null,null,"Botrychium dissectum","cutleaf grapefern",null,"Linnaea borealis var. americana"]
["Dulichium arundinaceum","threeway sedge",null,"Botrychium dissectum var. obliquum",null,null,"Linum perenne","blue flax"]
["Dulichium arundinaceum var. arundinaceum","three-way sedge",null,"Botrychium dissectum var. oblongifolium",null,null,"Linum lewisii"]
["Echinochloa muricata","rough barnyardgrass",null,"Botrychium obliquum",null,null,"Liriodendron tulipifera","tuliptree"]
["Echinochloa muricata var. microstachya","rough barnyardgrass",null,"Botrychium obliquum var. elongatum",null,null,"Lonicera canadensis","American fly honeysuckle"]
["Echinochloa crus-galli var. mitis",null,null,"Botrychium matricariifolium","matricary grapefern",null,"Xylosteon ciliatum"]
["Echinochloa microstachya",null,null,"Botrychium multifidum","leathery grapefern",null,"Lonicera reticulata","grape honeysuckle"]
["Echinochloa muricata ssp. microstachya",null,null,"Botrychium californicum",null,null,"Lonicera prolifera"]
["Echinochloa muricata var. occidentalis",null,null,"Botrychium coulteri",null,null,"Lonicera prolifera var. glabra"]
["Echinochloa muricata var. wiegandii",null,null,"Botrychium matricariae",null,null,"Lonicera sullivantii"]
["Echinochloa occidentalis",null,null,"Botrychium multifidum ssp. californicum",null,null,"Lycopodiella inundata","inundated clubmoss"]
["Echinochloa pungens var. microstachya",null,null,"Botrychium multifidum ssp. coulteri",null,null,"Lepidotis inundata"]
["Echinochloa pungens var. multiflora",null,null,"Botrychium multifidum ssp. silaifolium",null,null,"Lycopodium inundatum"]
["Echinochloa wiegandii",null,null,"Botrychium multifidum var. californicum",null,null,"Lycopodium clavatum","running clubmoss"]
["Echinochloa muricata var. muricata","rough barnyardgrass",null,"Botrychium multifidum var. coulteri",null,null,"Lycopodium clavatum var. laurentianum"]
["Echinochloa muricata var. ludoviciana",null,null,"Botrychium multifidum var. intermedium",null,null,"Lycopodium clavatum var. subremotum"]
["Echinochloa pungens",null,null,"Botrychium multifidum var. silaifolium",null,null,"Lycopodium clavatum var. tristachyum"]
["Echinochloa pungens var. coarctata",null,null,"Botrychium silaifolium",null,null,"Lycopodium dendroideum","tree groundpine"]
["Echinochloa pungens var. ludoviciana",null,null,"Botrychium silaifolium var. coulteri",null,null,"Lycopodium obscurum var. dendroideum"]
["Echinochloa walteri","coast cockspur grass",null,"Botrychium simplex","little grapefern",null,"Lycopodium obscurum var. hybridum"]
["Echinochloa walteri var. laevigata",null,null,"Botrychium simplex ssp. simplex",null,null,"Lycopodium digitatum","fan clubmoss"]
["Panicum walteri",null,null,"Botrychium simplex ssp. typicum",null,null,"Diphasiastrum digitatum"]
["Eleocharis acicularis","needle spikerush",null,"Botrychium simplex var. compositum",null,null,"Diphasium complanatum ssp. flabelliforme"]
["Eleocharis acicularis var. acicularis","needle spikerush",null,"Botrychium simplex var. laxifolium",null,null,"Lycopodium complanatum var. flabelliforme"]
["Eleocharis acicularis var. gracilescens",null,null,"Botrychium simplex var. tenebrosum",null,null,"Lycopodium flabelliforme"]
["Eleocharis acicularis var. occidentalis",null,null,"Botrychium tenebrosum",null,null,"Lycopodium flabelliforme var. ambiguum"]
["Eleocharis acicularis var. submersa",null,null,"Botrychium virginianum","rattlesnake fern",null,"Lythrum alatum","winged lythrum"]
["Eleocharis acicularis var. typica",null,null,"Botrychium virginianum ssp. europaeum",null,null,"Lythrum alatum var. alatum","winged lythrum"]
["Eleocharis atropurpurea","purple spikerush",null,"Botrychium virginianum var. europaeum",null,null,"Lythrum dacotanum"]
["Eleocharis multiflora",null,null,"Brasenia schreberi","watershield",null,"Machaeranthera pinnatifida","lacy tansyaster"]
["Scirpus atropurpureus",null,null,"Brasenia peltata",null,null,"Machaeranthera pinnatifida ssp. pinnatifida","lacy tansyaster"]
["Eleocharis compressa","flatstem spikerush",null,"Brickellia eupatorioides","false boneset",null,"Machaeranthera pinnatifida ssp. pinnatifida var. glaberrima","lacy tansyaster"]
["Eleocharis compressa var. compressa","flatstem spikerush",null,"Brickellia eupatorioides var. corymbulosa","false boneset",null,"Haplopappus spinulosus ssp. glaberrimus"]
["Eleocharis acuminata",null,null,"Kuhnia eupatorioides var. corymbulosa",null,null,"Haplopappus spinulosus var. glaberrimus"]
["Eleocharis compressa var. atrata",null,null,"Kuhnia hitchcockii",null,null,"Sideranthus glaberrimus"]
["Eleocharis elliptica var. atrata",null,null,"Calla palustris","water arum",null,"Sideranthus spinulosus var. glaberrimus"]
["Eleocharis elliptica var. compressa",null,null,"Callirhoe alcaeoides","light poppymallow",null,"Machaeranthera pinnatifida ssp. pinnatifida var. pinnatifida","lacy tansyaster"]
["Eleocharis tenuis var. atrata",null,null,"Sida alcaeoides",null,null,"Amellus spinulosus"]
["Eleocharis elliptica","elliptic spikerush",null,"Callirhoe bushii","Bush's poppymallow",null,"Aster pinnatifidus"]
["Eleocharis capitata var. borealis",null,null,"Callirhoe involucrata var. bushii",null,null,"Dieteria spinulosa"]
["Eleocharis compressa var. borealis",null,null,"Callirhoe papaver var. bushii",null,null,"Diplopappus pinnatifidus"]
["Eleocharis tenuis var. borealis",null,null,"Callirhoe involucrata","purple poppymallow",null,"Eriocarpum australe"]
["Eleocharis engelmannii","Engelmann's spikerush",null,"Callirhoe involucrata var. involucrata","purple poppymallow",null,"Eriocarpum spinulosum"]
["Eleocharis engelmannii var. monticola",null,null,"Callirhoe involucrata var. novomexicana",null,null,"Eriocarpum wootonii"]
["Eleocharis engelmannii var. robusta",null,null,"Callirhoe triangulata","clustered poppymallow",null,"Haplopappus coulteri"]
["Eleocharis monticola",null,null,"Callitriche heterophylla","twoheaded water-starwort",null,"Haplopappus spinulosus"]
["Eleocharis monticola var. pallida",null,null,"Callitriche heterophylla ssp. heterophylla","twoheaded water-starwort",null,"Haplopappus spinulosus ssp. australis"]
["Eleocharis obtusa var. detonsa",null,null,"Callitriche anceps",null,null,"Haplopappus spinulosus ssp. cotulus"]
["Eleocharis obtusa var. engelmannii",null,null,"Callitriche heterophylla var. heterophylla",null,null,"Haplopappus spinulosus ssp. laevis"]
["Eleocharis ovata var. detonsa",null,null,"Callitriche palustris","vernal water-starwort",null,"Haplopappus spinulosus var. canescens"]
["Eleocharis ovata var. engelmannii",null,null,"Callitriche palustris var. verna",null,null,"Haplopappus spinulosus var. glaber"]
["Eleocharis erythropoda","bald spikerush",null,"Callitriche verna",null,null,"Haplopappus spinulosus var. turbinellus"]
["Eleocharis calva",null,null,"Calopogon tuberosus","tuberous grasspink",null,"Haplopappus texensis"]
["Scirpus glaucus",null,null,"Calopogon tuberosus var. tuberosus","tuberous grasspink",null,"Machaeranthera australis"]
["Trichophorum palustre var. calvum",null,null,"Calopogon pulchellus",null,null,"Machaeranthera laevis"]
["Eleocharis intermedia","matted spikerush",null,"Calopogon pulchellus var. latifolius",null,null,"Machaeranthera pinnata"]
["Eleocharis macrostachya","pale spikerush",null,"Calopogon tuberosus var. latifolius",null,null,"Machaeranthera texensis"]
["Eleocharis perlonga",null,null,"Limodorum tuberosum",null,null,"Sideranthus australis"]
["Eleocharis xyridiformis",null,null,"Caltha palustris","yellow marsh marigold",null,"Sideranthus cotula"]
["Eleocharis obtusa","blunt spikerush",null,"Caltha palustris var. palustris","yellow marsh marigold",null,"Sideranthus laevis"]
["Eleocharis obtusa var. ellipsoidalis",null,null,"Caltha asarifolia",null,null,"Sideranthus machaerantherus"]
["Eleocharis obtusa var. gigantea",null,null,"Caltha natans var. asarifolia",null,null,"Sideranthus puberulus"]
["Eleocharis obtusa var. jejuna",null,null,"Caltha palustris ssp. asarifolia",null,null,"Sideranthus spinulosus"]
["Eleocharis obtusa var. obtusa",null,null,"Caltha palustris var. asarifolia",null,null,"Sideranthus turbinellus"]
["Eleocharis obtusa var. peasei",null,null,"Caltha palustris var. flabellifolia",null,null,"Sideranthus wootonii"]
["Eleocharis ovata var. obtusa",null,null,"Calylophus serrulatus","yellow sundrops",null,"Starkea pinnata"]
["Scirpus obtusus",null,null,"Calylophus australis",null,null,"Maclura pomifera","osage orange"]
["Eleocharis olivacea","bright green spikerush",null,"Meriolix intermedia",null,null,"Ioxylon pomiferum"]
["Eleocharis olivacea var. olivacea","bright green spikerush",null,"Meriolix oblanceolata",null,null,"Toxylon pomiferum"]
["Eleocharis flaccida var. olivacea",null,null,"Meriolix serrulata",null,null,"Malus ioensis","prairie crab apple"]
["Eleocharis flavescens var. olivacea",null,null,"Oenothera serrulata",null,null,"Malus ioensis var. ioensis","prairie crab apple"]
["Eleocharis ovata","ovate spikerush",null,"Oenothera serrulata var. typica",null,null,"Malus ioensis var. bushii"]
["Eleocharis annua",null,null,"Calystegia macounii","Macoun's false bindweed",null,"Malus ioensis var. palmeri"]
["Eleocharis obtusa var. heuseri",null,null,"Convolvulus interior",null,null,"Pyrus ioensis"]
["Eleocharis obtusa var. ovata",null,null,"Calystegia sepium","hedge false bindweed",null,"Mertensia paniculata","tall bluebells"]
["Scirpus ovatus",null,null,"Calystegia sepium ssp. americana","hedge false bindweed",null,"Mertensia paniculata var. paniculata","tall bluebells"]
["Eleocharis palustris","common spikerush",null,"Calystegia inflata",null,null,"Mertensia palmeri"]
["Eleocharis palustris var. palustris","common spikerush",null,"Calystegia sepium var. americana",null,null,"Mertensia pilosa"]
["Eleocharis calva var. australis",null,null,"Convolvulus americanus",null,null,"Mirabilis albida","white four o'clock"]
["Eleocharis mamillata",null,null,"Convolvulus sepium var. americanus",null,null,"Allionia albida"]
["Eleocharis palustris var. australis",null,null,"Calystegia sepium ssp. angulata","hedge false bindweed",null,"Allionia bracteata"]
["Eleocharis palustris var. major",null,null,"Calystegia sepium var. angulata",null,null,"Allionia coahuilensis"]
["Eleocharis smallii",null,null,"Calystegia sepium var. repens",null,null,"Allionia grayana"]
["Eleocharis smallii var. major",null,null,"Convolvulus repens",null,null,"Allionia pauciflora"]
["Scirpus palustris",null,null,"Convolvulus sepium var. repens",null,null,"Allionia pseudaggregata"]
["Eleocharis parvula","dwarf spikerush",null,"Calystegia silvatica","shortstalk false bindweed",null,"Allionia rotata"]
["Chaetocyperus membranacea",null,null,"Calystegia silvatica ssp. fraterniflora","shortstalk false bindweed",null,"Mirabilis albida var. lata"]
["Eleocharis coloradoensis",null,null,"Calystegia fraterniflora",null,null,"Mirabilis albida var. uniflora"]
["Eleocharis leptos",null,null,"Calystegia sepium var. fraterniflora",null,null,"Mirabilis coahuilensis"]
["Eleocharis leptos var. coloradoensis",null,null,"Convolvulus fraterniflorus",null,null,"Mirabilis dumetorum"]
["Eleocharis leptos var. johnstonii",null,null,"Convolvulus sepium var. fraterniflorus",null,null,"Mirabilis entricha"]
["Eleocharis membranacea",null,null,"Calystegia spithamaea","low false bindweed",null,"Mirabilis grayana"]
["Eleocharis parvula var. anachaeta",null,null,"Calystegia spithamaea ssp. spithamaea","low false bindweed",null,"Mirabilis oblongifolia"]
["Eleocharis parvula var. coloradoensis",null,null,"Convolvulus spithamaeus",null,null,"Mirabilis pauciflora"]
["Scirpus nanus",null,null,"Calystegia spithamaea ssp. stans","low false bindweed",null,"Mirabilis pseudaggregata"]
["Scirpus nanus var. anachaetus",null,null,"Camassia angusta","prairie camas",null,"Mirabilis rotata"]
["Eleocharis quinqueflora","fewflower spikerush",null,"Camassia scilloides","Atlantic camas",null,"Oxybaphus albidus"]
["Eleocharis bernardina",null,null,"Camassia esculenta",null,null,"Oxybaphus coahuilensis"]
["Eleocharis pauciflora",null,null,"Quamasia hyacinthina",null,null,"Oxybaphus pauciflorus"]
["Eleocharis pauciflora var. bernardina",null,null,"Campanula aparinoides","marsh bellflower",null,"Oxybaphus pseudaggregatus"]
["Eleocharis pauciflora var. fernaldii",null,null,"Campanula aparinoides var. grandiflora",null,null,"Oxybaphus rotatus"]
["Eleocharis quinqueflora ssp. fernaldii",null,null,"Campanula aparinoides var. uliginosa",null,null,"Mitchella repens","partridgeberry"]
["Eleocharis quinqueflora var. bernardina",null,null,"Campanula uliginosa",null,null,"Monarda fistulosa","wild bergamot"]
["Scirpus pauciflorus",null,null,"Campanula rotundifolia","bluebell bellflower",null,"Monarda fistulosa ssp. fistulosa","wild bergamot"]
["Scirpus quinqueflorus",null,null,"Campanula alaskana",null,null,"Monarda fistulosa ssp. fistulosa var. menthifolia","mintleaf bergamot"]
["Eleocharis tenuis","slender spikerush",null,"Campanula dubia",null,null,"Monarda menthifolia"]
["Eleocharis tenuis var. verrucosa","slender spikerush",null,"Campanula gieseckiana",null,null,"Monarda punctata","spotted beebalm"]
["Eleocharis capitata var. verrucosa",null,null,"Campanula gieseckiana ssp. groenlandica",null,null,"Monarda punctata ssp. punctata","spotted beebalm"]
["Eleocharis verrucosa",null,null,"Campanula gieseckiana var. arctica",null,null,"Monarda punctata ssp. punctata var. villicaulis","spotted beebalm"]
["Eleocharis wolfii","Wolf's spikerush",null,"Campanula groenlandica",null,null,"Monarda punctata ssp. villicaulis"]
["Scirpus wolfii",null,null,"Campanula heterodoxa",null,null,"Morus rubra","red mulberry"]
["×Elyhordeum iowense","Iowa barley",null,"Campanula intercedens",null,null,"Morus rubra var. rubra","red mulberry"]
["×Elymordeum montanense var. pubescens",null,null,"Campanula petiolata",null,null,"Oenothera speciosa","pinkladies"]
["×Elytesion iowense",null,null,"Campanula rotundifolia ssp. groenlandica",null,null,"Hartmannia speciosa"]
["×Elyhordeum macounii","Macoun's barley",null,"Campanula rotundifolia ssp. intercedens",null,null,"Oenothera delessertiana"]
["×Agrohordeum macounii",null,null,"Campanula rotundifolia var. alaskana",null,null,"Oenothera speciosa var. childsii"]
["×Agrohordeum macounii var. valencianum",null,null,"Campanula rotundifolia var. alpina",null,null,"Opuntia fragilis","brittle pricklypear"]
["Elymus macounii",null,null,"Campanula rotundifolia var. arctica",null,null,"Cactus fragilis"]
["×Elytesion macounii",null,null,"Campanula rotundifolia var. intercedens",null,null,"Opuntia brachyarthra"]
["×Elyhordeum montanense","mountain barley",null,"Campanula rotundifolia var. lancifolia",null,null,"Opuntia fragilis ssp. brachyarthra"]
["×Elymordeum montanense",null,null,"Campanula rotundifolia var. petiolata",null,null,"Opuntia fragilis var. brachyarthra"]
["×Elytesion montanense",null,null,"Campanula rotundifolia var. velutina",null,null,"Opuntia fragilis var. denudata"]
["Hordeum montanense",null,null,"Campanula sacajaweana",null,null,"Opuntia fragilis var. fragilis"]
["Hordeum pammelii",null,null,"Campanulastrum americanum","American bellflower",null,"Opuntia humifusa","devil's-tongue"]
["Elymus canadensis","Canada wildrye",null,"Campanula americana",null,null,"Opuntia calcicola"]
["Elymus brachystachys",null,null,"Campanula americana var. illinoensis",null,null,"Opuntia compressa"]
["Elymus canadensis var. brachystachys",null,null,"Cardamine bulbosa","bulbous bittercress",null,"Opuntia compressa var. allairei"]
["Elymus canadensis var. hirsutus",null,null,"Arabis bulbosa",null,null,"Opuntia compressa var. fuscoatra"]
["Elymus canadensis var. robustus",null,null,"Arabis rhomboidea",null,null,"Opuntia compressa var. microsperma"]
["Elymus crescendus",null,null,"Cardamine rhomboidea",null,null,"Opuntia cumulicola"]
["Elymus philadelphicus",null,null,"Cardamine concatenata","cutleaf toothwort",null,"Opuntia humifusa var. humifusa"]
["Elymus philadelphicus var. hirsutus",null,null,"Cardamine laciniata",null,null,"Opuntia rafinesquei"]
["Elymus robustus",null,null,"Dentaria concatenata",null,null,"Opuntia macrorhiza","twistspine pricklypear"]
["Elymus diversiglumis","diverseglume wildrye",null,"Dentaria concatenata var. coalescens",null,null,"Opuntia macrorhiza var. macrorhiza","twistspine pricklypear"]
["Elymus interruptus",null,null,"Dentaria laciniata",null,null,"Opuntia compressa var. grandiflora"]
["Elymus hystrix","eastern bottlebrush grass",null,"Dentaria laciniata var. integra",null,null,"Opuntia compressa var. macrorhiza"]
["Elymus hystrix var. bigeloviana","eastern bottlebrush grass",null,"Cardamine douglassii","limestone bittercress",null,"Opuntia compressa var. stenochila"]
["Hystrix patula var. bigeloviana",null,null,"Cardamine parviflora","sand bittercress",null,"Opuntia grandiflora"]
["Elymus hystrix var. hystrix","eastern bottlebrush grass",null,"Cardamine parviflora var. arenicola","sand bittercress",null,"Opuntia leptocarpa"]
["Hystrix hystrix",null,null,"Cardamine arenicola",null,null,"Opuntia mackensenii"]
["Hystrix patula",null,null,"Cardamine pensylvanica","Pennsylvania bittercress",null,"Opuntia plumbea"]
["Elymus ×maltei",null,null,"Cardamine pensylvanica var. brittoniana",null,null,"Opuntia sphaerocarpa"]
["Elymus arenarius var. simulans",null,null,"Castilleja coccinea","scarlet Indian paintbrush",null,"Opuntia tenuispina"]
["Elymus ×maltei var. brownii",null,null,"Castilleja ludoviciana",null,null,"Opuntia tortispina"]
["Elymus ×maltei var. churchii",null,null,"Castilleja sessiliflora","downy paintedcup",null,"Orthilia secunda","sidebells wintergreen"]
["Elymus ×maltei var. simulans",null,null,"Caulophyllum thalictroides","blue cohosh",null,"Orthilia secunda ssp. obtusata"]
["Terrelymus maltei",null,null,"Centaurea americana","American star-thistle",null,"Orthilia secunda var. obtusata"]
["Elymus riparius","riverbank wildrye",null,"Cerastium arvense","field chickweed",null,"Pyrola secunda"]
["Elymus canadensis var. riparius",null,null,"Cerastium arvense ssp. strictum","field chickweed",null,"Pyrola secunda ssp. obtusata"]
["Elymus submuticus","Virginia wildrye",null,"Cerastium alsophilum",null,null,"Pyrola secunda var. obtusata"]
["Elymus curvatus",null,null,"Cerastium angustatum",null,null,"Ramischia elatior"]
["Elymus virginicus var. jenkinsii",null,null,"Cerastium arvense var. angustifolium",null,null,"Ramischia secunda"]
["Elymus virginicus var. submuticus",null,null,"Cerastium arvense var. latifolium",null,null,"Ostrya virginiana","hophornbeam"]
["Elymus trachycaulus","slender wheatgrass",null,"Cerastium arvense var. purpurascens",null,null,"Ostrya virginiana var. virginiana","hophornbeam"]
["Elymus trachycaulus ssp. subsecundus","slender wheatgrass",null,"Cerastium arvense var. viscidulum",null,null,"Ostrya virginiana var. lasia"]
["Agropyron caninum var. unilaterale",null,null,"Cerastium campestre",null,null,"Oxalis albicans","radishroot woodsorrel"]
["Agropyron laeve",null,null,"Cerastium confertum",null,null,"Oxalis albicans ssp. albicans","radishroot woodsorrel"]
["Agropyron parishii var. laeve",null,null,"Cerastium effusum",null,null,"Oxalis californica var. subglabra"]
["Agropyron pauciflorum ssp. laeve",null,null,"Cerastium elongatum",null,null,"Oxalis corniculata ssp. albicans"]
["Agropyron pauciflorum var. glaucum",null,null,"Cerastium graminifolium",null,null,"Oxalis corniculata var. wrightii"]
["Agropyron subsecundum",null,null,"Cerastium latifolium",null,null,"Oxalis pilosa var. wrightii"]
["Agropyron trachycaulum var. ciliatum",null,null,"Cerastium nitidum",null,null,"Oxalis wrightii"]
["Agropyron trachycaulum var. glaucum",null,null,"Cerastium occidentale",null,null,"Xanthoxalis albicans"]
["Agropyron trachycaulum var. unilaterale",null,null,"Cerastium oreophilum",null,null,"Xanthoxalis wrightii"]
["Elymus laevis",null,null,"Cerastium patulum",null,null,"Pedicularis canadensis","Canadian lousewort"]
["Elymus trachycaulus ssp. glaucus",null,null,"Cerastium scopulorum",null,null,"Pedicularis canadensis ssp. canadensis","Canadian lousewort"]
["Elymus trachycaulus var. unilateralis",null,null,"Cerastium sonnei",null,null,"Pedicularis canadensis var. dobbsii"]
["Elymus trachycaulus ssp. trachycaulus","slender wheatgrass",null,"Cerastium strictum",null,null,"Pedicularis gladiata"]
["Agropyron brevifolium",null,null,"Cerastium subulatum",null,null,"Phemeranthus parviflorus","sunbright"]
["Agropyron caninum ssp. majus",null,null,"Cerastium tenuifolium",null,null,"Talinum appalachianum"]
["Agropyron caninum var. andinum",null,null,"Cerastium vestitum",null,null,"Talinum parviflorum"]
["Agropyron caninum var. hornemannii",null,null,"Cerastium arvense ssp. velutinum","field chickweed",null,"Philadelphus pubescens","hoary mock orange"]
["Agropyron caninum var. mitchellii",null,null,"Cerastium arvense ssp. velutinum var. velutinum","field chickweed",null,"Philadelphus pubescens var. pubescens","hoary mock orange"]
["Agropyron pauciflorum",null,null,"Cerastium arvense var. bracteatum",null,null,"Philadelphus latifolius"]
["Agropyron pauciflorum ssp. majus",null,null,"Cerastium arvense var. oblongifolium",null,null,"Philadelphus pubescens var. verrucosus"]
["Agropyron pauciflorum ssp. novae-angliae",null,null,"Cerastium arvense var. webbii",null,null,"Phlox bifida","cleft phlox"]
["Agropyron pauciflorum ssp. teslinense",null,null,"Cerastium bracteatum",null,null,"Phlox bifida ssp. bifida","cleft phlox"]
["Agropyron pauciflorum var. novae-angliae",null,null,"Cerastium oblongifolium",null,null,"Phlox bifida ssp. arkansana"]
["Agropyron subsecundum var. andinum",null,null,"Cerastium velutinum",null,null,"Phlox bifida var. glandifera"]
["Agropyron tenerum",null,null,"Cerastium brachypodum","shortstalk chickweed",null,"Phlox divaricata","wild blue phlox"]
["Agropyron teslinense",null,null,"Cerastium brachypodum var. compactum",null,null,"Phlox divaricata ssp. laphamii","Lapham's phlox"]
["Agropyron trachycaulum",null,null,"Cerastium nutans var. brachypodum",null,null,"Phlox divaricata var. laphamii"]
["Agropyron trachycaulum var. majus",null,null,"Cerastium nutans","nodding chickweed",null,"Phlox pilosa","downy phlox"]
["Agropyron trachycaulum var. novae-angliae",null,null,"Cerastium nutans var. nutans","nodding chickweed",null,"Phlox pilosa ssp. fulgida","downy phlox"]
["Agropyron violaceum ssp. andinum",null,null,"Cerastium longepedunculatum",null,null,"Phlox pilosa var. fulgida"]
["Agropyron violaceum var. andinum",null,null,"Cerastium nutans var. occidentale",null,null,"Phlox pilosa ssp. pilosa","downy phlox"]
["Elymus donianus ssp. virescens",null,null,"Ceratophyllum demersum","coon's tail",null,"Phlox argillacea"]
["Elymus pauciflorus",null,null,"Ceratophyllum apiculatum",null,null,"Phlox pilosa var. virens"]
["Elymus trachycaulus ssp. andinus",null,null,"Ceratophyllum demersum var. apiculatum",null,null,"Phlox villosissima"]
["Elymus trachycaulus ssp. novae-angliae",null,null,"Ceratophyllum demersum var. apiculatum",null,null,"Phlox subulata","moss phlox"]
["Elymus trachycaulus ssp. teslinensis",null,null,"Chaerophyllum procumbens","spreading chervil",null,"Phlox subulata ssp. subulata","moss phlox"]
["Elymus trachycaulus var. andinus",null,null,"Chaerophyllum procumbens var. procumbens","spreading chervil",null,"Photinia melanocarpa","black chokeberry"]
["Elymus trachycaulus var. majus",null,null,"Chamaecrista fasciculata","partridge pea",null,"Aronia arbutifolia var. nigra"]
["Roegneria pauciflora",null,null,"Chamaecrista fasciculata var. fasciculata","partridge pea",null,"Aronia melanocarpa"]
["Roegneria trachycaula",null,null,"Cassia brachiata",null,null,"Aronia nigra"]
["Triticum trachycaulum",null,null,"Cassia chamaecrista",null,null,"Pyrus arbutifolia var. nigra"]
["Elymus villosus","hairy wildrye",null,"Cassia fasciculata",null,null,"Pyrus melanocarpa"]
["Elymus arkansanus",null,null,"Cassia fasciculata var. brachiata",null,null,"Sorbus melanocarpa"]
["Elymus canadensis var. villosus",null,null,"Cassia fasciculata var. depressa",null,null,"Phragmites australis","common reed"]
["Elymus villosus var. arkansanus",null,null,"Cassia fasciculata var. ferrisiae",null,null,"Phragmites australis var. berlandieri"]
["Terrellia villosa",null,null,"Cassia fasciculata var. puberula",null,null,"Phragmites communis"]
["Elymus virginicus","Virginia wildrye",null,"Cassia fasciculata var. robusta",null,null,"Phragmites communis ssp. berlandieri"]
["Elymus virginicus var. virginicus","Virginia wildrye",null,"Cassia fasciculata var. rostrata",null,null,"Phragmites communis var. berlandieri"]
["Elymus australis",null,null,"Cassia fasciculata var. tracyi",null,null,"Phragmites phragmites"]
["Elymus glabriflorus",null,null,"Cassia mississippiensis",null,null,"Physocarpus opulifolius","common ninebark"]
["Elymus glabriflorus var. australis",null,null,"Cassia robusta",null,null,"Physocarpus opulifolius var. intermedius","Atlantic ninebark"]
["Elymus hirsutiglumis",null,null,"Cassia rostrata",null,null,"Opulaster intermedius"]
["Elymus jejunus",null,null,"Chamaecrista brachiata",null,null,"Physocarpus intermedius"]
["Elymus striatus",null,null,"Chamaecrista depressa",null,null,"Physocarpus opulifolius var. opulifolius","common ninebark"]
["Elymus virginicus var. australis",null,null,"Chamaecrista fasciculata var. brachiata",null,null,"Opulaster alabamensis"]
["Elymus virginicus var. glabriflorus",null,null,"Chamaecrista littoralis",null,null,"Opulaster australis"]
["Elymus virginicus var. hirsutiglumis",null,null,"Chamaecrista mississippiensis",null,null,"Opulaster opulifolius"]
["Elymus virginicus var. intermedius",null,null,"Chamaecrista robusta",null,null,"Opulaster stellatus"]
["Elymus virginicus var. jejunus",null,null,"Chamaecrista rostrata",null,null,"Physocarpus opulifolius f. nanus"]
["Elymus wiegandii","Wiegand's wildrye",null,"Chamaecrista tracyi",null,null,"Spiraea opulifolia"]
["Elymus canadensis ssp. wiegandii",null,null,"Chamaesyce geyeri","Geyer's sandmat",null,"Pinus strobus","eastern white pine"]
["Elymus canadensis var. wiegandii",null,null,"Chamaesyce geyeri var. geyeri","Geyer's sandmat",null,"Strobus strobus"]
["Eragrostis capillaris","lace grass",null,"Euphorbia geyeri",null,null,"Platanus occidentalis","American sycamore"]
["Eragrostis frankii","sandbar lovegrass",null,"Chamaesyce glyptosperma","ribseed sandmat",null,"Platanus occidentalis var. glabrata"]
["Eragrostis frankii var. brevipes",null,null,"Euphorbia glyptosperma",null,null,"Polemonium reptans","Greek valerian"]
["Eragrostis hypnoides","teal lovegrass",null,"Chamaesyce maculata","spotted sandmat",null,"Polemonium reptans var. reptans","Greek valerian"]
["Poa hypnoides",null,null,"Chamaesyce mathewsii",null,null,"Polygonella articulata","coastal jointweed"]
["Eragrostis mexicana","Mexican lovegrass",null,"Chamaesyce supina",null,null,"Delopyrum articulatum"]
["Eragrostis mexicana ssp. mexicana","Mexican lovegrass",null,"Chamaesyce tracyi",null,null,"Polygonum articulatum"]
["Eragrostis neomexicana",null,null,"Euphorbia maculata",null,null,"Populus balsamifera","balsam poplar"]
["Poa mexicana",null,null,"Euphorbia supina",null,null,"Populus balsamifera ssp. balsamifera","balsam poplar"]
["Eragrostis pectinacea","tufted lovegrass",null,"Chamaesyce missurica","prairie sandmat",null,"Populus balsamifera var. candicans"]
["Eragrostis pectinacea var. pectinacea","tufted lovegrass",null,"Chamaesyce missurica var. calcicola",null,null,"Populus balsamifera var. fernaldiana"]
["Eragrostis caroliniana",null,null,"Chamaesyce missurica var. petaloidea",null,null,"Populus balsamifera var. lanceolata"]
["Eragrostis diffusa",null,null,"Chamaesyce nuttallii",null,null,"Populus balsamifera var. michauxii"]
["Eragrostis purshii",null,null,"Chamaesyce petaloidea",null,null,"Populus balsamifera var. subcordata"]
["Poa pectinacea",null,null,"Chamaesyce zygophylloides",null,null,"Populus candicans"]
["Eragrostis pilosa","Indian lovegrass",null,"Euphorbia missurica",null,null,"Populus michauxii"]
["Eragrostis multicaulis",null,null,"Euphorbia missurica var. intermedia",null,null,"Populus tacamahaca"]
["Eragrostis perplexa",null,null,"Euphorbia missurica var. petaloidea",null,null,"Populus tacamahaca var. candicans"]
["Eragrostis pilosa var. perplexa",null,null,"Euphorbia nuttallii",null,null,"Populus tacamahaca var. lanceolata"]
["Eragrostis pilosa var. pilosa",null,null,"Euphorbia petaloidea",null,null,"Populus tacamahaca var. michauxii"]
["Poa pilosa",null,null,"Chamaesyce nutans","eyebane",null,"Populus ×canadensis","Carolina poplar"]
["Eragrostis spectabilis","purple lovegrass",null,"Chamaesyce maculata",null,null,"Populus canadensis var. eugenei"]
["Eragrostis spectabilis var. sparsihirsuta",null,null,"Chamaesyce preslii",null,null,"Populus canadensis var. serotina"]
["Poa spectabilis",null,null,"Euphorbia maculata",null,null,"Populus ×eugenei"]
["Eragrostis trichodes","sand lovegrass",null,"Euphorbia nutans",null,null,"Populus euramericana"]
["Eragrostis pilifera",null,null,"Euphorbia preslii",null,null,"Populus ×robusta"]
["Eragrostis trichodes var. pilifera",null,null,"Chamaesyce prostrata","prostrate sandmat",null,"Populus deltoides","eastern cottonwood"]
["Poa trichodes",null,null,"Euphorbia chamaesyce",null,null,"Populus deltoides ssp. deltoides","eastern cottonwood"]
["Eriophorum angustifolium","tall cottongrass",null,"Euphorbia prostrata",null,null,"Populus angulata"]
["Eriophorum angustifolium ssp. angustifolium","tall cottongrass",null,"Chamaesyce serpens","matted sandmat",null,"Populus angulata var. missouriensis"]
["Eriophorum angustifolium ssp. scabriusculum",null,null,"Euphorbia serpens",null,null,"Populus balsamifera var. missouriensis"]
["Eriophorum angustifolium ssp. subarcticum",null,null,"Chamaesyce serpyllifolia","thymeleaf sandmat",null,"Populus balsamifera var. pilosa"]
["Eriophorum angustifolium var. coloratum",null,null,"Chamaesyce serpyllifolia ssp. serpyllifolia","thymeleaf sandmat",null,"Populus balsamifera var. virginiana"]
["Eriophorum angustifolium var. giganteum",null,null,"Chamaesyce albicaulis",null,null,"Populus canadensis var. virginiana"]
["Eriophorum angustifolium var. majus",null,null,"Chamaesyce neomexicana",null,null,"Populus deltoides var. angulata"]
["Eriophorum polystachion",null,null,"Euphorbia neomexicana",null,null,"Populus deltoides var. missouriensis"]
["Eriophorum gracile","slender cottongrass",null,"Euphorbia serpyllifolia",null,null,"Populus deltoides var. pilosa"]
["Eriophorum gracile var. gracile","slender cottongrass",null,"Chamaesyce stictospora","slimseed sandmat",null,"Populus deltoides var. virginiana"]
["Eriophorum virginicum","tawny cottongrass",null,"Euphorbia stictospora",null,null,"Populus nigra var. virginiana"]
["Eriophorum viridicarinatum","thinleaf cottonsedge",null,"Chamerion angustifolium","fireweed",null,"Populus palmeri"]
["Festuca paradoxa","clustered fescue",null,"Chamerion angustifolium ssp. circumvagum","fireweed",null,"Populus virginiana"]
["Festuca nutans",null,null,"Chamaenerion angustifolium ssp. circumvagum",null,null,"Populus virginiana var. pilosa"]
["Festuca shortii",null,null,"Chamerion angustifolium var. canescens",null,null,"Populus deltoides ssp. monilifera","plains cottonwood"]
["Festuca rubra","red fescue",null,"Chamerion danielsii",null,null,"Monilistus monilifera"]
["Festuca rubra ssp. rubra","red fescue",null,"Chamerion platyphyllum",null,null,"Populus besseyana"]
["Festuca prolifera",null,null,"Epilobium angustifolium ssp. circumvagum",null,null,"Populus deltoides var. occidentalis"]
["Festuca prolifera var. lasiolepis",null,null,"Epilobium angustifolium ssp. macrophyllum",null,null,"Populus monilifera"]
["Festuca rubra ssp. arctica",null,null,"Epilobium angustifolium var. abbreviatum",null,null,"Populus occidentalis"]
["Festuca rubra ssp. juncea",null,null,"Epilobium angustifolium var. canescens",null,null,"Populus sargentii"]
["Festuca rubra ssp. vulgaris",null,null,"Epilobium angustifolium var. macrophyllum",null,null,"Populus sargentii var. texana"]
["Festuca rubra var. juncea",null,null,"Epilobium angustifolium var. platyphyllum",null,null,"Populus texana"]
["Festuca rubra var. prolifera",null,null,"Cheilanthes feei","slender lipfern",null,"Populus grandidentata","bigtooth aspen"]
["Festuca saximontana","Rocky Mountain fescue",null,"Chelone glabra","white turtlehead",null,"Populus grandidentata var. angustata"]
["Festuca saximontana var. saximontana","Rocky Mountain fescue",null,"Chelone chlorantha",null,null,"Populus grandidentata var. meridionalis"]
["Festuca brachyphylla var. rydbergii",null,null,"Chelone glabra var. chlorantha",null,null,"Populus grandidentata var. subcordata"]
["Festuca ovina var. rydbergii",null,null,"Chelone glabra var. dilatata",null,null,"Populus ×jackii","balm-of-Gilead"]
["Festuca ovina var. saximontana",null,null,"Chelone glabra var. elatior",null,null,"Populus ×andrewsii"]
["Festuca saximontana var. robertsiana",null,null,"Chelone glabra var. elongata",null,null,"Populus ×bernardii"]
["Festuca subverticillata","nodding fescue",null,"Chelone glabra var. linifolia",null,null,"Populus ×dutillyi"]
["Festuca obtusa",null,null,"Chelone glabra var. ochroleuca",null,null,"Populus ×generosa"]
["Fimbristylis autumnalis","slender fimbry",null,"Chelone glabra var. typica",null,null,"Populus ×gileadensis"]
["Fimbristylis autumnalis var. mucronulata",null,null,"Chelone montana",null,null,"Populus manitobensis"]
["Fimbristylis geminata",null,null,"Chelone obliqua","red turtlehead",null,"Populus ×rouleauiana"]
["Scirpus autumnalis",null,null,"Chelone obliqua var. speciosa","red turtlehead",null,"Populus tremuloides","quaking aspen"]
["Fuirena simplex","western umbrella-sedge",null,"Chenopodium album","lambsquarters",null,"Populus aurea"]
["Fuirena simplex var. aristulata","western umbrella-sedge",null,"Chenopodium album var. missouriense","Missouri lambsquarters",null,"Populus cercidiphylla"]
["Fuirena squarrosa var. aristulata",null,null,"Chenopodium missouriense",null,null,"Populus ×polygonifolia"]
["Glyceria borealis","small floating mannagrass",null,"Chenopodium missouriense var. bushianum",null,null,"Populus tremula ssp. tremuloides"]
["Panicularia borealis",null,null,"Chenopodium paganum",null,null,"Populus tremuloides var. aurea"]
["Glyceria grandis","American mannagrass",null,"Chenopodium album var. striatum","lateflowering goosefoot",null,"Populus tremuloides var. cercidiphylla"]
["Glyceria grandis var. grandis","American mannagrass",null,"Chenopodium strictum",null,null,"Populus tremuloides var. intermedia"]
["Glyceria maxima ssp. grandis",null,null,"Chenopodium strictum ssp. glaucophyllum",null,null,"Populus tremuloides var. magnifica"]
["Glyceria maxima var. americana",null,null,"Chenopodium strictum var. glaucophyllum",null,null,"Populus tremuloides var. rhomboidea"]
["Panicularia grandis",null,null,"Chenopodium strictum var. striatum",null,null,"Populus tremuloides var. vancouveriana"]
["Glyceria septentrionalis","floating mannagrass",null,"Chenopodium berlandieri","pitseed goosefoot",null,"Populus vancouveriana"]
["Panicularia septentrionalis",null,null,"Chenopodium berlandieri var. berlandieri","pitseed goosefoot",null,"Potentilla arguta","tall cinquefoil"]
["Glyceria striata","fowl mannagrass",null,"Chenopodium album var. berlandieri",null,null,"Potentilla arguta ssp. arguta","tall cinquefoil"]
["Glyceria elata",null,null,"Chenopodium berlandieri var. bushianum","Bush's goosefoot",null,"Drymocallis agrimonioides"]
["Glyceria nervata",null,null,"Chenopodium bushianum",null,null,"Drymocallis arguta"]
["Glyceria striata ssp. stricta",null,null,"Chenopodium bushianum var. acutidentatum",null,null,"Geum agrimonioides"]
["Glyceria striata var. stricta",null,null,"Chenopodium paganum",null,null,"Prunus americana","American plum"]
["Panicularia nervata",null,null,"Chenopodium berlandieri var. zschackii","Zschack's goosefoot",null,"Prunus hortulana","hortulan plum"]
["Panicularia striata",null,null,"Chenopodium acerifolium",null,null,"Prunus hortulana var. mineri"]
["Hesperostipa comata","needle and thread",null,"Chenopodium berlandieri ssp. platyphyllum",null,null,"Prunus mexicana","Mexican plum"]
["Hesperostipa comata ssp. comata","needle and thread",null,"Chenopodium berlandieri ssp. zschackii",null,null,"Prunus americana var. lanata"]
["Hesperostipa comata var. comata",null,null,"Chenopodium berlandieri var. farinosum",null,null,"Prunus lanata"]
["Stipa comata",null,null,"Chenopodium capitatum","blite goosefoot",null,"Prunus mexicana var. flutonensis"]
["Stipa comata ssp. intonsa",null,null,"Blitum capitatum",null,null,"Prunus mexicana var. polyandra"]
["Hesperostipa spartea","porcupinegrass",null,"Chenopodium foggii","Fogg's goosefoot",null,"Prunus pensylvanica var. mollis"]
["Stipa spartea",null,null,"Chenopodium glaucum","oakleaf goosefoot",null,"Prunus nigra","Canadian plum"]
["Hierochloe hirta","northern sweetgrass",null,"Chenopodium glaucum ssp. euglaucum",null,null,"Prunus americana var. nigra"]
["Hierochloe hirta ssp. arctica","northern sweetgrass",null,"Chenopodium pratericola","desert goosefoot",null,"Prunus pensylvanica","pin cherry"]
["Anthoxanthum hirtum ssp. arcticum",null,null,"Chenopodium albescens",null,null,"Prunus pensylvanica var. pensylvanica","pin cherry"]
["Hierochloe odorata ssp. arctica",null,null,"Chenopodium desiccatum var. leptophylloides",null,null,"Cerasus pensylvanica"]
["Hordeum jubatum","foxtail barley",null,"Chenopodium pratericola ssp. eupratericola",null,null,"Prunus pumila","sandcherry"]
["Hordeum jubatum ssp. jubatum","foxtail barley",null,"Chenopodium pratericola var. leptophylloides",null,null,"Prunus pumila var. besseyi","western sandcherry"]
["Critesion jubatum",null,null,"Chenopodium rubrum","red goosefoot",null,"Cerasus pumila ssp. besseyi"]
["Hordeum pusillum","little barley",null,"Chenopodium salinum","Rocky Mountain goosefoot",null,"Prunus besseyi"]
["Critesion pusillum",null,null,"Chenopodium glaucum ssp. salinum",null,null,"Prunus pumila ssp. besseyi"]
["Hordeum pusillum var. pubens",null,null,"Chenopodium glaucum var. pulchrum",null,null,"Prunus pumila var. pumila","Great Lakes sandcherry"]
["Isoetes melanopoda","blackfoot quillwort",null,"Chenopodium glaucum var. salinum",null,null,"Cerasus pumila"]
["Juncus acuminatus","tapertip rush",null,"Chenopodium simplex","mapleleaf goosefoot",null,"Prunus serotina","black cherry"]
["Juncus alpinoarticulatus","northern green rush",null,"Chenopodium gigantospermum",null,null,"Prunus serotina var. serotina","black cherry"]
["Juncus alpinoarticulatus ssp. nodulosus","northern green rush",null,"Chenopodium hybridum",null,null,"Prunus virginiana","chokecherry"]
["Juncus alpinoarticulatus ssp. americanus",null,null,"Chenopodium hybridum ssp. gigantospermum",null,null,"Prunus virginiana var. demissa","western chokecherry"]
["Juncus alpinoarticulatus ssp. fuscescens",null,null,"Chenopodium hybridum var. gigantospermum",null,null,"Prunus demissa"]
["Juncus alpinus",null,null,"Chenopodium hybridum var. simplex",null,null,"Prunus virginiana ssp. demissa"]
["Juncus alpinus ssp. nodulosus",null,null,"Chenopodium standleyanum","Standley's goosefoot",null,"Ptelea trifoliata","common hoptree"]
["Juncus alpinus var. fuscescens",null,null,"Chenopodium gigantospermum var. standleyanum",null,null,"Ptelea trifoliata ssp. trifoliata","common hoptree"]
["Juncus alpinus var. rariflorus",null,null,"Chenopodium hybridum var. standleyanum",null,null,"Ptelea trifoliata ssp. trifoliata var. trifoliata","common hoptree"]
["Juncus alpinus var. uniceps",null,null,"Chrysosplenium alternifolium","alternate-leaf golden saxifrage",null,"Ptelea baldwinii"]
["Juncus richardsonianus",null,null,"Chrysosplenium alternifolium var. sibiricum","Iowa golden saxifrage",null,"Ptelea microcarpa"]
["Juncus anthelatus","greater poverty rush",null,"Chrysosplenium alternifolium ssp. iowense",null,null,"Ptelea serrata"]
["Juncus macer var. anthelatus",null,null,"Chrysosplenium alternifolium var. iowense",null,null,"Ptelea trifoliata var. deamiana"]
["Juncus tenuis var. anthelatus",null,null,"Chrysosplenium iowense",null,null,"Pyrola asarifolia","liverleaf wintergreen"]
["Juncus arcticus","arctic rush",null,"Chrysosplenium americanum","American golden saxifrage",null,"Pyrola asarifolia ssp. asarifolia","liverleaf wintergreen"]
["Juncus arcticus ssp. littoralis","mountain rush",null,"Cicuta bulbifera","bulblet-bearing water hemlock",null,"Pyrola asarifolia var. incarnata"]
["Juncus arcticus ssp. ater",null,null,"Cicuta maculata","spotted water hemlock",null,"Pyrola asarifolia var. ovata"]
["Juncus arcticus ssp. balticus",null,null,"Cicuta maculata var. angustifolia","spotted water hemlock",null,"Pyrola asarifolia var. purpurea"]
["Juncus arcticus var. balticus",null,null,"Cicuta occidentalis",null,null,"Pyrola californica"]
["Juncus arcticus var. littoralis",null,null,"Cicuta maculata var. bolanderi","spotted water hemlock",null,"Pyrola elata"]
["Juncus arcticus var. montanus",null,null,"Cicuta bolanderi",null,null,"Pyrola rotundifolia ssp. asarifolia"]
["Juncus ater",null,null,"Cicuta maculata var. maculata","spotted water hemlock",null,"Pyrola uliginosa"]
["Juncus balticus",null,null,"Cicuta curtissii",null,null,"Pyrola uliginosa var. gracilis"]
["Juncus balticus var. balticus",null,null,"Cicuta maculata var. curtissii",null,null,"Pyrola elliptica","waxflower shinleaf"]
["Juncus balticus var. littoralis",null,null,"Cicuta mexicana",null,null,"Pyrola compacta"]
["Juncus balticus var. melanogenus",null,null,"Circaea alpina","small enchanter's nightshade",null,"Quercus alba","white oak"]
["Juncus balticus var. montanus",null,null,"Circaea alpina ssp. alpina","small enchanter's nightshade",null,"Quercus alba var. subcaerulea"]
["Juncus balticus var. stenocarpus",null,null,"Circaea ×intermedia",null,null,"Quercus alba var. subflavea"]
["Juncus balticus var. vallicola",null,null,"Circaea canadensis",null,null,"Quercus ×bebbiana"]
["Juncus bufonius","toad rush",null,"Circaea lutetiana","broadleaf enchanter's nightshade",null,"Quercus bicolor","swamp white oak"]
["Juncus bufonius var. bufonius","toad rush",null,"Circaea lutetiana ssp. canadensis","broadleaf enchanter's nightshade",null,"Quercus ×bushii"]
["Juncus canadensis","Canadian rush",null,"Circaea canadensis var. virginiana",null,null,"Quercus ×deamii"]
["Juncus canadensis var. euroauster",null,null,"Circaea latifolia",null,null,"Quercus ×fallax"]
["Juncus canadensis var. sparsiflorus",null,null,"Circaea lutetiana var. canadensis",null,null,"Quercus ellipsoidalis","northern pin oak"]
["Juncus dudleyi","Dudley's rush",null,"Circaea quadrisulcata ssp. canadensis",null,null,"Quercus ×exacta"]
["Juncus tenuis var. dudleyi",null,null,"Circaea quadrisulcata var. canadensis",null,null,"Quercus ×fernowii"]
["Juncus tenuis var. uniflorus",null,null,"Cirsium altissimum","tall thistle",null,"Quercus ×hawkinsiae"]
["Juncus effusus","common rush",null,"Carduus altissimus",null,null,"Quercus ×porteri"]
["Juncus effusus var. solutus","lamp rush",null,"Cirsium altissimum var. biltmoreanum",null,null,"Quercus imbricaria","shingle oak"]
["Juncus effusus ssp. solutus",null,null,"Cirsium canescens","prairie thistle",null,"Quercus ×leana"]
["Juncus griscomii",null,null,"Carduus undulatus var. canescens",null,null,"Quercus macrocarpa","bur oak"]
["Juncus greenei","Greene's rush",null,"Cirsium nebraskense",null,null,"Quercus macrocarpa var. macrocarpa","bur oak"]
["Juncus interior","inland rush",null,"Cirsium nelsonii",null,null,"Quercus macrocarpa var. oliviformis"]
["Juncus interior var. interior","inland rush",null,"Cirsium plattense",null,null,"Quercus marilandica","blackjack oak"]
["Juncus tenuis var. uniflorus",null,null,"Cirsium discolor","field thistle",null,"Quercus marilandica var. marilandica","blackjack oak"]
["Juncus marginatus","grassleaf rush",null,"Carduus discolor",null,null,"Quercus nigra var. marilandica"]
["Juncus marginatus var. marginatus",null,null,"Cirsium flodmanii","Flodman's thistle",null,"Quercus muehlenbergii","chinkapin oak"]
["Juncus marginatus var. setosus",null,null,"Cirsium nebraskense var. discissum",null,null,"Quercus acuminata"]
["Juncus setosus",null,null,"Cirsium oblanceolatum",null,null,"Quercus alexanderi"]
["Juncus ×nodosiformis",null,null,"Cirsium hillii","Hill's thistle",null,"Quercus prinoides"]
["Juncus nodosus","knotted rush",null,"Cirsium pumilum ssp. hillii",null,null,"Quercus prinoides var. acuminata"]
["Juncus nodosus var. nodosus","knotted rush",null,"Cirsium pumilum var. hillii",null,null,"Quercus ×palaeolithicola"]
["Juncus tenuis","poverty rush",null,"Cirsium ×iowense",null,null,"Quercus palustris","pin oak"]
["Juncus macer",null,null,"Cirsium muticum","swamp thistle",null,"Quercus prinoides","dwarf chinkapin oak"]
["Juncus tenuis var. multicornis",null,null,"Carduus muticus",null,null,"Quercus prinoides var. rufescens"]
["Juncus tenuis var. williamsii",null,null,"Cirsium bigelovii",null,null,"Quercus rubra","northern red oak"]
["Juncus torreyi","Torrey's rush",null,"Cirsium muticum var. monticola",null,null,"Quercus rubra var. ambigua","northern red oak"]
["Juncus vaseyi","Vasey's rush",null,"Cirsium muticum var. subpinnatifidum",null,null,"Quercus borealis"]
["Juncus greenei var. vaseyi",null,null,"Cirsium undulatum","wavyleaf thistle",null,"Quercus rubra var. borealis"]
["Koeleria macrantha","prairie Junegrass",null,"Cirsium undulatum var. undulatum","wavyleaf thistle",null,"Quercus rubra var. rubra","northern red oak"]
["Koeleria albescens",null,null,"Carduus helleri",null,null,"Quercus borealis var. maxima"]
["Koeleria cristata",null,null,"Carduus undulatus",null,null,"Quercus maxima"]
["Koeleria cristata var. longifolia",null,null,"Cirsium helleri",null,null,"Quercus ×schuettei"]
["Koeleria cristata var. pinetorum",null,null,"Cirsium megacephalum",null,null,"Quercus ×hillii"]
["Koeleria gracilis",null,null,"Cirsium ochrocentrum var. helleri",null,null,"Quercus stellata","post oak"]
["Koeleria nitida",null,null,"Cirsium undulatum var. megacephalum",null,null,"Quercus stellata var. attenuata"]
["Koeleria pyramidata",null,null,"Cnicus undulatus var. megacephalus",null,null,"Quercus stellata var. parviloba"]
["Koeleria yukonensis",null,null,"Claytonia virginica","Virginia springbeauty",null,"Quercus velutina","black oak"]
["Leersia lenticularis","catchfly grass",null,"Claytonia virginica var. virginica","Virginia springbeauty",null,"Quercus velutina var. missouriensis"]
["Homalocenchrus lenticularis",null,null,"Claytonia media",null,null,"Rhamnus alnifolia","alderleaf buckthorn"]
["Leersia oryzoides","rice cutgrass",null,"Claytonia robusta",null,null,"Rhamnus lanceolata","lanceleaf buckthorn"]
["Homalocenchrus oryzoides",null,null,"Cleome hassleriana","pink queen",null,"Rhamnus lanceolata ssp. glabrata","lanceleaf buckthorn"]
["Phalaris oryzoides",null,null,"Cleome arborea",null,null,"Rhamnus lanceolata var. glabrata"]
["Leersia virginica","whitegrass",null,"Cleome hasslerana",null,null,"Rhamnus lanceolata ssp. lanceolata","lanceleaf buckthorn"]
["Homalocenchrus virginicus",null,null,"Cleome houtteana",null,null,"Rhus aromatica","fragrant sumac"]
["Leersia virginica var. ovata",null,null,"Cleome pungens",null,null,"Rhus aromatica var. aromatica","fragrant sumac"]
["Leptochloa fusca","Malabar sprangletop",null,"Cleome spinosa",null,null,"Rhus aromatica var. illinoensis"]
["Leptochloa fusca ssp. fascicularis","bearded sprangletop",null,"Cleome serrulata","Rocky Mountain beeplant",null,"Schmaltzia crenata"]
["Diplachne acuminata",null,null,"Cleome serrulata var. angusta",null,null,"Rhus aromatica var. serotina","fragrant sumac"]
["Diplachne fascicularis",null,null,"Clinopodium vulgare","wild basil",null,"Rhus aromatica ssp. serotina"]
["Diplachne maritima",null,null,"Calamintha vulgaris",null,null,"Rhus trilobata var. serotina"]
["Leptochloa acuminata",null,null,"Clinopodium vulgare var. neogaea",null,null,"Rhus copallinum","winged sumac"]
["Leptochloa fascicularis",null,null,"Satureja vulgaris",null,null,"Rhus copallina"]
["Leptochloa fascicularis var. acuminata",null,null,"Satureja vulgaris var. diminuta",null,null,"Rhus copallinum var. latifolia","winged sumac"]
["Leptochloa fascicularis var. maritima",null,null,"Satureja vulgaris var. neogaea",null,null,"Rhus copallina var. latifolia"]
["Leptochloa fusca var. fascicularis",null,null,"Clitoria mariana","Atlantic pigeonwings",null,"Rhus glabra","smooth sumac"]
["Lipocarpha aristulata","awned halfchaff sedge",null,"Martiusia mariana",null,null,"Rhus borealis"]
["Hemicarpha aristulata",null,null,"Collinsia verna","spring blue eyed Mary",null,"Rhus calophylla"]
["Hemicarpha micrantha var. aristulata",null,null,"Collomia linearis","tiny trumpet",null,"Rhus glabra var. cismontana"]
["Lipocarpha microcephala",null,null,"Comandra umbellata","bastard toadflax",null,"Rhus glabra var. laciniata"]
["Lipocarpha drummondii","Drummond's halfchaff sedge",null,"Comandra umbellata ssp. umbellata","bastard toadflax",null,"Rhus glabra var. occidentalis"]
["Hemicarpha drummondii",null,null,"Comandra richardsiana",null,null,"Rhus trilobata","skunkbush sumac"]
["Hemicarpha micrantha var. drummondii",null,null,"Comarum palustre","purple marshlocks",null,"Rhus trilobata var. trilobata","skunkbush sumac"]
["Scirpus micranthus var. drummondii",null,null,"Potentilla palustris",null,null,"Rhus aromatica ssp. flabelliformis"]
["Lipocarpha micrantha","smallflower halfchaff sedge",null,"Potentilla palustris var. parvifolia",null,null,"Rhus aromatica ssp. trilobata"]
["Hemicarpha micrantha",null,null,"Potentilla palustris var. villosa",null,null,"Rhus aromatica var. flabelliformis"]
["Hemicarpha micrantha var. minor",null,null,"Commelina erecta","whitemouth dayflower",null,"Rhus aromatica var. trilobata"]
["Scirpus micranthus",null,null,"Commelina erecta var. angustifolia","whitemouth dayflower",null,"Schmaltzia trilobata"]
["Scirpus micranthus var. minor",null,null,"Commelina angustifolia",null,null,"Rhus typhina","staghorn sumac"]
["Luzula acuminata","hairy woodrush",null,"Commelina crispa",null,null,"Datisca hirta"]
["Luzula acuminata ssp. acuminata","hairy woodrush",null,"Commelina erecta var. crispa",null,null,"Rhus hirta"]
["Juncoides saltuense",null,null,"Commelina nashii",null,null,"Rhus typhina var. laciniata"]
["Luzula acuminata var. acuminata",null,null,"Commelina erecta var. deamiana","whitemouth dayflower",null,"Ribes americanum","American black currant"]
["Luzula carolinae var. saltuensis",null,null,"Commelina erecta var. greenei",null,null,"Ribes aureum","golden currant"]
["Luzula pilosa",null,null,"Conioselinum chinense","Chinese hemlockparsley",null,"Ribes aureum var. villosum","golden currant"]
["Luzula pilosa var. saltuensis",null,null,"Conioselinum pumilum",null,null,"Ribes odoratum"]
["Luzula saltuensis",null,null,"Conopholis americana","American cancer-root",null,"Ribes cynosbati","eastern prickly gooseberry"]
["Luzula bulbosa","bulbous woodrush",null,"Orobanche americana",null,null,"Grossularia cynosbati"]
["Juncoides bulbosum",null,null,"Conyza canadensis","Canadian horseweed",null,"Ribes cynosbati var. atrox"]
["Luzula campestris var. bulbosa",null,null,"Conyza canadensis var. canadensis","Canadian horseweed",null,"Ribes cynosbati var. glabratum"]
["Luzula multiflora var. bulbosa",null,null,"Erigeron canadensis",null,null,"Ribes cynosbati var. inerme"]
["Luzula echinata","hedgehog woodrush",null,"Leptilon canadense",null,null,"Ribes huronense"]
["Juncoides echinatum",null,null,"Conyza ramosissima","dwarf horseweed",null,"Ribes hirtellum","hairystem gooseberry"]
["Luzula campestris var. echinata",null,null,"Erigeron divaricatus",null,null,"Grossularia hirtella"]
["Luzula echinata var. mesochorea",null,null,"Leptilon divaricatum",null,null,"Ribes hirtellum var. calcicola"]
["Luzula multiflora var. echinata",null,null,"Corallorhiza maculata","summer coralroot",null,"Ribes hirtellum var. saxosum"]
["Luzula multiflora","common woodrush",null,"Corallorrhiza maculata",null,null,"Ribes oxyacanthoides var. calcicola"]
["Luzula multiflora ssp. multiflora","common woodrush",null,"Corallorhiza maculata var. maculata","summer coralroot",null,"Ribes oxyacanthoides var. hirtellum"]
["Luzula multiflora ssp. multiflora var. multiflora","common woodrush",null,"Corallorhiza maculata var. flavida",null,null,"Ribes oxyacanthoides var. saxosum"]
["Juncus campestris var. multiflorus",null,null,"Corallorhiza multiflora",null,null,"Ribes hudsonianum","northern black currant"]
["Juncus multiflorus",null,null,"Corallorrhiza maculata var. flavida",null,null,"Ribes hudsonianum var. hudsonianum","Hudson Bay currant"]
["Luzula campestris var. multiflora",null,null,"Corallorrhiza maculata var. maculata",null,null,"Ribes missouriense","Missouri gooseberry"]
["Melica mutica","twoflower melicgrass",null,"Corallorrhiza multiflora",null,null,"Grossularia missouriensis"]
["Melica nitens","threeflower melicgrass",null,"Corallorhiza odontorhiza","autumn coralroot",null,"Ribes missouriense var. ozarkanum"]
["Milium effusum","American milletgrass",null,"Corallorrhiza odontorhiza",null,null,"Robinia hispida","bristly locust"]
["Milium effusum var. cisatlanticum","American milletgrass",null,"Corallorhiza odontorhiza var. odontorhiza","autumn coralroot",null,"Robinia hispida var. fertilis","bristly locust"]
["Muhlenbergia asperifolia","scratchgrass",null,"Corallorhiza micrantha",null,null,"Robinia fertilis"]
["Sporobolus asperifolius",null,null,"Corallorrhiza micrantha",null,null,"Robinia grandiflora"]
["Muhlenbergia bushii","nodding muhly",null,"Corallorrhiza odontorhiza var. odontorhiza",null,null,"Robinia pedunculata"]
["Muhlenbergia brachyphylla",null,null,"Corallorhiza odontorhiza var. pringlei","autumn coralroot",null,"Robinia hispida var. hispida","bristly locust"]
["Muhlenbergia ×curtisetosa",null,null,"Corallorrhiza odontorhiza var. pringlei",null,null,"Robinia grandiflora"]
["Muhlenbergia schreberi ssp. curtisetosa",null,null,"Coreopsis grandiflora","largeflower tickseed",null,"Robinia pallida"]
["Muhlenbergia schreberi var. curtisetosa",null,null,"Coreopsis grandiflora var. harveyana","largeflower tickseed",null,"Robinia speciosa"]
["Muhlenbergia cuspidata","plains muhly",null,"Coreopsis heterolepis",null,null,"Robinia pseudoacacia","black locust"]
["Muhlenbergia brevifolia",null,null,"Coreopsis lanceolata","lanceleaf tickseed",null,"Robinia pseudoacacia var. pyramidalis"]
["Muhlenbergia frondosa","wirestem muhly",null,"Coreopsis crassifolia",null,null,"Robinia pseudoacacia var. rectissima"]
["Agrostis frondosa",null,null,"Coreopsis heterogyna",null,null,"Robinia pseudoacacia f. inermis"]
["Muhlenbergia commutata",null,null,"Coreopsis lanceolata var. villosa",null,null,"Rosa acicularis","prickly rose"]
["Muhlenbergia glabriflora","inland muhly",null,"Coreopsis palmata","stiff tickseed",null,"Rosa acicularis ssp. sayi","prickly rose"]
["Muhlenbergia glomerata","spiked muhly",null,"Coreopsis tinctoria","golden tickseed",null,"Rosa acicularis var. bourgeauiana"]
["Muhlenbergia glomerata var. cinnoides",null,null,"Coreopsis tinctoria var. tinctoria","golden tickseed",null,"Rosa acicularis var. sayana"]
["Muhlenbergia racemosa var. cinnoides",null,null,"Coreopsis cardaminefolia",null,null,"Rosa bourgeauiana"]
["Muhlenbergia mexicana","Mexican muhly",null,"Coreopsis stenophylla",null,null,"Rosa collaris"]
["Agrostis mexicana",null,null,"Coreopsis tinctoria var. imminuta",null,null,"Rosa engelmannii"]
["Muhlenbergia ambigua",null,null,"Coreopsis tripteris","tall tickseed",null,"Rosa sayi"]
["Muhlenbergia foliosa",null,null,"Coreopsis tripteris var. deamii",null,null,"Rosa arkansana","prairie rose"]
["Muhlenbergia foliosa ssp. ambigua",null,null,"Coreopsis tripteris var. intercedens",null,null,"Rosa arkansana var. suffulta","prairie rose"]
["Muhlenbergia foliosa ssp. setiglumis",null,null,"Coreopsis tripteris var. smithii",null,null,"Rosa alcea"]
["Muhlenbergia mexicana var. filiformis",null,null,"Coreopsis tripteris var. subrhomboidea",null,null,"Rosa conjuncta"]
["Muhlenbergia racemosa","marsh muhly",null,"Corispermum americanum","American bugseed",null,"Rosa pratincola"]
["Agrostis racemosa",null,null,"Corispermum americanum var. americanum","American bugseed",null,"Rosa suffulta"]
["Muhlenbergia schreberi","nimblewill",null,"Corispermum marginale",null,null,"Rosa suffulta var. relicta"]
["Muhlenbergia palustris",null,null,"Corispermum orientale",null,null,"Rosa blanda","smooth rose"]
["Muhlenbergia schreberi var. palustris",null,null,"Corispermum simplicissimum",null,null,"Rosa blanda var. blanda","smooth rose"]
["Muhlenbergia sobolifera","rock muhly",null,"Cornus canadensis","bunchberry dogwood",null,"Rosa blanda var. carpohispida"]
["Agrostis sobolifera",null,null,"Chamaepericlymenum canadense",null,null,"Rosa blanda var. glandulosa"]
["Muhlenbergia sobolifera var. setigera",null,null,"Cornella canadensis",null,null,"Rosa rousseauiorum"]
["Muhlenbergia sylvatica","woodland muhly",null,"Cornus canadensis var. dutillyi",null,null,"Rosa subblanda"]
["Agrostis sylvatica",null,null,"Corydalis aurea","scrambled eggs",null,"Rosa williamsii"]
["Muhlenbergia sylvatica var. robusta",null,null,"Capnoides aureum",null,null,"Rosa carolina","Carolina rose"]
["Muhlenbergia umbrosa",null,null,"Corydalis washingtoniana",null,null,"Rosa carolina var. carolina","Carolina rose"]
["Muhlenbergia tenuiflora","slimflower muhly",null,"Corydalis curvisiliqua","curvepod fumewort",null,"Rosa carolina var. deamii"]
["Agrostis tenuiflora",null,null,"Corydalis curvisiliqua ssp. grandibracteata","curvepod fumewort",null,"Rosa carolina var. glandulosa"]
["Muhlenbergia tenuiflora ssp. variabilis",null,null,"Corydalis curvisiliqua var. grandibracteata",null,null,"Rosa carolina var. grandiflora"]
["Muhlenbergia tenuiflora var. variabilis",null,null,"Corydalis curvisiliqua ssp. occidentalis","curvepod fumewort",null,"Rosa carolina var. lyonii"]
["Nassella viridula","green needlegrass",null,"Capnoides montanum",null,null,"Rosa carolina var. obovata"]
["Stipa viridula",null,null,"Corydalis aurea ssp. occidentalis",null,null,"Rosa carolina var. sabulosa"]
["Neeragrostis reptans","creeping lovegrass",null,"Corydalis aurea var. occidentalis",null,null,"Rosa carolina var. villosa"]
["Eragrostis reptans",null,null,"Corydalis montana",null,null,"Rosa lyonii"]
["Eragrostis weigeltiana",null,null,"Corydalis flavula","yellow fumewort",null,"Rosa palmeri"]
["Poa reptans",null,null,"Capnoides flavulum",null,null,"Rosa serrulata"]
["Oryzopsis asperifolia","roughleaf ricegrass",null,"Fumaria flavula",null,null,"Rosa subserrulata"]
["Panicum anceps","beaked panicgrass",null,"Corydalis micrantha","smallflower fumewort",null,"Rosa texarkana"]
["Panicum anceps var. rhizomatum",null,null,"Corydalis micrantha ssp. micrantha","smallflower fumewort",null,"Rosa ×dulcissima"]
["Panicum rhizomatum",null,null,"Capnoides micranthum",null,null,"Rosa palustris","swamp rose"]
["Panicum capillare","witchgrass",null,"Corydalis aurea var. micrantha",null,null,"Rosa floridana"]
["Panicum barbipulvinatum",null,null,"Corydalis sempervirens","rock harlequin",null,"Rosa lancifolia"]
["Panicum capillare ssp. barbipulvinatum",null,null,"Capnoides sempervirens",null,null,"Rosa palustris var. dasistema"]
["Panicum capillare var. agreste",null,null,"Crepis runcinata","fiddleleaf hawksbeard",null,"Rosa ×rudiuscula"]
["Panicum capillare var. barbipulvinatum",null,null,"Crepis runcinata ssp. runcinata","fiddleleaf hawksbeard",null,"Rosa setigera","climbing rose"]
["Panicum capillare var. brevifolium",null,null,"Crepis alpicola",null,null,"Rosa setigera var. tomentosa","climbing rose"]
["Panicum capillare var. occidentale",null,null,"Crepis glaucella",null,null,"Rosa woodsii","Woods' rose"]
["Panicum dichotomiflorum","fall panicgrass",null,"Crepis neomexicana",null,null,"Rosa woodsii var. woodsii","Woods' rose"]
["Panicum dichotomiflorum var. dichotomiflorum","fall panicgrass",null,"Crepis perplexans",null,null,"Rosa adenosepala"]
["Panicum dichotomiflorum var. geniculatum",null,null,"Crepis runcinata ssp. typica",null,null,"Rosa fendleri"]
["Panicum flexile","wiry panicgrass",null,"Psilochenia runcinata",null,null,"Rosa hypoleuca"]
["Panicum capillare var. flexile",null,null,"Crotalaria sagittalis","arrowhead rattlebox",null,"Rosa macounii"]
["Panicum gattingeri","Gattinger's panicgrass",null,"Crotalaria pilosa",null,null,"Rosa neomexicana"]
["Panicum capillare var. campestre",null,null,"Crotalaria sagittalis var. blumeriana",null,null,"Rosa standleyi"]
["Panicum philadelphicum ssp. gattingeri",null,null,"Crotalaria sagittalis var. fruticosa",null,null,"Rosa terrens"]
["Panicum hillmanii","Hillman's panicgrass",null,"Crotalaria sagittalis var. oblonga",null,null,"Rosa woodsii var. adenosepala"]
["Panicum philadelphicum","Philadelphia panicgrass",null,"Croton capitatus","hogwort",null,"Rosa woodsii var. fendleri"]
["Panicum capillare var. sylvaticum",null,null,"Croton capitatus var. capitatus","hogwort",null,"Rosa woodsii var. hypoleuca"]
["Panicum lithophilum",null,null,"Croton glandulosus","vente conmigo",null,"Rosa woodsii var. macounii"]
["Panicum philadelphicum var. tuckermanii",null,null,"Croton glandulosus var. septentrionalis","vente conmigo",null,"Rubus aboriginum","garden dewberry"]
["Panicum tuckermanii",null,null,"Croton michauxii","Michaux's croton",null,"Rubus almus"]
["Panicum virgatum","switchgrass",null,"Crotonopsis linearis",null,null,"Rubus austrinus"]
["Panicum virgatum var. virgatum","switchgrass",null,"Croton monanthogynus","prairie tea",null,"Rubus bollianus"]
["Panicum virgatum var. cubense",null,null,"Croton texensis","Texas croton",null,"Rubus clair-brownii"]
["Panicum virgatum var. obtusum",null,null,"Croton texensis var. texensis","Texas croton",null,"Rubus decor"]
["Pascopyrum smithii","western wheatgrass",null,"Croton willdenowii","Willdenow's croton",null,"Rubus flagellaris var. almus"]
["Agropyron molle",null,null,"Crotonopsis elliptica",null,null,"Rubus foliaceus"]
["Agropyron smithii",null,null,"Cryptogramma stelleri","fragile rockbrake",null,"Rubus ignarus"]
["Agropyron smithii var. molle",null,null,"Cryptotaenia canadensis","Canadian honewort",null,"Rubus ricei"]
["Agropyron smithii var. palmeri",null,null,"Deringa canadensis",null,null,"Rubus allegheniensis","Allegheny blackberry"]
["Elymus smithii",null,null,"Cucurbita foetidissima","Missouri gourd",null,"Rubus allegheniensis var. allegheniensis","Allegheny blackberry"]
["Elytrigia smithii",null,null,"Pepo foetidissima",null,null,"Rubus allegheniensis var. plausus"]
["Elytrigia smithii var. mollis",null,null,"Cuphea viscosissima","blue waxweed",null,"Rubus allegheniensis var. populifolius"]
["Paspalum setaceum","thin paspalum",null,"Cuphea petiolata",null,null,"Rubus attractus"]
["Paspalum bushii",null,null,"Parsonsia petiolata",null,null,"Rubus auroralis"]
["Paspalum ciliatifolium",null,null,"Cuscuta cephalanthi","buttonbush dodder",null,"Rubus fissidens"]
["Paspalum ciliatifolium var. muehlenbergii",null,null,"Grammica cephalanthi",null,null,"Rubus longissimus"]
["Paspalum ciliatifolium var. stramineum",null,null,"Cuscuta compacta","compact dodder",null,"Rubus nigrobaccus"]
["Paspalum debile",null,null,"Cuscuta compacta var. compacta","compact dodder",null,"Rubus nuperus"]
["Paspalum longepedunculatum",null,null,"Cuscuta coryli","hazel dodder",null,"Rubus pennus"]
["Paspalum muehlenbergii",null,null,"Grammica coryli",null,null,"Rubus rappii"]
["Paspalum propinquum",null,null,"Cuscuta cuspidata","cusp dodder",null,"Rubus separ"]
["Paspalum psammophilum",null,null,"Grammica cuspidata",null,null,"Rubus alumnus","oldfield blackberry"]
["Paspalum pubescens",null,null,"Cuscuta glomerata","rope dodder",null,"Rubus apianus"]
["Paspalum rigidifolium",null,null,"Cuscuta gronovii","scaldweed",null,"Rubus barbarus"]
["Paspalum separatum",null,null,"Cuscuta gronovii var. gronovii","scaldweed",null,"Rubus campestris"]
["Paspalum setaceum var. calvescens",null,null,"Cuscuta gronovii var. latiflora",null,null,"Rubus corei"]
["Paspalum setaceum var. ciliatifolium",null,null,"Cuscuta gronovii var. saururi",null,null,"Rubus facetus"]
["Paspalum setaceum var. longepedunculatum",null,null,"Cuscuta umbrosa",null,null,"Rubus fernaldianus"]
["Paspalum setaceum var. muehlenbergii",null,null,"Grammica gronovii",null,null,"Rubus impos"]
["Paspalum setaceum var. psammophilum",null,null,"Grammica umbrosa",null,null,"Rubus independens"]
["Paspalum setaceum var. rigidifolium",null,null,"Cuscuta indecora","bigseed alfalfa dodder",null,"Rubus licitus"]
["Paspalum setaceum var. stramineum",null,null,"Cuscuta indecora var. neuropetala","bigseed dodder",null,"Rubus miriflorus"]
["Paspalum setaceum var. supinum",null,null,"Grammica indecora ssp. neuropetala",null,null,"Rubus paulus"]
["Paspalum setaceum var. villosissimum",null,null,"Cuscuta pentagona","fiveangled dodder",null,"Rubus tennesseeanus"]
["Paspalum stramineum",null,null,"Cuscuta pentagona var. pentagona","fiveangled dodder",null,"Rubus bellobatus","Kittatinny blackberry"]
["Paspalum supinum",null,null,"Cuscuta arvensis",null,null,"Rubus fecundus","DC dewberry"]
["Phalaris arundinacea","reed canarygrass",null,"Cuscuta campestris",null,null,"Rubus celer"]
["Phalaris arundinacea var. picta",null,null,"Cuscuta pentagona var. calycina",null,null,"Rubus vixalacer"]
["Phalaroides arundinacea",null,null,"Grammica campestris",null,null,"Rubus flagellaris","northern dewberry"]
["Phalaroides arundinacea var. picta",null,null,"Grammica pentagona",null,null,"Rubus alacer"]
["Phragmites australis","common reed",null,"Cuscuta polygonorum","smartweed dodder",null,"Rubus arundelanus"]
["Phragmites australis var. berlandieri",null,null,"Cyclachaena xanthifolia","giant sumpweed",null,"Rubus arundelanus var. jeckylanus"]
["Phragmites communis",null,null,"Iva xanthifolia",null,null,"Rubus ascendens"]
["Phragmites communis ssp. berlandieri",null,null,"Cycloloma atriplicifolium","winged pigweed",null,"Rubus ashei"]
["Phragmites communis var. berlandieri",null,null,"Kochia atriplicifolia",null,null,"Rubus bonus"]
["Phragmites phragmites",null,null,"Cynanchum laeve","honeyvine",null,"Rubus camurus"]
["Piptatherum pungens","mountain ricegrass",null,"Ampelamus albidus",null,null,"Rubus clausenii"]
["Oryzopsis pungens",null,null,"Ampelamus laevis",null,null,"Rubus connixus"]
["Piptatherum racemosum","blackseed ricegrass",null,"Gonolobus laevis",null,null,"Rubus cordialis"]
["Oryzopsis racemosa",null,null,"Cynoglossum virginianum","wild comfrey",null,"Rubus dissitiflorus"]
["Poa arida","plains bluegrass",null,"Cynoglossum virginianum var. boreale","wild comfrey",null,"Rubus enslenii"]
["Poa glaucifolia",null,null,"Cynoglossum boreale",null,null,"Rubus exemptus"]
["Poa pseudopratensis",null,null,"Cypripedium ×andrewsii",null,null,"Rubus frustratus"]
["Poa chapmaniana","Chapman's bluegrass",null,"Cypripedium ×andrewsii var. andrewsii",null,null,"Rubus geophilus"]
["Poa nemoralis","wood bluegrass",null,"Cypripedium ×andrewsii var. favillianum",null,null,"Rubus jaysmithii var. angustior"]
["Poa paludigena","bog bluegrass",null,"Cypripedium ×favillianum",null,null,"Rubus longipes"]
["Poa palustris","fowl bluegrass",null,"Cypripedium candidum","white lady's slipper",null,"Rubus maltei"]
["Poa crocata",null,null,"Cypripedium parviflorum","lesser yellow lady's slipper",null,"Rubus neonefrens"]
["Poa eyerdamii",null,null,"Cypripedium parviflorum var. makasin","greater yellow lady's slipper",null,"Rubus occultus"]
["Poa triflora",null,null,"Cypripedium pubescens var. makasin",null,null,"Rubus procumbens"]
["Poa pratensis","Kentucky bluegrass",null,"Cypripedium parviflorum var. pubescens","greater yellow lady's slipper",null,"Rubus sailori"]
["Poa pratensis ssp. pratensis","Kentucky bluegrass",null,"Cypripedium calceolus var. planipetalum",null,null,"Rubus serenus"]
["Poa agassizensis",null,null,"Cypripedium calceolus var. pubescens",null,null,"Rubus subuniflorus"]
["Poa angustifolia",null,null,"Cypripedium furcatum",null,null,"Rubus tetricus"]
["Poa pratensis ssp. agassizensis",null,null,"Cypripedium planipetalum",null,null,"Rubus tracyi"]
["Poa pratensis ssp. angustifolia",null,null,"Cypripedium pubescens",null,null,"Rubus urbanianus"]
["Poa pratensis var. angustifolia",null,null,"Cypripedium pubescens var. pubescens",null,null,"Rubus villosus"]
["Poa pratensis var. domestica",null,null,"Cypripedium reginae","showy lady's slipper",null,"Rubus frondosus","yankee blackberry"]
["Poa pratensis var. gelida",null,null,"Cystopteris bulbifera","bulblet bladderfern",null,"Rubus brainerdii"]
["Poa pratensis var. iantha",null,null,"Filix bulbifera",null,null,"Rubus cardianus"]
["Poa saltuensis","oldpasture bluegrass",null,"Cystopteris fragilis","brittle bladderfern",null,"Rubus difformis"]
["Poa debilis",null,null,"Cystopteris dickieana",null,null,"Rubus eriensis"]
["Poa languida",null,null,"Cystopteris fragilis ssp. dickieana",null,null,"Rubus heterogeneous"]
["Poa saltuensis var. microlepis",null,null,"Cystopteris fragilis var. angustata",null,null,"Rubus nescius"]
["Poa sylvestris","woodland bluegrass",null,"Cystopteris fragilis var. woodsioides",null,null,"Rubus pauxillus"]
["Poa wolfii","Wolf's bluegrass",null,"Filix fragilis",null,null,"Rubus pensilvanicus var. frondosus"]
["Puccinellia distans","weeping alkaligrass",null,"Cystopteris laurentiana","St. Lawrence bladderfern",null,"Rubus pratensis"]
["Rhynchospora capillacea","needle beaksedge",null,"Cystopteris fragilis var. huteri",null,null,"Rubus sativus"]
["Rhynchospora capillacea var. leviseta",null,null,"Cystopteris fragilis var. laurentiana",null,null,"Rubus uniquus"]
["Rhynchospora smallii",null,null,"Cystopteris protrusa","lowland bladderfern",null,"Rubus wahlii"]
["Schedonnardus paniculatus","tumblegrass",null,"Cystopteris fragilis var. protrusa",null,null,"Rubus hispidus","bristly dewberry"]
["Schizachne purpurascens","false melic",null,"Cystopteris tennesseensis","Tennessee bladderfern",null,"Rubus hispidus var. cupulifer"]
["Avena torreyi",null,null,"Cystopteris fragilis var. simulans",null,null,"Rubus hispidus var. obovalis"]
["Melica purpurascens",null,null,"Cystopteris fragilis var. tennesseensis",null,null,"Rubus sempervirens"]
["Schizachne purpurascens var. pubescens",null,null,"Cystopteris tenuis","upland brittle bladderfern",null,"Rubus idaeus","American red raspberry"]
["Schizachne stricta",null,null,"Cystopteris fragilis var. mackayi",null,null,"Rubus idaeus ssp. strigosus","grayleaf red raspberry"]
["Trisetum purpurascens",null,null,"Dactylorhiza viridis","longbract frog orchid",null,"Rubus carolinianus"]
["Schizachyrium scoparium","little bluestem",null,"Coeloglossum bracteatum",null,null,"Rubus idaeus ssp. melanolasius"]
["Schizachyrium scoparium var. scoparium","little bluestem",null,"Coeloglossum viride",null,null,"Rubus idaeus ssp. sachalinensis"]
["Andropogon praematurus",null,null,"Coeloglossum viride ssp. bracteatum",null,null,"Rubus idaeus var. aculeatissimus"]
["Andropogon scoparius",null,null,"Coeloglossum viride var. islandicum",null,null,"Rubus idaeus var. canadensis"]
["Andropogon scoparius var. ducis",null,null,"Coeloglossum viride var. virescens",null,null,"Rubus idaeus var. gracilipes"]
["Andropogon scoparius var. frequens",null,null,"Coeloglossum viride var. viride",null,null,"Rubus idaeus var. melanolasius"]
["Andropogon scoparius var. neomexicanus",null,null,"Habenaria bracteata",null,null,"Rubus idaeus var. melanotrachys"]
["Andropogon scoparius var. polycladus",null,null,"Habenaria viridis",null,null,"Rubus idaeus var. strigosus"]
["Andropogon scoparius var. septentrionalis",null,null,"Habenaria viridis var. bracteata",null,null,"Rubus melanolasius"]
["Schizachyrium praematurum",null,null,"Habenaria viridis var. interjecta",null,null,"Rubus neglectus"]
["Schizachyrium scoparium ssp. neomexicanum",null,null,"Dalea candida","white prairie clover",null,"Rubus strigosus"]
["Schizachyrium scoparium var. frequens",null,null,"Dalea candida var. candida","white prairie clover",null,"Rubus strigosus var. acalyphaceus"]
["Schizachyrium scoparium var. neomexicanum",null,null,"Petalostemon candidus",null,null,"Rubus strigosus var. arizonicus"]
["Schizachyrium scoparium var. polycladum",null,null,"Dalea candida var. oligophylla","white prairie clover",null,"Rubus strigosus var. canadensis"]
["Schoenoplectus acutus","hardstem bulrush",null,"Dalea occidentalis",null,null,"Rubus ithacanus","Ithaca blackberry"]
["Schoenoplectus acutus var. acutus","hardstem bulrush",null,"Dalea oligophylla",null,null,"Rubus densipubens"]
["Schoenoplectus lacustris ssp. acutus",null,null,"Petalostemon candidus var. oligophyllus",null,null,"Rubus fandus"]
["Scirpus acutus",null,null,"Petalostemon occidentalis",null,null,"Rubus folioflorus"]
["Scirpus lacustris",null,null,"Petalostemon oligophyllus",null,null,"Rubus pohlii"]
["Schoenoplectus fluviatilis","river bulrush",null,"Dalea enneandra","nineanther prairie clover",null,"Rubus satis"]
["Bolboschoenus fluviatilis",null,null,"Dalea enneandra var. pumilla",null,null,"Rubus laudatus","plains blackberry"]
["Bolboschoenus maritimus ssp. fluviatilis",null,null,"Dalea laxiflora",null,null,"Rubus ablatus"]
["Scirpus fluviatilis",null,null,"Dalea laxiflora var. pumilla",null,null,"Rubus condensiflorus"]
["Schoenoplectus hallii","Hall's bulrush",null,"Parosela enneandra",null,null,"Rubus congruus"]
["Scirpus hallii",null,null,"Dalea leporina","foxtail prairie clover",null,"Rubus cupressorum"]
["Scirpus supinus",null,null,"Dalea alopecuroides",null,null,"Rubus gattingeri"]
["Scirpus supinus var. hallii",null,null,"Dalea lagopus",null,null,"Rubus interioris"]
["Scirpus uninodis var. hallii",null,null,"Parosela alopecuroides",null,null,"Rubus par"]
["Schoenoplectus heterochaetus","slender bulrush",null,"Dalea purpurea","purple prairie clover",null,"Rubus praepes"]
["Scirpus heterochaetus",null,null,"Dalea purpurea var. purpurea","purple prairie clover",null,"Rubus pulchriflorus"]
["Scirpus lacustris",null,null,"Petalostemon mollis",null,null,"Rubus schneckii"]
["Scirpus lacustris var. tenuiculmis",null,null,"Petalostemon purpureus",null,null,"Rubus senilis"]
["Scirpus tenuiculmis",null,null,"Petalostemon purpureus var. mollis",null,null,"Rubus subtentus"]
["Schoenoplectus maritimus","cosmopolitan bulrush",null,"Dalea villosa","silky prairie clover",null,"Rubus subtractus"]
["Bolboschoenus maritimus",null,null,"Dalea villosa var. villosa","silky prairie clover",null,"Rubus leviculus","bottomland dewberry"]
["Bolboschoenus maritimus ssp. paludosus",null,null,"Petalostemon villosus",null,null,"Rubus census"]
["Bolboschoenus maritimus var. paludosus",null,null,"Dasistoma macrophylla","mullein foxglove",null,"Rubus meracus","dryslope dewberry"]
["Bolboschoenus paludosus",null,null,"Afzelia macrophylla",null,null,"Rubus tantulus"]
["Scirpus fernaldii",null,null,"Seymeria macrophylla",null,null,"Rubus missouricus","Missouri dewberry"]
["Scirpus maritimus",null,null,"Datura wrightii","sacred thorn-apple",null,"Rubus clandestinus"]
["Scirpus maritimus var. fernaldii",null,null,"Datura inoxia ssp. quinquecuspida",null,null,"Rubus jejunus"]
["Scirpus maritimus var. paludosus",null,null,"Datura metel var. quinquecuspida",null,null,"Rubus mediocris"]
["Scirpus pacificus",null,null,"Datura meteloides",null,null,"Rubus offectus"]
["Scirpus paludosus",null,null,"Delphinium carolinianum","Carolina larkspur",null,"Rubus schneideri"]
["Scirpus paludosus var. atlanticus",null,null,"Delphinium carolinianum ssp. carolinianum","Carolina larkspur",null,"Rubus subsolanus"]
["Schoenoplectus ×oblongus",null,null,"Delphinium azureum",null,null,"Rubus occidentalis","black raspberry"]
["Schoenoplectus ×oblongatus",null,null,"Delphinium azureum var. nortonianum",null,null,"Rubus occidentalis var. pallidus"]
["Scirpus ×oblongus",null,null,"Delphinium carolinianum var. crispum",null,null,"Rubus parviflorus","thimbleberry"]
["Schoenoplectus pungens","common threesquare",null,"Delphinium carolinianum var. nortonianum",null,null,"Rubus parviflorus var. parviflorus","thimbleberry"]
["Schoenoplectus pungens var. longispicatus","common threesquare",null,"Delphinium carolinianum ssp. virescens","Carolina larkspur",null,"Rubacer parviflorus"]
["Scirpus americanus var. longispicatus",null,null,"Delphinium albescens",null,null,"Rubus parviflorus var. bifarius"]
["Scirpus pungens var. longispicatus",null,null,"Delphinium carolinianum ssp. penardii",null,null,"Rubus parviflorus var. grandiflorus"]
["Schoenoplectus pungens var. pungens","common threesquare",null,"Delphinium penardii",null,null,"Rubus parviflorus var. heteradenius"]
["Bolboschoenus maritimus var. polyphyllus",null,null,"Delphinium virescens",null,null,"Rubus parviflorus var. hypomalacus"]
["Schoenoplectus pungens var. polyphyllus",null,null,"Delphinium virescens ssp. penardii",null,null,"Rubus parviflorus var. parvifolius"]
["Scirpus americanus",null,null,"Delphinium virescens var. macroceratilis",null,null,"Rubus pergratus","upland blackberry"]
["Scirpus americanus var. polyphyllus",null,null,"Delphinium virescens var. penardii",null,null,"Rubus amnicola"]
["Scirpus pungens",null,null,"Delphinium tricorne","dwarf larkspur",null,"Rubus avipes"]
["Scirpus pungens var. polyphyllus",null,null,"Deparia acrostichoides","silver false spleenwort",null,"Rubus bractealis"]
["Schoenoplectus smithii","Smith's bulrush",null,"Athyrium thelypterioides",null,null,"Rubus orarius"]
["Scirpus smithii",null,null,"Diplazium acrostichoides",null,null,"Rubus pergratus var. terrae-novae"]
["Scirpus smithii var. levisetus",null,null,"Descurainia pinnata","western tansymustard",null,"Rubus plicatifolius","plaitleaf dewberry"]
["Scirpus smithii var. setosus",null,null,"Descurainia pinnata ssp. brachycarpa","western tansymustard",null,"Rubus armatus"]
["Schoenoplectus tabernaemontani","softstem bulrush",null,"Descurainia brachycarpa",null,null,"Rubus botruosus"]
["Schoenoplectus lacustris ssp. creber",null,null,"Descurainia pinnata var. brachycarpa",null,null,"Rubus bretonis"]
["Schoenoplectus lacustris ssp. tabernaemontani",null,null,"Sisymbrium brachycarpum",null,null,"Rubus brevipedalis"]
["Schoenoplectus lacustris ssp. validus",null,null,"Sophia brachycarpa",null,null,"Rubus coloniatus"]
["Schoenoplectus validus",null,null,"Desmanthus illinoensis","Illinois bundleflower",null,"Rubus exutus"]
["Schoenoplectus validus ssp. creber",null,null,"Acuan illinoense",null,null,"Rubus obsessus var. unilaris"]
["Schoenoplectus validus ssp. luxurians",null,null,"Mimosa illinoensis",null,null,"Rubus pauper"]
["Scirpus lacustris ssp. creber",null,null,"Desmodium canadense","showy ticktrefoil",null,"Rubus polulus"]
["Scirpus lacustris ssp. glaucus",null,null,"Meibomia canadensis",null,null,"Rubus prior"]
["Scirpus lacustris ssp. tabernaemontani",null,null,"Desmodium canescens","hoary ticktrefoil",null,"Rubus problematicus"]
["Scirpus lacustris ssp. validus",null,null,"Desmodium canescens var. hirsutum",null,null,"Rubus pronus"]
["Scirpus tabernaemontani",null,null,"Desmodium canescens var. villosissimum",null,null,"Rubus recurvicaulis var. armatus"]
["Scirpus validus",null,null,"Meibomia canescens",null,null,"Rubus rhodinsulanus"]
["Scirpus validus var. creber",null,null,"Desmodium cuspidatum","largebract ticktrefoil",null,"Rubus rosendahlii"]
["Schoenoplectus torreyi","Torrey's bulrush",null,"Desmodium cuspidatum var. cuspidatum","largebract ticktrefoil",null,"Rubus semierectus"]
["Scirpus torreyi",null,null,"Desmodium bracteosum",null,null,"Rubus usus"]
["Scirpus atrocinctus","blackgirdle bulrush",null,"Desmodium grandiflorum",null,null,"Rubus varus"]
["Scirpus cyperinus var. brachypodus",null,null,"Hedysarum grandiflorum",null,null,"Rubus victorinii"]
["Scirpus atrovirens","green bulrush",null,"Meibomia bracteosa",null,null,"Rubus pubescens","dwarf red blackberry"]
["Scirpus cyperinus","woolgrass",null,"Meibomia grandiflora",null,null,"Rubus pubescens var. pubescens","dwarf red blackberry"]
["Scirpus cyperinus var. condensatus",null,null,"Desmodium cuspidatum var. longifolium","largebract ticktrefoil",null,"Cylactis pubescens"]
["Scirpus cyperinus var. eriophorum",null,null,"Desmodium bracteosum var. longifolium",null,null,"Rubus triflorus"]
["Scirpus cyperinus var. laxus",null,null,"Desmodium longifolium",null,null,"Rubus recurvans","recurved blackberry"]
["Scirpus cyperinus var. pelius",null,null,"Meibomia longifolia",null,null,"Rubus cauliflorus"]
["Scirpus cyperinus var. rubricosus",null,null,"Desmodium glabellum","Dillenius' ticktrefoil",null,"Rubus limulus"]
["Scirpus eriophorum",null,null,"Desmodium dillenii",null,null,"Rubus perfoliosus"]
["Scirpus rubricosus",null,null,"Meibomia glabella",null,null,"Rubus pityophilus"]
["Scirpus microcarpus","panicled bulrush",null,"Desmodium glutinosum","pointedleaf ticktrefoil",null,"Rubus recurvans var. subrecurvans"]
["Scirpus microcarpus var. longispicatus",null,null,"Desmodium acuminatum",null,null,"Rubus wiegandii"]
["Scirpus microcarpus var. rubrotinctus",null,null,"Meibomia acuminata",null,null,"Rubus roribaccus","Lucretia dewberry"]
["Scirpus rubrotinctus",null,null,"Meibomia grandiflora",null,null,"Rubus flagellaris var. occidualis"]
["Scirpus pallidus","cloaked bulrush",null,"Desmodium illinoense","Illinois ticktrefoil",null,"Rubus imperiorum"]
["Scirpus atrovirens var. pallidus",null,null,"Meibomia illinoensis",null,null,"Rubus injunctus"]
["Scirpus pedicellatus","stalked bulrush",null,"Desmodium nudiflorum","nakedflower ticktrefoil",null,"Rubus occidualis"]
["Scirpus cyperinus var. pedicellatus",null,null,"Meibomia nudiflora",null,null,"Rubus pauperrimus"]
["Scirpus pedicellatus var. pullus",null,null,"Desmodium paniculatum","panicledleaf ticktrefoil",null,"Rubus pluralis"]
["Scirpus pendulus","rufous bulrush",null,"Desmodium paniculatum var. paniculatum","panicledleaf ticktrefoil",null,"Rubus temerarius"]
["Scirpus lineatus",null,null,"Desmodium dichromum",null,null,"Rubus rosa","rose blackberry"]
["Scleria triglomerata","whip nutrush",null,"Desmodium paniculatum var. angustifolium",null,null,"Rubus semisetosus","swamp blackberry"]
["Scleria flaccida",null,null,"Desmodium paniculatum var. pubens",null,null,"Rubus benneri"]
["Scleria nitida",null,null,"Meibomia chapmanii",null,null,"Rubus steelei","Steele's dewberry"]
["Scleria verticillata","low nutrush",null,"Meibomia paniculata",null,null,"Rubus currulis"]
["Scleria tenella",null,null,"Meibomia pubens",null,null,"Rubus stipulatus","Big Horseshoe Lake dewberry"]
["Sclerochloa dura","common hardgrass",null,"Desmodium perplexum","perplexed ticktrefoil",null,"Rubus dissensus"]
["Cynosurus durus",null,null,"Desmodium dillenii",null,null,"Rubus wheeleri","Wheeler's blackberry"]
["Scolochloa festucacea","common rivergrass",null,"Desmodium paniculatum var. dillenii",null,null,"Rubus compos"]
["Arundo festucacea",null,null,"Meibomia dillenii",null,null,"Rubus fassettii"]
["Fluminia festucacea",null,null,"Desmodium sessilifolium","sessileleaf ticktrefoil",null,"Rubus fulleri"]
["Setaria parviflora","marsh bristlegrass",null,"Meibomia sessilifolia",null,null,"Rubus potis"]
["Chaetochloa geniculata",null,null,"Dicentra canadensis","squirrel corn",null,"Rubus rotundior"]
["Chaetochloa imberbis",null,null,"Bicuculla canadensis",null,null,"Rubus rowleei"]
["Panicum geniculatum",null,null,"Dicentra cucullaria","dutchman's breeches",null,"Rubus semisetosus var. wheeleri"]
["Setaria geniculata",null,null,"Bicuculla cucullaria",null,null,"Rubus univocus"]
["Setaria gracilis",null,null,"Dicentra cucullaria var. occidentalis",null,null,"Rubus wisconsinensis","Wisconsin blackberry"]
["Sorghastrum nutans","Indiangrass",null,"Dicentra occidentalis",null,null,"Rubus conabilis"]
["Andropogon nutans",null,null,"Didiplis diandra","waterpurslane",null,"Rubus latifoliolus"]
["Sorghastrum avenaceum",null,null,"Peplis diandra",null,null,"Rubus minnesotanus"]
["Spartina pectinata","prairie cordgrass",null,"Diodia teres","poorjoe",null,"Rubus setospinosus"]
["Spartina michauxiana",null,null,"Diodia teres var. teres","poorjoe",null,"Rudbeckia laciniata","cutleaf coneflower"]
["Spartina pectinata var. suttiei",null,null,"Diodella teres",null,null,"Rudbeckia laciniata var. laciniata","cutleaf coneflower"]
["Sphenopholis intermedia","slender wedgescale",null,"Diodia teres var. setifera",null,null,"Rudbeckia laciniata var. hortensis"]
["Sphenopholis intermedia var. pilosa",null,null,"Dioscorea quaternata","fourleaf yam",null,"Salicornia rubra","red swampfire"]
["Sphenopholis obtusata var. major",null,null,"Dioscorea glauca",null,null,"Salicornia europaea ssp. rubra"]
["Sphenopholis obtusata","prairie wedgescale",null,"Dioscorea quaternata var. glauca",null,null,"Salicornia europaea var. prona"]
["Aira obtusata",null,null,"Dioscorea villosa var. glabrifolia",null,null,"Salix amygdaloides","peachleaf willow"]
["Sphenopholis obtusata var. lobata",null,null,"Dioscorea villosa","wild yam",null,"Salix amygdaloides var. wrightii"]
["Sphenopholis obtusata var. pubescens",null,null,"Dioscorea hirticaulis",null,null,"Salix nigra var. amygdaloides"]
["Sporobolus clandestinus","rough dropseed",null,"Dioscorea villosa var. hirticaulis",null,null,"Salix nigra var. wrightii"]
["Sporobolus asper var. canovirens",null,null,"Diplazium pycnocarpon","glade fern",null,"Salix wrightii"]
["Sporobolus asper var. clandestinus",null,null,"Asplenium pycnocarpon",null,null,"Salix bebbiana","Bebb willow"]
["Sporobolus canovirens",null,null,"Athyrium pycnocarpon",null,null,"Salix bebbiana var. capreifolia"]
["Sporobolus clandestinus var. canovirens",null,null,"Dodecatheon amethystinum","jeweled shootingstar",null,"Salix bebbiana var. depilis"]
["Sporobolus compositus var. clandestinus",null,null,"Dodecatheon meadia","pride of Ohio",null,"Salix bebbiana var. luxurians"]
["Sporobolus longifolius",null,null,"Dodecatheon meadia ssp. brachycarpum","pride of Ohio",null,"Salix bebbiana var. perrostrata"]
["Sporobolus compositus","composite dropseed",null,"Dodecatheon brachycarpum",null,null,"Salix bebbiana var. projecta"]
["Sporobolus compositus var. compositus","composite dropseed",null,"Dodecatheon meadia var. brachycarpum",null,null,"Salix depressa ssp. rostrata"]
["Sporobolus asper",null,null,"Dodecatheon meadia ssp. meadia","pride of Ohio",null,"Salix livida var. occidentalis"]
["Sporobolus asper var. hookeri",null,null,"Dodecatheon hugeri",null,null,"Salix livida var. rostrata"]
["Sporobolus compositus var. drummondii","Drummond's dropseed",null,"Dodecatheon meadia var. obesum",null,null,"Salix perrostrata"]
["Sporobolus asper var. drummondii",null,null,"Dodecatheon meadia var. standfieldii",null,null,"Salix rostrata"]
["Sporobolus asper var. pilosus",null,null,"Doellingeria umbellata","parasol whitetop",null,"Salix rostrata var. capreifolia"]
["Sporobolus attenuatus",null,null,"Doellingeria umbellata var. pubens","parasol whitetop",null,"Salix rostrata var. luxurians"]
["Sporobolus drummondii",null,null,"Aster pubentior",null,null,"Salix rostrata var. perrostrata"]
["Sporobolus pilosus",null,null,"Aster umbellatus var. pubens",null,null,"Salix rostrata var. projecta"]
["Sporobolus cryptandrus","sand dropseed",null,"Doellingeria umbellata ssp. pubens",null,null,"Salix starkeana ssp. bebbiana"]
["Agrostis cryptandra",null,null,"Doellingeria umbellata var. umbellata","parasol whitetop",null,"Salix vagans var. occidentalis"]
["Sporobolus cryptandrus ssp. fuscicola",null,null,"Aster umbellatus",null,null,"Salix vagans var. rostrata"]
["Sporobolus cryptandrus var. fuscicola",null,null,"Draba nemorosa","woodland draba",null,"Salix candida","sageleaf willow"]
["Sporobolus cryptandrus var. occidentalis",null,null,"Draba lutea",null,null,"Salix candida var. denudata"]
["Sporobolus heterolepis","prairie dropseed",null,"Draba nemorosa var. leiocarpa",null,null,"Salix candida var. tomentosa"]
["Sporobolus neglectus","puffsheath dropseed",null,"Draba reptans","Carolina draba",null,"Salix candidula"]
["Sporobolus vaginiflorus var. neglectus",null,null,"Draba caroliniana",null,null,"Salix discolor","pussy willow"]
["Sporobolus vaginiflorus","poverty dropseed",null,"Draba micrantha",null,null,"Salix ancorifera"]
["Sporobolus vaginiflorus var. vaginiflorus","poverty dropseed",null,"Draba reptans ssp. stellifera",null,null,"Salix conformis"]
["Sporobolus vaginiflorus var. inaequalis",null,null,"Draba reptans var. micrantha",null,null,"Salix crassa"]
["Tridens flavus","purpletop tridens",null,"Draba reptans var. stellifera",null,null,"Salix discolor var. overi"]
["Tridens flavus var. flavus","purpletop tridens",null,"Draba reptans var. typica",null,null,"Salix discolor var. prinoides"]
["Triodia flava",null,null,"Dracocephalum parviflorum","American dragonhead",null,"Salix discolor var. rigidior"]
["Triglochin maritima","seaside arrowgrass",null,"Moldavica parviflora",null,null,"Salix fuscata"]
["Triglochin elata",null,null,"Drosera rotundifolia","roundleaf sundew",null,"Salix prinoides"]
["Triglochin elatum",null,null,"Drosera rotundifolia var. rotundifolia","roundleaf sundew",null,"Salix sensitiva"]
["Triglochin maritima var. elata",null,null,"Dryopteris ×boottii",null,null,"Salix squamata"]
["Triglochin maritimum",null,null,"Dryopteris carthusiana","spinulose woodfern",null,"Salix eriocephala","Missouri River willow"]
["Triglochin maritimum var. elatum",null,null,"Dryopteris austriaca var. spinulosa",null,null,"Salix acutidens"]
["Triglochin palustris","marsh arrowgrass",null,"Dryopteris spinulosa",null,null,"Salix angustata"]
["Triglochin palustre",null,null,"Dryopteris cristata","crested woodfern",null,"Salix cordata"]
["Triplasis purpurea","purple sandgrass",null,"Dryopteris goldiana","Goldie's woodfern",null,"Salix cordata ssp. rigida"]
["Triplasis intermedia",null,null,"Dryopteris intermedia","intermediate woodfern",null,"Salix cordata var. abrasa"]
["Tripsacum dactyloides","eastern gamagrass",null,"Dryopteris austriaca var. intermedia",null,null,"Salix cordata var. angustata"]
["Coix dactyloides",null,null,"Dryopteris spinulosa var. concordiana",null,null,"Salix cordata var. missouriensis"]
["Tripsacum dactyloides var. occidentale",null,null,"Dryopteris spinulosa var. intermedia",null,null,"Salix cordata var. rigida"]
["Vulpia elliotea","squirreltail fescue",null,"Dryopteris marginalis","marginal woodfern",null,"Salix cordata var. rigida"]
["Festuca sciurea",null,null,"Dryopteris ×triploidea",null,null,"Salix cordata var. rigida"]
["Vulpia sciurea",null,null,"Dryopteris austriaca var. fructuosa",null,null,"Salix cordata var. vestita"]
["Vulpia octoflora","sixweeks fescue",null,"Dryopteris intermedia var. fructuosa",null,null,"Salix discolor var. eriocephala"]
["Vulpia octoflora var. glauca","sixweeks fescue",null,"Dryopteris spinulosa var. fructuosa",null,null,"Salix missouriensis"]
["Festuca gracilenta",null,null,"Dryopteris ×uliginosa",null,null,"Salix myricoides var. angustata"]
["Festuca octoflora var. glauca",null,null,"Dyssodia papposa","fetid marigold",null,"Salix myricoides var. cordata"]
["Festuca octoflora var. tenella",null,null,"Boebera papposa",null,null,"Salix myricoides var. rigida"]
["Festuca tenella",null,null,"Tagetes papposa",null,null,"Salix rigida"]
["Festuca tenella var. glauca",null,null,"Echinacea angustifolia","blacksamson echinacea",null,"Salix rigida var. angustata"]
["Vulpia octoflora var. tenella",null,null,"Echinacea angustifolia var. angustifolia","blacksamson echinacea",null,"Salix rigida var. vestita"]
["Vulpia octoflora var. hirtella","sixweeks fescue",null,"Brauneria angustifolia",null,null,"Salix torreyana"]
["Festuca octoflora ssp. hirtella",null,null,"Echinacea pallida var. angustifolia",null,null,"Salix humilis","prairie willow"]
["Festuca octoflora var. hirtella",null,null,"Echinacea pallida","pale purple coneflower",null,"Salix humilis var. humilis","prairie willow"]
["Vulpia octoflora var. octoflora","sixweeks fescue",null,"Brauneria pallida",null,null,"Salix conifera"]
["Festuca octoflora",null,null,"Rudbeckia pallida",null,null,"Salix humilis var. angustifolia"]
["Festuca octoflora var. aristulata",null,null,"Echinacea purpurea","eastern purple coneflower",null,"Salix humilis var. grandifolia"]
["Zizania aquatica","annual wildrice",null,"Brauneria purpurea",null,null,"Salix humilis var. hyporhysa"]
["Zizania aquatica var. aquatica","annual wildrice",null,"Echinacea purpurea var. arkansana",null,null,"Salix humilis var. keweenawensis"]
["Zizania aquatica var. subbrevis",null,null,"Rudbeckia purpurea",null,null,"Salix humilis var. rigidiuscula"]
["Zizania palustris","northern wildrice",null,"Echinocystis lobata","wild cucumber",null,"Salix muehlenbergiana var. angustifolia"]
["Zizania palustris var. interior","northern wildrice",null,"Micrampelis lobata",null,null,"Salix muehlenbergiana var. grandifolia"]
["Zizania aquatica var. interior",null,null,"Sicyos lobata",null,null,"Salix tristis var. glabrata"]
["Zizania palustris var. palustris","northern wildrice",null,"Echinodorus berteroi","upright burhead",null,"Salix humilis var. tristis","prairie willow"]
["Zizania aquatica ssp. angustifolia",null,null,"Echinodorus berteroi var. lanceolatus",null,null,"Salix alpina"]
["Zizania aquatica var. angustifolia",null,null,"Echinodorus rostratus",null,null,"Salix humilis var. microphylla"]
[null,null,null,"Echinodorus rostratus var. lanceolatus",null,null,"Salix longirostris"]
[null,null,null,"Echinodorus cordifolius","creeping burhead",null,"Salix muehlenbergiana"]
[null,null,null,"Echinodorus radicans",null,null,"Salix occidentalis"]
[null,null,null,"Eclipta prostrata","false daisy",null,"Salix recurvata"]
[null,null,null,"Eclipta alba",null,null,"Salix tristis"]
[null,null,null,"Eclipta erecta",null,null,"Salix tristis var. longifolia"]
[null,null,null,"Verbesina alba",null,null,"Salix tristis var. microphylla"]
[null,null,null,"Verbesina prostrata",null,null,"Salix tristis var. momadelphia"]
[null,null,null,"Elatine rubella","southwestern waterwort",null,"Salix interior","sandbar willow"]
[null,null,null,"Elatine triandra",null,null,"Salix exigua ssp. interior"]
[null,null,null,"Ellisia nyctelea","Aunt Lucy",null,"Salix exigua var. exterior"]
[null,null,null,"Ellisia nyctelea var. coloradensis",null,null,"Salix exigua var. pedicellata"]
[null,null,null,"Nyctelea nyctelea",null,null,"Salix exigua var. sericans"]
[null,null,null,"Elodea canadensis","Canadian waterweed",null,"Salix fluviatilis var. sericans"]
[null,null,null,"Anacharis canadensis",null,null,"Salix interior var. exterior"]
[null,null,null,"Anacharis canadensis var. planchonii",null,null,"Salix interior var. pedicellata"]
[null,null,null,"Elodea brandegeeae",null,null,"Salix interior var. wheeleri"]
[null,null,null,"Elodea ioensis",null,null,"Salix longifolia"]
[null,null,null,"Elodea linearis",null,null,"Salix longifolia var. interior"]
[null,null,null,"Elodea planchonii",null,null,"Salix longifolia var. pedicellata"]
[null,null,null,"Philotria canadensis",null,null,"Salix longifolia var. sericans"]
[null,null,null,"Philotria linearis",null,null,"Salix longifolia var. wheeleri"]
[null,null,null,"Elodea nuttallii","western waterweed",null,"Salix rubra"]
[null,null,null,"Anacharis nuttallii",null,null,"Salix wheeleri"]
[null,null,null,"Anacharis occidentalis",null,null,"Salix lucida","shining willow"]
[null,null,null,"Elodea columbiana",null,null,"Salix lucida ssp. lucida","shining willow"]
[null,null,null,"Elodea minor",null,null,"Salix arguta var. hirtisquama"]
[null,null,null,"Elodea occidentalis",null,null,"Salix lucida var. angustifolia"]
[null,null,null,"Philotria angustifolia",null,null,"Salix lucida var. intonsa"]
[null,null,null,"Philotria minor",null,null,"Salix lucida var. latifolia"]
[null,null,null,"Philotria nuttallii",null,null,"Salix lucida var. ovatifolia"]
[null,null,null,"Philotria occidentalis",null,null,"Salix pentandra var. lucida"]
[null,null,null,"Udora verticillata var. minor",null,null,"Salix lutea","yellow willow"]
[null,null,null,"Enemion biternatum","eastern false rue anemone",null,"Salix cordata var. denveriana"]
[null,null,null,"Isopyrum biternatum",null,null,"Salix cordata var. desolata"]
[null,null,null,"Epilobium ciliatum","fringed willowherb",null,"Salix cordata var. lutea"]
[null,null,null,"Epilobium ciliatum ssp. ciliatum","fringed willowherb",null,"Salix cordata var. platyphylla"]
[null,null,null,"Epilobium adenocaulon",null,null,"Salix cordata var. watsonii"]
[null,null,null,"Epilobium adenocaulon var. ecomosum",null,null,"Salix eriocephala var. famelica"]
[null,null,null,"Epilobium adenocaulon var. holosericeum",null,null,"Salix eriocephala var. watsonii"]
[null,null,null,"Epilobium adenocaulon var. parishii",null,null,"Salix flava"]
[null,null,null,"Epilobium adenocaulon var. perplexans",null,null,"Salix lutea var. desolata"]
[null,null,null,"Epilobium americanum",null,null,"Salix lutea var. famelica"]
[null,null,null,"Epilobium brevistylum",null,null,"Salix lutea var. platyphylla"]
[null,null,null,"Epilobium brevistylum var. ursinum",null,null,"Salix lutea var. watsonii"]
[null,null,null,"Epilobium californicum",null,null,"Salix ormsbyensis"]
[null,null,null,"Epilobium californicum var. holosericeum",null,null,"Salix rigida var. watsonii"]
[null,null,null,"Epilobium ciliatum var. ecomosum",null,null,"Salix watsonii"]
[null,null,null,"Epilobium delicatum",null,null,"Salix nigra","black willow"]
[null,null,null,"Epilobium ecomosum",null,null,"Salix ambigua"]
[null,null,null,"Epilobium glandulosum var. adenocaulon",null,null,"Salix denudata"]
[null,null,null,"Epilobium glandulosum var. ecomosum",null,null,"Salix dubia"]
[null,null,null,"Epilobium glandulosum var. macounii",null,null,"Salix falcata"]
[null,null,null,"Epilobium leptocarpum var. macounii",null,null,"Salix flavovirens"]
[null,null,null,"Epilobium ursinum",null,null,"Salix ligustrina"]
[null,null,null,"Epilobium watsonii var. parishii",null,null,"Salix ludoviciana"]
[null,null,null,"Epilobium coloratum","purpleleaf willowherb",null,"Salix nigra var. altissima"]
[null,null,null,"Epilobium leptophyllum","bog willowherb",null,"Salix nigra var. brevifolia"]
[null,null,null,"Epilobium nesophilum",null,null,"Salix nigra var. brevijulis"]
[null,null,null,"Epilobium nesophilum var. sabulonense",null,null,"Salix nigra var. falcata"]
[null,null,null,"Epilobium palustre var. gracile",null,null,"Salix nigra var. lindheimeri"]
[null,null,null,"Epilobium palustre var. sabulonense",null,null,"Salix nigra var. longifolia"]
[null,null,null,"Epilobium rosmarinifolium",null,null,"Salix nigra var. marginata"]
[null,null,null,"Epilobium treleaseanum",null,null,"Salix purshiana"]
[null,null,null,"Epilobium strictum","downy willowherb",null,"Salix pedicellaris","bog willow"]
[null,null,null,"Epilobium densum",null,null,"Salix fuscescens var. hebecarpa"]
[null,null,null,"Epilobium ×wisconsinense",null,null,"Salix hebecarpa"]
[null,null,null,"Equisetum arvense","field horsetail",null,"Salix myrtilloides var. hypoglauca"]
[null,null,null,"Equisetum arvense var. alpestre",null,null,"Salix myrtilloides var. pedicellaris"]
[null,null,null,"Equisetum arvense var. boreale",null,null,"Salix pedicellaris var. hypoglauca"]
[null,null,null,"Equisetum arvense var. campestre",null,null,"Salix pedicellaris var. tenuescens"]
[null,null,null,"Equisetum arvense var. riparium",null,null,"Salix petiolaris","meadow willow"]
[null,null,null,"Equisetum calderi",null,null,"Salix gracilis"]
[null,null,null,"Equisetum ×ferrissii",null,null,"Salix gracilis var. rosmarinoides"]
[null,null,null,"Equisetum hyemale var. elatum",null,null,"Salix gracilis var. textoris"]
[null,null,null,"Equisetum hyemale var. intermedium",null,null,"Salix neoforbesii"]
[null,null,null,"Equisetum intermedium",null,null,"Salix petiolaris var. angustifolia"]
[null,null,null,"Equisetum fluviatile","water horsetail",null,"Salix petiolaris var. gracilis"]
[null,null,null,"Equisetum fluviatile var. limosum",null,null,"Salix petiolaris var. rosmarinoides"]
[null,null,null,"Equisetum limosum",null,null,"Salix petiolaris var. subsericea"]
[null,null,null,"Equisetum hyemale","scouringrush horsetail",null,"Salix sericea var. subsericea"]
[null,null,null,"Equisetum hyemale var. affine","scouringrush horsetail",null,"Salix ×subsericea"]
[null,null,null,"Equisetum affine",null,null,"Salix sericea","silky willow"]
[null,null,null,"Equisetum hyemale ssp. affine",null,null,"Salix coactilis"]
[null,null,null,"Equisetum hyemale var. californicum",null,null,"Salix grisea"]
[null,null,null,"Equisetum hyemale var. pseudohyemale",null,null,"Salix pensylvanica"]
[null,null,null,"Equisetum hyemale var. robustum",null,null,"Salix petiolaris var. grisea"]
[null,null,null,"Equisetum praealtum",null,null,"Salix petiolaris var. sericea"]
[null,null,null,"Equisetum robustum",null,null,"Sambucus nigra","black elderberry"]
[null,null,null,"Hippochaete hyemalis",null,null,"Sambucus nigra ssp. canadensis","American black elderberry"]
[null,null,null,"Hippochaete hyemalis ssp. affinis",null,null,"Sambucus caerulea var. mexicana"]
[null,null,null,"Equisetum laevigatum","smooth horsetail",null,"Sambucus canadensis"]
[null,null,null,"Equisetum funstonii",null,null,"Sambucus canadensis var. laciniata"]
[null,null,null,"Equisetum kansanum",null,null,"Sambucus canadensis var. submollis"]
[null,null,null,"Equisetum laevigatum ssp. funstonii",null,null,"Sambucus cerulea var. mexicana"]
[null,null,null,"Hippochaete laevigata",null,null,"Sambucus mexicana"]
[null,null,null,"Equisetum ×litorale",null,null,"Sambucus orbiculata"]
[null,null,null,"Equisetum pratense","meadow horsetail",null,"Sambucus simpsonii"]
[null,null,null,"Equisetum scirpoides","dwarf scouringrush",null,"Sambucus racemosa","red elderberry"]
[null,null,null,"Equisetum sylvaticum","woodland horsetail",null,"Sambucus racemosa var. racemosa","red elderberry"]
[null,null,null,"Equisetum sylvaticum var. multiramosum",null,null,"Sambucus callicarpa"]
[null,null,null,"Equisetum sylvaticum var. pauciramosum",null,null,"Sambucus microbotrys"]
[null,null,null,"Erechtites hieraciifolia","American burnweed",null,"Sambucus pubens"]
[null,null,null,"Erechtites hieracifolia",null,null,"Sambucus pubens var. arborescens"]
[null,null,null,"Erechtites hieraciifolia var. hieraciifolia","American burnweed",null,"Sambucus racemosa ssp. pubens"]
[null,null,null,"Erechtites hieraciifolia var. intermedia",null,null,"Sambucus racemosa var. arborescens"]
[null,null,null,"Erechtites hieraciifolia var. praealta",null,null,"Sambucus racemosa var. laciniata"]
[null,null,null,"Senecio hieraciifolius",null,null,"Sambucus racemosa var. leucocarpa"]
[null,null,null,"Erigeron annuus","eastern daisy fleabane",null,"Sambucus racemosa var. microbotrys"]
[null,null,null,"Erigeron annuus var. discoideus",null,null,"Sambucus racemosa var. pubens"]
[null,null,null,"Stenactis annua",null,null,"Sassafras albidum","sassafras"]
[null,null,null,"Erigeron philadelphicus","Philadelphia fleabane",null,"Laurus albidus"]
[null,null,null,"Erigeron philadelphicus var. philadelphicus","Philadelphia fleabane",null,"Laurus sassafras"]
[null,null,null,"Erigeron philadelphicus var. glaber",null,null,"Sassafras albidum var. molle"]
[null,null,null,"Erigeron philadelphicus var. scaturicola",null,null,"Sassafras officinale"]
[null,null,null,"Erigeron purpureus",null,null,"Sassafras sassafras"]
[null,null,null,"Erigeron pulchellus","robin's plantain",null,"Sassafras variifolium"]
[null,null,null,"Erigeron pulchellus var. pulchellus","robin's plantain",null,"Scrophularia marilandica","carpenter's square"]
[null,null,null,"Erigeron bellidifolius",null,null,"Senna marilandica","Maryland senna"]
[null,null,null,"Erigeron strigosus","prairie fleabane",null,"Cassia marilandica"]
[null,null,null,"Erigeron strigosus var. septentrionalis","prairie fleabane",null,"Cassia medsgeri"]
[null,null,null,"Erigeron strigosus ssp. septentrionalis",null,null,"Ditremexa marilandica"]
[null,null,null,"Eryngium yuccifolium","button eryngo",null,"Ditremexa medsgeri"]
[null,null,null,"Eryngium yuccifolium var. yuccifolium","button eryngo",null,"Shepherdia argentea","silver buffaloberry"]
[null,null,null,"Erysimum asperum","western wallflower",null,"Elaeagnus utilis"]
[null,null,null,"Cheirinia aspera",null,null,"Lepargyrea argentea"]
[null,null,null,"Erysimum capitatum","sanddune wallflower",null,"Sibbaldiopsis tridentata","shrubby fivefingers"]
[null,null,null,"Erysimum capitatum var. capitatum","sanddune wallflower",null,"Potentilla tridentata"]
[null,null,null,"Erysimum arkansanum",null,null,"Sida spinosa","prickly fanpetals"]
[null,null,null,"Erysimum asperum var. arkansanum",null,null,"Sida alba"]
[null,null,null,"Erysimum asperum var. capitatum",null,null,"Sida angustifolia"]
[null,null,null,"Erysimum capitatum var. stellatum",null,null,"Sida spinosa var. angustifolia"]
[null,null,null,"Erysimum capitatum var. washoense",null,null,"Smilax rotundifolia","roundleaf greenbrier"]
[null,null,null,"Erysimum elatum",null,null,"Smilax rotundifolia var. crenulata"]
[null,null,null,"Erysimum moniliforme",null,null,"Smilax rotundifolia var. quadrangularis"]
[null,null,null,"Erysimum wheeleri",null,null,"Smilax tamnoides","bristly greenbrier"]
[null,null,null,"Erysimum inconspicuum","shy wallflower",null,"Smilax hispida"]
[null,null,null,"Erysimum inconspicuum var. inconspicuum","shy wallflower",null,"Smilax hispida var. australis"]
[null,null,null,"Cheirinia inconspicua",null,null,"Smilax hispida var. montana"]
[null,null,null,"Erysimum parviflorum",null,null,"Smilax tamnoides var. hispida"]
[null,null,null,"Erythronium albidum","white fawnlily",null,"Solanum carolinense","Carolina horsenettle"]
[null,null,null,"Erythronium americanum","dogtooth violet",null,"Solanum carolinense var. carolinense","Carolina horsenettle"]
[null,null,null,"Erythronium americanum ssp. americanum","dogtooth violet",null,"Sorbus decora","northern mountain ash"]
[null,null,null,"Erythronium mesochoreum","midland fawnlily",null,"Pyrus americana var. decora"]
[null,null,null,"Erythronium albidum var. coloratum",null,null,"Pyrus decora"]
[null,null,null,"Erythronium albidum var. mesochoreum",null,null,"Sphaeralcea coccinea","scarlet globemallow"]
[null,null,null,"Eupatoriadelphus maculatus","spotted trumpetweed",null,"Sphaeralcea coccinea ssp. coccinea","scarlet globemallow"]
[null,null,null,"Eupatoriadelphus maculatus var. bruneri","spotted joe pye weed",null,"Malvastrum coccineum"]
[null,null,null,"Eupatorium bruneri",null,null,"Sphaeralcea coccinea ssp. dissecta"]
[null,null,null,"Eupatorium maculatum ssp. bruneri",null,null,"Sphaeralcea coccinea var. dissecta"]
[null,null,null,"Eupatorium maculatum var. bruneri",null,null,"Spiraea alba","white meadowsweet"]
[null,null,null,"Eupatoriadelphus maculatus var. maculatus","spotted trumpetweed",null,"Spiraea alba var. alba","white meadowsweet"]
[null,null,null,"Eupatorium maculatum",null,null,"Staphylea trifolia","American bladdernut"]
[null,null,null,"Eupatorium maculatum var. maculatum",null,null,"Stenaria nigricans","diamond-flowers"]
[null,null,null,"Eupatorium purpureum var. maculatum",null,null,"Stenaria nigricans var. nigricans","diamondflowers"]
[null,null,null,"Eupatorium altissimum","tall thoroughwort",null,"Chamisme angustifolia"]
[null,null,null,"Eupatorium saltuense",null,null,"Gentiana nigricans"]
[null,null,null,"Eupatorium perfoliatum","common boneset",null,"Hedyotis nigricans"]
[null,null,null,"Eupatorium perfoliatum var. perfoliatum","common boneset",null,"Hedyotis nigricans var. austrotexana"]
[null,null,null,"Eupatorium purpureum","sweetscented joe pye weed",null,"Hedyotis nigricans var. filifolia"]
[null,null,null,"Eupatorium purpureum var. holzingeri","Holzinger's eupatorium",null,"Hedyotis nigricans var. nigricans"]
[null,null,null,"Eupatorium holzingeri",null,null,"Hedyotis nigricans var. papillacea"]
[null,null,null,"Eupatorium purpureum var. purpureum","sweetscented joe pye weed",null,"Hedyotis nigricans var. pulvinata"]
[null,null,null,"Eupatoriadelphus purpureus",null,null,"Hedyotis nigricans var. rigidiuscula"]
[null,null,null,"Eupatorium falcatum",null,null,"Hedyotis nigricans var. scabra"]
[null,null,null,"Eupatorium purpureum var. amoenum",null,null,"Hedyotis salina"]
[null,null,null,"Eupatorium trifoliatum",null,null,"Houstonia angustifolia"]
[null,null,null,"Eupatorium serotinum","lateflowering thoroughwort",null,"Houstonia angustifolia var. filifolia"]
[null,null,null,"Eupatorium sessilifolium","upland boneset",null,"Houstonia angustifolia var. rigidiuscula"]
[null,null,null,"Eupatorium sessilifolium var. brittonianum","upland boneset",null,"Houstonia filifolia"]
[null,null,null,"Eupatorium ×truncatum",null,null,"Houstonia nigricans"]
[null,null,null,"Eupatorium cuneatum",null,null,"Houstonia nigricans var. pulvinata"]
[null,null,null,"Eupatorium perfoliatum var. cuneatum",null,null,"Houstonia pulvinata"]
[null,null,null,"Eupatorium perfoliatum var. truncatum",null,null,"Houstonia rigidiuscula"]
[null,null,null,"Eupatorium ×polyneuron",null,null,"Houstonia salina"]
[null,null,null,"Eupatorium resinosum var. kentuckiense",null,null,"Houstonia tenuis"]
[null,null,null,"Eupatorium serotinum var. polyneuron",null,null,"Oldenlandia angustifolia"]
[null,null,null,"Euphorbia commutata","tinted woodland spurge",null,"Oldenlandia angustifolia var. filifolia"]
[null,null,null,"Euphorbia commutata var. erecta",null,null,"Symphoricarpos albus","common snowberry"]
[null,null,null,"Galarhoeus commutatus",null,null,"Symphoricarpos albus var. albus","common snowberry"]
[null,null,null,"Galarhoeus commutatus var. erectus",null,null,"Symphoricarpos albus var. pauciflorus"]
[null,null,null,"Tithymalus commutatus",null,null,"Symphoricarpos pauciflorus"]
[null,null,null,"Euphorbia corollata","flowering spurge",null,"Symphoricarpos racemosus"]
[null,null,null,"Euphorbia corollata var. angustifolia",null,null,"Symphoricarpos occidentalis","western snowberry"]
[null,null,null,"Euphorbia marilandica",null,null,"Symphoricarpos orbiculatus","coralberry"]
[null,null,null,"Tithymalopsis corollata",null,null,"Symphoricarpos symphoricarpos"]
[null,null,null,"Tithymalopsis marilandica",null,null,"Symphyotrichum oolentangiense","skyblue aster"]
[null,null,null,"Tithymalopsis olivacea",null,null,"Symphyotrichum oolentangiense var. oolentangiense","skyblue aster"]
[null,null,null,"Euphorbia cyathophora","fire on the mountain",null,"Aster azureus"]
[null,null,null,"Euphorbia barbellata",null,null,"Aster oolentangiensis"]
[null,null,null,"Euphorbia graminifolia",null,null,"Aster oolentangiensis var. laevicaulis"]
[null,null,null,"Euphorbia havanensis",null,null,"Symphyotrichum puniceum","purplestem aster"]
[null,null,null,"Euphorbia heterophylla var. barbellata",null,null,"Symphyotrichum puniceum var. puniceum","purplestem aster"]
[null,null,null,"Euphorbia heterophylla var. cyathophora",null,null,"Aster calderi"]
[null,null,null,"Euphorbia heterophylla var. graminifolia",null,null,"Aster conduplicatus"]
[null,null,null,"Poinsettia barbellata",null,null,"Aster firmus"]
[null,null,null,"Poinsettia cyathophora",null,null,"Aster forwoodii"]
[null,null,null,"Poinsettia cyathophora var. graminifolia",null,null,"Aster lucidulus"]
[null,null,null,"Poinsettia graminifolia",null,null,"Aster puniceus"]
[null,null,null,"Poinsettia havanensis",null,null,"Aster puniceus ssp. firmus"]
[null,null,null,"Euphorbia dentata","toothed spurge",null,"Aster puniceus var. calderi"]
[null,null,null,"Euphorbia dentata var. dentata","toothed spurge",null,"Aster puniceus var. calvus"]
[null,null,null,"Anisophyllum dentatum",null,null,"Aster puniceus var. compactus"]
[null,null,null,"Euphorbia dentata var. linearis",null,null,"Aster puniceus var. demissus"]
[null,null,null,"Euphorbia dentata var. rigida",null,null,"Aster puniceus var. firmus"]
[null,null,null,"Euphorbia herronii",null,null,"Aster puniceus var. lucidulus"]
[null,null,null,"Poinsettia dentata",null,null,"Aster puniceus var. oligocephalus"]
[null,null,null,"Euphorbia hexagona","sixangle spurge",null,"Aster puniceus var. perlongus"]
[null,null,null,"Zygophyllidium hexagonum",null,null,"Symphyotrichum firmum"]
[null,null,null,"Euphorbia marginata","snow on the mountain",null,"Symphyotrichum puniceum var. calderi"]
[null,null,null,"Agaloma marginata",null,null,"Symphyotrichum turbinellum","smooth violet prairie aster"]
[null,null,null,"Dichrophyllum marginatum",null,null,"Aster turbinellus"]
[null,null,null,"Lepadena marginata",null,null,"Taxus canadensis","Canada yew"]
[null,null,null,"Euphorbia spathulata","warty spurge",null,"Tephrosia virginiana","Virginia tephrosia"]
[null,null,null,"Euphorbia alta",null,null,"Cracca latidens"]
[null,null,null,"Euphorbia arkansana",null,null,"Cracca virginiana"]
[null,null,null,"Euphorbia dictyosperma",null,null,"Tephrosia latidens"]
[null,null,null,"Euphorbia obtusata",null,null,"Tephrosia virginiana var. glabra"]
[null,null,null,"Galarhoeus arkansanus",null,null,"Tephrosia virginiana var. holosericea"]
[null,null,null,"Galarhoeus obtusatus",null,null,"Thuja occidentalis","arborvitae"]
[null,null,null,"Tithymalus arkansanus",null,null,"Thuja occidentalis var. fastigiata"]
[null,null,null,"Tithymalus missouriensis",null,null,"Thuja occidentalis var. nigra"]
[null,null,null,"Tithymalus obtusatus",null,null,"Thuja occidentalis var. pyramidalis"]
[null,null,null,"Tithymalus spathulatus",null,null,"Thuja occidentalis f. malonyana"]
[null,null,null,"Eurybia furcata","forked aster",null,"Tilia americana","American basswood"]
[null,null,null,"Aster furcatus",null,null,"Tilia americana var. americana","American basswood"]
[null,null,null,"Eurybia macrophylla","bigleaf aster",null,"Tilia americana var. neglecta"]
[null,null,null,"Aster ianthinus",null,null,"Tilia glabra"]
[null,null,null,"Aster macrophyllus",null,null,"Tilia neglecta"]
[null,null,null,"Aster macrophyllus var. apricensis",null,null,"Tilia palmeri"]
[null,null,null,"Aster macrophyllus var. excelsior",null,null,"Tilia truncata"]
[null,null,null,"Aster macrophyllus var. ianthinus",null,null,"Tilia venulosa"]
[null,null,null,"Aster macrophyllus var. pinguifolius",null,null,"Tilia americana var. heterophylla","American basswood"]
[null,null,null,"Aster macrophyllus var. sejunctus",null,null,"Tilia eburnea"]
[null,null,null,"Aster macrophyllus var. velutinus",null,null,"Tilia heterophylla"]
[null,null,null,"Aster multiformis",null,null,"Tilia heterophylla var. michauxii"]
[null,null,null,"Aster nobilis",null,null,"Tilia lasioclada"]
[null,null,null,"Aster riciniatus",null,null,"Tilia michauxii"]
[null,null,null,"Aster roscidus",null,null,"Tilia monticola"]
[null,null,null,"Aster violaris",null,null,"Toxicodendron radicans","eastern poison ivy"]
[null,null,null,"Eurybia schreberi","Schreber's aster",null,"Toxicodendron radicans ssp. negundo","eastern poison ivy"]
[null,null,null,"Aster chasei",null,null,"Toxicodendron radicans var. negundo"]
[null,null,null,"Aster curvescens",null,null,"Toxicodendron rydbergii","western poison ivy"]
[null,null,null,"Aster glomeratus",null,null,"Rhus radicans var. rydbergii"]
[null,null,null,"Aster schreberi",null,null,"Rhus radicans var. vulgaris"]
[null,null,null,"Eurybia glomerata",null,null,"Rhus toxicodendron var. vulgaris"]
[null,null,null,"Euthamia graminifolia","flat-top goldentop",null,"Toxicodendron desertorum"]
[null,null,null,"Euthamia graminifolia var. graminifolia","flat-top goldentop",null,"Toxicodendron radicans var. rydbergii"]
[null,null,null,"Chrysocoma graminifolia",null,null,"Ulmus americana","American elm"]
[null,null,null,"Euthamia floribunda",null,null,"Ulmus americana var. floridana"]
[null,null,null,"Euthamia graminifolia var. major",null,null,"Ulmus floridana"]
[null,null,null,"Euthamia graminifolia var. nuttallii",null,null,"Ulmus rubra","slippery elm"]
[null,null,null,"Euthamia nuttallii",null,null,"Ulmus fulva"]
[null,null,null,"Solidago graminifolia",null,null,"Ulmus thomasii","rock elm"]
[null,null,null,"Solidago graminifolia var. major",null,null,"Ulmus racemosa"]
[null,null,null,"Solidago graminifolia var. nuttallii",null,null,"Vaccinium angustifolium","lowbush blueberry"]
[null,null,null,"Solidago graminifolia var. polycephala",null,null,"Vaccinium angustifolium var. hypolasium"]
[null,null,null,"Solidago hirtella",null,null,"Vaccinium angustifolium var. laevifolium"]
[null,null,null,"Solidago nuttallii",null,null,"Vaccinium angustifolium var. nigrum"]
[null,null,null,"Solidago polycephala",null,null,"Vaccinium brittonii"]
[null,null,null,"Euthamia gymnospermoides","Texas goldentop",null,"Vaccinium lamarckii"]
[null,null,null,"Euthamia camporum",null,null,"Vaccinium nigrum"]
[null,null,null,"Euthamia chrysothamnoides",null,null,"Vaccinium myrtilloides","velvetleaf huckleberry"]
[null,null,null,"Euthamia glutinosa",null,null,"Cyanococcus canadensis"]
[null,null,null,"Euthamia media",null,null,"Vaccinium angustifolium var. myrtilloides"]
[null,null,null,"Euthamia pulverulenta",null,null,"Vaccinium canadense"]
[null,null,null,"Euthamia remota",null,null,"Viburnum dentatum","southern arrowwood"]
[null,null,null,"Solidago camporum",null,null,"Viburnum dentatum var. dentatum","southern arrowwood"]
[null,null,null,"Solidago chrysothamnoides",null,null,"Viburnum carolinianum"]
[null,null,null,"Solidago graminifolia var. gymnospermoides",null,null,"Viburnum carolinianum var. cismontanum"]
[null,null,null,"Solidago graminifolia var. media",null,null,"Viburnum carolinianum var. deamii"]
[null,null,null,"Solidago gymnospermoides",null,null,"Viburnum crenatum"]
[null,null,null,"Solidago gymnospermoides var. callosa",null,null,"Viburnum dentatum var. deamii"]
[null,null,null,"Solidago media",null,null,"Viburnum dentatum var. indianense"]
[null,null,null,"Solidago moseleyi",null,null,"Viburnum dentatum var. scabrellum"]
[null,null,null,"Solidago perglabra",null,null,"Viburnum dentatum var. semitomentosum"]
[null,null,null,"Solidago remota",null,null,"Viburnum indianense"]
[null,null,null,"Solidago texensis",null,null,"Viburnum pubescens"]
[null,null,null,"Filipendula rubra","queen of the prairie",null,"Viburnum pubescens var. deamii"]
[null,null,null,"Floerkea proserpinacoides","false mermaidweed",null,"Viburnum pubescens var. indianense"]
[null,null,null,"Floerkea occidentalis",null,null,"Viburnum scabrellum"]
[null,null,null,"Fragaria vesca","woodland strawberry",null,"Viburnum scabrellum var. dilutum"]
[null,null,null,"Fragaria vesca ssp. americana","woodland strawberry",null,"Viburnum semitomentosum"]
[null,null,null,"Fragaria americana",null,null,"Viburnum lentago","nannyberry"]
[null,null,null,"Fragaria vesca var. americana",null,null,"Viburnum ×vetteri"]
[null,null,null,"Fragaria virginiana","Virginia strawberry",null,"Viburnum molle","softleaf arrowwood"]
[null,null,null,"Fragaria virginiana ssp. glauca","Virginia strawberry",null,"Viburnum ozarkense"]
[null,null,null,"Fragaria glauca",null,null,"Viburnum opulus","European cranberrybush"]
[null,null,null,"Fragaria multicipita",null,null,"Viburnum opulus var. americanum","American cranberrybush"]
[null,null,null,"Fragaria ovalis",null,null,"Viburnum opulus ssp. trilobum"]
[null,null,null,"Fragaria pauciflora",null,null,"Viburnum trilobum"]
[null,null,null,"Fragaria virginiana var. glauca",null,null,"Viburnum prunifolium","blackhaw"]
[null,null,null,"Fragaria virginiana var. ovalis",null,null,"Viburnum bushii"]
[null,null,null,"Fragaria virginiana var. terrae-novae",null,null,"Viburnum prunifolium var. bushii"]
[null,null,null,"Fragaria virginiana ssp. grayana","Virginia strawberry",null,"Viburnum prunifolium var. globosum"]
[null,null,null,"Fragaria grayana",null,null,"Viburnum rafinesqueanum","downy arrowwood"]
[null,null,null,"Fragaria virginiana var. illinoensis",null,null,"Viburnum affine"]
[null,null,null,"Fragaria virginiana ssp. virginiana","Virginia strawberry",null,"Viburnum affine var. hypomalacum"]
[null,null,null,"Fragaria australis",null,null,"Viburnum rafinesqueanum var. affine"]
[null,null,null,"Fragaria canadensis",null,null,"Viburnum rafinesqueanum var. rafinesqueanum"]
[null,null,null,"Fragaria virginiana var. australis",null,null,"Yucca glauca","soapweed yucca"]
[null,null,null,"Fragaria virginiana var. canadensis",null,null,"Yucca glauca var. glauca","soapweed yucca"]
[null,null,null,"Froelichia floridana","plains snakecotton",null,"Yucca angustifolia"]
[null,null,null,"Froelichia floridana var. campestris","plains snakecotton",null,"Zanthoxylum americanum","common pricklyash"]
[null,null,null,"Froelichia campestris"]
[null,null,null,"Froelichia gracilis","slender snakecotton"]
[null,null,null,"Froelichia braunii"]
[null,null,null,"Oplotheca gracilis"]
[null,null,null,"Gaillardia pulchella","firewheel"]
[null,null,null,"Gaillardia pulchella var. pulchella","firewheel"]
[null,null,null,"Gaillardia drummondii"]
[null,null,null,"Gaillardia neomexicana"]
[null,null,null,"Gaillardia villosa"]
[null,null,null,"Galearis spectabilis","showy orchid"]
[null,null,null,"Galeorchis spectabilis"]
[null,null,null,"Orchis spectabilis"]
[null,null,null,"Galium aparine","stickywilly"]
[null,null,null,"Galium agreste var. echinospermum"]
[null,null,null,"Galium aparine ssp. spurium"]
[null,null,null,"Galium aparine var. echinospermum"]
[null,null,null,"Galium aparine var. intermedium"]
[null,null,null,"Galium aparine var. minor"]
[null,null,null,"Galium aparine var. vaillantii"]
[null,null,null,"Galium spurium"]
[null,null,null,"Galium spurium var. echinospermum"]
[null,null,null,"Galium spurium var. vaillantii"]
[null,null,null,"Galium spurium var. vaillantii"]
[null,null,null,"Galium vaillantii"]
[null,null,null,"Galium asprellum","rough bedstraw"]
[null,null,null,"Galium boreale","northern bedstraw"]
[null,null,null,"Galium boreale ssp. septentrionale"]
[null,null,null,"Galium boreale ssp. septentrionale"]
[null,null,null,"Galium boreale var. hyssopifolium"]
[null,null,null,"Galium boreale var. intermedium"]
[null,null,null,"Galium boreale var. linearifolium"]
[null,null,null,"Galium boreale var. scabrum"]
[null,null,null,"Galium boreale var. typicum"]
[null,null,null,"Galium hyssopifolium"]
[null,null,null,"Galium septentrionale"]
[null,null,null,"Galium strictum"]
[null,null,null,"Galium circaezans","licorice bedstraw"]
[null,null,null,"Galium circaezans var. hypomalacum","licorice bedstraw"]
[null,null,null,"Galium concinnum","shining bedstraw"]
[null,null,null,"Galium labradoricum","northern bog bedstraw"]
[null,null,null,"Galium tinctorium var. labradoricum"]
[null,null,null,"Galium obtusum","bluntleaf bedstraw"]
[null,null,null,"Galium obtusum ssp. obtusum","bluntleaf bedstraw"]
[null,null,null,"Galium obtusum var. ramosum"]
[null,null,null,"Galium trifidum var. latifolium"]
[null,null,null,"Galium tinctorium","stiff marsh bedstraw"]
[null,null,null,"Asperula tinctoria"]
[null,null,null,"Galium claytonii"]
[null,null,null,"Galium obtusum var. floridanum"]
[null,null,null,"Galium tinctorium ssp. floridanum"]
[null,null,null,"Galium tinctorium var. diversifolium"]
[null,null,null,"Galium tinctorium var. floridanum"]
[null,null,null,"Galium trifidum ssp. tinctorium"]
[null,null,null,"Galium trifidum var. tinctorium"]
[null,null,null,"Galium trifidum","threepetal bedstraw"]
[null,null,null,"Galium trifidum ssp. trifidum","threepetal bedstraw"]
[null,null,null,"Galium brandegeei"]
[null,null,null,"Galium triflorum","fragrant bedstraw"]
[null,null,null,"Galium brachiatum"]
[null,null,null,"Galium pennsylvanicum"]
[null,null,null,"Galium triflorum var. asprelliforme"]
[null,null,null,"Galium triflorum var. viridiflorum"]
[null,null,null,"Gamochaeta purpurea","spoonleaf purple everlasting"]
[null,null,null,"Gnaphalium purpureum"]
[null,null,null,"Gaura biennis","biennial beeblossom"]
[null,null,null,"Gaura coccinea","scarlet beeblossom"]
[null,null,null,"Gaura coccinea var. arizonica"]
[null,null,null,"Gaura coccinea var. epilobioides"]
[null,null,null,"Gaura coccinea var. glabra"]
[null,null,null,"Gaura coccinea var. parvifolia"]
[null,null,null,"Gaura coccinea var. typica"]
[null,null,null,"Gaura glabra"]
[null,null,null,"Gaura odorata"]
[null,null,null,"Gaura longiflora","longflower beeblossom"]
[null,null,null,"Gaura biennis var. pitcheri"]
[null,null,null,"Gaura filiformis"]
[null,null,null,"Gaura pitcheri"]
[null,null,null,"Gaura mollis","velvetweed"]
[null,null,null,"Gaura parviflora"]
[null,null,null,"Gaura parviflora var. lachnocarpa"]
[null,null,null,"Gaura parviflora var. typica"]
[null,null,null,"Gentiana alba","plain gentian"]
[null,null,null,"Gentiana flavida"]
[null,null,null,"Gentiana andrewsii","closed bottle gentian"]
[null,null,null,"Gentiana andrewsii var. andrewsii","closed bottle gentian"]
[null,null,null,"Dasystephana andrewsii"]
[null,null,null,"Pneumonanthe andrewsii"]
[null,null,null,"Gentiana andrewsii var. dakotica","Dakota gentian"]
[null,null,null,"Gentiana ×billingtonii"]
[null,null,null,"Gentiana ×curtisii"]
[null,null,null,"Gentiana ×pallidocyanea"]
[null,null,null,"Gentiana puberulenta","downy gentian"]
[null,null,null,"Gentiana puberula"]
[null,null,null,"Gentianella quinquefolia","agueweed"]
[null,null,null,"Gentianella quinquefolia ssp. occidentalis","agueweed"]
[null,null,null,"Gentiana quinquefolia var. occidentalis"]
[null,null,null,"Gentianella occidentalis"]
[null,null,null,"Gentianopsis crinita","greater fringed gentian"]
[null,null,null,"Anthopogon crinitum"]
[null,null,null,"Gentiana crinita"]
[null,null,null,"Gentiana ventricosa"]
[null,null,null,"Gentianella crinita"]
[null,null,null,"Gentianella crinita ssp. nevadensis"]
[null,null,null,"Gentianopsis virgata","lesser fringed gentian"]
[null,null,null,"Gentianopsis virgata ssp. virgata","lesser fringed gentian"]
[null,null,null,"Gentiana crinita var. browniana"]
[null,null,null,"Gentiana procera"]
[null,null,null,"Gentianella crinita ssp. procera"]
[null,null,null,"Gentianopsis procera"]
[null,null,null,"Geranium bicknellii","Bicknell's cranesbill"]
[null,null,null,"Geranium bicknellii var. longipes"]
[null,null,null,"Geranium carolinianum var. longipes"]
[null,null,null,"Geranium nemorale"]
[null,null,null,"Geranium nemorale var. bicknellii"]
[null,null,null,"Geranium carolinianum","Carolina geranium"]
[null,null,null,"Geranium carolinianum var. carolinianum","Carolina geranium"]
[null,null,null,"Geranium carolinianum var. confertiflorum"]
[null,null,null,"Geranium maculatum","spotted geranium"]
[null,null,null,"Geum aleppicum","yellow avens"]
[null,null,null,"Geum aleppicum ssp. strictum"]
[null,null,null,"Geum aleppicum var. strictum"]
[null,null,null,"Geum strictum"]
[null,null,null,"Geum strictum var. decurrens"]
[null,null,null,"Geum canadense","white avens"]
[null,null,null,"Geum canadense var. canadense","white avens"]
[null,null,null,"Geum canadense var. brevipes"]
[null,null,null,"Geum canadense var. camporum"]
[null,null,null,"Geum canadense var. grimesii"]
[null,null,null,"Geum laciniatum","rough avens"]
[null,null,null,"Geum laciniatum var. trichocarpum","rough avens"]
[null,null,null,"Geum triflorum","old man's whiskers"]
[null,null,null,"Geum triflorum var. triflorum","old man's whiskers"]
[null,null,null,"Erythrocoma triflora"]
[null,null,null,"Geum ciliatum var. griseum"]
[null,null,null,"Sieversia triflora"]
[null,null,null,"Geum vernum","spring avens"]
[null,null,null,"Stylypus vernus"]
[null,null,null,"Glandularia canadensis","rose mock vervain"]
[null,null,null,"Glandularia drummondii"]
[null,null,null,"Glandularia lambertii"]
[null,null,null,"Verbena canadensis"]
[null,null,null,"Verbena canadensis var. atroviolacea"]
[null,null,null,"Verbena canadensis var. compacta"]
[null,null,null,"Verbena canadensis var. drummondii"]
[null,null,null,"Verbena canadensis var. grandiflora"]
[null,null,null,"Verbena canadensis var. lambertii"]
[null,null,null,"Verbena lambertii"]
[null,null,null,"Verbena ×oklahomensis"]
[null,null,null,"Glycyrrhiza lepidota","American licorice"]
[null,null,null,"Glycyrrhiza glutinosa"]
[null,null,null,"Glycyrrhiza lepidota var. glutinosa"]
[null,null,null,"Goodyera pubescens","downy rattlesnake plantain"]
[null,null,null,"Peramium pubescens"]
[null,null,null,"Gratiola neglecta","clammy hedgehyssop"]
[null,null,null,"Gratiola neglecta var. glaberrima"]
[null,null,null,"Gratiola virginiana","roundfruit hedgehyssop"]
[null,null,null,"Gratiola virginiana var. virginiana","roundfruit hedgehyssop"]
[null,null,null,"Gratiola sphaerocarpa"]
[null,null,null,"Grindelia papposa","Spanish gold"]
[null,null,null,"Haplopappus ciliatus"]
[null,null,null,"Prionopsis ciliata"]
[null,null,null,"Grindelia squarrosa","curlycup gumweed"]
[null,null,null,"Grindelia squarrosa var. squarrosa","curlycup gumweed"]
[null,null,null,"Gymnocarpium ×brittonianum"]
[null,null,null,"Gymnocarpium dryopteris","western oakfern"]
[null,null,null,"Dryopteris dryopteris"]
[null,null,null,"Dryopteris linnaeana"]
[null,null,null,"Phegopteris dryopteris"]
[null,null,null,"Thelypteris dryopteris"]
[null,null,null,"Gymnocarpium ×intermedium"]
[null,null,null,"Gymnocarpium jessoense","Asian oakfern"]
[null,null,null,"Gymnocarpium jessoense ssp. parvulum","Asian oakfern"]
[null,null,null,"Gymnocarpium robertianum","scented oakfern"]
[null,null,null,"Dryopteris robertiana"]
[null,null,null,"Gymnocarpium dryopteris var. pumilum"]
[null,null,null,"Phegopteris robertiana"]
[null,null,null,"Hackelia deflexa","nodding stickseed"]
[null,null,null,"Hackelia deflexa var. americana","American stickseed"]
[null,null,null,"Hackelia americana"]
[null,null,null,"Hackelia deflexa ssp. americana"]
[null,null,null,"Lappula americana"]
[null,null,null,"Lappula deflexa"]
[null,null,null,"Lappula deflexa ssp. americana"]
[null,null,null,"Lappula deflexa var. americana"]
[null,null,null,"Hackelia virginiana","beggarslice"]
[null,null,null,"Lappula virginiana"]
[null,null,null,"Myosotis virginiana"]
[null,null,null,"Hasteola suaveolens","false Indian plantain"]
[null,null,null,"Cacalia suaveolens"]
[null,null,null,"Synosma suaveolens"]
[null,null,null,"Hedeoma hispida","rough false pennyroyal"]
[null,null,null,"Hedeoma pulegioides","American false pennyroyal"]
[null,null,null,"Cunila pulegioides"]
[null,null,null,"Melissa pulegioides"]
[null,null,null,"Ziziphora pulegioides"]
[null,null,null,"Helenium amarum","yellowdicks"]
[null,null,null,"Helenium amarum var. amarum","yellowdicks"]
[null,null,null,"Helenium tenuifolium"]
[null,null,null,"Helenium autumnale","common sneezeweed"]
[null,null,null,"Helenium autumnale var. autumnale","common sneezeweed"]
[null,null,null,"Helenium autumnale var. canaliculatum"]
[null,null,null,"Helenium autumnale var. parviflorum"]
[null,null,null,"Helenium canaliculatum"]
[null,null,null,"Helenium latifolium"]
[null,null,null,"Helenium parviflorum"]
[null,null,null,"Helianthemum bicknellii","hoary frostweed"]
[null,null,null,"Crocanthemum bicknellii"]
[null,null,null,"Crocanthemum majus"]
[null,null,null,"Helianthemum canadense","longbranch frostweed"]
[null,null,null,"Crocanthemum canadense"]
[null,null,null,"Helianthemum canadense var. sabulonum"]
[null,null,null,"Helianthus annuus","common sunflower"]
[null,null,null,"Helianthus annuus ssp. jaegeri"]
[null,null,null,"Helianthus annuus ssp. lenticularis"]
[null,null,null,"Helianthus annuus ssp. texanus"]
[null,null,null,"Helianthus annuus var. lenticularis"]
[null,null,null,"Helianthus annuus var. macrocarpus"]
[null,null,null,"Helianthus annuus var. texanus"]
[null,null,null,"Helianthus aridus"]
[null,null,null,"Helianthus lenticularis"]
[null,null,null,"Helianthus decapetalus","thinleaf sunflower"]
[null,null,null,"Helianthus scrophulariifolius"]
[null,null,null,"Helianthus tracheliifolius"]
[null,null,null,"Helianthus divaricatus","woodland sunflower"]
[null,null,null,"Helianthus divaricatus var. angustifolius"]
[null,null,null,"Helianthus ×doronicoides"]
[null,null,null,"Helianthus pilosus"]
[null,null,null,"Helianthus giganteus","giant sunflower"]
[null,null,null,"Helianthus alienus"]
[null,null,null,"Helianthus borealis"]
[null,null,null,"Helianthus giganteus ssp. alienus"]
[null,null,null,"Helianthus giganteus var. subtuberosus"]
[null,null,null,"Helianthus nuttallii var. subtuberosus"]
[null,null,null,"Helianthus subtuberosus"]
[null,null,null,"Helianthus validus"]
[null,null,null,"Helianthus grosseserratus","sawtooth sunflower"]
[null,null,null,"Helianthus grosseserratus ssp. maximus"]
[null,null,null,"Helianthus grosseserratus var. hypoleucus"]
[null,null,null,"Helianthus instabilis"]
[null,null,null,"Helianthus hirsutus","hairy sunflower"]
[null,null,null,"Helianthus hirsutus var. stenophyllus"]
[null,null,null,"Helianthus hirsutus var. trachyphyllus"]
[null,null,null,"Helianthus stenophyllus"]
[null,null,null,"Helianthus ×intermedius"]
[null,null,null,"Helianthus ×laetiflorus","cheerful sunflower"]
[null,null,null,"Helianthus scaberrimus"]
[null,null,null,"Helianthus maximiliani","Maximilian sunflower"]
[null,null,null,"Helianthus dalyi"]
[null,null,null,"Helianthus mollis","ashy sunflower"]
[null,null,null,"Helianthus mollis var. cordatus"]
[null,null,null,"Helianthus nuttallii","Nuttall's sunflower"]
[null,null,null,"Helianthus nuttallii ssp. rydbergii","Rydberg's sunflower"]
[null,null,null,"Helianthus nuttallii var. rydbergii"]
[null,null,null,"Helianthus rydbergii"]
[null,null,null,"Helianthus occidentalis","fewleaf sunflower"]
[null,null,null,"Helianthus occidentalis ssp. occidentalis","fewleaf sunflower"]
[null,null,null,"Helianthus dowellianus"]
[null,null,null,"Helianthus occidentalis var. dowellianus"]
[null,null,null,"Helianthus pauciflorus","stiff sunflower"]
[null,null,null,"Helianthus pauciflorus ssp. pauciflorus","stiff sunflower"]
[null,null,null,"Helianthus laetiflorus var. rigidus"]
[null,null,null,"Helianthus rigidus"]
[null,null,null,"Helianthus pauciflorus ssp. subrhomboideus","stiff sunflower"]
[null,null,null,"Helianthus laetiflorus var. subrhomboideus"]
[null,null,null,"Helianthus pauciflorus var. subrhomboideus"]
[null,null,null,"Helianthus rigidus ssp. laetiflorus"]
[null,null,null,"Helianthus rigidus ssp. subrhomboideus"]
[null,null,null,"Helianthus rigidus var. subrhomboideus"]
[null,null,null,"Helianthus subrhomboideus"]
[null,null,null,"Helianthus petiolaris","prairie sunflower"]
[null,null,null,"Helianthus petiolaris ssp. petiolaris","prairie sunflower"]
[null,null,null,"Helianthus strumosus","paleleaf woodland sunflower"]
[null,null,null,"Helianthus montanus"]
[null,null,null,"Helianthus saxicola"]
[null,null,null,"Helianthus tuberosus","Jerusalem artichoke"]
[null,null,null,"Helianthus tomentosus"]
[null,null,null,"Helianthus tuberosus var. subcanescens"]
[null,null,null,"Heliopsis helianthoides","smooth oxeye"]
[null,null,null,"Heliopsis helianthoides var. occidentalis","smooth oxeye"]
[null,null,null,"Heliopsis helianthoides ssp. occidentalis"]
[null,null,null,"Heliopsis helianthoides var. scabra","smooth oxeye"]
[null,null,null,"Heliopsis helianthoides ssp. scabra"]
[null,null,null,"Heliopsis minor"]
[null,null,null,"Heliopsis scabra"]
[null,null,null,"Heliotropium tenellum","pasture heliotrope"]
[null,null,null,"Lithococca tenella"]
[null,null,null,"Hepatica nobilis","hepatica"]
[null,null,null,"Hepatica nobilis var. acuta","sharplobe hepatica"]
[null,null,null,"Anemone acutiloba"]
[null,null,null,"Hepatica acuta"]
[null,null,null,"Hepatica acutiloba"]
[null,null,null,"Hepatica triloba var. acuta"]
[null,null,null,"Hepatica nobilis var. obtusa","roundlobe hepatica"]
[null,null,null,"Anemone americana"]
[null,null,null,"Anemone hepatica"]
[null,null,null,"Hepatica americana"]
[null,null,null,"Hepatica hepatica"]
[null,null,null,"Hepatica triloba var. americana"]
[null,null,null,"Heracleum maximum","common cowparsnip"]
[null,null,null,"Heracleum lanatum"]
[null,null,null,"Heracleum sphondylium ssp. montanum"]
[null,null,null,"Heracleum sphondylium var. lanatum"]
[null,null,null,"Heteranthera dubia","grassleaf mudplantain"]
[null,null,null,"Heteranthera graminea"]
[null,null,null,"Heteranthera liebmannii"]
[null,null,null,"Zosterella dubia"]
[null,null,null,"Zosterella longituba"]
[null,null,null,"Heteranthera limosa","blue mudplantain"]
[null,null,null,"Pontederia limosa"]
[null,null,null,"Heteranthera reniformis","kidneyleaf mudplantain"]
[null,null,null,"Heterotheca camporum","lemonyellow false goldenaster"]
[null,null,null,"Heterotheca camporum var. camporum","lemonyellow false goldenaster"]
[null,null,null,"Chrysopsis camporum"]
[null,null,null,"Chrysopsis villosa var. camporum"]
[null,null,null,"Heterotheca villosa var. camporum"]
[null,null,null,"Heterotheca stenophylla","stiffleaf false goldenaster"]
[null,null,null,"Heterotheca stenophylla var. stenophylla","stiffleaf false goldenaster"]
[null,null,null,"Chrysopsis hispida var. stenophylla"]
[null,null,null,"Chrysopsis scabrifolia"]
[null,null,null,"Chrysopsis stenophylla"]
[null,null,null,"Chrysopsis villosa var. stenophylla"]
[null,null,null,"Heterotheca subaxillaris","camphorweed"]
[null,null,null,"Chrysopsis scabra"]
[null,null,null,"Heterotheca lamarckii"]
[null,null,null,"Heterotheca latifolia"]
[null,null,null,"Heterotheca latifolia var. arkansana"]
[null,null,null,"Heterotheca latifolia var. macgregoris"]
[null,null,null,"Heterotheca psammophila"]
[null,null,null,"Heterotheca scabra"]
[null,null,null,"Heterotheca subaxillaris var. latifolia"]
[null,null,null,"Heterotheca subaxillaris var. petiolaris"]
[null,null,null,"Heterotheca subaxillaris var. procumbens"]
[null,null,null,"Heterotheca subaxillaris var. psammophila"]
[null,null,null,"Heterotheca villosa","hairy false goldenaster"]
[null,null,null,"Heterotheca villosa var. minor","hairy false goldenaster"]
[null,null,null,"Chrysopsis arida"]
[null,null,null,"Chrysopsis bakeri"]
[null,null,null,"Chrysopsis columbiana"]
[null,null,null,"Chrysopsis hispida"]
[null,null,null,"Chrysopsis villosa var. hispida"]
[null,null,null,"Chrysopsis wisconsinensis"]
[null,null,null,"Heterotheca villosa var. hispida"]
[null,null,null,"Heterotheca wisconsinensis"]
[null,null,null,"Heterotheca villosa var. villosa","hairy false goldenaster"]
[null,null,null,"Chrysopsis mollis"]
[null,null,null,"Chrysopsis villosa"]
[null,null,null,"Heuchera americana","American alumroot"]
[null,null,null,"Heuchera americana var. hirsuticaulis","American alumroot"]
[null,null,null,"Heuchera americana var. interior"]
[null,null,null,"Heuchera hirsuticaulis"]
[null,null,null,"Heuchera richardsonii","Richardson's alumroot"]
[null,null,null,"Heuchera hispida"]
[null,null,null,"Heuchera richardsonii var. affinis"]
[null,null,null,"Heuchera richardsonii var. grayana"]
[null,null,null,"Heuchera richardsonii var. hispidior"]
[null,null,null,"Hibiscus laevis","halberdleaf rosemallow"]
[null,null,null,"Hibiscus militaris"]
[null,null,null,"Hieracium kalmii","Kalm's hawkweed"]
[null,null,null,"Hieracium kalmii var. fasciculatum","Canadian hawkweed"]
[null,null,null,"Hieracium canadense var. fasciculatum"]
[null,null,null,"Hieracium kalmii var. kalmii","Kalm's hawkweed"]
[null,null,null,"Hieracium canadense var. kalmii"]
[null,null,null,"Hieracium longipilum","hairy hawkweed"]
[null,null,null,"Hieracium scabrum","rough hawkweed"]
[null,null,null,"Hieracium scabrum var. intonsum","rough hawkweed"]
[null,null,null,"Hieracium scabrum var. scabrum","rough hawkweed"]
[null,null,null,"Hieracium umbellatum","narrowleaf hawkweed"]
[null,null,null,"Hieracium columbianum"]
[null,null,null,"Hieracium scabriusculum"]
[null,null,null,"Hieracium scabriusculum var. columbianum"]
[null,null,null,"Hieracium scabriusculum var. perhirsutum"]
[null,null,null,"Hieracium scabriusculum var. saximontanum"]
[null,null,null,"Hieracium scabriusculum var. scabrum"]
[null,null,null,"Hippuris vulgaris","common mare's-tail"]
[null,null,null,"Houstonia purpurea","Venus' pride"]
[null,null,null,"Houstonia purpurea var. purpurea","Venus' pride"]
[null,null,null,"Hedyotis purpurea"]
[null,null,null,"Houstonia purpurea var. pubescens"]
[null,null,null,"Houstonia pusilla","tiny bluet"]
[null,null,null,"Hedyotis caerulea var. minima"]
[null,null,null,"Hedyotis caerulea var. minor"]
[null,null,null,"Hedyotis crassifolia"]
[null,null,null,"Hedyotis minima"]
[null,null,null,"Houstonia minima"]
[null,null,null,"Houstonia patens"]
[null,null,null,"Humulus lupulus","common hop"]
[null,null,null,"Humulus lupulus var. lupuloides","common hop"]
[null,null,null,"Humulus americanus"]
[null,null,null,"Humulus lupulus ssp. americanus"]
[null,null,null,"Humulus lupulus var. pubescens","common hop"]
[null,null,null,"Huperzia ×bartleyi"]
[null,null,null,"Lycopodium ×bartleyi"]
[null,null,null,"Huperzia lucidula","shining clubmoss"]
[null,null,null,"Huperzia lucidula var. tryonii"]
[null,null,null,"Huperzia selago ssp. lucidula"]
[null,null,null,"Lycopodium lucidulum"]
[null,null,null,"Lycopodium lucidulum var. tryonii"]
[null,null,null,"Lycopodium reflexum"]
[null,null,null,"Urostachys lucidulus"]
[null,null,null,"Huperzia porophila","rock clubmoss"]
[null,null,null,"Huperzia selago var. patens"]
[null,null,null,"Huperzia selago var. porophila"]
[null,null,null,"Lycopodium lucidulum var. porophilum"]
[null,null,null,"Lycopodium porophilum"]
[null,null,null,"Lycopodium selago ssp. patens"]
[null,null,null,"Lycopodium selago var. patens"]
[null,null,null,"Lycopodium selago var. porophilum"]
[null,null,null,"Urostachys lucidulus var. porophilus"]
[null,null,null,"Urostachys porophilus"]
[null,null,null,"Hybanthus concolor","eastern greenviolet"]
[null,null,null,"Cubelium concolor"]
[null,null,null,"Viola concolor"]
[null,null,null,"Hydrastis canadensis","goldenseal"]
[null,null,null,"Hydrophyllum appendiculatum","great waterleaf"]
[null,null,null,"Decemium appendiculatum"]
[null,null,null,"Hydrophyllum canadense","bluntleaf waterleaf"]
[null,null,null,"Hydrophyllum virginianum","eastern waterleaf"]
[null,null,null,"Hydrophyllum virginianum var. virginianum","eastern waterleaf"]
[null,null,null,"Hypericum ascyron","great St. Johnswort"]
[null,null,null,"Hypericum pyramidatum"]
[null,null,null,"Hypericum boreale","northern St. Johnswort"]
[null,null,null,"Hypericum mutilum ssp. boreale"]
[null,null,null,"Hypericum canadense","lesser Canadian St. Johnswort"]
[null,null,null,"Hypericum canadense var. galiiforme"]
[null,null,null,"Hypericum canadense var. magninsulare"]
[null,null,null,"Hypericum drummondii","nits and lice"]
[null,null,null,"Sarothra drummondii"]
[null,null,null,"Hypericum ellipticum","pale St. Johnswort"]
[null,null,null,"Hypericum gentianoides","orangegrass"]
[null,null,null,"Sarothra gentianoides"]
[null,null,null,"Hypericum majus","large St. Johnswort"]
[null,null,null,"Hypericum canadense var. majus"]
[null,null,null,"Hypericum mutilum","dwarf St. Johnswort"]
[null,null,null,"Hypericum mutilum var. latisepalum"]
[null,null,null,"Hypericum mutilum var. parviflorum"]
[null,null,null,"Hypericum punctatum","spotted St. Johnswort"]
[null,null,null,"Hypericum subpetiolatum"]
[null,null,null,"Hypericum sphaerocarpum","roundseed St. Johnswort"]
[null,null,null,"Hypericum sphaerocarpum var. turgidum"]
[null,null,null,"Hypericum turgidum"]
[null,null,null,"Hypoxis hirsuta","common goldstar"]
[null,null,null,"Hypoxis decumbens"]
[null,null,null,"Ornithogalum hirsutum"]
[null,null,null,"Impatiens capensis","jewelweed"]
[null,null,null,"Impatiens biflora"]
[null,null,null,"Impatiens fulva"]
[null,null,null,"Impatiens noli-tangere ssp. biflora"]
[null,null,null,"Impatiens nortonii"]
[null,null,null,"Impatiens pallida","pale touch-me-not"]
[null,null,null,"Iodanthus pinnatifidus","purplerocket"]
[null,null,null,"Hesperis pinnatifidus"]
[null,null,null,"Iodanthus hesperidioides"]
[null,null,null,"Thelypodium pinnatifidum"]
[null,null,null,"Ionactis linariifolius","flaxleaf whitetop aster"]
[null,null,null,"Aster linariifolius"]
[null,null,null,"Aster linariifolius var. victorinii"]
[null,null,null,"Ipomoea cristulata","Trans-Pecos morning-glory"]
[null,null,null,"Ipomoea hederacea","ivyleaf morning-glory"]
[null,null,null,"Ipomoea barbigera"]
[null,null,null,"Ipomoea desertorum"]
[null,null,null,"Ipomoea hederacea var. integriuscula"]
[null,null,null,"Ipomoea hirsutula"]
[null,null,null,"Ipomoea nil"]
[null,null,null,"Pharbitis barbigera"]
[null,null,null,"Pharbitis hederacea"]
[null,null,null,"Ipomoea lacunosa","whitestar"]
[null,null,null,"Ipomoea pandurata","man of the earth"]
[null,null,null,"Ipomoea pandurata var. rubescens"]
[null,null,null,"Ipomopsis rubra","standing-cypress"]
[null,null,null,"Gilia rubra"]
[null,null,null,"Iris virginica","Virginia iris"]
[null,null,null,"Iris virginica var. shrevei","Shreve's iris"]
[null,null,null,"Iris shrevei"]
[null,null,null,"Iris versicolor var. blandescens"]
[null,null,null,"Iris versicolor var. shrevei"]
[null,null,null,"Iva annua","annual marsh elder"]
[null,null,null,"Iva annua var. annua","annual marsh elder"]
[null,null,null,"Iva ciliata"]
[null,null,null,"Jeffersonia diphylla","twinleaf"]
[null,null,null,"Justicia americana","American water-willow"]
[null,null,null,"Dianthera americana"]
[null,null,null,"Dianthera americana var. subcoriacea"]
[null,null,null,"Justicia americana var. subcoriacea"]
[null,null,null,"Justicia mortuifluminis"]
[null,null,null,"Justicia umbratilis"]
[null,null,null,"Krigia biflora","twoflower dwarfdandelion"]
[null,null,null,"Krigia biflora var. biflora","twoflower dwarfdandelion"]
[null,null,null,"Cynthia virginica"]
[null,null,null,"Hyoseris biflora"]
[null,null,null,"Krigia amplexicaulis"]
[null,null,null,"Krigia biflora ssp. glandulifera"]
[null,null,null,"Krigia dandelion","potato dwarfdandelion"]
[null,null,null,"Cynthia dandelion"]
[null,null,null,"Krigia virginica","Virginia dwarfdandelion"]
[null,null,null,"Hyoseris virginica"]
[null,null,null,"Lactuca biennis","tall blue lettuce"]
[null,null,null,"Lactuca spicata"]
[null,null,null,"Lactuca spicata var. integrifolia"]
[null,null,null,"Mulgedium spicatum"]
[null,null,null,"Mulgedium spicatum var. integrifolium"]
[null,null,null,"Lactuca canadensis","Canada lettuce"]
[null,null,null,"Lactuca canadensis var. integrifolia"]
[null,null,null,"Lactuca canadensis var. latifolia"]
[null,null,null,"Lactuca canadensis var. longifolia"]
[null,null,null,"Lactuca canadensis var. obovata"]
[null,null,null,"Lactuca canadensis var. typica"]
[null,null,null,"Lactuca sagittifolia"]
[null,null,null,"Lactuca steelei"]
[null,null,null,"Lactuca floridana","woodland lettuce"]
[null,null,null,"Lactuca floridana var. floridana","woodland lettuce"]
[null,null,null,"Mulgedium floridanum"]
[null,null,null,"Lactuca floridana var. villosa","woodland lettuce"]
[null,null,null,"Lactuca villosa"]
[null,null,null,"Mulgedium villosum"]
[null,null,null,"Lactuca ludoviciana","biannual lettuce"]
[null,null,null,"Lactuca campestris"]
[null,null,null,"Lactuca campestris var. typica"]
[null,null,null,"Lactuca tatarica","blue lettuce"]
[null,null,null,"Lactuca tatarica var. pulchella","blue lettuce"]
[null,null,null,"Lactuca oblongifolia"]
[null,null,null,"Lactuca pulchella"]
[null,null,null,"Lactuca tatarica ssp. pulchella"]
[null,null,null,"Lactuca tatarica var. heterophylla"]
[null,null,null,"Mulgedium pulchellum"]
[null,null,null,"Sonchus tataricus"]
[null,null,null,"Laportea canadensis","Canadian woodnettle"]
[null,null,null,"Urtica canadensis"]
[null,null,null,"Urticastrum divaricatum"]
[null,null,null,"Lappula occidentalis","flatspine stickseed"]
[null,null,null,"Lappula occidentalis var. cupulata","flatspine stickseed"]
[null,null,null,"Lappula redowskii var. cupulata"]
[null,null,null,"Lappula redowskii var. texana"]
[null,null,null,"Lappula texana"]
[null,null,null,"Lappula texana var. coronata"]
[null,null,null,"Lappula texana var. heterosperma"]
[null,null,null,"Lappula texana var. homosperma"]
[null,null,null,"Lappula occidentalis var. occidentalis","flatspine stickseed"]
[null,null,null,"Lappula echinata var. occidentalis"]
[null,null,null,"Lappula redowskii"]
[null,null,null,"Lappula redowskii var. desertorum"]
[null,null,null,"Lappula redowskii var. occidentalis"]
[null,null,null,"Lappula redowskii var. redowskii"]
[null,null,null,"Lathyrus ochroleucus","cream pea"]
[null,null,null,"Lathyrus palustris","marsh pea"]
[null,null,null,"Lathyrus myrtifolius"]
[null,null,null,"Lathyrus palustris ssp. pilosus"]
[null,null,null,"Lathyrus palustris var. linearifolius"]
[null,null,null,"Lathyrus palustris var. macranthus"]
[null,null,null,"Lathyrus palustris var. meridionalis"]
[null,null,null,"Lathyrus palustris var. myrtifolius"]
[null,null,null,"Lathyrus palustris var. pilosus"]
[null,null,null,"Lathyrus palustris var. retusus"]
[null,null,null,"Orobus myrtifolius"]
[null,null,null,"Lathyrus venosus","veiny pea"]
[null,null,null,"Lathyrus oreophilus"]
[null,null,null,"Lathyrus venosus ssp. arkansanus"]
[null,null,null,"Lathyrus venosus var. arkansanus"]
[null,null,null,"Lathyrus venosus var. intonsus"]
[null,null,null,"Lathyrus venosus var. meridionalis"]
[null,null,null,"Lechea intermedia","largepod pinweed"]
[null,null,null,"Lechea intermedia var. intermedia","largepod pinweed"]
[null,null,null,"Lechea mucronata","hairy pinweed"]
[null,null,null,"Lechea minor var. villosa"]
[null,null,null,"Lechea villosa"]
[null,null,null,"Lechea villosa var. macrotheca"]
[null,null,null,"Lechea villosa var. schaffneri"]
[null,null,null,"Lechea racemulosa","Illinois pinweed"]
[null,null,null,"Lechea stricta","prairie pinweed"]
[null,null,null,"Lechea tenuifolia","narrowleaf pinweed"]
[null,null,null,"Lechea tenuifolia var. occidentalis"]
[null,null,null,"Lemna aequinoctialis","lesser duckweed"]
[null,null,null,"Lemna angolensis"]
[null,null,null,"Lemna paucicostata"]
[null,null,null,"Lemna trinervis"]
[null,null,null,"Lemna minor","common duckweed"]
[null,null,null,"Lemna cyclostasa"]
[null,null,null,"Lemna minima"]
[null,null,null,"Lemna obscura","little duckweed"]
[null,null,null,"Lemna minor var. obscura"]
[null,null,null,"Lemna perpusilla","minute duckweed"]
[null,null,null,"Lemna perpusilla var. trinervis"]
[null,null,null,"Lemna trisulca","star duckweed"]
[null,null,null,"Lemna turionifera","turion duckweed"]
[null,null,null,"Lepidium densiflorum","common pepperweed"]
[null,null,null,"Lepidium densiflorum var. densiflorum","common pepperweed"]
[null,null,null,"Lepidium densiflorum var. typicum"]
[null,null,null,"Lepidium neglectum"]
[null,null,null,"Lepidium texanum"]
[null,null,null,"Lepidium virginicum","Virginia pepperweed"]
[null,null,null,"Lepidium virginicum var. virginicum","Virginia pepperweed"]
[null,null,null,"Lepidium virginicum var. typicum"]
[null,null,null,"Lespedeza capitata","roundhead lespedeza"]
[null,null,null,"Lespedeza bicknellii"]
[null,null,null,"Lespedeza capitata var. stenophylla"]
[null,null,null,"Lespedeza capitata var. velutina"]
[null,null,null,"Lespedeza capitata var. vulgaris"]
[null,null,null,"Lespedeza leptostachya","prairie lespedeza"]
[null,null,null,"Lespedeza ×nuttallii"]
[null,null,null,"Lespedeza repens","creeping lespedeza"]
[null,null,null,"Hedysarum repens"]
[null,null,null,"Lespedeza ×simulata"]
[null,null,null,"Lespedeza violacea","violet lespedeza"]
[null,null,null,"Hedysarum violaceum"]
[null,null,null,"Lespedeza intermedia"]
[null,null,null,"Lespedeza prairea"]
[null,null,null,"Lespedeza virginica","slender lespedeza"]
[null,null,null,"Lesquerella ludoviciana","foothill bladderpod"]
[null,null,null,"Leucospora multifida","narrowleaf paleseed"]
[null,null,null,"Conobea multifida"]
[null,null,null,"Liatris aspera","tall blazing star"]
[null,null,null,"Liatris aspera var. aspera","tall blazing star"]
[null,null,null,"Lacinaria aspera"]
[null,null,null,"Liatris cylindracea","Ontario blazing star"]
[null,null,null,"Lacinaria cylindracea"]
[null,null,null,"Liatris ligulistylis","Rocky Mountain blazing star"]
[null,null,null,"Lacinaria ligulistylis"]
[null,null,null,"Liatris punctata","dotted blazing star"]
[null,null,null,"Liatris punctata var. nebraskana","Nebraska blazing star"]
[null,null,null,"Liatris punctata var. punctata","dotted blazing star"]
[null,null,null,"Lacinaria punctata"]
[null,null,null,"Liatris punctata var. typica"]
[null,null,null,"Liatris pycnostachya","prairie blazing star"]
[null,null,null,"Liatris pycnostachya var. pycnostachya","prairie blazing star"]
[null,null,null,"Lacinaria pycnostachya"]
[null,null,null,"Liatris bebbiana"]
[null,null,null,"Liatris spheroidea","spherical blazing star"]
[null,null,null,"Lacinaria aspera var. spheroidea"]
[null,null,null,"Liatris squarrosa","scaly blazing star"]
[null,null,null,"Liatris squarrosa var. glabrata","scaly blazing star"]
[null,null,null,"Liatris glabrata"]
[null,null,null,"Liatris squarrosa var. hirsuta","scaly blazing star"]
[null,null,null,"Liatris hirsuta"]
[null,null,null,"Lilium michiganense","Michigan lily"]
[null,null,null,"Lilium canadense ssp. michiganense"]
[null,null,null,"Lilium canadense var. umbelliferum"]
[null,null,null,"Lilium michiganense var. uniflorum"]
[null,null,null,"Lilium philadelphicum","wood lily"]
[null,null,null,"Lilium philadelphicum var. andinum","wood lily"]
[null,null,null,"Lilium andinum"]
[null,null,null,"Lilium montanum"]
[null,null,null,"Lilium philadelphicum var. montanum"]
[null,null,null,"Lilium umbellatum"]
[null,null,null,"Limnosciadium pinnatum","tansy dogshade"]
[null,null,null,"Cynosciadium pinnatum"]
[null,null,null,"Lindernia dubia","yellowseed false pimpernel"]
[null,null,null,"Lindernia dubia var. anagallidea","yellowseed false pimpernel"]
[null,null,null,"Ilysanthes anagallidea"]
[null,null,null,"Ilysanthes inequalis"]
[null,null,null,"Lindernia anagallidea"]
[null,null,null,"Lindernia dubia var. dubia","yellowseed false pimpernel"]
[null,null,null,"Gratiola dubia"]
[null,null,null,"Ilysanthes attenuata"]
[null,null,null,"Ilysanthes dubia"]
[null,null,null,"Lindernia dubia var. inundata"]
[null,null,null,"Lindernia dubia var. major"]
[null,null,null,"Lindernia dubia var. riparia"]
[null,null,null,"Lindernia dubia var. typica"]
[null,null,null,"Lindernia procumbens"]
[null,null,null,"Lindernia pyxidaria"]
[null,null,null,"Linnaea borealis","twinflower"]
[null,null,null,"Linnaea borealis ssp. americana","twinflower"]
[null,null,null,"Linnaea americana"]
[null,null,null,"Linnaea borealis var. americana"]
[null,null,null,"Linum medium","stiff yellow flax"]
[null,null,null,"Linum medium var. texanum","stiff yellow flax"]
[null,null,null,"Cathartolinum curtissii"]
[null,null,null,"Linum striatum var. texanum"]
[null,null,null,"Linum virginianum var. texanum"]
[null,null,null,"Linum perenne","blue flax"]
[null,null,null,"Linum lewisii"]
[null,null,null,"Linum rigidum","stiffstem flax"]
[null,null,null,"Linum rigidum var. rigidum","stiffstem flax"]
[null,null,null,"Cathartolinum earlei"]
[null,null,null,"Cathartolinum rigidum"]
[null,null,null,"Mesynium rigidum"]
[null,null,null,"Linum sulcatum","grooved flax"]
[null,null,null,"Linum sulcatum var. sulcatum","grooved flax"]
[null,null,null,"Cathartolinum sulcatum"]
[null,null,null,"Mesynium sulcatum"]
[null,null,null,"Linum virginianum","woodland flax"]
[null,null,null,"Cathartolinum virginianum"]
[null,null,null,"Nezera virginiana"]
[null,null,null,"Liparis liliifolia","brown widelip orchid"]
[null,null,null,"Liparis loeselii","yellow widelip orchid"]
[null,null,null,"Lithospermum canescens","hoary puccoon"]
[null,null,null,"Batschia canescens"]
[null,null,null,"Lithospermum caroliniense","Carolina puccoon"]
[null,null,null,"Lithospermum caroliniense var. croceum","Carolina puccoon"]
[null,null,null,"Lithospermum caroliniense ssp. croceum"]
[null,null,null,"Lithospermum croceum"]
[null,null,null,"Lithospermum incisum","narrowleaf stoneseed"]
[null,null,null,"Batschia linearifolia"]
[null,null,null,"Lithospermum angustifolium"]
[null,null,null,"Lithospermum linearifolium"]
[null,null,null,"Lithospermum mandanense"]
[null,null,null,"Lithospermum latifolium","American stoneseed"]
[null,null,null,"Lobelia cardinalis","cardinalflower"]
[null,null,null,"Lobelia cardinalis ssp. graminea"]
[null,null,null,"Lobelia cardinalis var. graminea"]
[null,null,null,"Lobelia cardinalis var. meridionalis"]
[null,null,null,"Lobelia cardinalis var. multiflora"]
[null,null,null,"Lobelia cardinalis var. phyllostachya"]
[null,null,null,"Lobelia cardinalis var. propinqua"]
[null,null,null,"Lobelia cardinalis var. pseudosplendens"]
[null,null,null,"Lobelia fulgens"]
[null,null,null,"Lobelia splendens"]
[null,null,null,"Lobelia inflata","Indian-tobacco"]
[null,null,null,"Lobelia kalmii","Ontario lobelia"]
[null,null,null,"Lobelia kalmii var. strictiflora"]
[null,null,null,"Lobelia strictiflora"]
[null,null,null,"Lobelia siphilitica","great blue lobelia"]
[null,null,null,"Lobelia siphilitica var. ludoviciana","great blue lobelia"]
[null,null,null,"Lobelia siphilitica var. siphilitica","great blue lobelia"]
[null,null,null,"Lobelia spicata","palespike lobelia"]
[null,null,null,"Lobelia spicata var. campanulata","palespike lobelia"]
[null,null,null,"Lobelia spicata var. hirtella","palespike lobelia"]
[null,null,null,"Lobelia hirtella"]
[null,null,null,"Lobelia spicata var. leptostachys","palespike lobelia"]
[null,null,null,"Lobelia leptostachys"]
[null,null,null,"Lobelia spicata var. spicata","palespike lobelia"]
[null,null,null,"Lobelia bracteata"]
[null,null,null,"Lobelia spicata var. originalis"]
[null,null,null,"Lobelia spicata var. parviflora"]
[null,null,null,"Lomatium foeniculaceum","desert biscuitroot"]
[null,null,null,"Lomatium foeniculaceum ssp. daucifolium","desert biscuitroot"]
[null,null,null,"Cogswellia daucifolia"]
[null,null,null,"Lomatium daucifolium"]
[null,null,null,"Lomatium foeniculaceum var. daucifolium"]
[null,null,null,"Lomatium foeniculaceum ssp. foeniculaceum","desert biscuitroot"]
[null,null,null,"Cogswellia foeniculacea"]
[null,null,null,"Cogswellia villosa"]
[null,null,null,"Lomatium orientale","Northern Idaho biscuitroot"]
[null,null,null,"Cogswellia orientalis"]
[null,null,null,"Lotus unifoliolatus","American bird's-foot trefoil"]
[null,null,null,"Lotus unifoliolatus var. unifoliolatus","American bird's-foot trefoil"]
[null,null,null,"Acmispon americanum"]
[null,null,null,"Hosackia americana"]
[null,null,null,"Lotus americanus"]
[null,null,null,"Lotus purshianus"]
[null,null,null,"Lotus purshianus var. glaber"]
[null,null,null,"Lotus sericeus"]
[null,null,null,"Ludwigia alternifolia","seedbox"]
[null,null,null,"Ludwigia alternifolia var. linearifolia"]
[null,null,null,"Ludwigia alternifolia var. pubescens"]
[null,null,null,"Ludwigia alternifolia var. typica"]
[null,null,null,"Ludwigia palustris","marsh seedbox"]
[null,null,null,"Isnardia palustris"]
[null,null,null,"Ludwigia palustris var. americana"]
[null,null,null,"Ludwigia palustris var. nana"]
[null,null,null,"Ludwigia palustris var. pacifica"]
[null,null,null,"Ludwigia peploides","floating primrose-willow"]
[null,null,null,"Ludwigia peploides ssp. glabrescens","floating primrose-willow"]
[null,null,null,"Jussiaea diffusa"]
[null,null,null,"Jussiaea repens"]
[null,null,null,"Jussiaea repens var. glabrescens"]
[null,null,null,"Ludwigia peploides var. glabrescens"]
[null,null,null,"Ludwigia polycarpa","manyfruit primrose-willow"]
[null,null,null,"Lupinus perennis","sundial lupine"]
[null,null,null,"Lupinus perennis ssp. perennis","sundial lupine"]
[null,null,null,"Lupinus perennis ssp. perennis var. occidentalis","sundial lupine"]
[null,null,null,"Lycopodiella inundata","inundated clubmoss"]
[null,null,null,"Lepidotis inundata"]
[null,null,null,"Lycopodium inundatum"]
[null,null,null,"Lycopodium clavatum","running clubmoss"]
[null,null,null,"Lycopodium clavatum var. laurentianum"]
[null,null,null,"Lycopodium clavatum var. subremotum"]
[null,null,null,"Lycopodium clavatum var. tristachyum"]
[null,null,null,"Lycopodium dendroideum","tree groundpine"]
[null,null,null,"Lycopodium obscurum var. dendroideum"]
[null,null,null,"Lycopodium obscurum var. hybridum"]
[null,null,null,"Lycopodium digitatum","fan clubmoss"]
[null,null,null,"Diphasiastrum digitatum"]
[null,null,null,"Diphasium complanatum ssp. flabelliforme"]
[null,null,null,"Lycopodium complanatum var. flabelliforme"]
[null,null,null,"Lycopodium flabelliforme"]
[null,null,null,"Lycopodium flabelliforme var. ambiguum"]
[null,null,null,"Lycopus americanus","American water horehound"]
[null,null,null,"Lycopus americanus var. longii"]
[null,null,null,"Lycopus americanus var. scabrifolius"]
[null,null,null,"Lycopus sinuatus"]
[null,null,null,"Lycopus asper","rough bugleweed"]
[null,null,null,"Lycopus lucidus"]
[null,null,null,"Lycopus lucidus ssp. americanus"]
[null,null,null,"Lycopus lucidus var. americanus"]
[null,null,null,"Lycopus ×sherardii"]
[null,null,null,"Lycopus uniflorus","northern bugleweed"]
[null,null,null,"Lycopus uniflorus var. uniflorus","northern bugleweed"]
[null,null,null,"Lycopus virginicus var. pauciflorus"]
[null,null,null,"Lycopus virginicus","Virginia water horehound"]
[null,null,null,"Lygodesmia juncea","rush skeletonplant"]
[null,null,null,"Lysimachia ciliata","fringed loosestrife"]
[null,null,null,"Steironema ciliatum"]
[null,null,null,"Steironema pumilum"]
[null,null,null,"Lysimachia hybrida","lowland yellow loosestrife"]
[null,null,null,"Lysimachia ciliata var. validula"]
[null,null,null,"Lysimachia lanceolata ssp. hybrida"]
[null,null,null,"Lysimachia lanceolata var. hybrida"]
[null,null,null,"Steironema hybridum"]
[null,null,null,"Steironema laevigatum"]
[null,null,null,"Steironema lanceolatum var. hybridum"]
[null,null,null,"Lysimachia lanceolata","lanceleaf loosestrife"]
[null,null,null,"Lysimachia lanceolata var. angustifolia"]
[null,null,null,"Steironema heterophyllum"]
[null,null,null,"Steironema lanceolatum"]
[null,null,null,"Lysimachia quadriflora","fourflower yellow loosestrife"]
[null,null,null,"Lysimachia longifolia"]
[null,null,null,"Steironema quadriflorum"]
[null,null,null,"Lysimachia terrestris","earth loosestrife"]
[null,null,null,"Lysimachia terrestris var. ovata"]
[null,null,null,"Lysimachia thyrsiflora","tufted loosestrife"]
[null,null,null,"Naumburgia thyrsiflora"]
[null,null,null,"Lythrum alatum","winged lythrum"]
[null,null,null,"Lythrum alatum var. alatum","winged lythrum"]
[null,null,null,"Lythrum dacotanum"]
[null,null,null,"Machaeranthera canescens","hoary tansyaster"]
[null,null,null,"Machaeranthera canescens ssp. canescens","hoary tansyaster"]
[null,null,null,"Machaeranthera canescens ssp. canescens var. canescens","hoary tansyaster"]
[null,null,null,"Aster canescens"]
[null,null,null,"Aster canescens var. viscosus"]
[null,null,null,"Aster glossophyllus"]
[null,null,null,"Aster leiodes"]
[null,null,null,"Aster shastensis var. glossophyllus"]
[null,null,null,"Aster shastensis var. latifolius"]
[null,null,null,"Dieteria canescens"]
[null,null,null,"Dieteria divaricata"]
[null,null,null,"Dieteria pulverulenta"]
[null,null,null,"Dieteria viscosa"]
[null,null,null,"Machaeranthera angustifolia"]
[null,null,null,"Machaeranthera canescens var. latifolia"]
[null,null,null,"Machaeranthera canescens var. monticola"]
[null,null,null,"Machaeranthera canescens var. viscosa"]
[null,null,null,"Machaeranthera divaricata"]
[null,null,null,"Machaeranthera glabella"]
[null,null,null,"Machaeranthera laetevirens"]
[null,null,null,"Machaeranthera latifolia"]
[null,null,null,"Machaeranthera leptophylla"]
[null,null,null,"Machaeranthera linearis"]
[null,null,null,"Machaeranthera montana"]
[null,null,null,"Machaeranthera paniculata"]
[null,null,null,"Machaeranthera pinosa"]
[null,null,null,"Machaeranthera pulverulenta"]
[null,null,null,"Machaeranthera ramosa"]
[null,null,null,"Machaeranthera selbyi"]
[null,null,null,"Machaeranthera shastensis var. glossophylla"]
[null,null,null,"Machaeranthera shastensis var. latifolia"]
[null,null,null,"Machaeranthera shastensis var. montana"]
[null,null,null,"Machaeranthera spinulosa"]
[null,null,null,"Machaeranthera subalpina"]
[null,null,null,"Machaeranthera superba"]
[null,null,null,"Machaeranthera viscosa"]
[null,null,null,"Machaeranthera pinnatifida","lacy tansyaster"]
[null,null,null,"Machaeranthera pinnatifida ssp. pinnatifida","lacy tansyaster"]
[null,null,null,"Machaeranthera pinnatifida ssp. pinnatifida var. glaberrima","lacy tansyaster"]
[null,null,null,"Haplopappus spinulosus ssp. glaberrimus"]
[null,null,null,"Haplopappus spinulosus var. glaberrimus"]
[null,null,null,"Sideranthus glaberrimus"]
[null,null,null,"Sideranthus spinulosus var. glaberrimus"]
[null,null,null,"Machaeranthera pinnatifida ssp. pinnatifida var. pinnatifida","lacy tansyaster"]
[null,null,null,"Amellus spinulosus"]
[null,null,null,"Aster pinnatifidus"]
[null,null,null,"Dieteria spinulosa"]
[null,null,null,"Diplopappus pinnatifidus"]
[null,null,null,"Eriocarpum australe"]
[null,null,null,"Eriocarpum spinulosum"]
[null,null,null,"Eriocarpum wootonii"]
[null,null,null,"Haplopappus coulteri"]
[null,null,null,"Haplopappus spinulosus"]
[null,null,null,"Haplopappus spinulosus ssp. australis"]
[null,null,null,"Haplopappus spinulosus ssp. cotulus"]
[null,null,null,"Haplopappus spinulosus ssp. laevis"]
[null,null,null,"Haplopappus spinulosus var. canescens"]
[null,null,null,"Haplopappus spinulosus var. glaber"]
[null,null,null,"Haplopappus spinulosus var. turbinellus"]
[null,null,null,"Haplopappus texensis"]
[null,null,null,"Machaeranthera australis"]
[null,null,null,"Machaeranthera laevis"]
[null,null,null,"Machaeranthera pinnata"]
[null,null,null,"Machaeranthera texensis"]
[null,null,null,"Sideranthus australis"]
[null,null,null,"Sideranthus cotula"]
[null,null,null,"Sideranthus laevis"]
[null,null,null,"Sideranthus machaerantherus"]
[null,null,null,"Sideranthus puberulus"]
[null,null,null,"Sideranthus spinulosus"]
[null,null,null,"Sideranthus turbinellus"]
[null,null,null,"Sideranthus wootonii"]
[null,null,null,"Starkea pinnata"]
[null,null,null,"Madia glomerata","mountain tarweed"]
[null,null,null,"Madia sativa","coast tarweed"]
[null,null,null,"Madia capitata"]
[null,null,null,"Madia sativa ssp. capitata"]
[null,null,null,"Madia sativa var. congesta"]
[null,null,null,"Maianthemum canadense","Canada mayflower"]
[null,null,null,"Maianthemum canadense var. interius"]
[null,null,null,"Maianthemum canadense var. pubescens"]
[null,null,null,"Unifolium canadense"]
[null,null,null,"Maianthemum racemosum","feathery false lily of the valley"]
[null,null,null,"Maianthemum racemosum ssp. racemosum","feathery false lily of the valley"]
[null,null,null,"Convallaria racemosa"]
[null,null,null,"Smilacina ciliata"]
[null,null,null,"Smilacina flexicaulis"]
[null,null,null,"Smilacina racemosa"]
[null,null,null,"Smilacina racemosa var. cylindrata"]
[null,null,null,"Smilacina racemosa var. lanceolata"]
[null,null,null,"Smilacina racemosa var. typica"]
[null,null,null,"Vagnera australis"]
[null,null,null,"Vagnera racemosa"]
[null,null,null,"Maianthemum stellatum","starry false lily of the valley"]
[null,null,null,"Convallaria stellata"]
[null,null,null,"Smilacina liliacea"]
[null,null,null,"Smilacina sessilifolia"]
[null,null,null,"Smilacina stellata"]
[null,null,null,"Smilacina stellata var. crassa"]
[null,null,null,"Smilacina stellata var. mollis"]
[null,null,null,"Smilacina stellata var. sessilifolia"]
[null,null,null,"Smilacina stellata var. sylvatica"]
[null,null,null,"Vagnera liliacea"]
[null,null,null,"Vagnera sessilifolia"]
[null,null,null,"Vagnera stellata"]
[null,null,null,"Malaxis unifolia","green adder's-mouth orchid"]
[null,null,null,"Microstylis unifolia"]
[null,null,null,"Malvastrum hispidum","hispid false mallow"]
[null,null,null,"Malvastrum angustum"]
[null,null,null,"Sida hispida"]
[null,null,null,"Sidopsis hispida"]
[null,null,null,"Sphaeralcea angusta"]
[null,null,null,"Marsilea quadrifolia","European waterclover"]
[null,null,null,"Marsilea vestita","hairy waterclover"]
[null,null,null,"Marsilea fournieri"]
[null,null,null,"Marsilea minuta"]
[null,null,null,"Marsilea mucronata"]
[null,null,null,"Marsilea tenuifolia"]
[null,null,null,"Marsilea uncinata"]
[null,null,null,"Marsilea vestita ssp. tenuifolia"]
[null,null,null,"Marsilea vestita ssp. vestita"]
[null,null,null,"Marsilea vestita var. mucronata"]
[null,null,null,"Matteuccia struthiopteris","ostrich fern"]
[null,null,null,"Matteuccia pensylvanica"]
[null,null,null,"Matteuccia struthiopteris var. pensylvanica"]
[null,null,null,"Matteuccia struthiopteris var. pubescens"]
[null,null,null,"Onoclea struthiopteris"]
[null,null,null,"Onoclea struthiopteris var. pensylvanica"]
[null,null,null,"Pteretis nodulosa"]
[null,null,null,"Pteretis pensylvanica"]
[null,null,null,"Mentha arvensis","wild mint"]
[null,null,null,"Mentha arvensis ssp. borealis"]
[null,null,null,"Mentha arvensis ssp. haplocalyx"]
[null,null,null,"Mentha arvensis var. canadensis"]
[null,null,null,"Mentha arvensis var. glabrata"]
[null,null,null,"Mentha arvensis var. lanata"]
[null,null,null,"Mentha arvensis var. sativa"]
[null,null,null,"Mentha arvensis var. villosa"]
[null,null,null,"Mentha canadensis"]
[null,null,null,"Mentha gentilis"]
[null,null,null,"Mentha glabrior"]
[null,null,null,"Mentha penardii"]
[null,null,null,"Mentha ×piperita","peppermint"]
[null,null,null,"Mentha aquatica var. crispa"]
[null,null,null,"Mentha crispa"]
[null,null,null,"Mentha dumetorum"]
[null,null,null,"Mentzelia decapetala","tenpetal blazingstar"]
[null,null,null,"Nuttallia decapetala"]
[null,null,null,"Menyanthes trifoliata","buckbean"]
[null,null,null,"Menyanthes trifoliata var. minor"]
[null,null,null,"Mertensia paniculata","tall bluebells"]
[null,null,null,"Mertensia paniculata var. paniculata","tall bluebells"]
[null,null,null,"Mertensia palmeri"]
[null,null,null,"Mertensia pilosa"]
[null,null,null,"Mertensia virginica","Virginia bluebells"]
[null,null,null,"Mimosa nuttallii","Nuttall's sensitive-briar"]
[null,null,null,"Leptoglottis nuttallii"]
[null,null,null,"Mimosa quadrivalvis var. nuttallii"]
[null,null,null,"Schrankia nuttallii"]
[null,null,null,"Mimulus alatus","sharpwing monkeyflower"]
[null,null,null,"Mimulus glabratus","roundleaf monkeyflower"]
[null,null,null,"Mimulus glabratus var. jamesii","James' monkeyflower"]
[null,null,null,"Mimulus geyeri"]
[null,null,null,"Mimulus glabratus var. fremontii"]
[null,null,null,"Mimulus inamoenus"]
[null,null,null,"Mimulus jamesii"]
[null,null,null,"Mimulus jamesii var. fremontii"]
[null,null,null,"Mimulus reniformis"]
[null,null,null,"Mimulus ringens","Allegheny monkeyflower"]
[null,null,null,"Mimulus ringens var. ringens","Allegheny monkeyflower"]
[null,null,null,"Mimulus minthodes"]
[null,null,null,"Mimulus pallidus"]
[null,null,null,"Mimulus ringens var. congesta"]
[null,null,null,"Mimulus ringens var. minthodes"]
[null,null,null,"Minuartia michauxii","Michaux's stitchwort"]
[null,null,null,"Minuartia michauxii var. michauxii","Michaux's stitchwort"]
[null,null,null,"Arenaria macra"]
[null,null,null,"Arenaria michauxii"]
[null,null,null,"Arenaria stricta"]
[null,null,null,"Arenaria stricta ssp. macra"]
[null,null,null,"Arenaria stricta var. puberulenta"]
[null,null,null,"Arenaria stricta var. uliginosa"]
[null,null,null,"Arenaria uliginosa"]
[null,null,null,"Minuopsis michauxii"]
[null,null,null,"Sabulina stricta"]
[null,null,null,"Mirabilis albida","white four o'clock"]
[null,null,null,"Allionia albida"]
[null,null,null,"Allionia bracteata"]
[null,null,null,"Allionia coahuilensis"]
[null,null,null,"Allionia grayana"]
[null,null,null,"Allionia pauciflora"]
[null,null,null,"Allionia pseudaggregata"]
[null,null,null,"Allionia rotata"]
[null,null,null,"Mirabilis albida var. lata"]
[null,null,null,"Mirabilis albida var. uniflora"]
[null,null,null,"Mirabilis coahuilensis"]
[null,null,null,"Mirabilis dumetorum"]
[null,null,null,"Mirabilis entricha"]
[null,null,null,"Mirabilis grayana"]
[null,null,null,"Mirabilis oblongifolia"]
[null,null,null,"Mirabilis pauciflora"]
[null,null,null,"Mirabilis pseudaggregata"]
[null,null,null,"Mirabilis rotata"]
[null,null,null,"Oxybaphus albidus"]
[null,null,null,"Oxybaphus coahuilensis"]
[null,null,null,"Oxybaphus pauciflorus"]
[null,null,null,"Oxybaphus pseudaggregatus"]
[null,null,null,"Oxybaphus rotatus"]
[null,null,null,"Mirabilis hirsuta","hairy four o'clock"]
[null,null,null,"Allionia hirsuta"]
[null,null,null,"Oxybaphus hirsutus"]
[null,null,null,"Mirabilis nyctaginea","heartleaf four o'clock"]
[null,null,null,"Allionia nyctaginea"]
[null,null,null,"Mirabilis collina"]
[null,null,null,"Oxybaphus nyctagineus"]
[null,null,null,"Mitchella repens","partridgeberry"]
[null,null,null,"Mitella diphylla","twoleaf miterwort"]
[null,null,null,"Mitella oppositifolia"]
[null,null,null,"Mitella nuda","naked miterwort"]
[null,null,null,"Moehringia lateriflora","bluntleaf sandwort"]
[null,null,null,"Arenaria lateriflora"]
[null,null,null,"Arenaria lateriflora var. angustifolia"]
[null,null,null,"Arenaria lateriflora var. tayloriae"]
[null,null,null,"Mollugo verticillata","green carpetweed"]
[null,null,null,"Mollugo berteriana"]
[null,null,null,"Monarda bradburiana","eastern beebalm"]
[null,null,null,"Monarda fistulosa"]
[null,null,null,"Monarda rigida"]
[null,null,null,"Monarda villosa"]
[null,null,null,"Monarda didyma","scarlet beebalm"]
[null,null,null,"Monarda fistulosa","wild bergamot"]
[null,null,null,"Monarda fistulosa ssp. fistulosa","wild bergamot"]
[null,null,null,"Monarda fistulosa ssp. fistulosa var. fistulosa","wild bergamot"]
[null,null,null,"Monarda fistulosa ssp. fistulosa var. menthifolia","mintleaf bergamot"]
[null,null,null,"Monarda menthifolia"]
[null,null,null,"Monarda fistulosa ssp. fistulosa var. mollis","wild bergamot"]
[null,null,null,"Monarda mollis"]
[null,null,null,"Monarda scabra"]
[null,null,null,"Monarda punctata","spotted beebalm"]
[null,null,null,"Monarda punctata ssp. punctata","spotted beebalm"]
[null,null,null,"Monarda punctata ssp. punctata var. villicaulis","spotted beebalm"]
[null,null,null,"Monarda punctata ssp. villicaulis"]
[null,null,null,"Monolepis nuttalliana","Nuttall's povertyweed"]
[null,null,null,"Monotropa hypopithys","pinesap"]
[null,null,null,"Hypopitys americana"]
[null,null,null,"Hypopitys fimbriata"]
[null,null,null,"Hypopitys insignata"]
[null,null,null,"Hypopitys lanuginosa"]
[null,null,null,"Hypopitys latisquama"]
[null,null,null,"Hypopitys monotropa"]
[null,null,null,"Monotropa hypopithys ssp. lanuginosa"]
[null,null,null,"Monotropa hypopithys var. americana"]
[null,null,null,"Monotropa hypopithys var. latisquama"]
[null,null,null,"Monotropa hypopithys var. rubra"]
[null,null,null,"Monotropa lanuginosa"]
[null,null,null,"Monotropa latisquama"]
[null,null,null,"Monotropa uniflora","Indianpipe"]
[null,null,null,"Monotropa brittonii"]
[null,null,null,"Montia chamissoi","water minerslettuce"]
[null,null,null,"Claytonia chamissoi"]
[null,null,null,"Crunocallis chamissoi"]
[null,null,null,"Myosotis verna","spring forget-me-not"]
[null,null,null,"Myosotis virginica"]
[null,null,null,"Myosurus minimus","tiny mousetail"]
[null,null,null,"Myosurus clavicaulis"]
[null,null,null,"Myosurus lepturus"]
[null,null,null,"Myosurus minimus ssp. apus"]
[null,null,null,"Myosurus minimus ssp. major"]
[null,null,null,"Myosurus minimus var. apus"]
[null,null,null,"Myosurus minimus var. clavicaulis"]
[null,null,null,"Myosurus minimus var. filiformis"]
[null,null,null,"Myosurus minimus var. interior"]
[null,null,null,"Myosurus minimus var. lepturus"]
[null,null,null,"Myosurus minimus var. major"]
[null,null,null,"Myriophyllum heterophyllum","twoleaf watermilfoil"]
[null,null,null,"Myriophyllum pinnatum","cutleaf watermilfoil"]
[null,null,null,"Myriophyllum scabratum"]
[null,null,null,"Myriophyllum verticillatum var. cheneyi"]
[null,null,null,"Potamogeton pinnatum"]
[null,null,null,"Myriophyllum sibiricum","shortspike watermilfoil"]
[null,null,null,"Myriophyllum exalbescens"]
[null,null,null,"Myriophyllum exalbescens var. magdalenense"]
[null,null,null,"Myriophyllum magdalenense"]
[null,null,null,"Myriophyllum spicatum ssp. exalbescens"]
[null,null,null,"Myriophyllum spicatum ssp. squamosum"]
[null,null,null,"Myriophyllum spicatum var. capillaceum"]
[null,null,null,"Myriophyllum spicatum var. exalbescens"]
[null,null,null,"Myriophyllum spicatum var. squamosum"]
[null,null,null,"Myriophyllum verticillatum","whorl-leaf watermilfoil"]
[null,null,null,"Myriophyllum verticillatum var. intermedium"]
[null,null,null,"Myriophyllum verticillatum var. pectinatum"]
[null,null,null,"Myriophyllum verticillatum var. pinnatifidum"]
[null,null,null,"Najas flexilis","nodding waternymph"]
[null,null,null,"Caulinia flexilis"]
[null,null,null,"Najas caespitosa"]
[null,null,null,"Najas flexilis ssp. caespitosa"]
[null,null,null,"Najas flexilis var. congesta"]
[null,null,null,"Najas flexilis var. robusta"]
[null,null,null,"Najas gracillima","slender waternymph"]
[null,null,null,"Najas indica var. gracillima"]
[null,null,null,"Najas guadalupensis","southern waternymph"]
[null,null,null,"Najas guadalupensis ssp. guadalupensis","southern waternymph"]
[null,null,null,"Caulinia guadalupensis"]
[null,null,null,"Najas guadalupensis ssp. olivacea","Guadalupe waternymph"]
[null,null,null,"Najas guadalupensis var. olivacea"]
[null,null,null,"Najas olivacea"]
[null,null,null,"Najas marina","spiny naiad"]
[null,null,null,"Najas gracilis"]
[null,null,null,"Najas major"]
[null,null,null,"Najas major var. angustifolia"]
[null,null,null,"Najas marina var. recurvata"]
[null,null,null,"Napaea dioica","glademallow"]
[null,null,null,"Navarretia intertexta","needleleaf navarretia"]
[null,null,null,"Navarretia intertexta ssp. propinqua","near navarretia"]
[null,null,null,"Gilia propinqua"]
[null,null,null,"Navarretia intertexta var. propinqua"]
[null,null,null,"Navarretia propinqua"]
[null,null,null,"Nelumbo lutea","American lotus"]
[null,null,null,"Nelumbium luteum"]
[null,null,null,"Nelumbo pentapetala"]
[null,null,null,"Neobeckia aquatica","lakecress"]
[null,null,null,"Armoracia aquatica"]
[null,null,null,"Armoracia lacustris"]
[null,null,null,"Nasturtium lacustre"]
[null,null,null,"Rorippa americana"]
[null,null,null,"Rorippa aquatica"]
[null,null,null,"Nothocalais cuspidata","prairie false dandelion"]
[null,null,null,"Agoseris cuspidata"]
[null,null,null,"Microseris cuspidata"]
[null,null,null,"Nuphar lutea","yellow pond-lily"]
[null,null,null,"Nuphar lutea ssp. variegata","varigated yellow pond-lily"]
[null,null,null,"Nuphar advena var. fraterna"]
[null,null,null,"Nuphar variegata"]
[null,null,null,"Nymphaea fraterna"]
[null,null,null,"Nuttallanthus canadensis","Canada toadflax"]
[null,null,null,"Linaria canadensis"]
[null,null,null,"Nymphaea odorata","American white waterlily"]
[null,null,null,"Nymphaea odorata ssp. odorata","American white waterlily"]
[null,null,null,"Castalia lekophylla"]
[null,null,null,"Castalia minor"]
[null,null,null,"Castalia odorata"]
[null,null,null,"Castalia reniformis"]
[null,null,null,"Nymphaea minor"]
[null,null,null,"Nymphaea odorata var. gigantea"]
[null,null,null,"Nymphaea odorata var. godfreyi"]
[null,null,null,"Nymphaea odorata var. minor"]
[null,null,null,"Nymphaea odorata var. rosea"]
[null,null,null,"Nymphaea odorata var. stenopetala"]
[null,null,null,"Nymphaea odorata var. villosa"]
[null,null,null,"Nymphaea odorata ssp. tuberosa","American white waterlily"]
[null,null,null,"Castalia tuberosa"]
[null,null,null,"Nymphaea odorata var. maxima"]
[null,null,null,"Nymphaea tuberosa"]
[null,null,null,"Oenothera biennis","common evening primrose"]
[null,null,null,"Oenothera biennis ssp. caeciarum"]
[null,null,null,"Oenothera biennis ssp. centralis"]
[null,null,null,"Oenothera biennis var. pycnocarpa"]
[null,null,null,"Oenothera muricata"]
[null,null,null,"Oenothera pycnocarpa"]
[null,null,null,"Oenothera clelandii","Cleland's evening primrose"]
[null,null,null,"Oenothera rhombipetala"]
[null,null,null,"Oenothera laciniata","cutleaf evening primrose"]
[null,null,null,"Raimannia laciniata"]
[null,null,null,"Oenothera parviflora","northern evening primrose"]
[null,null,null,"Camissonia strigulosa"]
[null,null,null,"Oenothera cruciata"]
[null,null,null,"Oenothera cruciata var. sabulonensis"]
[null,null,null,"Oenothera cymatilis"]
[null,null,null,"Oenothera rubricapitata"]
[null,null,null,"Oenothera perennis","little evening primrose"]
[null,null,null,"Kneiffia perennis"]
[null,null,null,"Kneiffia pumila"]
[null,null,null,"Oenothera perennis var. rectipilis"]
[null,null,null,"Oenothera perennis var. typica"]
[null,null,null,"Oenothera pilosella","meadow evening primrose"]
[null,null,null,"Oenothera pilosella ssp. pilosella","meadow evening primrose"]
[null,null,null,"Kneiffia pratensis"]
[null,null,null,"Kneiffia sumstinei"]
[null,null,null,"Oenothera rhombipetala","fourpoint evening primrose"]
[null,null,null,"Oenothera heterophylla var. rhombipetala"]
[null,null,null,"Raimannia rhombipetala"]
[null,null,null,"Oenothera speciosa","pinkladies"]
[null,null,null,"Hartmannia speciosa"]
[null,null,null,"Oenothera delessertiana"]
[null,null,null,"Oenothera speciosa var. childsii"]
[null,null,null,"Oenothera villosa","hairy evening primrose"]
[null,null,null,"Oenothera villosa ssp. villosa","hairy evening primrose"]
[null,null,null,"Oenothera albinervis"]
[null,null,null,"Oenothera biennis var. canescens"]
[null,null,null,"Oenothera canovirens"]
[null,null,null,"Oenothera depressa"]
[null,null,null,"Oenothera strigosa ssp. canovirens"]
[null,null,null,"Oenothera villosa ssp. canovirens"]
[null,null,null,"Oligoneuron album","prairie goldenrod"]
[null,null,null,"Aster ptarmicoides"]
[null,null,null,"Aster ptarmicoides var. georgianus"]
[null,null,null,"Doellingeria ptarmicoides"]
[null,null,null,"Inula alba"]
[null,null,null,"Solidago asteroides"]
[null,null,null,"Solidago ptarmicoides"]
[null,null,null,"Unamia alba"]
[null,null,null,"Oligoneuron riddellii","Riddell's goldenrod"]
[null,null,null,"Solidago riddellii"]
[null,null,null,"Oligoneuron rigidum","stiff goldenrod"]
[null,null,null,"Oligoneuron rigidum var. humile","stiff goldenrod"]
[null,null,null,"Oligoneuron canescens"]
[null,null,null,"Oligoneuron corymbosum var. humile"]
[null,null,null,"Solidago canescens"]
[null,null,null,"Solidago jacksonii var. humilis"]
[null,null,null,"Solidago parvirigida"]
[null,null,null,"Solidago rigida ssp. humilis"]
[null,null,null,"Solidago rigida var. humilis"]
[null,null,null,"Oligoneuron rigidum var. rigidum","stiff goldenrod"]
[null,null,null,"Oligoneuron grandiflorum"]
[null,null,null,"Solidago grandiflora"]
[null,null,null,"Solidago rigida"]
[null,null,null,"Onoclea sensibilis","sensitive fern"]
[null,null,null,"Onosmodium bejariense","soft-hair marbleseed"]
[null,null,null,"Onosmodium bejariense var. hispidissimum","softhair marbleseed"]
[null,null,null,"Lithospermum carolinianum"]
[null,null,null,"Onosmodium hispidissimum"]
[null,null,null,"Onosmodium hispidissimum var. macrospermum"]
[null,null,null,"Onosmodium molle ssp. hispidissimum"]
[null,null,null,"Onosmodium molle var. hispidissimum"]
[null,null,null,"Onosmodium bejariense var. occidentale","western marbleseed"]
[null,null,null,"Onosmodium molle ssp. occidentale"]
[null,null,null,"Onosmodium molle var. occidentale"]
[null,null,null,"Onosmodium occidentale"]
[null,null,null,"Onosmodium occidentale var. sylvestre"]
[null,null,null,"Ophioglossum pusillum","northern adderstongue"]
[null,null,null,"Ophioglossum vulgatum"]
[null,null,null,"Ophioglossum vulgatum var. alaskanum"]
[null,null,null,"Ophioglossum vulgatum var. pseudopodum"]
[null,null,null,"Orbexilum onobrychis","French-grass"]
[null,null,null,"Psoralea onobrychis"]
[null,null,null,"Orobanche fasciculata","clustered broomrape"]
[null,null,null,"Anoplanthus fasciculatus"]
[null,null,null,"Aphyllon fasciculatum"]
[null,null,null,"Orobanche fasciculata var. franciscana"]
[null,null,null,"Orobanche fasciculata var. lutea"]
[null,null,null,"Orobanche fasciculata var. subulata"]
[null,null,null,"Orobanche fasciculata var. typica"]
[null,null,null,"Thalesia fasciculata"]
[null,null,null,"Thalesia lutea"]
[null,null,null,"Orobanche ludoviciana","Louisiana broomrape"]
[null,null,null,"Orobanche ludoviciana ssp. ludoviciana","Louisiana broomrape"]
[null,null,null,"Aphyllon arenosum"]
[null,null,null,"Conopholis ludoviciana"]
[null,null,null,"Myzorrhiza ludoviciana"]
[null,null,null,"Orobanche ludoviciana var. arenosa"]
[null,null,null,"Orobanche ludoviciana var. genuina"]
[null,null,null,"Orobanche multiflora var. arenosa"]
[null,null,null,"Orobanche uniflora","oneflowered broomrape"]
[null,null,null,"Aphyllon uniflorum"]
[null,null,null,"Orobanche porphyrantha"]
[null,null,null,"Orobanche purpurea"]
[null,null,null,"Orobanche sedii"]
[null,null,null,"Orobanche terrae-novae"]
[null,null,null,"Orobanche uniflora ssp. occidentalis"]
[null,null,null,"Orobanche uniflora var. minuta"]
[null,null,null,"Orobanche uniflora var. occidentalis"]
[null,null,null,"Orobanche uniflora var. purpurea"]
[null,null,null,"Orobanche uniflora var. sedii"]
[null,null,null,"Orobanche uniflora var. terrae-novae"]
[null,null,null,"Orobanche uniflora var. typica"]
[null,null,null,"Thalesia uniflora"]
[null,null,null,"Osmorhiza claytonii","Clayton's sweetroot"]
[null,null,null,"Osmorhiza aristata var. brevistylis"]
[null,null,null,"Washingtonia claytonii"]
[null,null,null,"Osmorhiza longistylis","longstyle sweetroot"]
[null,null,null,"Osmorhiza aristata var. longistylis"]
[null,null,null,"Osmorhiza longistylis var. brachycoma"]
[null,null,null,"Osmorhiza longistylis var. imbarbata"]
[null,null,null,"Osmorhiza longistylis var. villicaulis"]
[null,null,null,"Washingtonia longistylis"]
[null,null,null,"Osmunda cinnamomea","cinnamon fern"]
[null,null,null,"Osmunda cinnamomea var. cinnamomea","cinnamon fern"]
[null,null,null,"Osmunda cinnamomea var. frondosa"]
[null,null,null,"Osmunda cinnamomea var. imbricata"]
[null,null,null,"Osmunda claytoniana","interrupted fern"]
[null,null,null,"Osmunda regalis","royal fern"]
[null,null,null,"Osmunda regalis var. spectabilis","royal fern"]
[null,null,null,"Oxalis albicans","radishroot woodsorrel"]
[null,null,null,"Oxalis albicans ssp. albicans","radishroot woodsorrel"]
[null,null,null,"Oxalis californica var. subglabra"]
[null,null,null,"Oxalis corniculata ssp. albicans"]
[null,null,null,"Oxalis corniculata var. wrightii"]
[null,null,null,"Oxalis pilosa var. wrightii"]
[null,null,null,"Oxalis wrightii"]
[null,null,null,"Xanthoxalis albicans"]
[null,null,null,"Xanthoxalis wrightii"]
[null,null,null,"Oxalis dillenii","slender yellow woodsorrel"]
[null,null,null,"Oxalis brittoniae"]
[null,null,null,"Oxalis corniculata var. dillenii"]
[null,null,null,"Oxalis dillenii ssp. filipes"]
[null,null,null,"Oxalis dillenii var. radicans"]
[null,null,null,"Oxalis filipes"]
[null,null,null,"Oxalis florida"]
[null,null,null,"Oxalis florida ssp. prostrata"]
[null,null,null,"Oxalis florida var. filipes"]
[null,null,null,"Oxalis prostrata"]
[null,null,null,"Oxalis rupestris"]
[null,null,null,"Oxalis stricta"]
[null,null,null,"Xanthoxalis brittoniae"]
[null,null,null,"Xanthoxalis dillenii"]
[null,null,null,"Xanthoxalis filipes"]
[null,null,null,"Xanthoxalis florida"]
[null,null,null,"Oxalis stricta","common yellow oxalis"]
[null,null,null,"Ceratoxalis coloradensis"]
[null,null,null,"Ceratoxalis cymosa"]
[null,null,null,"Oxalis bushii"]
[null,null,null,"Oxalis coloradensis"]
[null,null,null,"Oxalis cymosa"]
[null,null,null,"Oxalis europaea"]
[null,null,null,"Oxalis europaea var. bushii"]
[null,null,null,"Oxalis europaea var. rufa"]
[null,null,null,"Oxalis fontana"]
[null,null,null,"Oxalis fontana var. bushii"]
[null,null,null,"Oxalis interior"]
[null,null,null,"Oxalis rufa"]
[null,null,null,"Oxalis stricta var. decumbens"]
[null,null,null,"Oxalis stricta var. piletocarpa"]
[null,null,null,"Oxalis stricta var. rufa"]
[null,null,null,"Oxalis stricta var. villicaulis"]
[null,null,null,"Xanthoxalis bushii"]
[null,null,null,"Xanthoxalis coloradensis"]
[null,null,null,"Xanthoxalis cymosa"]
[null,null,null,"Xanthoxalis dillenii var. piletocarpa"]
[null,null,null,"Xanthoxalis interior"]
[null,null,null,"Xanthoxalis rufa"]
[null,null,null,"Xanthoxalis stricta"]
[null,null,null,"Xanthoxalis stricta var. piletocarpa"]
[null,null,null,"Oxalis violacea","violet woodsorrel"]
[null,null,null,"Ionoxalis violacea"]
[null,null,null,"Oxalis violacea var. trichophora"]
[null,null,null,"Sassia violacea"]
[null,null,null,"Oxypolis rigidior","stiff cowbane"]
[null,null,null,"Oxypolis longifolia"]
[null,null,null,"Oxypolis rigidior var. ambigua"]
[null,null,null,"Oxypolis rigidior var. longifolia"]
[null,null,null,"Oxypolis turgida"]
[null,null,null,"Oxytropis lambertii","purple locoweed"]
[null,null,null,"Oxytropis lambertii var. lambertii","purple locoweed"]
[null,null,null,"Oxytropis involuta"]
[null,null,null,"Packera aurea","golden ragwort"]
[null,null,null,"Senecio aureus"]
[null,null,null,"Senecio aureus var. aquilonius"]
[null,null,null,"Senecio aureus var. gracilis"]
[null,null,null,"Senecio aureus var. intercursus"]
[null,null,null,"Senecio gracilis"]
[null,null,null,"Packera glabella","butterweed"]
[null,null,null,"Senecio glabellus"]
[null,null,null,"Senecio lobatus"]
[null,null,null,"Packera paupercula","balsam groundsel"]
[null,null,null,"Senecio balsamitae"]
[null,null,null,"Senecio crawfordii"]
[null,null,null,"Senecio gaspensis"]
[null,null,null,"Senecio gaspensis var. firmifolius"]
[null,null,null,"Senecio pauperculus"]
[null,null,null,"Senecio pauperculus var. balsamitae"]
[null,null,null,"Senecio pauperculus var. crawfordii"]
[null,null,null,"Senecio pauperculus var. firmifolius"]
[null,null,null,"Senecio pauperculus var. neoscoticus"]
[null,null,null,"Senecio pauperculus var. praelongus"]
[null,null,null,"Senecio pauperculus var. thompsoniensis"]
[null,null,null,"Senecio tweedyi"]
[null,null,null,"Packera plattensis","prairie groundsel"]
[null,null,null,"Senecio plattensis"]
[null,null,null,"Senecio pseudotomentosus"]
[null,null,null,"Packera pseudaurea","falsegold groundsel"]
[null,null,null,"Packera pseudaurea var. semicordata","falsegold groundsel"]
[null,null,null,"Senecio aureus var. semicordatus"]
[null,null,null,"Senecio pseudaureus ssp. semicordatus"]
[null,null,null,"Senecio pseudaureus var. semicordatus"]
[null,null,null,"Senecio semicordatus"]
[null,null,null,"Panax quinquefolius","American ginseng"]
[null,null,null,"Parietaria pensylvanica","Pennsylvania pellitory"]
[null,null,null,"Parietaria obtusa"]
[null,null,null,"Parietaria occidentalis"]
[null,null,null,"Parietaria pensylvanica var. obtusa"]
[null,null,null,"Parnassia glauca","fen grass of Parnassus"]
[null,null,null,"Parnassia americana"]
[null,null,null,"Paronychia canadensis","smooth forked nailwort"]
[null,null,null,"Anychia canadensis"]
[null,null,null,"Anychia dichotoma"]
[null,null,null,"Paronychia dichotoma"]
[null,null,null,"Paronychia fastigiata","hairy forked nailwort"]
[null,null,null,"Paronychia fastigiata var. fastigiata","hairy forked nailwort"]
[null,null,null,"Anychia polygonoides"]
[null,null,null,"Paronychia fastigiata var. typica"]
[null,null,null,"Parthenium integrifolium","wild quinine"]
[null,null,null,"Parthenium integrifolium var. integrifolium","wild quinine"]
[null,null,null,"Parthenium integrifolium var. henryanum"]
[null,null,null,"Pedicularis canadensis","Canadian lousewort"]
[null,null,null,"Pedicularis canadensis ssp. canadensis","Canadian lousewort"]
[null,null,null,"Pedicularis canadensis var. dobbsii"]
[null,null,null,"Pedicularis gladiata"]
[null,null,null,"Pedicularis lanceolata","swamp lousewort"]
[null,null,null,"Pedicularis auriculata"]
[null,null,null,"Pedicularis pallida"]
[null,null,null,"Pedicularis virginica"]
[null,null,null,"Pediomelum argophyllum","silverleaf Indian breadroot"]
[null,null,null,"Psoralea argophylla"]
[null,null,null,"Psoralea collina"]
[null,null,null,"Psoralidium argophyllum"]
[null,null,null,"Pediomelum esculentum","large Indian breadroot"]
[null,null,null,"Psoralea esculenta"]
[null,null,null,"Pellaea atropurpurea","purple cliffbrake"]
[null,null,null,"Pellaea glabella","smooth cliffbrake"]
[null,null,null,"Pellaea glabella ssp. glabella","smooth cliffbrake"]
[null,null,null,"Pellaea atropurpurea var. bushii"]
[null,null,null,"Peltandra virginica","green arrow arum"]
[null,null,null,"Peltandra tharpii"]
[null,null,null,"Penstemon albidus","white penstemon"]
[null,null,null,"Penstemon cobaea","cobaea beardtongue"]
[null,null,null,"Penstemon cobaea ssp. purpureus"]
[null,null,null,"Penstemon cobaea ssp. typicus"]
[null,null,null,"Penstemon cobaea var. purpureus"]
[null,null,null,"Penstemon digitalis","talus slope penstemon"]
[null,null,null,"Penstemon laevigatus ssp. digitalis"]
[null,null,null,"Penstemon laevigatus var. angulatus"]
[null,null,null,"Penstemon gracilis","lilac penstemon"]
[null,null,null,"Penstemon gracilis var. gracilis","lilac penstemon"]
[null,null,null,"Penstemon glaucus"]
[null,null,null,"Penstemon grandiflorus","large beardtongue"]
[null,null,null,"Penstemon bradburii"]
[null,null,null,"Penstemon pallidus","pale beardtongue"]
[null,null,null,"Penstemon arkansanus var. pubescens"]
[null,null,null,"Penstemon brevisepalus"]
[null,null,null,"Penstemon tubiflorus","white wand beardtongue"]
[null,null,null,"Penstemon tubiflorus var. tubiflorus","white wand beardtongue"]
[null,null,null,"Penthorum sedoides","ditch stonecrop"]
[null,null,null,"Phacelia bipinnatifida","fernleaf phacelia"]
[null,null,null,"Phacelia bipinnatifida var. plummeri"]
[null,null,null,"Phacelia brevistyla"]
[null,null,null,"Phaseolus polystachios","thicket bean"]
[null,null,null,"Phaseolus polystachios var. polystachios","thicket bean"]
[null,null,null,"Phaseolus polystachios var. aquilonius"]
[null,null,null,"Phaseolus smilacifolius"]
[null,null,null,"Phegopteris connectilis","long beechfern"]
[null,null,null,"Dryopteris phegopteris"]
[null,null,null,"Lastrea phegopteris"]
[null,null,null,"Phegopteris polypodioides"]
[null,null,null,"Thelypteris phegopteris"]
[null,null,null,"Phegopteris hexagonoptera","broad beechfern"]
[null,null,null,"Dryopteris hexagonoptera"]
[null,null,null,"Thelypteris hexagonoptera"]
[null,null,null,"Phemeranthus parviflorus","sunbright"]
[null,null,null,"Talinum appalachianum"]
[null,null,null,"Talinum parviflorum"]
[null,null,null,"Phemeranthus rugospermus","prairie fameflower"]
[null,null,null,"Talinum rugospermum"]
[null,null,null,"Phlox divaricata","wild blue phlox"]
[null,null,null,"Phlox divaricata ssp. laphamii","Lapham's phlox"]
[null,null,null,"Phlox divaricata var. laphamii"]
[null,null,null,"Phlox maculata","wild sweetwilliam"]
[null,null,null,"Phlox maculata ssp. maculata","wild sweetwilliam"]
[null,null,null,"Phlox maculata var. odorata"]
[null,null,null,"Phlox paniculata","fall phlox"]
[null,null,null,"Phlox pilosa","downy phlox"]
[null,null,null,"Phlox pilosa ssp. fulgida","downy phlox"]
[null,null,null,"Phlox pilosa var. fulgida"]
[null,null,null,"Phlox pilosa ssp. pilosa","downy phlox"]
[null,null,null,"Phlox argillacea"]
[null,null,null,"Phlox pilosa var. virens"]
[null,null,null,"Phlox villosissima"]
[null,null,null,"Phlox subulata","moss phlox"]
[null,null,null,"Phlox subulata ssp. subulata","moss phlox"]
[null,null,null,"Phryma leptostachya","American lopseed"]
[null,null,null,"Phryma leptostachya var. confertifolia"]
[null,null,null,"Phyla lanceolata","lanceleaf fogfruit"]
[null,null,null,"Lippia lanceolata"]
[null,null,null,"Lippia lanceolata var. recognita"]
[null,null,null,"Phyla lanceolata var. recognita"]
[null,null,null,"Physalis grisea","strawberry-tomato"]
[null,null,null,"Physalis pruinosa"]
[null,null,null,"Physalis pubescens var. grisea"]
[null,null,null,"Physalis heterophylla","clammy groundcherry"]
[null,null,null,"Physalis heterophylla var. heterophylla","clammy groundcherry"]
[null,null,null,"Physalis ambigua"]
[null,null,null,"Physalis heterophylla var. ambigua"]
[null,null,null,"Physalis heterophylla var. clavipes"]
[null,null,null,"Physalis heterophylla var. nyctaginea"]
[null,null,null,"Physalis heterophylla var. villosa"]
[null,null,null,"Physalis nyctaginea"]
[null,null,null,"Physalis sinuata"]
[null,null,null,"Physalis hispida","prairie groundcherry"]
[null,null,null,"Physalis lanceolata"]
[null,null,null,"Physalis longifolia var. hispida"]
[null,null,null,"Physalis pumila ssp. hispida"]
[null,null,null,"Physalis virginiana var. hispida"]
[null,null,null,"Physalis longifolia","longleaf groundcherry"]
[null,null,null,"Physalis longifolia var. longifolia","longleaf groundcherry"]
[null,null,null,"Physalis pumila var. sonorae"]
[null,null,null,"Physalis rigida"]
[null,null,null,"Physalis virginiana var. sonorae"]
[null,null,null,"Physalis longifolia var. subglabrata","longleaf groundcherry"]
[null,null,null,"Physalis macrophysa"]
[null,null,null,"Physalis subglabrata"]
[null,null,null,"Physalis virginiana var. subglabrata"]
[null,null,null,"Physalis pubescens","husk tomato"]
[null,null,null,"Physalis pubescens var. integrifolia","husk tomato"]
[null,null,null,"Physalis pruinosa"]
[null,null,null,"Physalis pubescens var. pubescens","husk tomato"]
[null,null,null,"Physalis barbadensis"]
[null,null,null,"Physalis floridana"]
[null,null,null,"Physalis pumila","dwarf groundcherry"]
[null,null,null,"Physalis virginiana","Virginia groundcherry"]
[null,null,null,"Physalis virginiana var. virginiana","Virginia groundcherry"]
[null,null,null,"Physalis intermedia"]
[null,null,null,"Physalis lanceolata"]
[null,null,null,"Physalis monticola"]
[null,null,null,"Physostegia parviflora","western false dragonhead"]
[null,null,null,"Dracocephalum nuttallii"]
[null,null,null,"Physostegia nuttallii"]
[null,null,null,"Physostegia virginiana var. parviflora"]
[null,null,null,"Physostegia virginiana","obedient plant"]
[null,null,null,"Physostegia virginiana ssp. praemorsa","obedient plant"]
[null,null,null,"Physostegia praemorsa"]
[null,null,null,"Physostegia serotina"]
[null,null,null,"Physostegia virginiana var. arenaria"]
[null,null,null,"Physostegia virginiana var. reducta"]
[null,null,null,"Physostegia virginiana ssp. virginiana","obedient plant"]
[null,null,null,"Dracocephalum denticulatum"]
[null,null,null,"Dracocephalum formosius"]
[null,null,null,"Dracocephalum virginianum"]
[null,null,null,"Physostegia denticulata"]
[null,null,null,"Physostegia formosior"]
[null,null,null,"Physostegia speciosa"]
[null,null,null,"Physostegia virginiana var. elongata"]
[null,null,null,"Physostegia virginiana var. formosior"]
[null,null,null,"Physostegia virginiana var. granulosa"]
[null,null,null,"Physostegia virginiana var. speciosa"]
[null,null,null,"Phytolacca americana","American pokeweed"]
[null,null,null,"Phytolacca americana var. americana","American pokeweed"]
[null,null,null,"Phytolacca decandra"]
[null,null,null,"Pilea fontana","lesser clearweed"]
[null,null,null,"Adicea fontana"]
[null,null,null,"Pilea opaca"]
[null,null,null,"Pilea pumila","Canadian clearweed"]
[null,null,null,"Pilea pumila var. deamii","Deam's clearweed"]
[null,null,null,"Pilea pumila var. pumila","Canadian clearweed"]
[null,null,null,"Adicea pumila"]
[null,null,null,"Urtica pumila"]
[null,null,null,"Plantago aristata","largebracted plantain"]
[null,null,null,"Plantago aristata var. nuttallii"]
[null,null,null,"Plantago patagonica var. aristata"]
[null,null,null,"Plantago cordata","heartleaf plantain"]
[null,null,null,"Plantago eriopoda","redwool plantain"]
[null,null,null,"Plantago shastensis"]
[null,null,null,"Plantago patagonica","woolly plantain"]
[null,null,null,"Plantago patagonica var. breviscapa"]
[null,null,null,"Plantago patagonica var. gnaphalioides"]
[null,null,null,"Plantago patagonica var. oblonga"]
[null,null,null,"Plantago patagonica var. spinulosa"]
[null,null,null,"Plantago picta"]
[null,null,null,"Plantago purshii"]
[null,null,null,"Plantago purshii var. breviscapa"]
[null,null,null,"Plantago purshii var. oblonga"]
[null,null,null,"Plantago purshii var. picta"]
[null,null,null,"Plantago purshii var. spinulosa"]
[null,null,null,"Plantago spinulosa"]
[null,null,null,"Plantago wyomingensis"]
[null,null,null,"Plantago rugelii","blackseed plantain"]
[null,null,null,"Plantago rugelii var. rugelii","blackseed plantain"]
[null,null,null,"Plantago virginica","Virginia plantain"]
[null,null,null,"Plantago virginica var. viridescens"]
[null,null,null,"Platanthera aquilonis","northern green orchid"]
[null,null,null,"Habenaria hyperborea"]
[null,null,null,"Platanthera hyperborea"]
[null,null,null,"Platanthera clavellata","small green wood orchid"]
[null,null,null,"Gymnadeniopsis clavellata"]
[null,null,null,"Habenaria clavellata"]
[null,null,null,"Habenaria clavellata var. ophioglossoides"]
[null,null,null,"Habenaria clavellata var. wrightii"]
[null,null,null,"Platanthera dilatata","scentbottle"]
[null,null,null,"Platanthera dilatata var. dilatata","scentbottle"]
[null,null,null,"Habenaria dilatata"]
[null,null,null,"Limnorchis dilatata"]
[null,null,null,"Platanthera dilatata var. angustifolia"]
[null,null,null,"Platanthera flava","palegreen orchid"]
[null,null,null,"Platanthera flava var. herbiola","palegreen orchid"]
[null,null,null,"Habenaria flava var. herbiola"]
[null,null,null,"Habenaria flava var. virescens"]
[null,null,null,"Platanthera hookeri","Hooker's orchid"]
[null,null,null,"Habenaria hookeri"]
[null,null,null,"Habenaria hookeri var. abbreviata"]
[null,null,null,"Lysias hookeriana"]
[null,null,null,"Platanthera huronensis","Huron green orchid"]
[null,null,null,"Habenaria huronensis"]
[null,null,null,"Habenaria hyperborea var. huronensis"]
[null,null,null,"Platanthera hyperborea var. huronensis"]
[null,null,null,"Platanthera hyperborea var. major"]
[null,null,null,"Platanthera lacera","green fringed orchid"]
[null,null,null,"Blephariglotis lacera"]
[null,null,null,"Habenaria lacera"]
[null,null,null,"Platanthera leucophaea","prairie white fringed orchid"]
[null,null,null,"Blephariglotis leucophaea"]
[null,null,null,"Habenaria leucophaea"]
[null,null,null,"Platanthera praeclara","Great Plains white fringed orchid"]
[null,null,null,"Habenaria leucophaea var. praeclara"]
[null,null,null,"Platanthera psycodes","lesser purple fringed orchid"]
[null,null,null,"Blephariglotis psycodes"]
[null,null,null,"Habenaria psycodes"]
[null,null,null,"Podophyllum peltatum","mayapple"]
[null,null,null,"Polanisia dodecandra","redwhisker clammyweed"]
[null,null,null,"Polanisia dodecandra ssp. dodecandra","redwhisker clammyweed"]
[null,null,null,"Polanisia graveolens"]
[null,null,null,"Polanisia dodecandra ssp. trachysperma","sandyseed clammyweed"]
[null,null,null,"Polanisia dodecandra var. trachysperma"]
[null,null,null,"Polanisia trachysperma"]
[null,null,null,"Polanisia jamesii","James' clammyweed"]
[null,null,null,"Cristatella jamesii"]
[null,null,null,"Polemonium reptans","Greek valerian"]
[null,null,null,"Polemonium reptans var. reptans","Greek valerian"]
[null,null,null,"Polygala cruciata","drumheads"]
[null,null,null,"Polygala cruciata var. aquilonia","drumheads"]
[null,null,null,"Polygala incarnata","procession flower"]
[null,null,null,"Galypola incarnata"]
[null,null,null,"Polygala polygama","racemed milkwort"]
[null,null,null,"Polygala aboriginum"]
[null,null,null,"Polygala polygama var. obtusata"]
[null,null,null,"Polygala polygama var. ramulosa"]
[null,null,null,"Polygala sanguinea","purple milkwort"]
[null,null,null,"Polygala viridescens"]
[null,null,null,"Polygala senega","Seneca snakeroot"]
[null,null,null,"Polygala senega var. latifolia"]
[null,null,null,"Polygala verticillata","whorled milkwort"]
[null,null,null,"Polygala verticillata var. isocycla","whorled milkwort"]
[null,null,null,"Polygala verticillata var. sphenostachya"]
[null,null,null,"Polygonatum biflorum","smooth Solomon's seal"]
[null,null,null,"Polygonatum biflorum var. commutatum","smooth Solomon's seal"]
[null,null,null,"Convallaria biflora"]
[null,null,null,"Polygonatum canaliculatum"]
[null,null,null,"Polygonatum commutatum"]
[null,null,null,"Polygonatum pubescens","hairy Solomon's seal"]
[null,null,null,"Convallaria pubescens"]
[null,null,null,"Polygonella articulata","coastal jointweed"]
[null,null,null,"Delopyrum articulatum"]
[null,null,null,"Polygonum articulatum"]
[null,null,null,"Polygonum achoreum","leathery knotweed"]
[null,null,null,"Polygonum erectum ssp. achoreum"]
[null,null,null,"Polygonum amphibium","water knotweed"]
[null,null,null,"Polygonum amphibium var. emersum","longroot smartweed"]
[null,null,null,"Persicaria amphibia"]
[null,null,null,"Persicaria amphibia var. emersa"]
[null,null,null,"Persicaria coccinea"]
[null,null,null,"Persicaria muehlenbergii"]
[null,null,null,"Polygonum amphibium var. coccineum"]
[null,null,null,"Polygonum coccineum"]
[null,null,null,"Polygonum coccineum var. pratincola"]
[null,null,null,"Polygonum coccineum var. terrestre"]
[null,null,null,"Polygonum muehlenbergii"]
[null,null,null,"Polygonum muehlenbergii var. terrestre"]
[null,null,null,"Polygonum amphibium var. stipulaceum","water smartweed"]
[null,null,null,"Persicaria amphibia var. stipulacea"]
[null,null,null,"Persicaria mesochora"]
[null,null,null,"Persicaria nebraskensis"]
[null,null,null,"Polygonum amphibium ssp. laevimarginatum"]
[null,null,null,"Polygonum amphibium var. hartwrightii"]
[null,null,null,"Polygonum coccineum var. rigidulum"]
[null,null,null,"Polygonum fluitans"]
[null,null,null,"Polygonum hartwrightii"]
[null,null,null,"Polygonum inundatum"]
[null,null,null,"Polygonum natans"]
[null,null,null,"Polygonum bellardii","narrowleaf knotweed"]
[null,null,null,"Polygonum aviculare var. angustissimum"]
[null,null,null,"Polygonum neglectum"]
[null,null,null,"Polygonum provinciale"]
[null,null,null,"Polygonum rurivagum"]
[null,null,null,"Polygonum buxiforme","box knotweed"]
[null,null,null,"Polygonum aviculare var. littorale"]
[null,null,null,"Polygonum littorale"]
[null,null,null,"Polygonum douglasii","Douglas' knotweed"]
[null,null,null,"Polygonum douglasii ssp. douglasii","Douglas' knotweed"]
[null,null,null,"Polygonum buxiforme var. montanum"]
[null,null,null,"Polygonum douglasii var. latifolium"]
[null,null,null,"Polygonum emaciatum"]
[null,null,null,"Polygonum montanum"]
[null,null,null,"Polygonum erectum","erect knotweed"]
[null,null,null,"Polygonum aviculare var. erectum"]
[null,null,null,"Polygonum hydropiperoides","swamp smartweed"]
[null,null,null,"Persicaria hydropiperoides"]
[null,null,null,"Persicaria hydropiperoides var. breviciliata"]
[null,null,null,"Persicaria hydropiperoides var. euronotora"]
[null,null,null,"Persicaria hydropiperoides var. opelousana"]
[null,null,null,"Persicaria opelousana"]
[null,null,null,"Persicaria paludicola"]
[null,null,null,"Persicaria persicarioides"]
[null,null,null,"Polygonum hydropiperoides var. adenocalyx"]
[null,null,null,"Polygonum hydropiperoides var. asperifolium"]
[null,null,null,"Polygonum hydropiperoides var. breviciliatum"]
[null,null,null,"Polygonum hydropiperoides var. bushianum"]
[null,null,null,"Polygonum hydropiperoides var. digitatum"]
[null,null,null,"Polygonum hydropiperoides var. euronotorum"]
[null,null,null,"Polygonum hydropiperoides var. opelousanum"]
[null,null,null,"Polygonum hydropiperoides var. psilostachyum"]
[null,null,null,"Polygonum hydropiperoides var. strigosum"]
[null,null,null,"Polygonum opelousanum"]
[null,null,null,"Polygonum opelousanum var. adenocalyx"]
[null,null,null,"Polygonum persicarioides"]
[null,null,null,"Polygonum lapathifolium","curlytop knotweed"]
[null,null,null,"Persicaria incarnata"]
[null,null,null,"Persicaria lapathifolia"]
[null,null,null,"Persicaria tomentosa"]
[null,null,null,"Polygonum incanum"]
[null,null,null,"Polygonum incarnatum"]
[null,null,null,"Polygonum lapathifolium ssp. pallidum"]
[null,null,null,"Polygonum lapathifolium var. incanum"]
[null,null,null,"Polygonum lapathifolium var. nodosum"]
[null,null,null,"Polygonum lapathifolium var. ovatum"]
[null,null,null,"Polygonum lapathifolium var. prostratum"]
[null,null,null,"Polygonum lapathifolium var. salicifolium"]
[null,null,null,"Polygonum nodosum"]
[null,null,null,"Polygonum oneillii"]
[null,null,null,"Polygonum pensylvanicum ssp. oneillii"]
[null,null,null,"Polygonum scabrum"]
[null,null,null,"Polygonum tomentosum"]
[null,null,null,"Polygonum pensylvanicum","Pennsylvania smartweed"]
[null,null,null,"Persicaria bicornis"]
[null,null,null,"Persicaria longistyla"]
[null,null,null,"Persicaria mississippiensis"]
[null,null,null,"Persicaria pensylvanica"]
[null,null,null,"Persicaria pensylvanica var. dura"]
[null,null,null,"Polygonum bicorne"]
[null,null,null,"Polygonum longistylum"]
[null,null,null,"Polygonum longistylum var. omissum"]
[null,null,null,"Polygonum mexicanum"]
[null,null,null,"Polygonum mississippiense"]
[null,null,null,"Polygonum mississippiense var. interius"]
[null,null,null,"Polygonum pensylvanicum var. durum"]
[null,null,null,"Polygonum pensylvanicum var. eglandulosum"]
[null,null,null,"Polygonum pensylvanicum var. genuinum"]
[null,null,null,"Polygonum pensylvanicum var. laevigatum"]
[null,null,null,"Polygonum pensylvanicum var. rosiflorum"]
[null,null,null,"Polygonum punctatum","dotted smartweed"]
[null,null,null,"Polygonum punctatum var. confertiflorum","dotted smartweed"]
[null,null,null,"Persicaria punctata var. leptostachya"]
[null,null,null,"Polygonum punctatum var. leptostachyum"]
[null,null,null,"Polygonum punctatum var. parvum"]
[null,null,null,"Polygonum punctatum var. punctatum","dotted smartweed"]
[null,null,null,"Persicaria punctata"]
[null,null,null,"Persicaria punctata var. eciliata"]
[null,null,null,"Polygonum acre"]
[null,null,null,"Polygonum punctatum var. aquatile"]
[null,null,null,"Polygonum punctatum var. ellipticum"]
[null,null,null,"Polygonum punctatum var. parviflorum"]
[null,null,null,"Polygonum ramosissimum","bushy knotweed"]
[null,null,null,"Polygonum ramosissimum var. ramosissimum","bushy knotweed"]
[null,null,null,"Polygonum allocarpum"]
[null,null,null,"Polygonum atlanticum"]
[null,null,null,"Polygonum autumnale"]
[null,null,null,"Polygonum exsertum"]
[null,null,null,"Polygonum interius"]
[null,null,null,"Polygonum triangulum"]
[null,null,null,"Polygonum sagittatum","arrowleaf tearthumb"]
[null,null,null,"Persicaria sagittata"]
[null,null,null,"Polygonum sagittatum var. gracilentum"]
[null,null,null,"Tracaulon sagittatum"]
[null,null,null,"Tracaulon sagittatum var. gracilentum"]
[null,null,null,"Truellum sagittatum"]
[null,null,null,"Polygonum scandens","climbing false buckwheat"]
[null,null,null,"Polygonum scandens var. cristatum","climbing false buckwheat"]
[null,null,null,"Bilderdykia cristata"]
[null,null,null,"Bilderdykia scandens var. cristata"]
[null,null,null,"Polygonum cristatum"]
[null,null,null,"Reynoutria scandens var. cristata"]
[null,null,null,"Tiniaria cristata"]
[null,null,null,"Polygonum scandens var. dumetorum","climbing false buckwheat"]
[null,null,null,"Bilderdykia dumetorum"]
[null,null,null,"Polygonum dumetorum"]
[null,null,null,"Reynoutria scandens var. dumetorum"]
[null,null,null,"Tiniaria dumetorum"]
[null,null,null,"Polygonum tenue","pleatleaf knotweed"]
[null,null,null,"Polygonum tenue var. protrusum"]
[null,null,null,"Polygonum virginianum","jumpseed"]
[null,null,null,"Antenoron virginianum"]
[null,null,null,"Persicaria virginiana"]
[null,null,null,"Polygonum virginianum var. glaberrimum"]
[null,null,null,"Tovara virginiana"]
[null,null,null,"Tovara virginiana var. glaberrima"]
[null,null,null,"Polymnia canadensis","whiteflower leafcup"]
[null,null,null,"Polymnia canadensis var. radiata"]
[null,null,null,"Polymnia radiata"]
[null,null,null,"Polypodium virginianum","rock polypody"]
[null,null,null,"Polypodium vulgare"]
[null,null,null,"Polypodium vulgare var. virginianum"]
[null,null,null,"Polystichum acrostichoides","Christmas fern"]
[null,null,null,"Polystichum acrostichoides var. acrostichoides","Christmas fern"]
[null,null,null,"Polystichum acrostichoides var. schweinitzii"]
[null,null,null,"Polytaenia nuttallii","Nuttall's prairie parsley"]
[null,null,null,"Pleiotaenia nuttallii"]
[null,null,null,"Pontederia cordata","pickerelweed"]
[null,null,null,"Pontederia cordata var. angustifolia"]
[null,null,null,"Pontederia cordata var. lanceolata"]
[null,null,null,"Pontederia cordata var. lancifolia"]
[null,null,null,"Pontederia lanceolata"]
[null,null,null,"Portulaca oleracea","little hogweed"]
[null,null,null,"Portulaca neglecta"]
[null,null,null,"Portulaca oleracea ssp. granulatostellulata"]
[null,null,null,"Portulaca oleracea ssp. impolita"]
[null,null,null,"Portulaca oleracea ssp. nicaraguensis"]
[null,null,null,"Portulaca oleracea ssp. nitida"]
[null,null,null,"Portulaca oleracea ssp. papillatostellulata"]
[null,null,null,"Portulaca oleracea ssp. stellata"]
[null,null,null,"Portulaca retusa"]
[null,null,null,"Potamogeton amplifolius","largeleaf pondweed"]
[null,null,null,"Potamogeton diversifolius","waterthread pondweed"]
[null,null,null,"Potamogeton capillaceus"]
[null,null,null,"Potamogeton capillaceus var. atripes"]
[null,null,null,"Potamogeton diversifolius var. multidenticulatus"]
[null,null,null,"Potamogeton epihydrus","ribbonleaf pondweed"]
[null,null,null,"Potamogeton epihydrus ssp. nuttallii"]
[null,null,null,"Potamogeton epihydrus var. nuttallii"]
[null,null,null,"Potamogeton epihydrus var. ramosus"]
[null,null,null,"Potamogeton foliosus","leafy pondweed"]
[null,null,null,"Potamogeton foliosus ssp. foliosus","leafy pondweed"]
[null,null,null,"Potamogeton curtissii"]
[null,null,null,"Potamogeton foliosus var. foliosus"]
[null,null,null,"Potamogeton foliosus var. genuinus"]
[null,null,null,"Potamogeton foliosus var. macellus"]
[null,null,null,"Potamogeton friesii","Fries' pondweed"]
[null,null,null,"Potamogeton gramineus","variableleaf pondweed"]
[null,null,null,"Potamogeton gramineus var. graminifolius"]
[null,null,null,"Potamogeton gramineus var. maximus"]
[null,null,null,"Potamogeton gramineus var. myriophyllus"]
[null,null,null,"Potamogeton gramineus var. typicus"]
[null,null,null,"Potamogeton illinoensis","Illinois pondweed"]
[null,null,null,"Potamogeton angustifolius"]
[null,null,null,"Potamogeton heterophyllus"]
[null,null,null,"Potamogeton lucens"]
[null,null,null,"Potamogeton natans","floating pondweed"]
[null,null,null,"Potamogeton nodosus","longleaf pondweed"]
[null,null,null,"Potamogeton americanus"]
[null,null,null,"Potamogeton fluitans"]
[null,null,null,"Potamogeton praelongus","whitestem pondweed"]
[null,null,null,"Potamogeton praelongus var. angustifolius"]
[null,null,null,"Potamogeton pusillus","small pondweed"]
[null,null,null,"Potamogeton pusillus ssp. pusillus","small pondweed"]
[null,null,null,"Potamogeton lateralis"]
[null,null,null,"Potamogeton panormitanus"]
[null,null,null,"Potamogeton panormitanus var. major"]
[null,null,null,"Potamogeton panormitanus var. minor"]
[null,null,null,"Potamogeton pusillus var. minor"]
[null,null,null,"Potamogeton pusillus var. pusillus"]
[null,null,null,"Potamogeton pusillus ssp. tenuissimus","small pondweed"]
[null,null,null,"Potamogeton berchtoldii"]
[null,null,null,"Potamogeton berchtoldii var. acuminatus"]
[null,null,null,"Potamogeton berchtoldii var. colpophilus"]
[null,null,null,"Potamogeton berchtoldii var. lacunatus"]
[null,null,null,"Potamogeton berchtoldii var. mucronatus"]
[null,null,null,"Potamogeton berchtoldii var. polyphyllus"]
[null,null,null,"Potamogeton berchtoldii var. tenuissimus"]
[null,null,null,"Potamogeton pusillus var. mucronatus"]
[null,null,null,"Potamogeton pusillus var. tenuissimus"]
[null,null,null,"Potamogeton richardsonii","Richardson's pondweed"]
[null,null,null,"Potamogeton perfoliatus ssp. richardsonii"]
[null,null,null,"Potamogeton perfoliatus var. richardsonii"]
[null,null,null,"Potamogeton ×spathuliformis"]
[null,null,null,"Potamogeton varians"]
[null,null,null,"Potamogeton spirillus","spiral pondweed"]
[null,null,null,"Potamogeton dimorphus"]
[null,null,null,"Potamogeton strictifolius","narrowleaf pondweed"]
[null,null,null,"Potamogeton longiligulatus"]
[null,null,null,"Potamogeton pusillus var. rutiloides"]
[null,null,null,"Potamogeton rutilus"]
[null,null,null,"Potamogeton strictifolius var. rutiloides"]
[null,null,null,"Potamogeton strictifolius var. typicus"]
[null,null,null,"Potamogeton vaseyi","Vasey's pondweed"]
[null,null,null,"Potamogeton lateralis"]
[null,null,null,"Potamogeton zosteriformis","flatstem pondweed"]
[null,null,null,"Potamogeton compressus"]
[null,null,null,"Potamogeton zosterifolius ssp. zosteriformis"]
[null,null,null,"Potentilla arguta","tall cinquefoil"]
[null,null,null,"Potentilla arguta ssp. arguta","tall cinquefoil"]
[null,null,null,"Drymocallis agrimonioides"]
[null,null,null,"Drymocallis arguta"]
[null,null,null,"Geum agrimonioides"]
[null,null,null,"Potentilla canadensis","dwarf cinquefoil"]
[null,null,null,"Potentilla canadensis var. canadensis","dwarf cinquefoil"]
[null,null,null,"Potentilla caroliniana"]
[null,null,null,"Potentilla pumila"]
[null,null,null,"Potentilla norvegica","Norwegian cinquefoil"]
[null,null,null,"Potentilla norvegica ssp. monspeliensis","Norwegian cinquefoil"]
[null,null,null,"Potentilla monspeliensis"]
[null,null,null,"Potentilla norvegica ssp. hirsuta"]
[null,null,null,"Potentilla norvegica var. hirsuta"]
[null,null,null,"Potentilla norvegica var. labradorica"]
[null,null,null,"Potentilla paradoxa","Paradox cinquefoil"]
[null,null,null,"Potentilla nicolletii"]
[null,null,null,"Potentilla supina ssp. paradoxa"]
[null,null,null,"Potentilla pensylvanica","Pennsylvania cinquefoil"]
[null,null,null,"Potentilla pensylvanica var. pensylvanica","Pennsylvania cinquefoil"]
[null,null,null,"Potentilla atrovirens"]
[null,null,null,"Potentilla bipinnatifida var. glabrata"]
[null,null,null,"Potentilla glabella"]
[null,null,null,"Potentilla pensylvanica var. atrovirens"]
[null,null,null,"Potentilla pensylvanica var. glabrata"]
[null,null,null,"Potentilla pensylvanica var. ovium"]
[null,null,null,"Potentilla pensylvanica var. strigosa"]
[null,null,null,"Potentilla platyloba"]
[null,null,null,"Potentilla pseudosericea"]
[null,null,null,"Potentilla strigosa"]
[null,null,null,"Potentilla rivalis","brook cinquefoil"]
[null,null,null,"Potentilla leucocarpa"]
[null,null,null,"Potentilla millegrana"]
[null,null,null,"Potentilla pentandra"]
[null,null,null,"Potentilla rivalis var. millegrana"]
[null,null,null,"Potentilla rivalis var. pentandra"]
[null,null,null,"Potentilla rivalis var. rivalis"]
[null,null,null,"Potentilla simplex","common cinquefoil"]
[null,null,null,"Potentilla simplex var. argyrisma"]
[null,null,null,"Potentilla simplex var. calvescens"]
[null,null,null,"Potentilla simplex var. typica"]
[null,null,null,"Prenanthes alba","white rattlesnakeroot"]
[null,null,null,"Nabalus albus"]
[null,null,null,"Prenanthes aspera","rough rattlesnakeroot"]
[null,null,null,"Nabalus asperus"]
[null,null,null,"Prenanthes racemosa","purple rattlesnakeroot"]
[null,null,null,"Prenanthes racemosa var. multiflora","purple rattlesnakeroot"]
[null,null,null,"Prenanthes racemosa ssp. multiflora"]
[null,null,null,"Prenanthes racemosa var. racemosa","purple rattlesnakeroot"]
[null,null,null,"Nabalus racemosus"]
[null,null,null,"Prenanthes racemosa ssp. racemosa"]
[null,null,null,"Prenanthes racemosa var. pinnatifida"]
[null,null,null,"Primula mistassinica","Mistassini primrose"]
[null,null,null,"Primula intercedens"]
[null,null,null,"Primula mistassinica var. intercedens"]
[null,null,null,"Primula mistassinica var. noveboracensis"]
[null,null,null,"Proboscidea louisianica","ram's horn"]
[null,null,null,"Proboscidea louisiana"]
[null,null,null,"Proboscidea louisianica ssp. louisianica","ram's horn"]
[null,null,null,"Martynia louisiana"]
[null,null,null,"Martynia louisianica"]
[null,null,null,"Martynia proboscidea"]
[null,null,null,"Proboscidea jussieui"]
[null,null,null,"Proserpinaca palustris","marsh mermaidweed"]
[null,null,null,"Proserpinaca palustris var. crebra","marsh mermaidweed"]
[null,null,null,"Prunella vulgaris","common selfheal"]
[null,null,null,"Prunella vulgaris ssp. lanceolata","lance selfheal"]
[null,null,null,"Prunella vulgaris var. elongata"]
[null,null,null,"Prunella vulgaris var. lanceolata"]
[null,null,null,"Prunella vulgaris ssp. vulgaris","common selfheal"]
[null,null,null,"Prunella caroliniana"]
[null,null,null,"Prunella vulgaris var. atropurpurea"]
[null,null,null,"Prunella vulgaris var. calvescens"]
[null,null,null,"Prunella vulgaris var. hispida"]
[null,null,null,"Prunella vulgaris var. minor"]
[null,null,null,"Prunella vulgaris var. nana"]
[null,null,null,"Prunella vulgaris var. parviflora"]
[null,null,null,"Prunella vulgaris var. rouleauiana"]
[null,null,null,"Prunella vulgaris var. vulgaris"]
[null,null,null,"Pseudognaphalium obtusifolium","rabbit-tobacco"]
[null,null,null,"Pseudognaphalium obtusifolium ssp. obtusifolium","rabbit-tobacco"]
[null,null,null,"Gnaphalium obtusifolium"]
[null,null,null,"Psoralidium lanceolatum","lemon scurfpea"]
[null,null,null,"Psoralea lanceolata"]
[null,null,null,"Psoralea lanceolata ssp. scabra"]
[null,null,null,"Psoralea lanceolata var. purshii"]
[null,null,null,"Psoralea lanceolata var. stenophylla"]
[null,null,null,"Psoralea lanceolata var. stenostachys"]
[null,null,null,"Psoralea micrantha"]
[null,null,null,"Psoralea scabra"]
[null,null,null,"Psoralea stenostachys"]
[null,null,null,"Psoralidium lanceolatum var. stenophyllum"]
[null,null,null,"Psoralidium lanceolatum var. stenostachys"]
[null,null,null,"Psoralidium stenophyllum"]
[null,null,null,"Psoralidium tenuiflorum","slimflower scurfpea"]
[null,null,null,"Psoralea floribunda"]
[null,null,null,"Psoralea obtusifolia"]
[null,null,null,"Psoralea tenuiflora"]
[null,null,null,"Psoralea tenuiflora var. bigelovii"]
[null,null,null,"Psoralea tenuiflora var. floribunda"]
[null,null,null,"Psoralidium batesii"]
[null,null,null,"Pteridium aquilinum","western brackenfern"]
[null,null,null,"Pteridium aquilinum var. latiusculum","western brackenfern"]
[null,null,null,"Pteridium latiusculum"]
[null,null,null,"Pulsatilla patens","eastern pasqueflower"]
[null,null,null,"Pulsatilla patens ssp. multifida","cutleaf anemone"]
[null,null,null,"Anemone ludoviciana"]
[null,null,null,"Anemone multifida"]
[null,null,null,"Anemone nuttalliana"]
[null,null,null,"Anemone patens var. multifida"]
[null,null,null,"Anemone patens var. nuttalliana"]
[null,null,null,"Anemone patens var. wolfgangiana"]
[null,null,null,"Pulsatilla hirsutissima"]
[null,null,null,"Pulsatilla ludoviciana"]
[null,null,null,"Pulsatilla nuttalliana"]
[null,null,null,"Pulsatilla patens ssp. hirsutissima"]
[null,null,null,"Pycnanthemum tenuifolium","narrowleaf mountainmint"]
[null,null,null,"Koellia flexuosa"]
[null,null,null,"Pycnanthemum flexuosum"]
[null,null,null,"Pycnanthemum verticillatum","whorled mountainmint"]
[null,null,null,"Pycnanthemum verticillatum var. pilosum","whorled mountainmint"]
[null,null,null,"Koellia pilosa"]
[null,null,null,"Pycnanthemum pilosum"]
[null,null,null,"Pycnanthemum virginianum","Virginia mountainmint"]
[null,null,null,"Koellia virginiana"]
[null,null,null,"Pyrrhopappus carolinianus","Carolina desert-chicory"]
[null,null,null,"Pyrrhopappus carolinianus var. georgianus"]
[null,null,null,"Pyrrhopappus georgianus"]
[null,null,null,"Sitilias caroliniana"]
[null,null,null,"Ranunculus abortivus","littleleaf buttercup"]
[null,null,null,"Ranunculus abortivus ssp. acrolasius"]
[null,null,null,"Ranunculus abortivus var. acrolasius"]
[null,null,null,"Ranunculus abortivus var. eucyclus"]
[null,null,null,"Ranunculus abortivus var. indivisus"]
[null,null,null,"Ranunculus abortivus var. typicus"]
[null,null,null,"Ranunculus acris","tall buttercup"]
[null,null,null,"Ranunculus acris var. acris","showy buttercup"]
[null,null,null,"Ranunculus acris ssp. strigulosus"]
[null,null,null,"Ranunculus acris var. latisectus"]
[null,null,null,"Ranunculus acris var. stevenii"]
[null,null,null,"Ranunculus acris var. typicus"]
[null,null,null,"Ranunculus acris var. villosus"]
[null,null,null,"Ranunculus boreanus"]
[null,null,null,"Ranunculus cymbalaria","alkali buttercup"]
[null,null,null,"Cyrtorhyncha cymbalaria ssp. alpina"]
[null,null,null,"Halerpestes cymbalaria"]
[null,null,null,"Halerpestes cymbalaria ssp. saximontana"]
[null,null,null,"Ranunculus cymbalaria ssp. saximontanus"]
[null,null,null,"Ranunculus cymbalaria var. alpinus"]
[null,null,null,"Ranunculus cymbalaria var. saximontanus"]
[null,null,null,"Ranunculus cymbalaria var. typicus"]
[null,null,null,"Ranunculus fascicularis","early buttercup"]
[null,null,null,"Ranunculus fascicularis var. apricus"]
[null,null,null,"Ranunculus fascicularis var. typicus"]
[null,null,null,"Ranunculus flabellaris","yellow water buttercup"]
[null,null,null,"Ranunculus delphiniifolius"]
[null,null,null,"Ranunculus gmelinii","Gmelin's buttercup"]
[null,null,null,"Ranunculus gmelinii ssp. purshii"]
[null,null,null,"Ranunculus gmelinii var. hookeri"]
[null,null,null,"Ranunculus gmelinii var. limosus"]
[null,null,null,"Ranunculus gmelinii var. prolificus"]
[null,null,null,"Ranunculus gmelinii var. purshii"]
[null,null,null,"Ranunculus gmelinii var. terrestris"]
[null,null,null,"Ranunculus gmelinii var. typicus"]
[null,null,null,"Ranunculus hyperboreus var. tuquetilianus"]
[null,null,null,"Ranunculus limosus"]
[null,null,null,"Ranunculus purshii"]
[null,null,null,"Ranunculus hispidus","bristly buttercup"]
[null,null,null,"Ranunculus hispidus var. caricetorum","bristly buttercup"]
[null,null,null,"Ranunculus caricetorum"]
[null,null,null,"Ranunculus septentrionalis var. caricetorum"]
[null,null,null,"Ranunculus siciformis"]
[null,null,null,"Ranunculus hispidus var. nitidus","bristly buttercup"]
[null,null,null,"Ranunculus carolinianus"]
[null,null,null,"Ranunculus carolinianus var. villicaulis"]
[null,null,null,"Ranunculus nitidus"]
[null,null,null,"Ranunculus palmatus"]
[null,null,null,"Ranunculus septentrionalis"]
[null,null,null,"Ranunculus septentrionalis var. nitidus"]
[null,null,null,"Ranunculus septentrionalis var. pterocarpus"]
[null,null,null,"Ranunculus longirostris","longbeak buttercup"]
[null,null,null,"Batrachium circinatum"]
[null,null,null,"Batrachium circinatum ssp. subrigidum"]
[null,null,null,"Batrachium longirostre"]
[null,null,null,"Ranunculus amphibius"]
[null,null,null,"Ranunculus aquatilis var. diffusus"]
[null,null,null,"Ranunculus aquatilis var. longirostris"]
[null,null,null,"Ranunculus aquatilis var. subrigidus"]
[null,null,null,"Ranunculus circinatus"]
[null,null,null,"Ranunculus circinatus var. subrigidus"]
[null,null,null,"Ranunculus subrigidus"]
[null,null,null,"Ranunculus usneoides"]
[null,null,null,"Ranunculus macounii","Macoun's buttercup"]
[null,null,null,"Ranunculus macounii var. oreganus"]
[null,null,null,"Ranunculus pensylvanicus","Pennsylvania buttercup"]
[null,null,null,"Ranunculus recurvatus","blisterwort"]
[null,null,null,"Ranunculus recurvatus var. recurvatus","blisterwort"]
[null,null,null,"Ranunculus recurvatus var. adpressipilis"]
[null,null,null,"Ranunculus recurvatus var. typicus"]
[null,null,null,"Ranunculus rhomboideus","Labrador buttercup"]
[null,null,null,"Ranunculus ovalis"]
[null,null,null,"Ranunculus sceleratus","cursed buttercup"]
[null,null,null,"Ranunculus sceleratus var. multifidus","cursed buttercup"]
[null,null,null,"Ranunculus sceleratus ssp. multifidus"]
[null,null,null,"Ranunculus sceleratus var. sceleratus","cursed buttercup"]
[null,null,null,"Hecatonia scelerata"]
[null,null,null,"Ranunculus sceleratus var. typicus"]
[null,null,null,"Ranunculus trichophyllus","threadleaf crowfoot"]
[null,null,null,"Ranunculus trichophyllus var. trichophyllus","threadleaf crowfoot"]
[null,null,null,"Batrachium flaccidum"]
[null,null,null,"Batrachium porteri"]
[null,null,null,"Batrachium trichophyllum"]
[null,null,null,"Ranunculus aquatilis var. calvescens"]
[null,null,null,"Ranunculus aquatilis var. capillaceus"]
[null,null,null,"Ranunculus aquatilis var. diffusus"]
[null,null,null,"Ranunculus aquatilis var. harrisii"]
[null,null,null,"Ranunculus aquatilis var. lalondei"]
[null,null,null,"Ranunculus aquatilis var. porteri"]
[null,null,null,"Ranunculus aquatilis var. trichophyllus"]
[null,null,null,"Ranunculus flaccidus"]
[null,null,null,"Ranunculus trichophyllus var. calvescens"]
[null,null,null,"Ranunculus trichophyllus var. typicus"]
[null,null,null,"Ratibida columnifera","upright prairie coneflower"]
[null,null,null,"Lepachys columnaris"]
[null,null,null,"Lepachys columnifera"]
[null,null,null,"Ratibida columnaris"]
[null,null,null,"Ratibida columnaris var. pulcherrima"]
[null,null,null,"Rudbeckia columnaris"]
[null,null,null,"Rudbeckia columnifera"]
[null,null,null,"Ratibida pinnata","pinnate prairie coneflower"]
[null,null,null,"Lepachys pinnata"]
[null,null,null,"Rudbeckia pinnata"]
[null,null,null,"Rhexia virginica","handsome Harry"]
[null,null,null,"Rhexia stricta"]
[null,null,null,"Rhexia virginica var. purshii"]
[null,null,null,"Rhexia virginica var. septemnervia"]
[null,null,null,"Rorippa palustris","bog yellowcress"]
[null,null,null,"Rorippa palustris ssp. fernaldiana","Fernald's yellowcress"]
[null,null,null,"Rorippa hispida var. glabrata"]
[null,null,null,"Rorippa islandica ssp. fernaldiana"]
[null,null,null,"Rorippa islandica var. fernaldiana"]
[null,null,null,"Rorippa islandica var. glabra"]
[null,null,null,"Rorippa islandica var. glabrata"]
[null,null,null,"Rorippa palustris ssp. glabra"]
[null,null,null,"Rorippa palustris var. cernua"]
[null,null,null,"Rorippa palustris var. dictyota"]
[null,null,null,"Rorippa palustris var. glabra"]
[null,null,null,"Rorippa palustris var. glabrata"]
[null,null,null,"Rorippa palustris ssp. hispida","hispid yellowcress"]
[null,null,null,"Radicula hispida"]
[null,null,null,"Rorippa hispida"]
[null,null,null,"Rorippa islandica var. hispida"]
[null,null,null,"Rorippa palustris var. elongata"]
[null,null,null,"Rorippa palustris var. hispida"]
[null,null,null,"Rorippa sessiliflora","stalkless yellowcress"]
[null,null,null,"Nasturtium sessiliflorum"]
[null,null,null,"Radicula sessiliflora"]
[null,null,null,"Rorippa sinuata","spreading yellowcress"]
[null,null,null,"Nasturtium sinuatum"]
[null,null,null,"Radicula sinuata"]
[null,null,null,"Rotala ramosior","lowland rotala"]
[null,null,null,"Rotala catholica"]
[null,null,null,"Rotala dentifera"]
[null,null,null,"Rotala ramosior var. interior"]
[null,null,null,"Rotala ramosior var. typica"]
[null,null,null,"Rubus pubescens","dwarf red blackberry"]
[null,null,null,"Rubus pubescens var. pubescens","dwarf red blackberry"]
[null,null,null,"Cylactis pubescens"]
[null,null,null,"Rubus triflorus"]
[null,null,null,"Rudbeckia hirta","blackeyed Susan"]
[null,null,null,"Rudbeckia hirta var. pulcherrima","blackeyed Susan"]
[null,null,null,"Rudbeckia bicolor"]
[null,null,null,"Rudbeckia hirta var. corymbifera"]
[null,null,null,"Rudbeckia hirta var. lanceolata"]
[null,null,null,"Rudbeckia hirta var. sericea"]
[null,null,null,"Rudbeckia hirta var. serotina"]
[null,null,null,"Rudbeckia longipes"]
[null,null,null,"Rudbeckia sericea"]
[null,null,null,"Rudbeckia serotina"]
[null,null,null,"Rudbeckia serotina var. corymbifera"]
[null,null,null,"Rudbeckia serotina var. lanceolata"]
[null,null,null,"Rudbeckia serotina var. sericea"]
[null,null,null,"Rudbeckia laciniata","cutleaf coneflower"]
[null,null,null,"Rudbeckia laciniata var. laciniata","cutleaf coneflower"]
[null,null,null,"Rudbeckia laciniata var. hortensis"]
[null,null,null,"Rudbeckia subtomentosa","sweet coneflower"]
[null,null,null,"Rudbeckia triloba","browneyed Susan"]
[null,null,null,"Rudbeckia triloba var. triloba","browneyed Susan"]
[null,null,null,"Ruellia humilis","fringeleaf wild petunia"]
[null,null,null,"Ruellia ciliosa var. longiflora"]
[null,null,null,"Ruellia humilis var. calvescens"]
[null,null,null,"Ruellia humilis var. depauperata"]
[null,null,null,"Ruellia humilis var. expansa"]
[null,null,null,"Ruellia humilis var. frondosa"]
[null,null,null,"Ruellia humilis var. longiflora"]
[null,null,null,"Ruellia strepens","limestone wild petunia"]
[null,null,null,"Dipteracanthus micranthus"]
[null,null,null,"Dipteracanthus strepens"]
[null,null,null,"Ruellia strepens var. cleistantha"]
[null,null,null,"Ruellia strepens var. micrantha"]
[null,null,null,"Rumex altissimus","pale dock"]
[null,null,null,"Rumex britannica"]
[null,null,null,"Rumex brittanicus"]
[null,null,null,"Rumex ellipticus"]
[null,null,null,"Rumex aquaticus","western dock"]
[null,null,null,"Rumex aquaticus var. fenestratus","western dock"]
[null,null,null,"Rumex aquaticus ssp. fenestratus"]
[null,null,null,"Rumex aquaticus ssp. occidentalis"]
[null,null,null,"Rumex fenestratus"]
[null,null,null,"Rumex occidentalis"]
[null,null,null,"Rumex occidentalis var. fenestratus"]
[null,null,null,"Rumex occidentalis var. labradoricus"]
[null,null,null,"Rumex occidentalis var. procerus"]
[null,null,null,"Rumex subalpinus"]
[null,null,null,"Rumex maritimus","golden dock"]
[null,null,null,"Rumex fueginus"]
[null,null,null,"Rumex maritimus ssp. fueginus"]
[null,null,null,"Rumex maritimus var. athrix"]
[null,null,null,"Rumex maritimus var. fueginus"]
[null,null,null,"Rumex maritimus var. persicarioides"]
[null,null,null,"Rumex persicarioides"]
[null,null,null,"Rumex orbiculatus","greater water dock"]
[null,null,null,"Rumex orbiculatus var. borealis","greater water dock"]
[null,null,null,"Rumex britannica"]
[null,null,null,"Rumex orbiculatus var. orbiculatus","greater water dock"]
[null,null,null,"Rumex salicifolius","willow dock"]
[null,null,null,"Rumex salicifolius var. mexicanus","Mexican dock"]
[null,null,null,"Rumex mexicanus"]
[null,null,null,"Rumex mexicanus var. angustifolius"]
[null,null,null,"Rumex mexicanus var. subarcticus"]
[null,null,null,"Rumex quadrangulivalvis"]
[null,null,null,"Rumex salicifolius ssp. triangulivalvis"]
[null,null,null,"Rumex salicifolius var. triangulivalvis"]
[null,null,null,"Rumex subarcticus"]
[null,null,null,"Rumex triangulivalvis"]
[null,null,null,"Rumex triangulivalvis var. oreolapathum"]
[null,null,null,"Rumex venosus","veiny dock"]
[null,null,null,"Rumex verticillatus","swamp dock"]
[null,null,null,"Rumex fascicularis"]
[null,null,null,"Rumex floridanus"]
[null,null,null,"Ruppia cirrhosa","spiral ditchgrass"]
[null,null,null,"Ruppia cirrhosa ssp. occidentalis"]
[null,null,null,"Ruppia maritima var. occidentalis"]
[null,null,null,"Ruppia maritima var. spiralis"]
[null,null,null,"Ruppia occidentalis"]
[null,null,null,"Ruppia spiralis"]
[null,null,null,"Sabatia campestris","Texas star"]
[null,null,null,"Sagina procumbens","birdeye pearlwort"]
[null,null,null,"Sagina procumbens var. compacta"]
[null,null,null,"Sagittaria australis","longbeak arrowhead"]
[null,null,null,"Sagittaria engelmanniana ssp. longirostra"]
[null,null,null,"Sagittaria longirostra"]
[null,null,null,"Sagittaria longirostra var. australis"]
[null,null,null,"Sagittaria brevirostra","shortbeak arrowhead"]
[null,null,null,"Sagittaria engelmanniana ssp. brevirostra"]
[null,null,null,"Sagittaria calycina","hooded arrowhead"]
[null,null,null,"Sagittaria calycina var. calycina","hooded arrowhead"]
[null,null,null,"Lophotocarpus californicus"]
[null,null,null,"Lophotocarpus calycinus"]
[null,null,null,"Lophotocarpus depauperatus"]
[null,null,null,"Sagittaria montevidensis ssp. calycina"]
[null,null,null,"Sagittaria cristata","crested arrowhead"]
[null,null,null,"Sagittaria graminea var. cristata"]
[null,null,null,"Sagittaria cuneata","arumleaf arrowhead"]
[null,null,null,"Sagittaria arifolia"]
[null,null,null,"Sagittaria graminea","grassy arrowhead"]
[null,null,null,"Sagittaria graminea var. graminea","grassy arrowhead"]
[null,null,null,"Sagittaria cycloptera"]
[null,null,null,"Sagittaria eatonii"]
[null,null,null,"Sagittaria latifolia","broadleaf arrowhead"]
[null,null,null,"Sagittaria chinensis"]
[null,null,null,"Sagittaria engelmanniana ssp. longirostra"]
[null,null,null,"Sagittaria esculenta"]
[null,null,null,"Sagittaria latifolia var. obtusa"]
[null,null,null,"Sagittaria latifolia var. pubescens"]
[null,null,null,"Sagittaria longirostra"]
[null,null,null,"Sagittaria obtusa"]
[null,null,null,"Sagittaria ornithorhyncha"]
[null,null,null,"Sagittaria planipes"]
[null,null,null,"Sagittaria pubescens"]
[null,null,null,"Sagittaria variabilis var. obtusa"]
[null,null,null,"Sagittaria viscosa"]
[null,null,null,"Sagittaria rigida","sessilefruit arrowhead"]
[null,null,null,"Salicornia rubra","red swampfire"]
[null,null,null,"Salicornia europaea ssp. rubra"]
[null,null,null,"Salicornia europaea var. prona"]
[null,null,null,"Salvia azurea","azure blue sage"]
[null,null,null,"Salvia azurea var. grandiflora","pitcher sage"]
[null,null,null,"Salvia azurea ssp. intermedia"]
[null,null,null,"Salvia azurea ssp. pitcheri"]
[null,null,null,"Salvia pitcheri"]
[null,null,null,"Salvia reflexa","lanceleaf sage"]
[null,null,null,"Salvia lancifolia"]
[null,null,null,"Sanguinaria canadensis","bloodroot"]
[null,null,null,"Sanguinaria canadensis var. rotundifolia"]
[null,null,null,"Sanguisorba annua","prairie burnet"]
[null,null,null,"Poteridium annuum"]
[null,null,null,"Sanguisorba occidentalis"]
[null,null,null,"Sanicula canadensis","Canadian blacksnakeroot"]
[null,null,null,"Sanicula canadensis var. canadensis","Canadian blacksnakeroot"]
[null,null,null,"Sanicula canadensis var. floridana"]
[null,null,null,"Sanicula canadensis var. typica"]
[null,null,null,"Sanicula floridana"]
[null,null,null,"Sanicula canadensis var. grandis","Canadian blacksnakeroot"]
[null,null,null,"Sanicula marilandica","Maryland sanicle"]
[null,null,null,"Sanicula marilandica var. petiolulata"]
[null,null,null,"Sanicula odorata","clustered blacksnakeroot"]
[null,null,null,"Sanicula gregaria"]
[null,null,null,"Triclinium odoratum"]
[null,null,null,"Sanicula trifoliata","largefruit blacksnakeroot"]
[null,null,null,"Saxifraga pensylvanica","eastern swamp saxifrage"]
[null,null,null,"Micranthes pensylvanica"]
[null,null,null,"Saxifraga forbesii"]
[null,null,null,"Saxifraga pensylvanica ssp. interior"]
[null,null,null,"Saxifraga pensylvanica ssp. tenuirostrata"]
[null,null,null,"Saxifraga pensylvanica var. forbesii"]
[null,null,null,"Saxifraga pensylvanica var. purpuripetala"]
[null,null,null,"Scheuchzeria palustris","rannoch-rush"]
[null,null,null,"Scheuchzeria palustris ssp. americana","rannoch-rush"]
[null,null,null,"Scheuchzeria americana"]
[null,null,null,"Scheuchzeria palustris var. americana"]
[null,null,null,"Scrophularia lanceolata","lanceleaf figwort"]
[null,null,null,"Scrophularia leporella"]
[null,null,null,"Scrophularia occidentalis"]
[null,null,null,"Scrophularia pectinata"]
[null,null,null,"Scrophularia marilandica","carpenter's square"]
[null,null,null,"Scutellaria galericulata","marsh skullcap"]
[null,null,null,"Scutellaria epilobiifolia"]
[null,null,null,"Scutellaria galericulata ssp. pubescens"]
[null,null,null,"Scutellaria galericulata var. epilobiifolia"]
[null,null,null,"Scutellaria galericulata var. pubescens"]
[null,null,null,"Scutellaria incana","hoary skullcap"]
[null,null,null,"Scutellaria incana var. incana","hoary skullcap"]
[null,null,null,"Scutellaria lateriflora","blue skullcap"]
[null,null,null,"Scutellaria lateriflora var. lateriflora","blue skullcap"]
[null,null,null,"Scutellaria nervosa","veiny skullcap"]
[null,null,null,"Scutellaria nervosa var. calvifolia"]
[null,null,null,"Scutellaria ovata","heartleaf skullcap"]
[null,null,null,"Scutellaria ovata ssp. ovata","heartleaf skullcap"]
[null,null,null,"Scutellaria cordifolia"]
[null,null,null,"Scutellaria ovata ssp. calcarea"]
[null,null,null,"Scutellaria ovata ssp. mississippiensis"]
[null,null,null,"Scutellaria ovata ssp. pseudovenosa"]
[null,null,null,"Scutellaria ovata ssp. versicolor"]
[null,null,null,"Scutellaria ovata var. calcarea"]
[null,null,null,"Scutellaria ovata var. versicolor"]
[null,null,null,"Scutellaria parvula","small skullcap"]
[null,null,null,"Scutellaria parvula var. missouriensis","Leonard's skullcap"]
[null,null,null,"Scutellaria ambigua"]
[null,null,null,"Scutellaria leonardii"]
[null,null,null,"Scutellaria nervosa var. ambigua"]
[null,null,null,"Scutellaria parvula var. leonardii"]
[null,null,null,"Scutellaria parvula var. parvula","small skullcap"]
[null,null,null,"Sedum ternatum","woodland stonecrop"]
[null,null,null,"Clausenellia ternata"]
[null,null,null,"Selaginella eclipes","hidden spikemoss"]
[null,null,null,"Selaginella rupestris","northern selaginella"]
[null,null,null,"Lycopodium rupestre"]
[null,null,null,"Senecio congestus","marsh fleabane"]
[null,null,null,"Cineraria congesta"]
[null,null,null,"Senecio congestus ssp. tonsus"]
[null,null,null,"Senecio congestus var. palustris"]
[null,null,null,"Senecio congestus var. tonsus"]
[null,null,null,"Senecio palustris"]
[null,null,null,"Senecio integerrimus","lambstongue ragwort"]
[null,null,null,"Senecio integerrimus var. integerrimus","lambstongue ragwort"]
[null,null,null,"Senna marilandica","Maryland senna"]
[null,null,null,"Cassia marilandica"]
[null,null,null,"Cassia medsgeri"]
[null,null,null,"Ditremexa marilandica"]
[null,null,null,"Ditremexa medsgeri"]
[null,null,null,"Shinnersoseris rostrata","beaked skeletonweed"]
[null,null,null,"Lygodesmia rostrata"]
[null,null,null,"Sibara virginica","Virginia winged rockcress"]
[null,null,null,"Arabis virginica"]
[null,null,null,"Cardamine parviflora ssp. virginica"]
[null,null,null,"Cardamine virginica"]
[null,null,null,"Sibbaldiopsis tridentata","shrubby fivefingers"]
[null,null,null,"Potentilla tridentata"]
[null,null,null,"Sicyos angulatus","oneseed bur cucumber"]
[null,null,null,"Sida spinosa","prickly fanpetals"]
[null,null,null,"Sida alba"]
[null,null,null,"Sida angustifolia"]
[null,null,null,"Sida spinosa var. angustifolia"]
[null,null,null,"Silene antirrhina","sleepy silene"]
[null,null,null,"Silene antirrhina var. confinis"]
[null,null,null,"Silene antirrhina var. depauperata"]
[null,null,null,"Silene antirrhina var. divaricata"]
[null,null,null,"Silene antirrhina var. laevigata"]
[null,null,null,"Silene antirrhina var. subglaber"]
[null,null,null,"Silene antirrhina var. vaccarifolia"]
[null,null,null,"Silene nivea","evening campion"]
[null,null,null,"Silene stellata","widowsfrill"]
[null,null,null,"Silene stellata var. scabrella"]
[null,null,null,"Silene virginica","fire pink"]
[null,null,null,"Silene virginica var. virginica","fire pink"]
[null,null,null,"Silene virginica var. hallensis"]
[null,null,null,"Silphium integrifolium","wholeleaf rosinweed"]
[null,null,null,"Silphium integrifolium var. deamii","Deam's rosinweed"]
[null,null,null,"Silphium integrifolium var. integrifolium","wholeleaf rosinweed"]
[null,null,null,"Silphium laevigatum"]
[null,null,null,"Silphium integrifolium var. neglectum","wholeleaf rosinweed"]
[null,null,null,"Silphium laciniatum","compassplant"]
[null,null,null,"Silphium laciniatum var. laciniatum","compassplant"]
[null,null,null,"Silphium perfoliatum","cup plant"]
[null,null,null,"Silphium perfoliatum var. perfoliatum","cup plant"]
[null,null,null,"Silphium terebinthinaceum","prairie rosinweed"]
[null,null,null,"Silphium terebinthinaceum var. terebinthinaceum","prairie rosinweed"]
[null,null,null,"Silphium rumicifolium"]
[null,null,null,"Sisyrinchium angustifolium","narrowleaf blue-eyed grass"]
[null,null,null,"Sisyrinchium bermudiana"]
[null,null,null,"Sisyrinchium graminoides"]
[null,null,null,"Sisyrinchium campestre","prairie blue-eyed grass"]
[null,null,null,"Sisyrinchium campestre var. kansanum"]
[null,null,null,"Sisyrinchium flaviflorum"]
[null,null,null,"Sisyrinchium kansanum"]
[null,null,null,"Sisyrinchium montanum","strict blue-eyed grass"]
[null,null,null,"Sisyrinchium montanum var. montanum","strict blue-eyed grass"]
[null,null,null,"Sisyrinchium heterocarpum"]
[null,null,null,"Sisyrinchium strictum"]
[null,null,null,"Sium suave","hemlock waterparsnip"]
[null,null,null,"Sium cicutifolium"]
[null,null,null,"Sium floridanum"]
[null,null,null,"Sium suave var. floridanum"]
[null,null,null,"Smilax ecirrhata","upright carrionflower"]
[null,null,null,"Nemexia ecirrhata"]
[null,null,null,"Smilax herbacea","smooth carrionflower"]
[null,null,null,"Nemexia herbacea"]
[null,null,null,"Smilax illinoensis","Illinois greenbrier"]
[null,null,null,"Smilax lasioneura","Blue Ridge carrionflower"]
[null,null,null,"Nemexia lasioneura"]
[null,null,null,"Smilax herbacea var. lasioneura"]
[null,null,null,"Solanum carolinense","Carolina horsenettle"]
[null,null,null,"Solanum carolinense var. carolinense","Carolina horsenettle"]
[null,null,null,"Solanum citrullifolium","watermelon nightshade"]
[null,null,null,"Solanum citrullifolium var. citrullifolium","watermelon nightshade"]
[null,null,null,"Solanum interius","deadly nightshade"]
[null,null,null,"Solanum jamesii","wild potato"]
[null,null,null,"Solanum ptycanthum","West Indian nightshade"]
[null,null,null,"Solanum americanum"]
[null,null,null,"Solanum nigrum"]
[null,null,null,"Solanum ptychanthum"]
[null,null,null,"Solanum rostratum","buffalobur nightshade"]
[null,null,null,"Androcera rostrata"]
[null,null,null,"Solanum cornutum"]
[null,null,null,"Solanum triflorum","cutleaf nightshade"]
[null,null,null,"Solidago altissima","Canada goldenrod"]
[null,null,null,"Solidago altissima var. altissima"]
[null,null,null,"Solidago altissima var. pluricephala"]
[null,null,null,"Solidago altissima var. procera"]
[null,null,null,"Solidago canadensis var. scabra"]
[null,null,null,"Solidago hirsutissima"]
[null,null,null,"Solidago lunellii"]
[null,null,null,"Solidago canadensis","Canada goldenrod"]
[null,null,null,"Solidago canadensis var. canadensis","Canada goldenrod"]
[null,null,null,"Solidago canadensis var. gilvocanescens","shorthair goldenrod"]
[null,null,null,"Solidago altissima var. gilvocanescens"]
[null,null,null,"Solidago gilvocanescens"]
[null,null,null,"Solidago pruinosa"]
[null,null,null,"Solidago canadensis var. hargeri","Harger's goldenrod"]
[null,null,null,"Solidago flexicaulis","zigzag goldenrod"]
[null,null,null,"Solidago latifolia"]
[null,null,null,"Solidago gigantea","giant goldenrod"]
[null,null,null,"Aster latissimifolius var. serotinus"]
[null,null,null,"Solidago gigantea ssp. serotina"]
[null,null,null,"Solidago gigantea var. leiophylla"]
[null,null,null,"Solidago gigantea var. pitcheri"]
[null,null,null,"Solidago gigantea var. serotina"]
[null,null,null,"Solidago gigantea var. shinnersii"]
[null,null,null,"Solidago ×leiophallax"]
[null,null,null,"Solidago pitcheri"]
[null,null,null,"Solidago serotina"]
[null,null,null,"Solidago serotinoides"]
[null,null,null,"Solidago hispida","hairy goldenrod"]
[null,null,null,"Solidago hispida var. hispida","hairy goldenrod"]
[null,null,null,"Solidago bicolor var. concolor"]
[null,null,null,"Solidago bicolor var. ovalis"]
[null,null,null,"Solidago missouriensis","Missouri goldenrod"]
[null,null,null,"Solidago missouriensis var. fasciculata","Missouri goldenrod"]
[null,null,null,"Solidago glaberrima"]
[null,null,null,"Solidago glaberrima var. moritura"]
[null,null,null,"Solidago missouriensis var. glaberrima"]
[null,null,null,"Solidago mollis","velvety goldenrod"]
[null,null,null,"Solidago mollis var. mollis","velvety goldenrod"]
[null,null,null,"Solidago nemoralis","gray goldenrod"]
[null,null,null,"Solidago nemoralis var. longipetiolata","gray goldenrod"]
[null,null,null,"Solidago decemflora"]
[null,null,null,"Solidago longipetiolata"]
[null,null,null,"Solidago nemoralis ssp. decemflora"]
[null,null,null,"Solidago nemoralis ssp. longipetiolata"]
[null,null,null,"Solidago nemoralis var. decemflora"]
[null,null,null,"Solidago pulcherrima"]
[null,null,null,"Solidago nemoralis var. nemoralis","gray goldenrod"]
[null,null,null,"Solidago nemoralis ssp. haleana"]
[null,null,null,"Solidago nemoralis var. haleana"]
[null,null,null,"Solidago patula","roundleaf goldenrod"]
[null,null,null,"Solidago patula var. patula","roundleaf goldenrod"]
[null,null,null,"Solidago sciaphila","shadowy goldenrod"]
[null,null,null,"Solidago speciosa","showy goldenrod"]
[null,null,null,"Solidago speciosa var. jejunifolia","showy goldenrod"]
[null,null,null,"Solidago jejunifolia"]
[null,null,null,"Solidago uliginosa var. jejunifolia"]
[null,null,null,"Solidago speciosa var. rigidiuscula","showy goldenrod"]
[null,null,null,"Solidago rigidiuscula"]
[null,null,null,"Solidago speciosa var. angustata"]
[null,null,null,"Solidago uliginosa","bog goldenrod"]
[null,null,null,"Solidago uliginosa var. uliginosa","bog goldenrod"]
[null,null,null,"Solidago neglecta"]
[null,null,null,"Solidago uliginosa var. neglecta"]
[null,null,null,"Solidago uniligulata"]
[null,null,null,"Solidago ulmifolia","elmleaf goldenrod"]
[null,null,null,"Solidago ulmifolia var. ulmifolia","elmleaf goldenrod"]
[null,null,null,"Sparganium americanum","American bur-reed"]
[null,null,null,"Sparganium androcladum","branched bur-reed"]
[null,null,null,"Sparganium lucidum"]
[null,null,null,"Sparganium emersum","European bur-reed"]
[null,null,null,"Sparganium acaule"]
[null,null,null,"Sparganium chlorocarpum"]
[null,null,null,"Sparganium chlorocarpum var. acaule"]
[null,null,null,"Sparganium emersum ssp. emersum"]
[null,null,null,"Sparganium simplex"]
[null,null,null,"Sparganium eurycarpum","broadfruit bur-reed"]
[null,null,null,"Sparganium californicum"]
[null,null,null,"Sparganium eurycarpum ssp. eurycarpum"]
[null,null,null,"Spergularia salina","salt sandspurry"]
[null,null,null,"Spergularia alata"]
[null,null,null,"Spergularia leiosperma"]
[null,null,null,"Spergularia marina"]
[null,null,null,"Spergularia marina var. leiosperma"]
[null,null,null,"Spergularia marina var. simonii"]
[null,null,null,"Spergularia marina var. tenuis"]
[null,null,null,"Spergularia salina var. tenuis"]
[null,null,null,"Spergularia sparsiflora"]
[null,null,null,"Spergularia tenuis var. involucrata"]
[null,null,null,"Tissa marina"]
[null,null,null,"Tissa tenuis"]
[null,null,null,"Spermolepis inermis","Red River scaleseed"]
[null,null,null,"Apiastrum patens"]
[null,null,null,"Spermolepis patens"]
[null,null,null,"Sphaeralcea coccinea","scarlet globemallow"]
[null,null,null,"Sphaeralcea coccinea ssp. coccinea","scarlet globemallow"]
[null,null,null,"Malvastrum coccineum"]
[null,null,null,"Sphaeralcea coccinea ssp. dissecta"]
[null,null,null,"Sphaeralcea coccinea var. dissecta"]
[null,null,null,"Spiranthes cernua","nodding lady's tresses"]
[null,null,null,"Ibidium cernuum"]
[null,null,null,"Spiranthes cernua var. incurva"]
[null,null,null,"Spiranthes lacera","northern slender lady's tresses"]
[null,null,null,"Spiranthes lacera var. gracilis","northern slender lady's tresses"]
[null,null,null,"Ibidium beckii"]
[null,null,null,"Ibidium gracile"]
[null,null,null,"Spiranthes beckii"]
[null,null,null,"Spiranthes gracilis"]
[null,null,null,"Spiranthes lacera var. lacera","northern slender lady's tresses"]
[null,null,null,"Spiranthes lucida","shining lady's tresses"]
[null,null,null,"Ibidium plantagineum"]
[null,null,null,"Spiranthes magnicamporum","Great Plains lady's tresses"]
[null,null,null,"Spiranthes ovalis","October lady's tresses"]
[null,null,null,"Spiranthes ovalis var. erostellata","October lady's tresses"]
[null,null,null,"Spiranthes romanzoffiana","hooded lady's tresses"]
[null,null,null,"Ibidium strictum"]
[null,null,null,"Spiranthes stricta"]
[null,null,null,"Spiranthes vernalis","spring lady's tresses"]
[null,null,null,"Ibidium vernale"]
[null,null,null,"Spiranthes sinensis"]
[null,null,null,"Spirodela polyrrhiza","common duckmeat"]
[null,null,null,"Lemna polyrrhiza"]
[null,null,null,"Spirodela polyrhiza"]
[null,null,null,"Spirodela polyrrhiza var. masonii"]
[null,null,null,"Stachys aspera","hyssopleaf hedgenettle"]
[null,null,null,"Stachys ambigua"]
[null,null,null,"Stachys grayana"]
[null,null,null,"Stachys hyssopifolia var. ambigua"]
[null,null,null,"Stachys tenuifolia var. aspera"]
[null,null,null,"Stachys pilosa","hairy hedgenettle"]
[null,null,null,"Stachys pilosa var. arenicola","hairy hedgenettle"]
[null,null,null,"Stachys arenicola"]
[null,null,null,"Stachys palustris ssp. arenicola"]
[null,null,null,"Stachys pilosa var. pilosa","hairy hedgenettle"]
[null,null,null,"Stachys asperrima"]
[null,null,null,"Stachys borealis"]
[null,null,null,"Stachys homotricha"]
[null,null,null,"Stachys palustris ssp. pilosa"]
[null,null,null,"Stachys palustris var. homotricha"]
[null,null,null,"Stachys palustris var. nipigonensis"]
[null,null,null,"Stachys palustris var. phaneropoda"]
[null,null,null,"Stachys palustris var. pilosa"]
[null,null,null,"Stachys palustris var. puberula"]
[null,null,null,"Stachys scopulorum"]
[null,null,null,"Stachys teucriifolia"]
[null,null,null,"Stachys teucriiformis"]
[null,null,null,"Stachys tenuifolia","smooth hedgenettle"]
[null,null,null,"Stachys glabra"]
[null,null,null,"Stachys hispida"]
[null,null,null,"Stachys palustris var. hispida"]
[null,null,null,"Stachys palustris var. macrocalyx"]
[null,null,null,"Stachys tenuifolia var. hispida"]
[null,null,null,"Stachys tenuifolia var. perlonga"]
[null,null,null,"Stachys tenuifolia var. platyphylla"]
[null,null,null,"Stellaria longifolia","longleaf starwort"]
[null,null,null,"Stellaria longifolia var. longifolia","longleaf starwort"]
[null,null,null,"Alsine longifolia"]
[null,null,null,"Stenaria nigricans","diamond-flowers"]
[null,null,null,"Stenaria nigricans var. nigricans","diamondflowers"]
[null,null,null,"Chamisme angustifolia"]
[null,null,null,"Gentiana nigricans"]
[null,null,null,"Hedyotis nigricans"]
[null,null,null,"Hedyotis nigricans var. austrotexana"]
[null,null,null,"Hedyotis nigricans var. filifolia"]
[null,null,null,"Hedyotis nigricans var. nigricans"]
[null,null,null,"Hedyotis nigricans var. papillacea"]
[null,null,null,"Hedyotis nigricans var. pulvinata"]
[null,null,null,"Hedyotis nigricans var. rigidiuscula"]
[null,null,null,"Hedyotis nigricans var. scabra"]
[null,null,null,"Hedyotis salina"]
[null,null,null,"Houstonia angustifolia"]
[null,null,null,"Houstonia angustifolia var. filifolia"]
[null,null,null,"Houstonia angustifolia var. rigidiuscula"]
[null,null,null,"Houstonia filifolia"]
[null,null,null,"Houstonia nigricans"]
[null,null,null,"Houstonia nigricans var. pulvinata"]
[null,null,null,"Houstonia pulvinata"]
[null,null,null,"Houstonia rigidiuscula"]
[null,null,null,"Houstonia salina"]
[null,null,null,"Houstonia tenuis"]
[null,null,null,"Oldenlandia angustifolia"]
[null,null,null,"Oldenlandia angustifolia var. filifolia"]
[null,null,null,"Streptopus lanceolatus","twistedstalk"]
[null,null,null,"Streptopus lanceolatus var. longipes","twistedstalk"]
[null,null,null,"Streptopus roseus ssp. longipes"]
[null,null,null,"Streptopus roseus var. longipes"]
[null,null,null,"Strophostyles helvola","amberique-bean"]
[null,null,null,"Strophostyles helvula"]
[null,null,null,"Strophostyles helvula var. missouriensis"]
[null,null,null,"Strophostyles leiosperma","slickseed fuzzybean"]
[null,null,null,"Phaseolus leiospermus"]
[null,null,null,"Strophostyles pauciflora"]
[null,null,null,"Stuckenia filiformis","fineleaf pondweed"]
[null,null,null,"Stuckenia filiformis ssp. occidentalis","western fineleaf pondweed"]
[null,null,null,"Coleogeton filiformis ssp. occidentalis"]
[null,null,null,"Potamogeton filiformis var. occidentalis"]
[null,null,null,"Potamogeton interior"]
[null,null,null,"Stuckenia filiformis var. occidentalis"]
[null,null,null,"Stuckenia pectinata","sago pondweed"]
[null,null,null,"Coleogeton pectinatus"]
[null,null,null,"Potamogeton pectinatus"]
[null,null,null,"Stuckenia pectinatus"]
[null,null,null,"Stylisma pickeringii","Pickering's dawnflower"]
[null,null,null,"Stylisma pickeringii var. pattersonii","Patterson's dawnflower"]
[null,null,null,"Breweria pickeringii var. pattersonii"]
[null,null,null,"Stylisma pattersonii"]
[null,null,null,"Sullivantia sullivantii","Sullivant's coolwort"]
[null,null,null,"Saxifraga sullivantii"]
[null,null,null,"Sullivantia ohionis"]
[null,null,null,"Sullivantia renifolia"]
[null,null,null,"Symphyotrichum ×amethystinum"]
[null,null,null,"Aster amethystinus"]
[null,null,null,"Aster ×amethystinus"]
[null,null,null,"Lasallea ×amethystina"]
[null,null,null,"Virgulus ×amethystinus"]
[null,null,null,"Symphyotrichum boreale","northern bog aster"]
[null,null,null,"Aster borealis"]
[null,null,null,"Aster franklinianus"]
[null,null,null,"Aster junceus"]
[null,null,null,"Aster junciformis"]
[null,null,null,"Aster laxifolius var. borealis"]
[null,null,null,"Symphyotrichum ciliatum","rayless alkali aster"]
[null,null,null,"Aster brachyactis"]
[null,null,null,"Brachyactis angusta"]
[null,null,null,"Brachyactis ciliata"]
[null,null,null,"Brachyactis ciliata ssp. angusta"]
[null,null,null,"Tripolium angustum"]
[null,null,null,"Symphyotrichum cordifolium","common blue wood aster"]
[null,null,null,"Aster cordifolius"]
[null,null,null,"Aster cordifolius ssp. sagittifolius"]
[null,null,null,"Aster cordifolius var. furbishiae"]
[null,null,null,"Aster cordifolius var. incisus"]
[null,null,null,"Aster cordifolius var. lanceolatus"]
[null,null,null,"Aster cordifolius var. moratus"]
[null,null,null,"Aster cordifolius var. polycephalus"]
[null,null,null,"Aster cordifolius var. racemiflorus"]
[null,null,null,"Aster cordifolius var. sagittifolius"]
[null,null,null,"Aster finkii var. moratus"]
[null,null,null,"Aster lowrieanus var. incisus"]
[null,null,null,"Aster lowrieanus var. lanceolatus"]
[null,null,null,"Aster plumarius"]
[null,null,null,"Aster sagittifolius"]
[null,null,null,"Symphyotrichum cordifolium var. furbishiae"]
[null,null,null,"Symphyotrichum cordifolium var. lanceolatum"]
[null,null,null,"Symphyotrichum cordifolium var. moratum"]
[null,null,null,"Symphyotrichum cordifolium var. polycephalum"]
[null,null,null,"Symphyotrichum cordifolium var. racemiflorum"]
[null,null,null,"Symphyotrichum sagittifolium"]
[null,null,null,"Symphyotrichum drummondii","Drummond's aster"]
[null,null,null,"Symphyotrichum drummondii var. drummondii","Drummond's aster"]
[null,null,null,"Aster drummondii"]
[null,null,null,"Aster sagittifolius var. drummondii"]
[null,null,null,"Symphyotrichum dumosum","rice button aster"]
[null,null,null,"Symphyotrichum dumosum var. strictior","rice button aster"]
[null,null,null,"Aster dumosus var. dodgei"]
[null,null,null,"Aster dumosus var. strictior"]
[null,null,null,"Symphyotrichum dumosum var. dodgei"]
[null,null,null,"Symphyotrichum ericoides","white heath aster"]
[null,null,null,"Symphyotrichum ericoides var. ericoides","white heath aster"]
[null,null,null,"Aster ericoides"]
[null,null,null,"Aster ericoides var. prostratus"]
[null,null,null,"Aster exiguus"]
[null,null,null,"Aster multiflorus"]
[null,null,null,"Aster multiflorus var. exiguus"]
[null,null,null,"Aster multiflorus var. prostratus"]
[null,null,null,"Aster polycephalus"]
[null,null,null,"Lasallea ericoides"]
[null,null,null,"Symphyotrichum ericoides var. prostratum"]
[null,null,null,"Virgulus ericoides"]
[null,null,null,"Symphyotrichum falcatum","white prairie aster"]
[null,null,null,"Symphyotrichum falcatum var. commutatum","white prairie aster"]
[null,null,null,"Aster adsurgens"]
[null,null,null,"Aster commutatus"]
[null,null,null,"Aster commutatus var. crassulus"]
[null,null,null,"Aster commutatus var. polycephalus"]
[null,null,null,"Aster cordineri"]
[null,null,null,"Aster crassulus"]
[null,null,null,"Aster ericoides var. commutatus"]
[null,null,null,"Aster falcatus ssp. commutatus"]
[null,null,null,"Aster falcatus var. commutatus"]
[null,null,null,"Aster falcatus var. crassulus"]
[null,null,null,"Aster multiflorus var. commutatus"]
[null,null,null,"Aster nahanniensis"]
[null,null,null,"Symphyotrichum falcatum var. crassulum"]
[null,null,null,"Symphyotrichum ×finkii"]
[null,null,null,"Aster finkii"]
[null,null,null,"Symphyotrichum laeve","smooth blue aster"]
[null,null,null,"Symphyotrichum laeve var. laeve","smooth blue aster"]
[null,null,null,"Aster falcidens"]
[null,null,null,"Aster laevis"]
[null,null,null,"Aster laevis var. falcatus"]
[null,null,null,"Aster steeleorum"]
[null,null,null,"Symphyotrichum lanceolatum","white panicle aster"]
[null,null,null,"Symphyotrichum lanceolatum ssp. hesperium","white panicle aster"]
[null,null,null,"Symphyotrichum lanceolatum ssp. hesperium var. hesperium","white panicle aster"]
[null,null,null,"Aster hesperius"]
[null,null,null,"Aster hesperius var. laetevirens"]
[null,null,null,"Aster hesperius var. wootonii"]
[null,null,null,"Aster laetevirens"]
[null,null,null,"Aster lanceolatus ssp. hesperius"]
[null,null,null,"Aster osterhoutii"]
[null,null,null,"Aster wootonii"]
[null,null,null,"Symphyotrichum hesperium"]
[null,null,null,"Symphyotrichum lanceolatum ssp. lanceolatum","white panicle aster"]
[null,null,null,"Symphyotrichum lanceolatum ssp. lanceolatum var. hirsuticaule","white panicle aster"]
[null,null,null,"Aster lanceolatus var. hirsuticaulis"]
[null,null,null,"Symphyotrichum lanceolatum ssp. lanceolatum var. interior","white panicle aster"]
[null,null,null,"Aster interior"]
[null,null,null,"Aster lanceolatus ssp. interior"]
[null,null,null,"Aster lanceolatus var. interior"]
[null,null,null,"Aster lanceolatus var. interior"]
[null,null,null,"Aster simplex var. interior"]
[null,null,null,"Symphyotrichum lanceolatum ssp. lanceolatum var. lanceolatum","white panicle aster"]
[null,null,null,"Aster bellidiflorus"]
[null,null,null,"Aster lamarckianus"]
[null,null,null,"Aster lanceolatus"]
[null,null,null,"Aster lanceolatus ssp. simplex"]
[null,null,null,"Aster lanceolatus var. simplex"]
[null,null,null,"Aster laxus"]
[null,null,null,"Aster paniculatus"]
[null,null,null,"Aster paniculatus var. simplex"]
[null,null,null,"Aster simplex"]
[null,null,null,"Aster simplex var. estuarinus"]
[null,null,null,"Aster simplex var. ramosissimus"]
[null,null,null,"Aster tenuifolius var. ramosissimus"]
[null,null,null,"Symphyotrichum simplex"]
[null,null,null,"Symphyotrichum lanceolatum ssp. lanceolatum var. latifolium","white panicle aster"]
[null,null,null,"Aster lanceolatus var. latifolius"]
[null,null,null,"Symphyotrichum lateriflorum","calico aster"]
[null,null,null,"Symphyotrichum lateriflorum var. lateriflorum","calico aster"]
[null,null,null,"Aster hirsuticaulis"]
[null,null,null,"Aster lateriflorus"]
[null,null,null,"Aster lateriflorus var. hirsuticaulis"]
[null,null,null,"Aster vimineus"]
[null,null,null,"Solidago lateriflora"]
[null,null,null,"Symphyotrichum lateriflorum var. hirsuticaule"]
[null,null,null,"Symphyotrichum novae-angliae","New England aster"]
[null,null,null,"Aster novae-angliae"]
[null,null,null,"Lasallea novae-angliae"]
[null,null,null,"Virgulus novae-angliae"]
[null,null,null,"Symphyotrichum oblongifolium","aromatic aster"]
[null,null,null,"Aster kumleinii"]
[null,null,null,"Aster oblongifolius"]
[null,null,null,"Aster oblongifolius var. angustatus"]
[null,null,null,"Aster oblongifolius var. orientis"]
[null,null,null,"Aster oblongifolius var. rigidulus"]
[null,null,null,"Lasallea oblongifolia"]
[null,null,null,"Virgulus oblongifolius"]
[null,null,null,"Symphyotrichum ontarionis","bottomland aster"]
[null,null,null,"Aster diffusus var. thyrsoides"]
[null,null,null,"Aster lateriflorus var. thyrsoides"]
[null,null,null,"Aster missouriensis"]
[null,null,null,"Aster missouriensis var. thyrsoides"]
[null,null,null,"Aster ontarionis"]
[null,null,null,"Aster ontarionis var. glabratus"]
[null,null,null,"Aster pantotrichus"]
[null,null,null,"Aster pantotrichus var. thyrsoides"]
[null,null,null,"Aster tradescantii var. thyrsoides"]
[null,null,null,"Symphyotrichum ontarione"]
[null,null,null,"Symphyotrichum ontarione var. glabratum"]
[null,null,null,"Symphyotrichum ontarionis var. glabratum"]
[null,null,null,"Symphyotrichum oolentangiense","skyblue aster"]
[null,null,null,"Symphyotrichum oolentangiense var. oolentangiense","skyblue aster"]
[null,null,null,"Aster azureus"]
[null,null,null,"Aster oolentangiensis"]
[null,null,null,"Aster oolentangiensis var. laevicaulis"]
[null,null,null,"Symphyotrichum parviceps","smallhead aster"]
[null,null,null,"Aster depauperatus var. parviceps"]
[null,null,null,"Aster ericoides var. parviceps"]
[null,null,null,"Aster parviceps"]
[null,null,null,"Aster pilosus ssp. parviceps"]
[null,null,null,"Symphyotrichum pilosum","hairy white oldfield aster"]
[null,null,null,"Symphyotrichum pilosum var. pilosum","hairy white oldfield aster"]
[null,null,null,"Aster ericoides var. platyphyllus"]
[null,null,null,"Aster ericoides var. villosus"]
[null,null,null,"Aster juniperinus"]
[null,null,null,"Aster pilosus"]
[null,null,null,"Aster pilosus var. platyphyllus"]
[null,null,null,"Aster ramosissimus"]
[null,null,null,"Aster villosus"]
[null,null,null,"Symphyotrichum praealtum","willowleaf aster"]
[null,null,null,"Symphyotrichum praealtum var. nebraskense","Nebraska aster"]
[null,null,null,"Aster nebraskensis"]
[null,null,null,"Aster praealtus var. nebraskensis"]
[null,null,null,"Symphyotrichum praealtum var. praealtum","willowleaf aster"]
[null,null,null,"Aster caerulescens"]
[null,null,null,"Aster coerulescens"]
[null,null,null,"Aster novi-belgii var. litoreus"]
[null,null,null,"Aster praealtus"]
[null,null,null,"Aster praealtus var. caerulescens"]
[null,null,null,"Aster praealtus var. imbricatior"]
[null,null,null,"Aster praealtus var. texicola"]
[null,null,null,"Aster salicifolius"]
[null,null,null,"Symphyotrichum novi-belgii var. litoreum"]
[null,null,null,"Symphyotrichum praealtum var. texicola"]
[null,null,null,"Symphyotrichum praealtum var. subasperum","willowleaf aster"]
[null,null,null,"Aster praealtus var. subasper"]
[null,null,null,"Aster subasper"]
[null,null,null,"Symphyotrichum prenanthoides","crookedstem aster"]
[null,null,null,"Aster prenanthoides"]
[null,null,null,"Symphyotrichum puniceum","purplestem aster"]
[null,null,null,"Symphyotrichum puniceum var. puniceum","purplestem aster"]
[null,null,null,"Aster calderi"]
[null,null,null,"Aster conduplicatus"]
[null,null,null,"Aster firmus"]
[null,null,null,"Aster forwoodii"]
[null,null,null,"Aster lucidulus"]
[null,null,null,"Aster puniceus"]
[null,null,null,"Aster puniceus ssp. firmus"]
[null,null,null,"Aster puniceus var. calderi"]
[null,null,null,"Aster puniceus var. calvus"]
[null,null,null,"Aster puniceus var. compactus"]
[null,null,null,"Aster puniceus var. demissus"]
[null,null,null,"Aster puniceus var. firmus"]
[null,null,null,"Aster puniceus var. lucidulus"]
[null,null,null,"Aster puniceus var. oligocephalus"]
[null,null,null,"Aster puniceus var. perlongus"]
[null,null,null,"Symphyotrichum firmum"]
[null,null,null,"Symphyotrichum puniceum var. calderi"]
[null,null,null,"Symphyotrichum sericeum","western silver aster"]
[null,null,null,"Aster sericeus"]
[null,null,null,"Lasallea sericea"]
[null,null,null,"Virgulus sericeus"]
[null,null,null,"Symphyotrichum shortii","Short's aster"]
[null,null,null,"Aster camptosorus"]
[null,null,null,"Aster shortii"]
[null,null,null,"Symphyotrichum turbinellum","smooth violet prairie aster"]
[null,null,null,"Aster turbinellus"]
[null,null,null,"Symphyotrichum urophyllum","white arrowleaf aster"]
[null,null,null,"Aster hirtellus"]
[null,null,null,"Aster sagittifolius"]
[null,null,null,"Aster sagittifolius var. urophyllus"]
[null,null,null,"Aster urophyllus"]
[null,null,null,"Symphyotrichum ×woldenii"]
[null,null,null,"Aster woldenii"]
[null,null,null,"Aster ×woldenii"]
[null,null,null,"Symplocarpus foetidus","skunk cabbage"]
[null,null,null,"Spathyema foetida"]
[null,null,null,"Taenidia integerrima","yellow pimpernel"]
[null,null,null,"Taraxacum officinale","common dandelion"]
[null,null,null,"Tephrosia virginiana","Virginia tephrosia"]
[null,null,null,"Cracca latidens"]
[null,null,null,"Cracca virginiana"]
[null,null,null,"Tephrosia latidens"]
[null,null,null,"Tephrosia virginiana var. glabra"]
[null,null,null,"Tephrosia virginiana var. holosericea"]
[null,null,null,"Teucrium canadense","Canada germander"]
[null,null,null,"Teucrium canadense var. canadense","Canada germander"]
[null,null,null,"Teucrium canadense var. angustatum"]
[null,null,null,"Teucrium canadense var. littorale"]
[null,null,null,"Teucrium canadense var. virginicum"]
[null,null,null,"Teucrium littorale"]
[null,null,null,"Teucrium canadense var. occidentale","western germander"]
[null,null,null,"Teucrium boreale"]
[null,null,null,"Teucrium canadense ssp. occidentale"]
[null,null,null,"Teucrium canadense ssp. viscidum"]
[null,null,null,"Teucrium canadense var. boreale"]
[null,null,null,"Teucrium occidentale"]
[null,null,null,"Teucrium occidentale var. boreale"]
[null,null,null,"Thalictrum dasycarpum","purple meadow-rue"]
[null,null,null,"Thalictrum dasycarpum var. hypoglaucum"]
[null,null,null,"Thalictrum hypoglaucum"]
[null,null,null,"Thalictrum dioicum","early meadow-rue"]
[null,null,null,"Thalictrum revolutum","waxyleaf meadow-rue"]
[null,null,null,"Thalictrum revolutum var. glandulosior"]
[null,null,null,"Thalictrum thalictroides","rue anemone"]
[null,null,null,"Anemonella thalictroides"]
[null,null,null,"Syndesmon thalictroides"]
[null,null,null,"Thaspium barbinode","hairyjoint meadowparsnip"]
[null,null,null,"Thaspium barbinode var. angustifolium"]
[null,null,null,"Thaspium chapmanii"]
[null,null,null,"Thelypteris palustris","eastern marsh fern"]
[null,null,null,"Thelypteris palustris var. pubescens","eastern marsh fern"]
[null,null,null,"Dryopteris thelypteris"]
[null,null,null,"Dryopteris thelypteris var. haleana"]
[null,null,null,"Dryopteris thelypteris var. pubescens"]
[null,null,null,"Thelypteris confluens var. pubescens"]
[null,null,null,"Thelypteris palustris var. haleana"]
[null,null,null,"Thymelaea passerina","mezereon"]
[null,null,null,"Passerina annua"]
[null,null,null,"Torilis arvensis","spreading hedgeparsley"]
[null,null,null,"Torilis arvensis ssp. arvensis","spreading hedgeparsley"]
[null,null,null,"Toxicodendron radicans","eastern poison ivy"]
[null,null,null,"Toxicodendron radicans ssp. negundo","eastern poison ivy"]
[null,null,null,"Toxicodendron radicans var. negundo"]
[null,null,null,"Toxicodendron rydbergii","western poison ivy"]
[null,null,null,"Rhus radicans var. rydbergii"]
[null,null,null,"Rhus radicans var. vulgaris"]
[null,null,null,"Rhus toxicodendron var. vulgaris"]
[null,null,null,"Toxicodendron desertorum"]
[null,null,null,"Toxicodendron radicans var. rydbergii"]
[null,null,null,"Tradescantia bracteata","longbract spiderwort"]
[null,null,null,"Tradescantia occidentalis","prairie spiderwort"]
[null,null,null,"Tradescantia occidentalis var. occidentalis","prairie spiderwort"]
[null,null,null,"Tradescantia occidentalis var. typica"]
[null,null,null,"Tradescantia ohiensis","bluejacket"]
[null,null,null,"Tradescantia canaliculata"]
[null,null,null,"Tradescantia foliosa"]
[null,null,null,"Tradescantia incarnata"]
[null,null,null,"Tradescantia ohiensis var. foliosa"]
[null,null,null,"Tradescantia reflexa"]
[null,null,null,"Tradescantia virginiana","Virginia spiderwort"]
[null,null,null,"Ephemerum congestum"]
[null,null,null,"Tradescantia brevicaulis"]
[null,null,null,"Tradescantia congesta"]
[null,null,null,"Tradescantia rupestris"]
[null,null,null,"Tradescantia speciosa"]
[null,null,null,"Tradescantia virginiana var. alba"]
[null,null,null,"Tradescantia virginiana var. barbata"]
[null,null,null,"Triadenum fraseri","Fraser's marsh St. Johnswort"]
[null,null,null,"Elodea fraseri"]
[null,null,null,"Hypericum virginicum var. fraseri"]
[null,null,null,"Triadenum virginicum ssp. fraseri"]
[null,null,null,"Triadenum virginicum var. fraseri"]
[null,null,null,"Trichostema brachiatum","fluxweed"]
[null,null,null,"Isanthus brachiatus"]
[null,null,null,"Isanthus brachiatus var. linearis"]
[null,null,null,"Tetraclea viscida"]
[null,null,null,"Trichostema dichotomum","forked bluecurls"]
[null,null,null,"Trichostema dichotomum var. puberulum"]
[null,null,null,"Trichostema pilosum"]
[null,null,null,"Trifolium reflexum","buffalo clover"]
[null,null,null,"Trifolium reflexum var. glabrum"]
[null,null,null,"Trillium cernuum","whip-poor-will flower"]
[null,null,null,"Trillium cernuum var. macranthum"]
[null,null,null,"Trillium flexipes","nodding wakerobin"]
[null,null,null,"Trillium declinatum"]
[null,null,null,"Trillium erectum var. blandum"]
[null,null,null,"Trillium erectum var. declinatum"]
[null,null,null,"Trillium gleasonii"]
[null,null,null,"Trillium nivale","snow trillium"]
[null,null,null,"Trillium recurvatum","bloody butcher"]
[null,null,null,"Triodanis leptocarpa","slimpod Venus' looking-glass"]
[null,null,null,"Specularia leptocarpa"]
[null,null,null,"Triodanis perfoliata","clasping Venus' looking-glass"]
[null,null,null,"Legousia perfoliata"]
[null,null,null,"Specularia perfoliata"]
[null,null,null,"Triodanis perfoliata var. perfoliata"]
[null,null,null,"Triosteum aurantiacum","orangefruit horse-gentian"]
[null,null,null,"Triosteum aurantiacum var. aurantiacum","orangefruit horse-gentian"]
[null,null,null,"Triosteum perfoliatum var. aurantiacum"]
[null,null,null,"Triosteum aurantiacum var. illinoense","Illinois horse-gentian"]
[null,null,null,"Triosteum illinoense"]
[null,null,null,"Triosteum perfoliatum var. illinoense"]
[null,null,null,"Triosteum perfoliatum","feverwort"]
[null,null,null,"Triphora trianthophora","threebirds"]
[null,null,null,"Triphora trianthophora var. schaffneri"]
[null,null,null,"Typha angustifolia","narrowleaf cattail"]
[null,null,null,"Typha angustifolia var. calumetensis"]
[null,null,null,"Typha angustifolia var. elongata"]
[null,null,null,"Typha ×glauca"]
[null,null,null,"Typha latifolia","broadleaf cattail"]
[null,null,null,"Urtica dioica","stinging nettle"]
[null,null,null,"Urtica dioica ssp. gracilis","California nettle"]
[null,null,null,"Urtica californica"]
[null,null,null,"Urtica cardiophylla"]
[null,null,null,"Urtica dioica var. angustifolia"]
[null,null,null,"Urtica dioica var. californica"]
[null,null,null,"Urtica dioica var. gracilis"]
[null,null,null,"Urtica dioica var. lyallii"]
[null,null,null,"Urtica dioica var. procera"]
[null,null,null,"Urtica gracilis"]
[null,null,null,"Urtica lyallii"]
[null,null,null,"Urtica lyallii var. californica"]
[null,null,null,"Urtica major"]
[null,null,null,"Urtica procera"]
[null,null,null,"Urtica serra"]
[null,null,null,"Urtica strigosissima"]
[null,null,null,"Urtica viridis"]
[null,null,null,"Utricularia geminiscapa","hiddenfruit bladderwort"]
[null,null,null,"Utricularia gibba","humped bladderwort"]
[null,null,null,"Utricularia biflora"]
[null,null,null,"Utricularia fibrosa"]
[null,null,null,"Utricularia obtusa"]
[null,null,null,"Utricularia pumila"]
[null,null,null,"Utricularia intermedia","flatleaf bladderwort"]
[null,null,null,"Utricularia macrorhiza","common bladderwort"]
[null,null,null,"Utricularia vulgaris"]
[null,null,null,"Utricularia vulgaris ssp. macrorhiza"]
[null,null,null,"Utricularia vulgaris var. americana"]
[null,null,null,"Utricularia minor","lesser bladderwort"]
[null,null,null,"Uvularia grandiflora","largeflower bellwort"]
[null,null,null,"Uvularia sessilifolia","sessileleaf bellwort"]
[null,null,null,"Oakesiella sessilifolia"]
[null,null,null,"Valeriana edulis","tobacco root"]
[null,null,null,"Valeriana edulis var. ciliata","tobacco root"]
[null,null,null,"Valeriana ciliata"]
[null,null,null,"Valeriana edulis ssp. ciliata"]
[null,null,null,"Vallisneria americana","American eelgrass"]
[null,null,null,"Vallisneria asiatica"]
[null,null,null,"Vallisneria neotropicalis"]
[null,null,null,"Vallisneria spiralis"]
[null,null,null,"Vallisneria spiralis var. asiatica"]
[null,null,null,"Veratrum virginicum","Virginia bunchflower"]
[null,null,null,"Melanthium dispersum"]
[null,null,null,"Melanthium virginicum"]
[null,null,null,"Veratrum woodii","Wood's bunchflower"]
[null,null,null,"Melanthium woodii"]
[null,null,null,"Veratrum intermedium"]
[null,null,null,"Verbena ×blanchardii"]
[null,null,null,"Verbena bracteata","bigbract verbena"]
[null,null,null,"Verbena bracteosa"]
[null,null,null,"Verbena imbricata"]
[null,null,null,"Verbena ×deamii"]
[null,null,null,"Verbena ×dodgei"]
[null,null,null,"Verbena ×engelmannii"]
[null,null,null,"Verbena hastata","swamp verbena"]
[null,null,null,"Verbena hastata var. hastata","swamp verbena"]
[null,null,null,"Verbena hastata var. scabra","swamp verbena"]
[null,null,null,"Verbena ×illicita"]
[null,null,null,"Verbena ×moechina"]
[null,null,null,"Verbena ×perriana"]
[null,null,null,"Verbena ×rydbergii"]
[null,null,null,"Verbena ×paniculatistricta"]
[null,null,null,"Verbena simplex","narrowleaf vervain"]
[null,null,null,"Verbena angustifolia"]
[null,null,null,"Verbena stricta","hoary verbena"]
[null,null,null,"Verbena urticifolia","white vervain"]
[null,null,null,"Verbena urticifolia var. leiocarpa","white vervain"]
[null,null,null,"Verbena urticifolia var. urticifolia","white vervain"]
[null,null,null,"Verbena urticifolia var. incarnata"]
[null,null,null,"Verbena urticifolia var. simplex"]
[null,null,null,"Verbesina alternifolia","wingstem"]
[null,null,null,"Actinomeris alternifolia"]
[null,null,null,"Ridan alternifolia"]
[null,null,null,"Verbesina encelioides","golden crownbeard"]
[null,null,null,"Verbesina encelioides ssp. exauriculata","golden crownbeard"]
[null,null,null,"Verbesina encelioides var. exauriculata"]
[null,null,null,"Verbesina exauriculata"]
[null,null,null,"Ximenesia encelioides var. exauriculata"]
[null,null,null,"Ximenesia exauriculata"]
[null,null,null,"Verbesina helianthoides","gravelweed"]
[null,null,null,"Actinomeris helianthoides"]
[null,null,null,"Actinomeris helianthoides var. elliottii"]
[null,null,null,"Actinomeris helianthoides var. nuttallii"]
[null,null,null,"Actinomeris oppositifolia"]
[null,null,null,"Phaethusa helianthoides"]
[null,null,null,"Pterophyton helianthoides"]
[null,null,null,"Verbesina virginica","white crownbeard"]
[null,null,null,"Verbesina virginica var. virginica","white crownbeard"]
[null,null,null,"Phaethusa virginica"]
[null,null,null,"Vernonia baldwinii","Baldwin's ironweed"]
[null,null,null,"Vernonia baldwinii ssp. interior","interior ironweed"]
[null,null,null,"Vernonia interior"]
[null,null,null,"Vernonia fasciculata","prairie ironweed"]
[null,null,null,"Vernonia fasciculata ssp. corymbosa","prairie ironweed"]
[null,null,null,"Vernonia fasciculata var. corymbosa"]
[null,null,null,"Vernonia fasciculata ssp. fasciculata","prairie ironweed"]
[null,null,null,"Vernonia gigantea","giant ironweed"]
[null,null,null,"Vernonia gigantea ssp. gigantea","giant ironweed"]
[null,null,null,"Vernonia altissima"]
[null,null,null,"Vernonia altissima var. lilacina"]
[null,null,null,"Vernonia altissima var. taeniotricha"]
[null,null,null,"Vernonia missurica","Missouri ironweed"]
[null,null,null,"Vernonia aborigina"]
[null,null,null,"Veronica americana","American speedwell"]
[null,null,null,"Veronica anagallis-aquatica","water speedwell"]
[null,null,null,"Veronica anagallis"]
[null,null,null,"Veronica catenata"]
[null,null,null,"Veronica catenata var. glandulosa"]
[null,null,null,"Veronica comosa"]
[null,null,null,"Veronica comosa var. glaberrima"]
[null,null,null,"Veronica comosa var. glandulosa"]
[null,null,null,"Veronica connata"]
[null,null,null,"Veronica connata ssp. glaberrima"]
[null,null,null,"Veronica connata var. glaberrima"]
[null,null,null,"Veronica connata var. typica"]
[null,null,null,"Veronica glandifera"]
[null,null,null,"Veronica grandiflora"]
[null,null,null,"Veronica ×lackschewitzii"]
[null,null,null,"Veronica micromeria"]
[null,null,null,"Veronica salina"]
[null,null,null,"Veronica peregrina","neckweed"]
[null,null,null,"Veronica peregrina ssp. peregrina","neckweed"]
[null,null,null,"Veronica peregrina var. typica"]
[null,null,null,"Veronica peregrina ssp. xalapensis","hairy purslane speedwell"]
[null,null,null,"Veronica peregrina var. xalapensis"]
[null,null,null,"Veronica sherwoodii"]
[null,null,null,"Veronica xalapensis"]
[null,null,null,"Veronica scutellata","skullcap speedwell"]
[null,null,null,"Veronica scutellata var. villosa"]
[null,null,null,"Veronica serpyllifolia","thymeleaf speedwell"]
[null,null,null,"Veronicastrum virginicum","Culver's root"]
[null,null,null,"Leptandra virginica"]
[null,null,null,"Veronica virginica"]
[null,null,null,"Vicia americana","American vetch"]
[null,null,null,"Vicia americana ssp. americana","American vetch"]
[null,null,null,"Vicia americana ssp. oregana"]
[null,null,null,"Vicia americana var. americana"]
[null,null,null,"Vicia americana var. oregana"]
[null,null,null,"Vicia americana var. truncata"]
[null,null,null,"Vicia americana var. villosa"]
[null,null,null,"Vicia californica"]
[null,null,null,"Vicia californica var. madrensis"]
[null,null,null,"Vicia oregana"]
[null,null,null,"Vicia sparsifolia var. truncata"]
[null,null,null,"Vicia americana ssp. minor","mat vetch"]
[null,null,null,"Lathyrus linearis"]
[null,null,null,"Vicia americana var. angustifolia"]
[null,null,null,"Vicia americana var. linearis"]
[null,null,null,"Vicia americana var. minor"]
[null,null,null,"Vicia linearis"]
[null,null,null,"Vicia sparsifolia"]
[null,null,null,"Vicia trifida"]
[null,null,null,"Vicia trifida"]
[null,null,null,"Viola adunca","hookedspur violet"]
[null,null,null,"Viola adunca var. adunca","hookedspur violet"]
[null,null,null,"Viola adunca ssp. ashtonae"]
[null,null,null,"Viola adunca ssp. radicosa"]
[null,null,null,"Viola adunca ssp. typica"]
[null,null,null,"Viola adunca ssp. uncinulata"]
[null,null,null,"Viola adunca var. bellidifolia"]
[null,null,null,"Viola adunca var. cascadensis"]
[null,null,null,"Viola adunca var. uncinulata"]
[null,null,null,"Viola aduncoides"]
[null,null,null,"Viola bellidifolia"]
[null,null,null,"Viola cascadensis"]
[null,null,null,"Viola montanensis"]
[null,null,null,"Viola subvestita"]
[null,null,null,"Viola ×bernardii"]
[null,null,null,"Viola angellae"]
[null,null,null,"Viola emarginata var. subsinuata"]
[null,null,null,"Viola subsinuata"]
[null,null,null,"Viola ×subsinuata"]
[null,null,null,"Viola bicolor","field pansy"]
[null,null,null,"Viola kitaibeliana"]
[null,null,null,"Viola kitaibeliana var. rafinesquei"]
[null,null,null,"Viola rafinesquei"]
[null,null,null,"Viola blanda","sweet white violet"]
[null,null,null,"Viola blanda var. palustriformis","sweet white violet"]
[null,null,null,"Viola incognita"]
[null,null,null,"Viola incognita var. forbesii"]
[null,null,null,"Viola canadensis","Canadian white violet"]
[null,null,null,"Viola canadensis var. rugulosa","creepingroot violet"]
[null,null,null,"Viola canadensis ssp. rydbergii"]
[null,null,null,"Viola rugulosa"]
[null,null,null,"Viola rydbergii"]
[null,null,null,"Viola cucullata","marsh blue violet"]
[null,null,null,"Viola cucullata var. microtitis"]
[null,null,null,"Viola obliqua"]
[null,null,null,"Viola lanceolata","bog white violet"]
[null,null,null,"Viola lanceolata ssp. lanceolata","bog white violet"]
[null,null,null,"Viola macloskeyi","small white violet"]
[null,null,null,"Viola macloskeyi ssp. pallens","smooth white violet"]
[null,null,null,"Viola macloskeyi var. pallens"]
[null,null,null,"Viola pallens"]
[null,null,null,"Viola pallens var. subreptans"]
[null,null,null,"Viola missouriensis","Missouri violet"]
[null,null,null,"Viola sororia var. missouriensis"]
[null,null,null,"Viola nephrophylla","northern bog violet"]
[null,null,null,"Viola maccabeana"]
[null,null,null,"Viola nephrophylla var. arizonica"]
[null,null,null,"Viola nephrophylla var. cognata"]
[null,null,null,"Viola pratincola"]
[null,null,null,"Viola retusa"]
[null,null,null,"Viola pedata","birdfoot violet"]
[null,null,null,"Viola pedata var. concolor"]
[null,null,null,"Viola pedata var. lineariloba"]
[null,null,null,"Viola pedata var. ranunculifolia"]
[null,null,null,"Viola pedatifida","prairie violet"]
[null,null,null,"Viola palmata var. pedatifida"]
[null,null,null,"Viola ×primulifolia"]
[null,null,null,"Viola primulifolia"]
[null,null,null,"Viola primulifolia ssp. villosa"]
[null,null,null,"Viola primulifolia var. acuta"]
[null,null,null,"Viola primulifolia var. villosa"]
[null,null,null,"Viola pubescens","downy yellow violet"]
[null,null,null,"Viola pubescens var. pubescens","downy yellow violet"]
[null,null,null,"Viola eriocarpon"]
[null,null,null,"Viola pensylvanica"]
[null,null,null,"Viola pubescens var. eriocarpon"]
[null,null,null,"Viola renifolia","white violet"]
[null,null,null,"Viola renifolia var. brainerdii"]
[null,null,null,"Viola sagittata","arrowleaf violet"]
[null,null,null,"Viola sagittata var. ovata","arrowleaf violet"]
[null,null,null,"Viola ×abundans"]
[null,null,null,"Viola ×erratica"]
[null,null,null,"Viola fimbriatula"]
[null,null,null,"Viola sagittata var. sagittata","arrowleaf violet"]
[null,null,null,"Viola ×cestrica"]
[null,null,null,"Viola emarginata"]
[null,null,null,"Viola emarginata var. acutiloba"]
[null,null,null,"Viola sagittata var. subsagittata"]
[null,null,null,"Viola septentrionalis","northern woodland violet"]
[null,null,null,"Viola sororia","common blue violet"]
[null,null,null,"Viola floridana"]
[null,null,null,"Viola latiuscula"]
[null,null,null,"Viola palmata var. sororia"]
[null,null,null,"Viola papilionacea"]
[null,null,null,"Viola papilionacea var. priceana"]
[null,null,null,"Viola priceana"]
[null,null,null,"Viola striata","striped cream violet"]
[null,null,null,"Viola sublanceolata","lanceleaf violet"]
[null,null,null,"Viola ×viarum","twoflower violet"]
[null,null,null,"Viola viarum"]
[null,null,null,"Wolffia borealis","northern watermeal"]
[null,null,null,"Wolffia punctata"]
[null,null,null,"Wolffia brasiliensis","Brazilian watermeal"]
[null,null,null,"Bruniera punctata"]
[null,null,null,"Wolffia papulifera"]
[null,null,null,"Wolffia punctata"]
[null,null,null,"Wolffia columbiana","Columbian watermeal"]
[null,null,null,"Bruniera columbiana"]
[null,null,null,"Woodsia ilvensis","rusty woodsia"]
[null,null,null,"Woodsia obtusa","bluntlobe cliff fern"]
[null,null,null,"Woodsia obtusa ssp. obtusa","bluntlobe cliff fern"]
[null,null,null,"Woodsia oregana","Oregon cliff fern"]
[null,null,null,"Woodsia oregana ssp. cathcartiana","Oregon cliff fern"]
[null,null,null,"Woodsia cathcartiana"]
[null,null,null,"Woodsia oregana var. cathcartiana"]
[null,null,null,"Xanthium strumarium","rough cocklebur"]
[null,null,null,"Xanthium strumarium var. canadense","Canada cocklebur"]
[null,null,null,"Xanthium acerosum"]
[null,null,null,"Xanthium californicum"]
[null,null,null,"Xanthium californicum var. rotundifolium"]
[null,null,null,"Xanthium campestre"]
[null,null,null,"Xanthium canadense"]
[null,null,null,"Xanthium cavanillesii"]
[null,null,null,"Xanthium cenchroides"]
[null,null,null,"Xanthium commune"]
[null,null,null,"Xanthium echinatum"]
[null,null,null,"Xanthium glanduliferum"]
[null,null,null,"Xanthium italicum"]
[null,null,null,"Xanthium macounii"]
[null,null,null,"Xanthium oligacanthum"]
[null,null,null,"Xanthium oviforme"]
[null,null,null,"Xanthium pensylvanicum"]
[null,null,null,"Xanthium saccharatum"]
[null,null,null,"Xanthium speciosum"]
[null,null,null,"Xanthium strumarium ssp. italicum"]
[null,null,null,"Xanthium strumarium var. oviforme"]
[null,null,null,"Xanthium strumarium var. pensylvanicum"]
[null,null,null,"Xanthium varians"]
[null,null,null,"Xanthium strumarium var. glabratum","rough cocklebur"]
[null,null,null,"Xanthium americanum"]
[null,null,null,"Xanthium calvum"]
[null,null,null,"Xanthium chasei"]
[null,null,null,"Xanthium chinense"]
[null,null,null,"Xanthium curvescens"]
[null,null,null,"Xanthium cylindraceum"]
[null,null,null,"Xanthium echinellum"]
[null,null,null,"Xanthium globosum"]
[null,null,null,"Xanthium inflexum"]
[null,null,null,"Xanthium macrocarpum var. glabratum"]
[null,null,null,"Xanthium occidentale"]
[null,null,null,"Xanthium orientale"]
[null,null,null,"Xanthium strumarium var. wootonii"]
[null,null,null,"Xanthium strumarium var. wootonii"]
[null,null,null,"Xanthium wootonii"]
[null,null,null,"Xyris torta","slender yelloweyed grass"]
[null,null,null,"Xyris bulbosa"]
[null,null,null,"Xyris flexuosa"]
[null,null,null,"Xyris indica"]
[null,null,null,"Xyris torta var. macropoda"]
[null,null,null,"Xyris torta var. occidentalis"]
[null,null,null,"Yucca glauca","soapweed yucca"]
[null,null,null,"Yucca glauca var. glauca","soapweed yucca"]
[null,null,null,"Yucca angustifolia"]
[null,null,null,"Zannichellia palustris","horned pondweed"]
[null,null,null,"Zannichellia major"]
[null,null,null,"Zannichellia palustris var. major"]
[null,null,null,"Zannichellia palustris var. stenophylla"]
[null,null,null,"Zigadenus elegans","mountain deathcamas"]
[null,null,null,"Zigadenus elegans ssp. elegans","mountain deathcamas"]
[null,null,null,"Anticlea coloradensis"]
[null,null,null,"Anticlea elegans"]
[null,null,null,"Zigadenus alpinus"]
[null,null,null,"Zigadenus elegans ssp. glaucus","mountain deathcamas"]
[null,null,null,"Anticlea chlorantha"]
[null,null,null,"Zigadenus elegans var. glaucus"]
[null,null,null,"Zigadenus glaucus"]
[null,null,null,"Zizia aptera","meadow zizia"]
[null,null,null,"Zizia aptera var. occidentalis"]
[null,null,null,"Zizia cordata"]
[null,null,null,"Zizia aurea","golden zizia"]

{"sheet":"643Rst&ManR&DeclHab Check Sheet","index":12,"n_rows":98,"n_cols":14,"rows_kept":98,"cut":false,"hidden":false,"merged":[[28,1,28,4],[32,1,32,4],[12,1,13,4],[14,1,15,4],[19,1,20,4],[24,1,24,4],[27,7,27,8],[28,7,28,8],[34,7,34,8],[35,7,35,8],[37,6,37,9],[29,7,29,8],[30,7,30,8],[31,7,31,8],[32,7,32,8],[33,7,33,8],[1,1,1,4],[3,1,3,4],[4,1,4,4],[2,6,2,7],[13,7,13,8],[10,7,10,8],[1,6,1,9],[3,6,3,9],[4,6,4,9],[9,7,9,8],[11,7,11,8],[12,7,12,8],[25,7,25,8],[26,7,26,8],[1,15,1,16],[15,7,15,8],[16,7,16,8],[18,7,18,8],[14,7,14,8],[21,7,21,8],[22,7,22,8],[20,7,20,8],[23,7,23,8],[24,7,24,8],[19,7,19,8],[17,7,17,8]]}
[]
[null,"643 Restoration and Management of Rare or Declining Habitats Requirements",null,null,null,null,"643 Restoration and Management of Rare or Declining Habitats Recommendations"]
[null,"Requirement","Criteria","Mix","Criteria Met",null,"Recommendation",null,"Mix","Recommendation Met"]
[]
[null,"Requirements For All Sites",null,null,null,null,"Recommendations For All Sites"]
[null,"% Annual & Biennial Forb Seeds/ft2, Max.",0.2,{"$f":"(SUMIF(Calculator!M83:M262,\"*annual*\",Calculator!F83:F262)+SUMIF(Calculator!M83:M262,\"*biennial*\",Calculator!F83:F262))/Calculator!F265","v":{"$error":"#DIV/0!"}},{"$f":"IF(D6>C6,\"Does Not Meet Criteria\",\"Meets Criteria\")","v":{"$error":"#DIV/0!"}},null,"% Early successional species (CC < 3), Maximum1",0.2,{"$f":"(SUMIF(Calculator!G15:G74,\"<=3\",Calculator!F15:F74)+SUMIF(Calculator!G83:G262,\"<=3\",Calculator!F83:F262)+SUMIF(Calculator!G271:G280,\"<=3\",Calculator!F271:F280))/Calculator!F285","v":{"$error":"#DIV/0!"}},{"$f":"IF(I6>H6+10,\"Does Not Meet Recommendation\",\"Meets Recommendation\")","v":{"$error":"#DIV/0!"}}]
[null,"% Grass seeds/ft2, Minimum",0.2,{"$f":"Calculator!F77/Calculator!F285","v":{"$error":"#DIV/0!"}},{"$f":"IF(D7<=C7,\"Does Not Meet Criteria\",\"Meets Criteria\")","v":{"$error":"#DIV/0!"}},null,"% Mid successional species (CC 4-6), Maximum1",0.65,{"$f":"(SUMIF(Calculator!G15:G74,4,Calculator!F15:F74)+SUMIF(Calculator!G83:G262,4,Calculator!F83:F262)+SUMIF(Calculator!G271:G280,4,Calculator!F271:F280)+ SUMIF(Calculator!G15:G74,5,Calculator!F15:F74)+SUMIF(Calculator!G83:G262,5,Calculator!F83:F262)+SUMIF(Calculator!G271:G280,5,Calculator!F271:F280)+ SUMIF(Calculator!G15:G74,6,Calculator!F15:F74)+SUMIF(Calculator!G83:G262,6,Calculator!F83:F262)+SUMIF(Calculator!G271:G280,6,Calculator!F271:F280))/Calculator!F285","v":{"$error":"#DIV/0!"}},{"$f":"IF(I7<H7-10,\"Does Not Meet Recommendation\",\"Meets Recommendation\")","v":{"$error":"#DIV/0!"}}]
[null,"Number of Forbs and Sub-shrubs, Minimum",20,{"$f":"(COUNTIF(Calculator!M83:M262,\"*forb*\")/2)+(COUNTIF(Calculator!M271:M280,\"*sub-shrub*\")/2)","v":0},{"$f":"IF(D8<C8,\"Does Not Meet Criteria\",\"Meets Criteria\")","v":"Does Not Meet Criteria"},null,"% Late successional species (CC > 7), Minimum1",0.15,{"$f":"(SUMIF(Calculator!G15:G74,\">=7\",Calculator!F15:F74)+SUMIF(Calculator!G83:G262,\">=7\",Calculator!F83:F262)+SUMIF(Calculator!G271:G280,\">=7\",Calculator!F271:F280))/Calculator!F285","v":{"$error":"#DIV/0!"}},{"$f":"IF(I8<H8,\"Does Not Meet Recommendation\",\"Meets Recommendation\")","v":{"$error":"#DIV/0!"}}]
[null,"Number of Graminoids, Minimum",10,{"$f":"Calculator!C77","v":0},{"$f":"IF(D9<C9,\"Does Not Meet Criteria\",\"Meets Criteria\")","v":"Does Not Meet Criteria"},null,"Simpson's Evenness:","> 70%",{"$f":"1/(SUMSQ(Calculator!K15:K74,Calculator!K83:K262,Calculator!K271:K280))/Calculator!I285","v":{"$error":"#DIV/0!"}},{"$f":"IF(I9<0.7,\"Does Not Meet Recommendation\",\"Meets Recommendation\")","v":{"$error":"#DIV/0!"}}]
[null,"Total Number of Species, Minimum",30,{"$f":"Calculator!I285","v":0},{"$f":"IF(D10<C10,\"Does Not Meet Criteria\",\"Meets Criteria\")","v":"Does Not Meet Criteria"},null,"Functional Plant Group Representation:","Species Richness",null,"% of Mix1"]
[null,"Floristic Quality Index (FQI)",20,{"$f":"Calculator!K285","v":0},{"$f":"IF(D11<20,\"Does Not Meet Criteria\",\"Meets Criteria\")","v":"Does Not Meet Criteria"},null,"Cactus",{"$f":"COUNTIF(Calculator!M271:M280,\"Cactus\")","v":0},null,{"$f":"SUMIF(Calculator!M271:M280,\"Cactus\",Calculator!F271:F280)/Calculator!F285","v":{"$error":"#DIV/0!"}}]
[null,"Coefficient of Conservatism (CC)",3,{"$f":"Calculator!G285","v":0},{"$f":"IF(D12<3,\"Does Not Meet Criteria\",\"Meets Criteria\")","v":"Does Not Meet Criteria"},null,"Fern"]
[null,"*Long-term Plantings (>15 years) or plantings within 1-mile of remnants must be seeded with local ecotype or source identified seed.",null,null,null,null,"Forb, Annual",{"$f":"COUNTIF(Calculator!M83:M262,\"Annual Forb\")/2","v":0},null,{"$f":"SUMIF(Calculator!M83:M162,\"Annual Forb\",Calculator!F83:F162)/Calculator!F285","v":{"$error":"#DIV/0!"}}]
[null,null,null,null,null,null,"Forb, Biennial",{"$f":"COUNTIF(Calculator!M83:M262,\"Biennial Forb\")/2","v":0},null,{"$f":"SUMIF(Calculator!M83:M162,\"Biennial Forb\",Calculator!F83:F162)/Calculator!F285","v":{"$error":"#DIV/0!"}}]
[null,"Additional requirements for spring or dormant seeded sites on < 5% slope or >5% slope that will be no-till drilled into existing sod.",null,null,null,null,"Forb, Hemiparasite, Annual",{"$f":"COUNTIF(Calculator!M83:M262,\"Annual Forb, Hemiparasite\")/2","v":0},null,{"$f":"SUMIF(Calculator!M83:M162,\"Annual Forb, Hemiparasite\",Calculator!F83:F162)/Calculator!F285","v":{"$error":"#DIV/0!"}}]
[null,null,null,null,null,null,"Forb, Hemiparasite, Perennial",{"$f":"COUNTIF(Calculator!M83:M262,\"Perennial Forb, Hemiparasite\")/2","v":0},null,{"$f":"SUMIF(Calculator!M83:M162,\"Perennial Forb, Hemiparasite\",Calculator!F83:F162)/Calculator!F285","v":{"$error":"#DIV/0!"}}]
[null,"Graminoid Seeds/ft2, Minimum",20,{"$f":"Calculator!F77","v":0},{"$f":"IF(D17<C17,\"Does Not Meet Criteria\",\"Meets Criteria\")","v":"Does Not Meet Criteria"},null,"Forb, Legume, Annual",{"$f":"COUNTIF(Calculator!M83:M262,\"Annual Forb, Legume\")/2","v":0},null,{"$f":"SUMIF(Calculator!M83:M162,\"Annual Forb, Legume\",Calculator!F83:F162)/Calculator!F285","v":{"$error":"#DIV/0!"}}]
[null,"Forb & Sub-shrub Seeds/ft2, Minimum",20,{"$f":"Calculator!F265+SUMIF(Calculator!M271:M280,\"*sub-shrub*\",Calculator!F271:F280)+SUMIF(Calculator!M271:M280,\"*vine*\",Calculator!F271:F280)","v":0},{"$f":"IF(D18<C18,\"Does Not Meet Criteria\",\"Meets Criteria\")","v":"Does Not Meet Criteria"},null,"Forb, Legume, Perennial",{"$f":"COUNTIF(Calculator!M83:M262,\"Perennial Forb, Legume\")/2","v":0},null,{"$f":"SUMIF(Calculator!M83:M162,\"Perennial Forb, Legume\",Calculator!F83:F162)/Calculator!F285","v":{"$error":"#DIV/0!"}}]
[null,"Total Seeds/ft2, Minimum",{"$f":"IF(Calculator!F77>21,50,40)","v":40},{"$f":"Calculator!F285","v":0},{"$f":"IF(D19<C19,\"Does Not Meet Criteria\",\"Meets Criteria\")","v":"Does Not Meet Criteria"},null,"Forb, Parasitic, Annual",{"$f":"COUNTIF(Calculator!M83:M262,\"Annual Forb, Parasitic\")/2","v":0},null,{"$f":"SUMIF(Calculator!M83:M162,\"Annual Forb, Parasitic\",Calculator!F83:F162)/Calculator!F285","v":{"$error":"#DIV/0!"}}]
[null,"Additional requirements for spring or dormant seeded sites on >5% slope.",null,null,null,null,"Forb, Perennial",{"$f":"COUNTIF(Calculator!M83:M262,\"Perennial Forb\")/2","v":0},null,{"$f":"SUMIF(Calculator!M83:M162,\"Perennial Forb\",Calculator!F83:F162)/Calculator!F285","v":{"$error":"#DIV/0!"}}]
[null,null,null,null,null,null,"Grass, Cool Season, Annual",{"$f":"COUNTIF(Calculator!M15:M74,\"Annual Cool Season Grass\")/2","v":0},null,{"$f":"SUMIF(Calculator!M15:M74,\"AnnualCoolSeasonGrass\",Calculator!F15:F74)/Calculator!F285","v":{"$error":"#DIV/0!"}}]
[null,"Graminoid Seeds/ft2, Minimum",30,{"$f":"Calculator!F77","v":0},{"$f":"IF(D22<C22,\"Does Not Meet Criteria\",\"Meets Criteria\")","v":"Does Not Meet Criteria"},null,"Grass, Cool Season, Perennial",{"$f":"COUNTIF(Calculator!M15:M74,\"Perennial Cool Season Grass\")/2","v":0},null,{"$f":"SUMIF(Calculator!M15:M74,\"Perennial Cool Season Grass\",Calculator!F15:F74)/Calculator!F285","v":{"$error":"#DIV/0!"}}]
[null,"Forb & Sub-shrub Seeds/ft2, Minimum",10,{"$f":"Calculator!F265+SUMIF(Calculator!M271:M280,\"*sub-shrub*\",Calculator!F271:F280)+SUMIF(Calculator!M271:M280,\"*vine*\",Calculator!F271:F280)","v":0},{"$f":"IF(D23<C23,\"Does Not Meet Criteria\",\"Meets Criteria\")","v":"Does Not Meet Criteria"},null,"Grass, Warm Season, Annual",{"$f":"COUNTIF(Calculator!M15:M74,\"Annual Warm Season Grass\")/2","v":0},null,{"$f":"SUMIF(Calculator!M15:M74,\"Annual Warm Season Grass\",Calculator!F15:F74)/Calculator!F285","v":{"$error":"#DIV/0!"}}]
[null,"Total Seeds/ft2, Minimum",{"$f":"IF(Calculator!F82>21,50,40)","v":40},{"$f":"Calculator!F285","v":0},{"$f":"IF(D24<C24,\"Does Not Meet Criteria\",\"Meets Criteria\")","v":"Does Not Meet Criteria"},null,"Grass, Warm Season, Perennial",{"$f":"COUNTIF(Calculator!M15:M74,\"Perennial Warm Season Grass\")/2","v":0},null,{"$f":"SUMIF(Calculator!M15:M74,\"Perennial Warm Season Grass\",Calculator!F15:F74)/Calculator!F285","v":{"$error":"#DIV/0!"}}]
[null,"Additional requirements for frost seeded sites on < 5% slope or >5% slope.",null,null,null,null,"Rush, Cool Season, Perennial",{"$f":"COUNTIF(Calculator!M15:M74,\"Perennial Cool Season Rush\")/2","v":0},null,{"$f":"SUMIF(Calculator!M15:M74,\"Perennial Cool Season Rush\",Calculator!F15:F74)/Calculator!F285","v":{"$error":"#DIV/0!"}}]
[null,"Graminoid Seeds/ft2, Minimum",{"$f":"C17*1.5","v":30},{"$f":"Calculator!F77","v":0},{"$f":"IF(D26<C26,\"Does Not Meet Criteria\",\"Meets Criteria\")","v":"Does Not Meet Criteria"},null,"Sedge, Cool Season, Annual",{"$f":"COUNTIF(Calculator!M15:M74,\"Annual Cool Season Sedge\")/2","v":0},null,{"$f":"SUMIF(Calculator!M15:M74,\"Annual Cool Season Sedge\",Calculator!F15:F74)/Calculator!F285","v":{"$error":"#DIV/0!"}}]
[null,"Forb & Sub-shrub Seeds/ft2, Minimum",{"$f":"C18*1.5","v":30},{"$f":"Calculator!F265+SUMIF(Calculator!M271:M280,\"*sub-shrub*\",Calculator!F271:F280)+SUMIF(Calculator!M271:M280,\"*vine*\",Calculator!F271:F280)","v":0},{"$f":"IF(D27<C27,\"Does Not Meet Criteria\",\"Meets Criteria\")","v":"Does Not Meet Criteria"},null,"Sedge, Cool Season, Perennial",{"$f":"COUNTIF(Calculator!M15:M74,\"Perennial Cool Season Sedge\")/2","v":0},null,{"$f":"SUMIF(Calculator!M15:M74,\"Perennial Cool Season Sedge\",Calculator!F15:F74)/Calculator!F285","v":{"$error":"#DIV/0!"}}]
[null,"Total Seeds/ft2, Minimum",{"$f":"C19*1.5","v":60},{"$f":"Calculator!F285","v":0},{"$f":"IF(D28<C28,\"Does Not Meet Criteria\",\"Meets Criteria\")","v":"Does Not Meet Criteria"},null,"Shrub",{"$f":"COUNTIF(Calculator!M271:M280,\"Shrub\")/2","v":0},null,{"$f":"SUMIF(Calculator!M271:M280,\"Shrub\",Calculator!F271:F280)/Calculator!F285","v":{"$error":"#DIV/0!"}}]
[null,"Additional requirements for frost seeded sites on >5% slope.",null,null,null,null,"Sub-shrub",{"$f":"COUNTIF(Calculator!M271:M280,\"Sub-shrub\")/2","v":0},null,{"$f":"SUMIF(Calculator!M271:M280,\"Sub-shrub\",Calculator!F271:F280)/Calculator!F285","v":{"$error":"#DIV/0!"}}]
[null,"Graminoid Seeds/ft2, Minimum",{"$f":"C26*1.5","v":45},{"$f":"Calculator!F77","v":0},{"$f":"IF(D30<C30,\"Does Not Meet Criteria\",\"Meets Criteria\")","v":"Does Not Meet Criteria"},null,"Sub-Shrub, Legume",{"$f":"COUNTIF(Calculator!M271:M280,\"Sub-shrub, Legume\")/2","v":0},null,{"$f":"SUMIF(Calculator!M271:M280,\"Sub-shrub, Legume\",Calculator!F271:F280)/Calculator!F285","v":{"$error":"#DIV/0!"}}]
[null,"Forb & Sub-shrub Seeds/ft2, Minimum",{"$f":"C23*1.5","v":15},{"$f":"Calculator!F265+SUMIF(Calculator!M271:M280,\"*sub-shrub*\",Calculator!F271:F280)+SUMIF(Calculator!M271:M280,\"*vine*\",Calculator!F271:F280)","v":0},{"$f":"IF(D31<C31,\"Does Not Meet Criteria\",\"Meets Criteria\")","v":"Does Not Meet Criteria"},null,"Tree",{"$f":"COUNTIF(Calculator!M271:M280,\"Tree\")/2","v":0},null,{"$f":"SUMIF(Calculator!M271:M280,\"Tree\",Calculator!F271:F280)/Calculator!F285","v":{"$error":"#DIV/0!"}}]
[null,"Total Seeds/ft2, Minimum",{"$f":"C24*1.5","v":60},{"$f":"Calculator!F285","v":0},{"$f":"IF(D32<C32,\"Does Not Meet Criteria\",\"Meets Criteria\")","v":"Does Not Meet Criteria"},null,"Vine,  Herbaceous, Legume, Annual",{"$f":"COUNTIF(Calculator!M271:M280,\"Herbaceous Vine, Legume, Annual\")/2","v":0},null,{"$f":"SUMIF(Calculator!M271:M280,\"Herbaceous Vine, Legume, Annual\",Calculator!F271:F280)/Calculator!F285","v":{"$error":"#DIV/0!"}}]
[null,"Additional requirements for wildlife plantings",null,null,null,null,"Vine, Herbaceous, Annual",{"$f":"COUNTIF(Calculator!M271:M280,\"Herbaceous Vine, Annual\")/2","v":0},null,{"$f":"SUMIF(Calculator!M271:M280,\"Herbaceous Vine, Annual\",Calculator!F271:F280)/Calculator!F285","v":{"$error":"#DIV/0!"}}]
[null,"Switchgrass Seeds/ft2, Maximum",4,{"$f":"SUMIF(Calculator!B15:B74,\"Switchgrass\",Calculator!F15:F74)","v":0},{"$f":"IF(D34>C34,\"Does Not Meet Criteria\",\"Meets Criteria\")","v":"Meets Criteria"},null,"Vine, Herbaceous, Legume, Perennial",{"$f":"COUNTIF(Calculator!M271:M280,\"Herbaceous Vine, Legume\")/2","v":0},null,{"$f":"SUMIF(Calculator!M271:M280,\"Herbaceous Vine, Legume\",Calculator!F271:F280)/Calculator!F285","v":{"$error":"#DIV/0!"}}]
[null,"Canada Wildrye Seeds/ft2, Maximum",8,{"$f":"SUMIF(Calculator!B15:B74,\"Canada Wildrye\",Calculator!F15:F74)","v":0},{"$f":"IF(D35>C35,\"Does Not Meet Criteria\",\"Meets Criteria\")","v":"Meets Criteria"},null,"Vine, Herbaceous, Perennial",{"$f":"COUNTIF(Calculator!M271:M280,\"Herbaceous Vine\")/2","v":0},null,{"$f":"SUMIF(Calculator!M271:M280,\"Herbaceous Vine\",Calculator!F271:F280)/Calculator!F285","v":{"$error":"#DIV/0!"}}]
[null,null,null,null,null,null,"Vine, Woody",{"$f":"COUNTIF(Calculator!M271:M280,\"Woody Vine\")/2","v":0},null,{"$f":"SUMIF(Calculator!M271:M280,\"Woody Vine\",Calculator!F271:F280)/Calculator!F285","v":{"$error":"#DIV/0!"}}]
[null,null,null,null,null,null,"Number of Functional Plant Groups","> 7",{"$f":"COUNTIF(H11:I36,\">0\")","v":0},{"$f":"IF(I37<7,\"Does Not Meet Recommendation\",\"Meets Recommendation\")","v":"Does Not Meet Recommendation"}]
[null,null,null,null,null,null,"1 On a seeds/ft2 basis"]
[]
[]
[null,"Criteria and Recommendation Methodology"]
[null,"Floristic Quality Index (FQI)","Floristic quality index is below the required 20.0 minimum."]
[null,"Mix Conservatism (CC)","Coefficient of Conservatism is below the required 3.0 minimum."]
[null,"Simpson's Evenness","Evenness (balance) of the mix is recommended to be > 70%"]
[null,"Conservatism Guilds:"]
[null,"Early Successional","Does not fall within the recommended range of 15-33%"]
[null,"Mid-Successional","Does not fall within the recommended range of 45-65%"]
[null,"Late Successional","Does not fall within the recommended range of 15-33%"]
[]
[]
[]
[]
[]
[]
[]
[]
[]
[]
[]
[]
[]
[]
[]
[]
[]
[]
[]
[]
[]
[]
[]
[]
[]
[]
[]
[]
[]
[]
[]
[]
[]
[]
[]
[]
[]
[]
[]
[]
[]
[]
[]
[]
[]
[]
[]
[]
[]
[null,null,null,null,null,null,null,null,null,null,null,null,null,{"$f":"Calculator!F280","v":""}]

{"sheet":"Revisions","index":13,"n_rows":73,"n_cols":3,"rows_kept":73,"cut":false,"hidden":false,"merged":[]}
["Date","Criteria or Species Information Update","Description of Revision"]
["2011-08-19","Species Update","Sporobolus compositus was added to the calculator"]
["2011-10-19","Species Update","Carex amphibola was added to the calculator"]
["2011-10-19","Species Update","Hypericum sphaerocarpum was added to the calculator"]
["2011-10-19","Species Update","Prairie Wedgescale was added to the calculator"]
["2012-11-13","Species Update","Psoralidium tenuiflorum seed count changed from 19,000/oz to 1,000/oz"]
["2012-11-13","Species Update","Ranunculus fascicularis seed count changed from 200,000/oz to 10,000/oz"]
["2012-11-13","Species Update","Ranunculus pensylvanicus  seed count changed from 12,000/oz to 1,563/oz"]
["2012-11-13","Species Update","Ranunculus rhomboideus seed count changed from 37,000/oz to 20,000/oz"]
["2012-11-13","Species Update","Ranunculus septentrionalis seed count changed from 10,000/oz to 12,000/oz"]
["2012-11-13","Species Update","Ratibida columnifera seed count changed from 20,000/oz to 42,000/oz"]
["2012-11-13","Species Update","Ratibida pinnata seed count changed from 42,000/oz to 30,000/oz"]
["2012-11-13","Species Update","Rudbeckia hirta seed count changed from 31,000/oz to 92,000/oz"]
["2012-11-13","Species Update","Rudbeckia laciniata seed count changed from 92,000/oz to 14,000/oz"]
["2012-11-13","Species Update","Rudbeckia subtomentosa seed count changed from 27,100/oz to 43,000/oz"]
["2012-11-13","Species Update","Rudbeckia triloba seed count changed from 43,000/oz to 34,000/oz"]
["2012-11-13","Species Update","Ruellia humilis seed count changed from 34,000/oz to 5,200/oz"]
["2012-11-13","Species Update","Rumex orbiculatus seed count changed from 15,000/oz to 11,900/oz"]
["2012-11-13","Species Update","Sagittaria latifolia seed count changed from 8,000/oz to 61,000/oz"]
["2012-11-13","Species Update","Salvia azurea seed count changed from 61,000/oz to 7,000/oz"]
["2012-11-13","Species Update","Sanguinaria canadensis seed count changed from 7,000/oz to 1,700/oz"]
["2012-11-13","Species Update","Scrophularia lanceolata seed count changed from 2,000/oz to 185,000/oz"]
["2012-11-13","Species Update","Scrophularia marilandica seed count changed from 185,000/oz to 170,000/oz"]
["2012-11-13","Species Update","Scutellaria lateriflora seed count changed from 170,000/oz to 65,000/oz"]
["2012-11-13","Species Update","Scutellaria ovata  seed count changed from 70,000/oz to 25,000/oz"]
["2012-11-13","Species Update","Senecio plattensis seed count changed from 10,000/oz to 100,000/oz"]
["2012-11-13","Species Update","Silene stellata seed count changed from 23,000/oz to 30,000/oz"]
["2012-11-13","Species Update","Silphium integrifolium seed count changed from 30,000/oz to 1,200/oz"]
["2012-11-13","Species Update","Silphium laciniatum seed count changed from 1,200/oz to 660/oz"]
["2012-11-13","Species Update","Silphium perfoliatum seed count changed from 660/oz to 1,400/oz"]
["2012-11-13","Species Update","Sisyrinchium angustifolium seed count changed from 20,000/oz to 30,000/oz"]
["2012-11-13","Species Update","Sisyrinchium campestre alba seed count changed from 30,000/oz to 33,000/oz"]
["2012-11-13","Species Update","Viola pubescens seed count changed from 12,816/oz to 8,500/oz"]
["2012-11-13","Information Update","327 Conservation Cover Standard 30:10 grass to forb seed/ft2 criteria table added."]
["2012-11-13","Species Update","Common Milkweed (Asclepias syriaca) added to the calculator."]
["2003-02-21","Species Update","Revised estimated cost for Carex vulpinoidea, C. molesta, C. annectans, C. bicknellii, and C. brevior."]
["2013-08-29","Species Update","Pure stand seeding rate for Panicum virgatum adusted to 4 PLS lbs/ac."]
["2016-05-18","Criteria Update","Corrected formula error in 327 & 643 & Pollinator Check Sheets: %Annual & Biennial Forbs, Maximum "]
["2016-05-18","Species Update","Panicum virgatum seed count changed from 14,000/oz to 27,200/oz"]
["2016-08-22","Species Update","Switchgrass (Panicum virgatum) Pure Stand Seeding Rate changed to 4.0 PLS lbs/acre"]
["2016-08-22","Species Update","Eastern Gammagrass (Tripsacum dactyloides) Pure Stand Seeding Rate changed to 7.36 PLS lbs/acre"]
["2016-08-22","Information Update","Monarch habitat mix requirements added to bottom of the first table in the Pollinator Mix Check Sheet."]
["2016-08-22","Species Update","Corrected error - three species were not appearing in calculator drop down list: Hoary Puccoon (Lithospermum canescens), American Plum (Prunus americana), & Sandbar Willow (Salix interior)."]
["2016-08-22","Species Update","Introduced Legumes: Alfalfa, Alsike Clover, Alyce White Clover, Kura Clover, Red Clover (Medium) & White (Ladino) Clover added to the calculator."]
["2016-08-22","Information Update","Introduced legume requirements added to Pollinator Mix Check Sheet (Monarch habitat mix & CRP mix) and 327 Conservation Cover Check Sheet."]
["2016-08-22","Information Update","Deleted % Grass Seeds/ft2, Minimum requirement from All Mixes (non-CRP table) in the Pollinator Mix Check Sheet."]
["2017-05-15","Species Update","Panicum virgatum seed count changed from 27,200/oz to 14,000/oz"]
["2017-05-15","Species Update","Introduced Legumes were relabeled as Introduced Forbs.  White (Ladino) Clover was renamed White Clover, and Alyce White Clover was dropped from the calculator."]
["2017-05-15","Information Update","The 327 Conservation Cover and Pollinator Mix Check Sheets were updated to reflect the updated 327 Standard and Job Sheet."]
["2017-06-06","Information Update","Changed number display to 3 decimal places for Lbs/acre PLS and Seeds/ft2 PLS for each species entered in the Calculator."]
["2017-08-30","Species Update","Corrected Coefficient of Conservatism values of all Introduced Forbs (Alfalfa, Alsike Clover, Kura Clover, Red Clover and White Clover) to 0."]
["2017-09-18","Other","A formula error was corrected in Pollinator Mix Check Sheet under \"Additional requirements for Monarch Habitat Mix\".  Swamp Milkweed was not being counted as a priority milkweed when the rate specification of lbs./ac. was used."]
["2017-09-26","Species Update","The Functional Group for Prairie Mimosa was changed from \"Perennial Forb\" to \"Perennial Forb, Legume\"."]
["2017-11-10","Species Update","Broomsedge Bluestem (Andropogon virginicus) added to the calculator."]
["2018-03-09","Criteria Update","Monarch Habitat Requirements in Pollinator Mix Check Sheet Changes:  Priority Milkweed, Minimum % reduced to 1.5% from 3%; and Priority Milkweeds are now included in the High Value Forbs Count."]
["2018-03-09","Information Update","Changed number display to 3 decimal places for Lbs/acre PLS and Seeds/ft2 PLS for the totals lines (lines 77, 165, 182) in the Calculator, as well as displays in the check sheets."]
["2019-06-20","Other","Supplement to Seed Plan worksheet was added.  Planners are required to complete and attach to the seed plan given to the client."]
["2020-02-12","Other","All estimated cost information and the Long Term and Short-Term Program criteria was removed from the \"Calculator\".  All cost information was removed from “Grasses”, “ForbLegumes” and “Woody” worksheets."]
["2020-02-12","Other","Estimated costs by species was removed from “Seeding Plan”.  An option to enter an estimated cost per acre was added and a total estimated cost will automatically calculate based on acres entered on the form."]
["2020-02-12","Criteria Update","The previous two Check Sheets (\"Pollinator Mix Check Sheet\" and \"327ConservationCoverCheckSheet\") were merged into one Check Sheet \"327ConservationCoverCheckSheet\"."]
["2020-04-07","Other","Eight cells entered in “Supplement to Seed Plan” will autopopulate to “Seeding Plan” (Name, Field#, Acres, Tract, Contract#, Program, Seeding Date, Planner)"]
["2020-04-07","Other","Two print buttons were added to “Supplement to Seed Plan” and “Seeding Plan” worksheets (Print Supplement & Print Seeding Plan)."]
["2020-04-07","Other","Reference to Iowa Agronomy Technical Note 28 was added to “Supplement to Seed Plan” and “327 Conservation Cover Check Sheet” for definition of Local Ecotype."]
["2022-09-14","Species Update","Updates made to moisture regime, habitat, and region for numerous species."]
["2022-09-14","Other","Added  CommonNameUpdates tab."]
["2022-09-14","Species Update","Common names now match the Iowa Crop Improvement Association – see CommonNameUpdates tab."]
["2022-09-14","Species Update","Updated Coefficient of Conservatism numbers."]
["2022-09-14","Other","Increased forb calculator to 90 rows."]
["2022-09-14","Species Update","Updated monarch species."]
["2022-09-14","Species Update","Added 7 new species: Baldwin’s Ironweed/Vernonia baldwinii, Dwarf Larkspur/Delphinium tricorne, Jerusalem Artichoke/Helianthus tuberosus, Oval-leaf milkweed/Asclepias ovalifolia, Stiff Sunflower/Helianthus pauciflorus, Tall ironweed/Vernonia gigantea (forbs), and Northern dewberry/Rubus flagellaris (woody)."]
["2022-09-14","Other","Added moisture regime to the seeding plan."]
["2022-09-14","Other","Added Client Signature to the Seeding Plan Supplement."]
["2022-09-14","Other","*NEW* The calculator has a new feature (buttons) that imports previous seeding mixes, which is located at the top of the Calculator tab. This first button (located above the rate specification) will import seed mixes developed with previous standard 40 Forb calculator versions. The second button (located to the right of the NRCS banner) will import seed mixes developed with previous 90 Forb calculator versions. Some common names do not match from the April 2020 version, so the cell for those species will turn red and the updated species name (see CommonNameUpdates tab) will need to be selected from the drop down."]